Workbook

Sheet Daten
A1: ID | B1: Name | C1: Position | D1: Abteilung | E1: Berichtet_an_ID | F1: E-Mail | G1: Telefon | H1: Standort | I1: Status | J1: Sortierung | L1: Hinweis
A2: GF01 | B2: Anna Weber | C2: Geschäftsführung | D2: Management | F2: anna.weber@beispielfirma.de | G2: 030 555 100 | H2: Berlin | I2: Aktiv | J2: 1 | L2: Daten hier pflegen. Das Blatt 'Organigramm' aktualisiert sich automatisch. Für die Reihenfolge nach 'Sortierung' sortieren.
A3: HR01 | B3: Laura Stein | C3: Leiterin Personal | D3: Personal | E3: GF01 | F3: laura.stein@beispielfirma.de | G3: 030 555 110 | H3: Berlin | I3: Aktiv | J3: 1
A4: FN01 | B4: Markus Klein | C4: Leiter Finanzen | D4: Finanzen | E4: GF01 | F4: markus.klein@beispielfirma.de | G4: 030 555 120 | H4: Berlin | I4: Aktiv | J4: 2
A5: IT01 | B5: Daniel Koch | C5: IT-Leiter | D5: IT | E5: GF01 | F5: daniel.koch@beispielfirma.de | G5: 030 555 130 | H5: Hamburg | I5: Aktiv | J5: 3
A6: MK01 | B6: Sofia Brandt | C6: Marketingleitung | D6: Marketing | E6: GF01 | F6: sofia.brandt@beispielfirma.de | G6: 030 555 140 | H6: München | I6: Aktiv | J6: 4
A7: OP01 | B7: Jonas Wolf | C7: Operative Leitung | D7: Operations | E7: GF01 | F7: jonas.wolf@beispielfirma.de | G7: 030 555 150 | H7: Berlin | I7: Aktiv | J7: 5
A8: HR02 | B8: Nina Bauer | C8: Recruiterin | D8: Personal | E8: HR01 | F8: nina.bauer@beispielfirma.de | G8: 030 555 111 | H8: Berlin | I8: Aktiv | J8: 1
A9: HR03 | B9: Felix Schmitt | C9: HR Generalist | D9: Personal | E9: HR01 | F9: felix.schmitt@beispielfirma.de | G9: 030 555 112 | H9: Berlin | I9: Aktiv | J9: 2
A10: FN02 | B10: Clara Hoffmann | C10: Controllerin | D10: Finanzen | E10: FN01 | F10: clara.hoffmann@beispielfirma.de | G10: 030 555 121 | H10: Berlin | I10: Aktiv | J10: 1
A11: FN03 | B11: Tim Berger | C11: Buchhalter | D11: Finanzen | E11: FN01 | F11: tim.berger@beispielfirma.de | G11: 030 555 122 | H11: Berlin | I11: Aktiv | J11: 2
A12: IT02 | B12: Paul Neumann | C12: Systemadministrator | D12: IT | E12: IT01 | F12: paul.neumann@beispielfirma.de | G12: 040 555 131 | H12: Hamburg | I12: Aktiv | J12: 1
A13: IT03 | B13: Eva Richter | C13: Support Specialist | D13: IT | E13: IT01 | F13: eva.richter@beispielfirma.de | G13: 040 555 132 | H13: Hamburg | I13: Aktiv | J13: 2
A14: MK02 | B14: Lena Vogt | C14: Content Managerin | D14: Marketing | E14: MK01 | F14: lena.vogt@beispielfirma.de | G14: 089 555 141 | H14: München | I14: Aktiv | J14: 1
... A17: OP03 | B17: Tobias Kern | C17: Teamleitung Service | D17: Operations | E17: OP01 | F17: tobias.kern@beispielfirma.de | G17: 030 555 152 | H17: Berlin | I17: Aktiv | J17: 2

Sheet Organigramm
A1: Organigramm
A2: Mitarbeiterdaten im Blatt 'Daten' pflegen. Das Organigramm aktualisiert sich automatisch. | X2: =IFERROR(INDEX(Daten!$A$2:$A$1000,MATCH(SMALL(IF(((Daten!$E$2:$E$1000="")*(Daten!$I$2:$I$1000="Aktiv")),IF(Daten!$J$2:$J$1000="",9999,Daten!$J$2:$J$1000)+ROW(Daten!$A$2:$A$1000)/100000),1),IF(((Daten!$E$2:$E$1000="")*(Daten!$I$2:$I$1000="Aktiv")),IF(Daten!$J$2:$J$1000="",9999,Daten!$J$2:$J$1000)+ROW(Daten!$A$2:$A$1000)/100000),0)),"")
X3: =IF($X$2="","",INDEX(Daten!$B$2:$B$1000,MATCH($X$2,Daten!$A$2:$A$1000,0))&CHAR(10)&INDEX(Daten!$C$2:$C$1000,MATCH($X$2,Daten!$A$2:$A$1000,0))&CHAR(10)&INDEX(Daten!$D$2:$D$1000,MATCH($X$2,Daten!$A$2:$A$1000,0)))
I4: =X3
X5: =IFERROR(INDEX(Daten!$A$2:$A$1000,MATCH(SMALL(IF(((Daten!$E$2:$E$1000=$X$2)*(Daten!$I$2:$I$1000="Aktiv")),IF(Daten!$J$2:$J$1000="",9999,Daten!$J$2:$J$1000)+ROW(Daten!$A$2:$A$1000)/100000),1),IF(((Daten!$E$2:$E$1000=$X$2)*(Daten!$I$2:$I$1000="Aktiv")),IF(Daten!$J$2:$J$1000="",9999,Daten!$J$2:$J$1000)+ROW(Daten!$A$2:$A$1000)/100000),0)),"") | Y5: =IFERROR(INDEX(Daten!$A$2:$A$1000,MATCH(SMALL(IF(((Daten!$E$2:$E$1000=$X$2)*(Daten!$I$2:$I$1000="Aktiv")),IF(Daten!$J$2:$J$1000="",9999,Daten!$J$2:$J$1000)+ROW(Daten!$A$2:$A$1000)/100000),2),IF(((Daten!$E$2:$E$1000=$X$2)*(Daten!$I$2:$I$1000="Aktiv")),IF(Daten!$J$2:$J$1000="",9999,Daten!$J$2:$J$1000)+ROW(Daten!$A$2:$A$1000)/100000),0)),"") | Z5: =IFERROR(INDEX(Daten!$A$2:$A$1000,MATCH(SMALL(IF(((Daten!$E$2:$E$1000=$X$2)*(Daten!$I$2:$I$1000="Aktiv")),IF(Daten!$J$2:$J$1000="",9999,Daten!$J$2:$J$1000)+ROW(Daten!$A$2:$A$1000)/100000),3),IF(((Daten!$E$2:$E$1000=$X$2)*(Daten!$I$2:$I$1000="Aktiv")),IF(Daten!$J$2:$J$1000="",9999,Daten!$J$2:$J$1000)+ROW(Daten!$A$2:$A$1000)/100000),0)),"") | AA5: =IFERROR(INDEX(Daten!$A$2:$A$1000,MATCH(SMALL(IF(((Daten!$E$2:$E$1000=$X$2)*(Daten!$I$2:$I$1000="Aktiv")),IF(Daten!$J$2:$J$1000="",9999,Daten!$J$2:$J$1000)+ROW(Daten!$A$2:$A$1000)/100000),4),IF(((Daten!$E$2:$E$1000=$X$2)*(Daten!$I$2:$I$1000="Aktiv")),IF(Daten!$J$2:$J$1000="",9999,Daten!$J$2:$J$1000)+ROW(Daten!$A$2:$A$1000)/100000),0)),"") | AB5: =IFERROR(INDEX(Daten!$A$2:$A$1000,MATCH(SMALL(IF(((Daten!$E$2:$E$1000=$X$2)*(Daten!$I$2:$I$1000="Aktiv")),IF(Daten!$J$2:$J$1000="",9999,Daten!$J$2:$J$1000)+ROW(Daten!$A$2:$A$1000)/100000),5),IF(((Daten!$E$2:$E$1000=$X$2)*(Daten!$I$2:$I$1000="Aktiv")),IF(Daten!$J$2:$J$1000="",9999,Daten!$J$2:$J$1000)+ROW(Daten!$A$2:$A$1000)/100000),0)),"")
X6: =IF(X5="","",INDEX(Daten!$B$2:$B$1000,MATCH(X5,Daten!$A$2:$A$1000,0))&CHAR(10)&INDEX(Daten!$C$2:$C$1000,MATCH(X5,Daten!$A$2:$A$1000,0))&CHAR(10)&INDEX(Daten!$D$2:$D$1000,MATCH(X5,Daten!$A$2:$A$1000,0))) | Y6: =IF(Y5="","",INDEX(Daten!$B$2:$B$1000,MATCH(Y5,Daten!$A$2:$A$1000,0))&CHAR(10)&INDEX(Daten!$C$2:$C$1000,MATCH(Y5,Daten!$A$2:$A$1000,0))&CHAR(10)&INDEX(Daten!$D$2:$D$1000,MATCH(Y5,Daten!$A$2:$A$1000,0))) | Z6: =IF(Z5="","",INDEX(Daten!$B$2:$B$1000,MATCH(Z5,Daten!$A$2:$A$1000,0))&CHAR(10)&INDEX(Daten!$C$2:$C$1000,MATCH(Z5,Daten!$A$2:$A$1000,0))&CHAR(10)&INDEX(Daten!$D$2:$D$1000,MATCH(Z5,Daten!$A$2:$A$1000,0))) | AA6: =IF(AA5="","",INDEX(Daten!$B$2:$B$1000,MATCH(AA5,Daten!$A$2:$A$1000,0))&CHAR(10)&INDEX(Daten!$C$2:$C$1000,MATCH(AA5,Daten!$A$2:$A$1000,0))&CHAR(10)&INDEX(Daten!$D$2:$D$1000,MATCH(AA5,Daten!$A$2:$A$1000,0))) | AB6: =IF(AB5="","",INDEX(Daten!$B$2:$B$1000,MATCH(AB5,Daten!$A$2:$A$1000,0))&CHAR(10)&INDEX(Daten!$C$2:$C$1000,MATCH(AB5,Daten!$A$2:$A$1000,0))&CHAR(10)&INDEX(Daten!$D$2:$D$1000,MATCH(AB5,Daten!$A$2:$A$1000,0)))
X8: =IFERROR(INDEX(Daten!$A$2:$A$1000,MATCH(SMALL(IF(((Daten!$E$2:$E$1000=$X$5)*(Daten!$I$2:$I$1000="Aktiv")),IF(Daten!$J$2:$J$1000="",9999,Daten!$J$2:$J$1000)+ROW(Daten!$A$2:$A$1000)/100000),1),IF(((Daten!$E$2:$E$1000=$X$5)*(Daten!$I$2:$I$1000="Aktiv")),IF(Daten!$J$2:$J$1000="",9999,Daten!$J$2:$J$1000)+ROW(Daten!$A$2:$A$1000)/100000),0)),"") | Y8: =IFERROR(INDEX(Daten!$A$2:$A$1000,MATCH(SMALL(IF(((Daten!$E$2:$E$1000=$Y$5)*(Daten!$I$2:$I$1000="Aktiv")),IF(Daten!$J$2:$J$1000="",9999,Daten!$J$2:$J$1000)+ROW(Daten!$A$2:$A$1000)/100000),1),IF(((Daten!$E$2:$E$1000=$Y$5)*(Daten!$I$2:$I$1000="Aktiv")),IF(Daten!$J$2:$J$1000="",9999,Daten!$J$2:$J$1000)+ROW(Daten!$A$2:$A$1000)/100000),0)),"") | Z8: =IFERROR(INDEX(Daten!$A$2:$A$1000,MATCH(SMALL(IF(((Daten!$E$2:$E$1000=$Z$5)*(Daten!$I$2:$I$1000="Aktiv")),IF(Daten!$J$2:$J$1000="",9999,Daten!$J$2:$J$1000)+ROW(Daten!$A$2:$A$1000)/100000),1),IF(((Daten!$E$2:$E$1000=$Z$5)*(Daten!$I$2:$I$1000="Aktiv")),IF(Daten!$J$2:$J$1000="",9999,Daten!$J$2:$J$1000)+ROW(Daten!$A$2:$A$1000)/100000),0)),"") | AA8: =IFERROR(INDEX(Daten!$A$2:$A$1000,MATCH(SMALL(IF(((Daten!$E$2:$E$1000=$AA$5)*(Daten!$I$2:$I$1000="Aktiv")),IF(Daten!$J$2:$J$1000="",9999,Daten!$J$2:$J$1000)+ROW(Daten!$A$2:$A$1000)/100000),1),IF(((Daten!$E$2:$E$1000=$AA$5)*(Daten!$I$2:$I$1000="Aktiv")),IF(Daten!$J$2:$J$1000="",9999,Daten!$J$2:$J$1000)+ROW(Daten!$A$2:$A$1000)/100000),0)),"") | AB8: =IFERROR(INDEX(Daten!$A$2:$A$1000,MATCH(SMALL(IF(((Daten!$E$2:$E$1000=$AB$5)*(Daten!$I$2:$I$1000="Aktiv")),IF(Daten!$J$2:$J$1000="",9999,Daten!$J$2:$J$1000)+ROW(Daten!$A$2:$A$1000)/100000),1),IF(((Daten!$E$2:$E$1000=$AB$5)*(Daten!$I$2:$I$1000="Aktiv")),IF(Daten!$J$2:$J$1000="",9999,Daten!$J$2:$J$1000)+ROW(Daten!$A$2:$A$1000)/100000),0)),"")
B9: =X6 | F9: =Y6 | I9: =Z6 | N9: =AA6 | R9: =AB6 | X9: =IFERROR(INDEX(Daten!$A$2:$A$1000,MATCH(SMALL(IF(((Daten!$E$2:$E$1000=$X$5)*(Daten!$I$2:$I$1000="Aktiv")),IF(Daten!$J$2:$J$1000="",9999,Daten!$J$2:$J$1000)+ROW(Daten!$A$2:$A$1000)/100000),2),IF(((Daten!$E$2:$E$1000=$X$5)*(Daten!$I$2:$I$1000="Aktiv")),IF(Daten!$J$2:$J$1000="",9999,Daten!$J$2:$J$1000)+ROW(Daten!$A$2:$A$1000)/100000),0)),"") | Y9: =IFERROR(INDEX(Daten!$A$2:$A$1000,MATCH(SMALL(IF(((Daten!$E$2:$E$1000=$Y$5)*(Daten!$I$2:$I$1000="Aktiv")),IF(Daten!$J$2:$J$1000="",9999,Daten!$J$2:$J$1000)+ROW(Daten!$A$2:$A$1000)/100000),2),IF(((Daten!$E$2:$E$1000=$Y$5)*(Daten!$I$2:$I$1000="Aktiv")),IF(Daten!$J$2:$J$1000="",9999,Daten!$J$2:$J$1000)+ROW(Daten!$A$2:$A$1000)/100000),0)),"") | Z9: =IFERROR(INDEX(Daten!$A$2:$A$1000,MATCH(SMALL(IF(((Daten!$E$2:$E$1000=$Z$5)*(Daten!$I$2:$I$1000="Aktiv")),IF(Daten!$J$2:$J$1000="",9999,Daten!$J$2:$J$1000)+ROW(Daten!$A$2:$A$1000)/100000),2),IF(((Daten!$E$2:$E$1000=$Z$5)*(Daten!$I$2:$I$1000="Aktiv")),IF(Daten!$J$2:$J$1000="",9999,Daten!$J$2:$J$1000)+ROW(Daten!$A$2:$A$1000)/100000),0)),"") | AA9: =IFERROR(INDEX(Daten!$A$2:$A$1000,MATCH(SMALL(IF(((Daten!$E$2:$E$1000=$AA$5)*(Daten!$I$2:$I$1000="Aktiv")),IF(Daten!$J$2:$J$1000="",9999,Daten!$J$2:$J$1000)+ROW(Daten!$A$2:$A$1000)/100000),2),IF(((Daten!$E$2:$E$1000=$AA$5)*(Daten!$I$2:$I$1000="Aktiv")),IF(Daten!$J$2:$J$1000="",9999,Daten!$J$2:$J$1000)+ROW(Daten!$A$2:$A$1000)/100000),0)),"") | AB9: =IFERROR(INDEX(Daten!$A$2:$A$1000,MATCH(SMALL(IF(((Daten!$E$2:$E$1000=$AB$5)*(Daten!$I$2:$I$1000="Aktiv")),IF(Daten!$J$2:$J$1000="",9999,Daten!$J$2:$J$1000)+ROW(Daten!$A$2:$A$1000)/100000),2),IF(((Daten!$E$2:$E$1000=$AB$5)*(Daten!$I$2:$I$1000="Aktiv")),IF(Daten!$J$2:$J$1000="",9999,Daten!$J$2:$J$1000)+ROW(Daten!$A$2:$A$1000)/100000),0)),"")
X10: =IFERROR(INDEX(Daten!$A$2:$A$1000,MATCH(SMALL(IF(((Daten!$E$2:$E$1000=$X$5)*(Daten!$I$2:$I$1000="Aktiv")),IF(Daten!$J$2:$J$1000="",9999,Daten!$J$2:$J$1000)+ROW(Daten!$A$2:$A$1000)/100000),3),IF(((Daten!$E$2:$E$1000=$X$5)*(Daten!$I$2:$I$1000="Aktiv")),IF(Daten!$J$2:$J$1000="",9999,Daten!$J$2:$J$1000)+ROW(Daten!$A$2:$A$1000)/100000),0)),"") | Y10: =IFERROR(INDEX(Daten!$A$2:$A$1000,MATCH(SMALL(IF(((Daten!$E$2:$E$1000=$Y$5)*(Daten!$I$2:$I$1000="Aktiv")),IF(Daten!$J$2:$J$1000="",9999,Daten!$J$2:$J$1000)+ROW(Daten!$A$2:$A$1000)/100000),3),IF(((Daten!$E$2:$E$1000=$Y$5)*(Daten!$I$2:$I$1000="Aktiv")),IF(Daten!$J$2:$J$1000="",9999,Daten!$J$2:$J$1000)+ROW(Daten!$A$2:$A$1000)/100000),0)),"") | Z10: =IFERROR(INDEX(Daten!$A$2:$A$1000,MATCH(SMALL(IF(((Daten!$E$2:$E$1000=$Z$5)*(Daten!$I$2:$I$1000="Aktiv")),IF(Daten!$J$2:$J$1000="",9999,Daten!$J$2:$J$1000)+ROW(Daten!$A$2:$A$1000)/100000),3),IF(((Daten!$E$2:$E$1000=$Z$5)*(Daten!$I$2:$I$1000="Aktiv")),IF(Daten!$J$2:$J$1000="",9999,Daten!$J$2:$J$1000)+ROW(Daten!$A$2:$A$1000)/100000),0)),"") | AA10: =IFERROR(INDEX(Daten!$A$2:$A$1000,MATCH(SMALL(IF(((Daten!$E$2:$E$1000=$AA$5)*(Daten!$I$2:$I$1000="Aktiv")),IF(Daten!$J$2:$J$1000="",9999,Daten!$J$2:$J$1000)+ROW(Daten!$A$2:$A$1000)/100000),3),IF(((Daten!$E$2:$E$1000=$AA$5)*(Daten!$I$2:$I$1000="Aktiv")),IF(Daten!$J$2:$J$1000="",9999,Daten!$J$2:$J$1000)+ROW(Daten!$A$2:$A$1000)/100000),0)),"") | AB10: =IFERROR(INDEX(Daten!$A$2:$A$1000,MATCH(SMALL(IF(((Daten!$E$2:$E$1000=$AB$5)*(Daten!$I$2:$I$1000="Aktiv")),IF(Daten!$J$2:$J$1000="",9999,Daten!$J$2:$J$1000)+ROW(Daten!$A$2:$A$1000)/100000),3),IF(((Daten!$E$2:$E$1000=$AB$5)*(Daten!$I$2:$I$1000="Aktiv")),IF(Daten!$J$2:$J$1000="",9999,Daten!$J$2:$J$1000)+ROW(Daten!$A$2:$A$1000)/100000),0)),"")
X11: =IFERROR(INDEX(Daten!$A$2:$A$1000,MATCH(SMALL(IF(((Daten!$E$2:$E$1000=$X$5)*(Daten!$I$2:$I$1000="Aktiv")),IF(Daten!$J$2:$J$1000="",9999,Daten!$J$2:$J$1000)+ROW(Daten!$A$2:$A$1000)/100000),4),IF(((Daten!$E$2:$E$1000=$X$5)*(Daten!$I$2:$I$1000="Aktiv")),IF(Daten!$J$2:$J$1000="",9999,Daten!$J$2:$J$1000)+ROW(Daten!$A$2:$A$1000)/100000),0)),"") | Y11: =IFERROR(INDEX(Daten!$A$2:$A$1000,MATCH(SMALL(IF(((Daten!$E$2:$E$1000=$Y$5)*(Daten!$I$2:$I$1000="Aktiv")),IF(Daten!$J$2:$J$1000="",9999,Daten!$J$2:$J$1000)+ROW(Daten!$A$2:$A$1000)/100000),4),IF(((Daten!$E$2:$E$1000=$Y$5)*(Daten!$I$2:$I$1000="Aktiv")),IF(Daten!$J$2:$J$1000="",9999,Daten!$J$2:$J$1000)+ROW(Daten!$A$2:$A$1000)/100000),0)),"") | Z11: =IFERROR(INDEX(Daten!$A$2:$A$1000,MATCH(SMALL(IF(((Daten!$E$2:$E$1000=$Z$5)*(Daten!$I$2:$I$1000="Aktiv")),IF(Daten!$J$2:$J$1000="",9999,Daten!$J$2:$J$1000)+ROW(Daten!$A$2:$A$1000)/100000),4),IF(((Daten!$E$2:$E$1000=$Z$5)*(Daten!$I$2:$I$1000="Aktiv")),IF(Daten!$J$2:$J$1000="",9999,Daten!$J$2:$J$1000)+ROW(Daten!$A$2:$A$1000)/100000),0)),"") | AA11: =IFERROR(INDEX(Daten!$A$2:$A$1000,MATCH(SMALL(IF(((Daten!$E$2:$E$1000=$AA$5)*(Daten!$I$2:$I$1000="Aktiv")),IF(Daten!$J$2:$J$1000="",9999,Daten!$J$2:$J$1000)+ROW(Daten!$A$2:$A$1000)/100000),4),IF(((Daten!$E$2:$E$1000=$AA$5)*(Daten!$I$2:$I$1000="Aktiv")),IF(Daten!$J$2:$J$1000="",9999,Daten!$J$2:$J$1000)+ROW(Daten!$A$2:$A$1000)/100000),0)),"") | AB11: =IFERROR(INDEX(Daten!$A$2:$A$1000,MATCH(SMALL(IF(((Daten!$E$2:$E$1000=$AB$5)*(Daten!$I$2:$I$1000="Aktiv")),IF(Daten!$J$2:$J$1000="",9999,Daten!$J$2:$J$1000)+ROW(Daten!$A$2:$A$1000)/100000),4),IF(((Daten!$E$2:$E$1000=$AB$5)*(Daten!$I$2:$I$1000="Aktiv")),IF(Daten!$J$2:$J$1000="",9999,Daten!$J$2:$J$1000)+ROW(Daten!$A$2:$A$1000)/100000),0)),"")
X13: =IF(X8="","",INDEX(Daten!$B$2:$B$1000,MATCH(X8,Daten!$A$2:$A$1000,0))&CHAR(10)&INDEX(Daten!$C$2:$C$1000,MATCH(X8,Daten!$A$2:$A$1000,0))&CHAR(10)&INDEX(Daten!$D$2:$D$1000,MATCH(X8,Daten!$A$2:$A$1000,0))) | Y13: =IF(Y8="","",INDEX(Daten!$B$2:$B$1000,MATCH(Y8,Daten!$A$2:$A$1000,0))&CHAR(10)&INDEX(Daten!$C$2:$C$1000,MATCH(Y8,Daten!$A$2:$A$1000,0))&CHAR(10)&INDEX(Daten!$D$2:$D$1000,MATCH(Y8,Daten!$A$2:$A$1000,0))) | Z13: =IF(Z8="","",INDEX(Daten!$B$2:$B$1000,MATCH(Z8,Daten!$A$2:$A$1000,0))&CHAR(10)&INDEX(Daten!$C$2:$C$1000,MATCH(Z8,Daten!$A$2:$A$1000,0))&CHAR(10)&INDEX(Daten!$D$2:$D$1000,MATCH(Z8,Daten!$A$2:$A$1000,0))) | AA13: =IF(AA8="","",INDEX(Daten!$B$2:$B$1000,MATCH(AA8,Daten!$A$2:$A$1000,0))&CHAR(10)&INDEX(Daten!$C$2:$C$1000,MATCH(AA8,Daten!$A$2:$A$1000,0))&CHAR(10)&INDEX(Daten!$D$2:$D$1000,MATCH(AA8,Daten!$A$2:$A$1000,0))) | AB13: =IF(AB8="","",INDEX(Daten!$B$2:$B$1000,MATCH(AB8,Daten!$A$2:$A$1000,0))&CHAR(10)&INDEX(Daten!$C$2:$C$1000,MATCH(AB8,Daten!$A$2:$A$1000,0))&CHAR(10)&INDEX(Daten!$D$2:$D$1000,MATCH(AB8,Daten!$A$2:$A$1000,0)))
B14: =X13 | F14: =Y13 | I14: =Z13 | N14: =AA13 | R14: =AB13 | X14: =IF(X9="","",INDEX(Daten!$B$2:$B$1000,MATCH(X9,Daten!$A$2:$A$1000,0))&CHAR(10)&INDEX(Daten!$C$2:$C$1000,MATCH(X9,Daten!$A$2:$A$1000,0))&CHAR(10)&INDEX(Daten!$D$2:$D$1000,MATCH(X9,Daten!$A$2:$A$1000,0))) | Y14: =IF(Y9="","",INDEX(Daten!$B$2:$B$1000,MATCH(Y9,Daten!$A$2:$A$1000,0))&CHAR(10)&INDEX(Daten!$C$2:$C$1000,MATCH(Y9,Daten!$A$2:$A$1000,0))&CHAR(10)&INDEX(Daten!$D$2:$D$1000,MATCH(Y9,Daten!$A$2:$A$1000,0))) | Z14: =IF(Z9="","",INDEX(Daten!$B$2:$B$1000,MATCH(Z9,Daten!$A$2:$A$1000,0))&CHAR(10)&INDEX(Daten!$C$2:$C$1000,MATCH(Z9,Daten!$A$2:$A$1000,0))&CHAR(10)&INDEX(Daten!$D$2:$D$1000,MATCH(Z9,Daten!$A$2:$A$1000,0))) | AA14: =IF(AA9="","",INDEX(Daten!$B$2:$B$1000,MATCH(AA9,Daten!$A$2:$A$1000,0))&CHAR(10)&INDEX(Daten!$C$2:$C$1000,MATCH(AA9,Daten!$A$2:$A$1000,0))&CHAR(10)&INDEX(Daten!$D$2:$D$1000,MATCH(AA9,Daten!$A$2:$A$1000,0))) | AB14: =IF(AB9="","",INDEX(Daten!$B$2:$B$1000,MATCH(AB9,Daten!$A$2:$A$1000,0))&CHAR(10)&INDEX(Daten!$C$2:$C$1000,MATCH(AB9,Daten!$A$2:$A$1000,0))&CHAR(10)&INDEX(Daten!$D$2:$D$1000,MATCH(AB9,Daten!$A$2:$A$1000,0)))
X15: =IF(X10="","",INDEX(Daten!$B$2:$B$1000,MATCH(X10,Daten!$A$2:$A$1000,0))&CHAR(10)&INDEX(Daten!$C$2:$C$1000,MATCH(X10,Daten!$A$2:$A$1000,0))&CHAR(10)&INDEX(Daten!$D$2:$D$1000,MATCH(X10,Daten!$A$2:$A$1000,0))) | Y15: =IF(Y10="","",INDEX(Daten!$B$2:$B$1000,MATCH(Y10,Daten!$A$2:$A$1000,0))&CHAR(10)&INDEX(Daten!$C$2:$C$1000,MATCH(Y10,Daten!$A$2:$A$1000,0))&CHAR(10)&INDEX(Daten!$D$2:$D$1000,MATCH(Y10,Daten!$A$2:$A$1000,0))) | Z15: =IF(Z10="","",INDEX(Daten!$B$2:$B$1000,MATCH(Z10,Daten!$A$2:$A$1000,0))&CHAR(10)&INDEX(Daten!$C$2:$C$1000,MATCH(Z10,Daten!$A$2:$A$1000,0))&CHAR(10)&INDEX(Daten!$D$2:$D$1000,MATCH(Z10,Daten!$A$2:$A$1000,0))) | AA15: =IF(AA10="","",INDEX(Daten!$B$2:$B$1000,MATCH(AA10,Daten!$A$2:$A$1000,0))&CHAR(10)&INDEX(Daten!$C$2:$C$1000,MATCH(AA10,Daten!$A$2:$A$1000,0))&CHAR(10)&INDEX(Daten!$D$2:$D$1000,MATCH(AA10,Daten!$A$2:$A$1000,0))) | AB15: =IF(AB10="","",INDEX(Daten!$B$2:$B$1000,MATCH(AB10,Daten!$A$2:$A$1000,0))&CHAR(10)&INDEX(Daten!$C$2:$C$1000,MATCH(AB10,Daten!$A$2:$A$1000,0))&CHAR(10)&INDEX(Daten!$D$2:$D$1000,MATCH(AB10,Daten!$A$2:$A$1000,0)))
X16: =IF(X11="","",INDEX(Daten!$B$2:$B$1000,MATCH(X11,Daten!$A$2:$A$1000,0))&CHAR(10)&INDEX(Daten!$C$2:$C$1000,MATCH(X11,Daten!$A$2:$A$1000,0))&CHAR(10)&INDEX(Daten!$D$2:$D$1000,MATCH(X11,Daten!$A$2:$A$1000,0))) | Y16: =IF(Y11="","",INDEX(Daten!$B$2:$B$1000,MATCH(Y11,Daten!$A$2:$A$1000,0))&CHAR(10)&INDEX(Daten!$C$2:$C$1000,MATCH(Y11,Daten!$A$2:$A$1000,0))&CHAR(10)&INDEX(Daten!$D$2:$D$1000,MATCH(Y11,Daten!$A$2:$A$1000,0))) | Z16: =IF(Z11="","",INDEX(Daten!$B$2:$B$1000,MATCH(Z11,Daten!$A$2:$A$1000,0))&CHAR(10)&INDEX(Daten!$C$2:$C$1000,MATCH(Z11,Daten!$A$2:$A$1000,0))&CHAR(10)&INDEX(Daten!$D$2:$D$1000,MATCH(Z11,Daten!$A$2:$A$1000,0))) | AA16: =IF(AA11="","",INDEX(Daten!$B$2:$B$1000,MATCH(AA11,Daten!$A$2:$A$1000,0))&CHAR(10)&INDEX(Daten!$C$2:$C$1000,MATCH(AA11,Daten!$A$2:$A$1000,0))&CHAR(10)&INDEX(Daten!$D$2:$D$1000,MATCH(AA11,Daten!$A$2:$A$1000,0))) | AB16: =IF(AB11="","",INDEX(Daten!$B$2:$B$1000,MATCH(AB11,Daten!$A$2:$A$1000,0))&CHAR(10)&INDEX(Daten!$C$2:$C$1000,MATCH(AB11,Daten!$A$2:$A$1000,0))&CHAR(10)&INDEX(Daten!$D$2:$D$1000,MATCH(AB11,Daten!$A$2:$A$1000,0)))
B18: =X14 | F18: =Y14 | I18: =Z14 | N18: =AA14 | R18: =AB14
B22: =X15 | F22: =Y15 | I22: =Z15 | N22: =AA15 | R22: =AB15
B26: =X16 | F26: =Y16 | I26: =Z16 | N26: =AA16 | R26: =AB16
A30: Es werden maximal 5 direkte Berichte und 4 Mitarbeitende pro Bereich angezeigt.
