Workbook
Name KontenAuswahl: Start!$F$9:$F$40
Name Kontotypen: Start!$X$2:$X$5

Sheet Start
A2: T-Konten Vorlage Excel | L2: Kontrollübersicht | X2: Aktivkonto
A3: Journal, Hauptbuch, EBK, SBK, GuV und Bilanz | L3: Anzahl Konten | M3: =COUNTA(F9:F40) -> 11 | X3: Passivkonto
L4: Anzahl Buchungen | M4: =COUNTIF(Journal!$I$6:$I$105,"OK") -> 8 | X4: Aufwandskonto
A5: 1. Buchung im Journal erfassen | L5: Summe Soll | M5: =SUM(Journal!$G$6:$G$105) -> 4420 | X5: Ertragskonto
A6: 2. Bewegungen in den T-Konten prüfen | L6: Summe Haben | M6: =SUM(Journal!$H$6:$H$105) -> 4420
A7: 3. Salden kontrollieren | L7: Differenz | M7: =M5-M6 -> 0
A8: Kontonummer | B8: Kontoname | C8: Kontotyp | D8: Anfangssaldo | E8: Aktiv? | F8: Kontoauswahl | G8: Soll gesamt | H8: Haben gesamt | I8: Endsaldo | J8: Saldoseite | L8: Status | M8: =IF(M7=0,"OK","Prüfen") -> OK
A9: 1000 | B9: Kasse | C9: Aktivkonto | D9: 1500 | E9: Ja | F9: =A9&" - "&B9 -> 1000 - Kasse | G9: =SUMIFS(Journal!$G$6:$G$105,Journal!$E$6:$E$105,$F9) -> 500 | H9: =SUMIFS(Journal!$H$6:$H$105,Journal!$F$6:$F$105,$F9) -> 420 | I9: =IF(C9="Aktivkonto",D9+G9-H9,IF(C9="Passivkonto",D9+H9-G9,IF(C9="Aufwandskonto",G9-H9,IF(C9="Ertragskonto",H9-G9,"")))) -> 1580 | J9: =IF(I9=0,"ausgeglichen",IF(OR(C9="Aktivkonto",C9="Aufwandskonto"),IF(I9>0,"Soll","Haben"),IF(I9>0,"Haben","Soll"))) -> Soll | P9: =IF(AND(C9="Aktivkonto",D9<>0),COUNTIFS($C$9:C9,"Aktivkonto",$D$9:D9,"<>0"),"") -> 1 | Q9: =IF(AND(C9="Passivkonto",D9<>0),COUNTIFS($C$9:C9,"Passivkonto",$D$9:D9,"<>0"),"") | R9: =IF(AND(C9="Aktivkonto",I9<>0),COUNTIFS($C$9:C9,"Aktivkonto",$I$9:I9,"<>0"),"") -> 1 | S9: =IF(AND(C9="Passivkonto",I9<>0),COUNTIFS($C$9:C9,"Passivkonto",$I$9:I9,"<>0"),"") | T9: =IF(AND(C9="Aufwandskonto",I9<>0),COUNTIFS($C$9:C9,"Aufwandskonto",$I$9:I9,"<>0"),"") | U9: =IF(AND(C9="Ertragskonto",I9<>0),COUNTIFS($C$9:C9,"Ertragskonto",$I$9:I9,"<>0"),"")
A10: 1200 | B10: Bank | C10: Aktivkonto | D10: 5000 | E10: Ja | F10: =A10&" - "&B10 -> 1200 - Bank | G10: =SUMIFS(Journal!$G$6:$G$105,Journal!$E$6:$E$105,$F10) -> 1200 | H10: =SUMIFS(Journal!$H$6:$H$105,Journal!$F$6:$F$105,$F10) -> 450 | I10: =IF(C10="Aktivkonto",D10+G10-H10,IF(C10="Passivkonto",D10+H10-G10,IF(C10="Aufwandskonto",G10-H10,IF(C10="Ertragskonto",H10-G10,"")))) -> 5750 | J10: =IF(I10=0,"ausgeglichen",IF(OR(C10="Aktivkonto",C10="Aufwandskonto"),IF(I10>0,"Soll","Haben"),IF(I10>0,"Haben","Soll"))) -> Soll | L10: Kurze Merkhilfe | P10: =IF(AND(C10="Aktivkonto",D10<>0),COUNTIFS($C$9:C10,"Aktivkonto",$D$9:D10,"<>0"),"") -> 2 | Q10: =IF(AND(C10="Passivkonto",D10<>0),COUNTIFS($C$9:C10,"Passivkonto",$D$9:D10,"<>0"),"") | R10: =IF(AND(C10="Aktivkonto",I10<>0),COUNTIFS($C$9:C10,"Aktivkonto",$I$9:I10,"<>0"),"") -> 2 | S10: =IF(AND(C10="Passivkonto",I10<>0),COUNTIFS($C$9:C10,"Passivkonto",$I$9:I10,"<>0"),"") | T10: =IF(AND(C10="Aufwandskonto",I10<>0),COUNTIFS($C$9:C10,"Aufwandskonto",$I$9:I10,"<>0"),"") | U10: =IF(AND(C10="Ertragskonto",I10<>0),COUNTIFS($C$9:C10,"Ertragskonto",$I$9:I10,"<>0"),"")
A11: 1400 | B11: Forderungen | C11: Aktivkonto | D11: 2000 | E11: Ja | F11: =A11&" - "&B11 -> 1400 - Forderungen | G11: =SUMIFS(Journal!$G$6:$G$105,Journal!$E$6:$E$105,$F11) -> 1200 | H11: =SUMIFS(Journal!$H$6:$H$105,Journal!$F$6:$F$105,$F11) -> 900 | I11: =IF(C11="Aktivkonto",D11+G11-H11,IF(C11="Passivkonto",D11+H11-G11,IF(C11="Aufwandskonto",G11-H11,IF(C11="Ertragskonto",H11-G11,"")))) -> 2300 | J11: =IF(I11=0,"ausgeglichen",IF(OR(C11="Aktivkonto",C11="Aufwandskonto"),IF(I11>0,"Soll","Haben"),IF(I11>0,"Haben","Soll"))) -> Soll | L11: Aktivkonto: Mehrung im Soll, Minderung im Haben | P11: =IF(AND(C11="Aktivkonto",D11<>0),COUNTIFS($C$9:C11,"Aktivkonto",$D$9:D11,"<>0"),"") -> 3 | Q11: =IF(AND(C11="Passivkonto",D11<>0),COUNTIFS($C$9:C11,"Passivkonto",$D$9:D11,"<>0"),"") | R11: =IF(AND(C11="Aktivkonto",I11<>0),COUNTIFS($C$9:C11,"Aktivkonto",$I$9:I11,"<>0"),"") -> 3 | S11: =IF(AND(C11="Passivkonto",I11<>0),COUNTIFS($C$9:C11,"Passivkonto",$I$9:I11,"<>0"),"") | T11: =IF(AND(C11="Aufwandskonto",I11<>0),COUNTIFS($C$9:C11,"Aufwandskonto",$I$9:I11,"<>0"),"") | U11: =IF(AND(C11="Ertragskonto",I11<>0),COUNTIFS($C$9:C11,"Ertragskonto",$I$9:I11,"<>0"),"")
A12: 1600 | B12: Maschinen | C12: Aktivkonto | D12: 12000 | E12: Ja | F12: =A12&" - "&B12 -> 1600 - Maschinen | G12: =SUMIFS(Journal!$G$6:$G$105,Journal!$E$6:$E$105,$F12) -> 0 | H12: =SUMIFS(Journal!$H$6:$H$105,Journal!$F$6:$F$105,$F12) -> 250 | I12: =IF(C12="Aktivkonto",D12+G12-H12,IF(C12="Passivkonto",D12+H12-G12,IF(C12="Aufwandskonto",G12-H12,IF(C12="Ertragskonto",H12-G12,"")))) -> 11750 | J12: =IF(I12=0,"ausgeglichen",IF(OR(C12="Aktivkonto",C12="Aufwandskonto"),IF(I12>0,"Soll","Haben"),IF(I12>0,"Haben","Soll"))) -> Soll | L12: Passivkonto: Mehrung im Haben, Minderung im Soll | P12: =IF(AND(C12="Aktivkonto",D12<>0),COUNTIFS($C$9:C12,"Aktivkonto",$D$9:D12,"<>0"),"") -> 4 | Q12: =IF(AND(C12="Passivkonto",D12<>0),COUNTIFS($C$9:C12,"Passivkonto",$D$9:D12,"<>0"),"") | R12: =IF(AND(C12="Aktivkonto",I12<>0),COUNTIFS($C$9:C12,"Aktivkonto",$I$9:I12,"<>0"),"") -> 4 | S12: =IF(AND(C12="Passivkonto",I12<>0),COUNTIFS($C$9:C12,"Passivkonto",$I$9:I12,"<>0"),"") | T12: =IF(AND(C12="Aufwandskonto",I12<>0),COUNTIFS($C$9:C12,"Aufwandskonto",$I$9:I12,"<>0"),"") | U12: =IF(AND(C12="Ertragskonto",I12<>0),COUNTIFS($C$9:C12,"Ertragskonto",$I$9:I12,"<>0"),"")
A13: 2000 | B13: Verbindlichkeiten | C13: Passivkonto | D13: 4000 | E13: Nein | F13: =A13&" - "&B13 -> 2000 - Verbindlichkeiten | G13: =SUMIFS(Journal!$G$6:$G$105,Journal!$E$6:$E$105,$F13) -> 450 | H13: =SUMIFS(Journal!$H$6:$H$105,Journal!$F$6:$F$105,$F13) -> 700 | I13: =IF(C13="Aktivkonto",D13+G13-H13,IF(C13="Passivkonto",D13+H13-G13,IF(C13="Aufwandskonto",G13-H13,IF(C13="Ertragskonto",H13-G13,"")))) -> 4250 | J13: =IF(I13=0,"ausgeglichen",IF(OR(C13="Aktivkonto",C13="Aufwandskonto"),IF(I13>0,"Soll","Haben"),IF(I13>0,"Haben","Soll"))) -> Haben | L13: Aufwandskonto: Zugang im Soll | P13: =IF(AND(C13="Aktivkonto",D13<>0),COUNTIFS($C$9:C13,"Aktivkonto",$D$9:D13,"<>0"),"") | Q13: =IF(AND(C13="Passivkonto",D13<>0),COUNTIFS($C$9:C13,"Passivkonto",$D$9:D13,"<>0"),"") -> 1 | R13: =IF(AND(C13="Aktivkonto",I13<>0),COUNTIFS($C$9:C13,"Aktivkonto",$I$9:I13,"<>0"),"") | S13: =IF(AND(C13="Passivkonto",I13<>0),COUNTIFS($C$9:C13,"Passivkonto",$I$9:I13,"<>0"),"") -> 1 | T13: =IF(AND(C13="Aufwandskonto",I13<>0),COUNTIFS($C$9:C13,"Aufwandskonto",$I$9:I13,"<>0"),"") | U13: =IF(AND(C13="Ertragskonto",I13<>0),COUNTIFS($C$9:C13,"Ertragskonto",$I$9:I13,"<>0"),"")
A14: 3000 | B14: Eigenkapital | C14: Passivkonto | D14: 16500 | E14: Nein | F14: =A14&" - "&B14 -> 3000 - Eigenkapital | G14: =SUMIFS(Journal!$G$6:$G$105,Journal!$E$6:$E$105,$F14) -> 0 | H14: =SUMIFS(Journal!$H$6:$H$105,Journal!$F$6:$F$105,$F14) -> 0 | I14: =IF(C14="Aktivkonto",D14+G14-H14,IF(C14="Passivkonto",D14+H14-G14,IF(C14="Aufwandskonto",G14-H14,IF(C14="Ertragskonto",H14-G14,"")))) -> 16500 | J14: =IF(I14=0,"ausgeglichen",IF(OR(C14="Aktivkonto",C14="Aufwandskonto"),IF(I14>0,"Soll","Haben"),IF(I14>0,"Haben","Soll"))) -> Haben | L14: Ertragskonto: Zugang im Haben | P14: =IF(AND(C14="Aktivkonto",D14<>0),COUNTIFS($C$9:C14,"Aktivkonto",$D$9:D14,"<>0"),"") | Q14: =IF(AND(C14="Passivkonto",D14<>0),COUNTIFS($C$9:C14,"Passivkonto",$D$9:D14,"<>0"),"") -> 2 | R14: =IF(AND(C14="Aktivkonto",I14<>0),COUNTIFS($C$9:C14,"Aktivkonto",$I$9:I14,"<>0"),"") | S14: =IF(AND(C14="Passivkonto",I14<>0),COUNTIFS($C$9:C14,"Passivkonto",$I$9:I14,"<>0"),"") -> 2 | T14: =IF(AND(C14="Aufwandskonto",I14<>0),COUNTIFS($C$9:C14,"Aufwandskonto",$I$9:I14,"<>0"),"") | U14: =IF(AND(C14="Ertragskonto",I14<>0),COUNTIFS($C$9:C14,"Ertragskonto",$I$9:I14,"<>0"),"")
A15: 4000 | B15: Umsatzerlöse | C15: Ertragskonto | D15: 0 | E15: Nein | F15: =A15&" - "&B15 -> 4000 - Umsatzerlöse | G15: =SUMIFS(Journal!$G$6:$G$105,Journal!$E$6:$E$105,$F15) -> 0 | H15: =SUMIFS(Journal!$H$6:$H$105,Journal!$F$6:$F$105,$F15) -> 1700 | I15: =IF(C15="Aktivkonto",D15+G15-H15,IF(C15="Passivkonto",D15+H15-G15,IF(C15="Aufwandskonto",G15-H15,IF(C15="Ertragskonto",H15-G15,"")))) -> 1700 | J15: =IF(I15=0,"ausgeglichen",IF(OR(C15="Aktivkonto",C15="Aufwandskonto"),IF(I15>0,"Soll","Haben"),IF(I15>0,"Haben","Soll"))) -> Haben | P15: =IF(AND(C15="Aktivkonto",D15<>0),COUNTIFS($C$9:C15,"Aktivkonto",$D$9:D15,"<>0"),"") | Q15: =IF(AND(C15="Passivkonto",D15<>0),COUNTIFS($C$9:C15,"Passivkonto",$D$9:D15,"<>0"),"") | R15: =IF(AND(C15="Aktivkonto",I15<>0),COUNTIFS($C$9:C15,"Aktivkonto",$I$9:I15,"<>0"),"") | S15: =IF(AND(C15="Passivkonto",I15<>0),COUNTIFS($C$9:C15,"Passivkonto",$I$9:I15,"<>0"),"") | T15: =IF(AND(C15="Aufwandskonto",I15<>0),COUNTIFS($C$9:C15,"Aufwandskonto",$I$9:I15,"<>0"),"") | U15: =IF(AND(C15="Ertragskonto",I15<>0),COUNTIFS($C$9:C15,"Ertragskonto",$I$9:I15,"<>0"),"") -> 1
A16: 5000 | B16: Wareneinsatz | C16: Aufwandskonto | D16: 0 | E16: Nein | F16: =A16&" - "&B16 -> 5000 - Wareneinsatz | G16: =SUMIFS(Journal!$G$6:$G$105,Journal!$E$6:$E$105,$F16) -> 820 | H16: =SUMIFS(Journal!$H$6:$H$105,Journal!$F$6:$F$105,$F16) -> 0 | I16: =IF(C16="Aktivkonto",D16+G16-H16,IF(C16="Passivkonto",D16+H16-G16,IF(C16="Aufwandskonto",G16-H16,IF(C16="Ertragskonto",H16-G16,"")))) -> 820 | J16: =IF(I16=0,"ausgeglichen",IF(OR(C16="Aktivkonto",C16="Aufwandskonto"),IF(I16>0,"Soll","Haben"),IF(I16>0,"Haben","Soll"))) -> Soll | P16: =IF(AND(C16="Aktivkonto",D16<>0),COUNTIFS($C$9:C16,"Aktivkonto",$D$9:D16,"<>0"),"") | Q16: =IF(AND(C16="Passivkonto",D16<>0),COUNTIFS($C$9:C16,"Passivkonto",$D$9:D16,"<>0"),"") | R16: =IF(AND(C16="Aktivkonto",I16<>0),COUNTIFS($C$9:C16,"Aktivkonto",$I$9:I16,"<>0"),"") | S16: =IF(AND(C16="Passivkonto",I16<>0),COUNTIFS($C$9:C16,"Passivkonto",$I$9:I16,"<>0"),"") | T16: =IF(AND(C16="Aufwandskonto",I16<>0),COUNTIFS($C$9:C16,"Aufwandskonto",$I$9:I16,"<>0"),"") -> 1 | U16: =IF(AND(C16="Ertragskonto",I16<>0),COUNTIFS($C$9:C16,"Ertragskonto",$I$9:I16,"<>0"),"")
A17: 5100 | B17: Abschreibungen | C17: Aufwandskonto | D17: 0 | E17: Nein | F17: =A17&" - "&B17 -> 5100 - Abschreibungen | G17: =SUMIFS(Journal!$G$6:$G$105,Journal!$E$6:$E$105,$F17) -> 250 | H17: =SUMIFS(Journal!$H$6:$H$105,Journal!$F$6:$F$105,$F17) -> 0 | I17: =IF(C17="Aktivkonto",D17+G17-H17,IF(C17="Passivkonto",D17+H17-G17,IF(C17="Aufwandskonto",G17-H17,IF(C17="Ertragskonto",H17-G17,"")))) -> 250 | J17: =IF(I17=0,"ausgeglichen",IF(OR(C17="Aktivkonto",C17="Aufwandskonto"),IF(I17>0,"Soll","Haben"),IF(I17>0,"Haben","Soll"))) -> Soll | P17: =IF(AND(C17="Aktivkonto",D17<>0),COUNTIFS($C$9:C17,"Aktivkonto",$D$9:D17,"<>0"),"") | Q17: =IF(AND(C17="Passivkonto",D17<>0),COUNTIFS($C$9:C17,"Passivkonto",$D$9:D17,"<>0"),"") | R17: =IF(AND(C17="Aktivkonto",I17<>0),COUNTIFS($C$9:C17,"Aktivkonto",$I$9:I17,"<>0"),"") | S17: =IF(AND(C17="Passivkonto",I17<>0),COUNTIFS($C$9:C17,"Passivkonto",$I$9:I17,"<>0"),"") | T17: =IF(AND(C17="Aufwandskonto",I17<>0),COUNTIFS($C$9:C17,"Aufwandskonto",$I$9:I17,"<>0"),"") -> 2 | U17: =IF(AND(C17="Ertragskonto",I17<>0),COUNTIFS($C$9:C17,"Ertragskonto",$I$9:I17,"<>0"),"")
A18: 1576 | B18: Vorsteuer | C18: Aktivkonto | D18: 0 | E18: Ja | F18: =A18&" - "&B18 -> 1576 - Vorsteuer | G18: =SUMIFS(Journal!$G$6:$G$105,Journal!$E$6:$E$105,$F18) -> 0 | H18: =SUMIFS(Journal!$H$6:$H$105,Journal!$F$6:$F$105,$F18) -> 0 | I18: =IF(C18="Aktivkonto",D18+G18-H18,IF(C18="Passivkonto",D18+H18-G18,IF(C18="Aufwandskonto",G18-H18,IF(C18="Ertragskonto",H18-G18,"")))) -> 0 | J18: =IF(I18=0,"ausgeglichen",IF(OR(C18="Aktivkonto",C18="Aufwandskonto"),IF(I18>0,"Soll","Haben"),IF(I18>0,"Haben","Soll"))) -> ausgeglichen | P18: =IF(AND(C18="Aktivkonto",D18<>0),COUNTIFS($C$9:C18,"Aktivkonto",$D$9:D18,"<>0"),"") | Q18: =IF(AND(C18="Passivkonto",D18<>0),COUNTIFS($C$9:C18,"Passivkonto",$D$9:D18,"<>0"),"") | R18: =IF(AND(C18="Aktivkonto",I18<>0),COUNTIFS($C$9:C18,"Aktivkonto",$I$9:I18,"<>0"),"") | S18: =IF(AND(C18="Passivkonto",I18<>0),COUNTIFS($C$9:C18,"Passivkonto",$I$9:I18,"<>0"),"") | T18: =IF(AND(C18="Aufwandskonto",I18<>0),COUNTIFS($C$9:C18,"Aufwandskonto",$I$9:I18,"<>0"),"") | U18: =IF(AND(C18="Ertragskonto",I18<>0),COUNTIFS($C$9:C18,"Ertragskonto",$I$9:I18,"<>0"),"")
A19: 1776 | B19: Umsatzsteuer | C19: Passivkonto | D19: 0 | E19: Nein | F19: =A19&" - "&B19 -> 1776 - Umsatzsteuer | G19: =SUMIFS(Journal!$G$6:$G$105,Journal!$E$6:$E$105,$F19) -> 0 | H19: =SUMIFS(Journal!$H$6:$H$105,Journal!$F$6:$F$105,$F19) -> 0 | I19: =IF(C19="Aktivkonto",D19+G19-H19,IF(C19="Passivkonto",D19+H19-G19,IF(C19="Aufwandskonto",G19-H19,IF(C19="Ertragskonto",H19-G19,"")))) -> 0 | J19: =IF(I19=0,"ausgeglichen",IF(OR(C19="Aktivkonto",C19="Aufwandskonto"),IF(I19>0,"Soll","Haben"),IF(I19>0,"Haben","Soll"))) -> ausgeglichen | P19: =IF(AND(C19="Aktivkonto",D19<>0),COUNTIFS($C$9:C19,"Aktivkonto",$D$9:D19,"<>0"),"") | Q19: =IF(AND(C19="Passivkonto",D19<>0),COUNTIFS($C$9:C19,"Passivkonto",$D$9:D19,"<>0"),"") | R19: =IF(AND(C19="Aktivkonto",I19<>0),COUNTIFS($C$9:C19,"Aktivkonto",$I$9:I19,"<>0"),"") | S19: =IF(AND(C19="Passivkonto",I19<>0),COUNTIFS($C$9:C19,"Passivkonto",$I$9:I19,"<>0"),"") | T19: =IF(AND(C19="Aufwandskonto",I19<>0),COUNTIFS($C$9:C19,"Aufwandskonto",$I$9:I19,"<>0"),"") | U19: =IF(AND(C19="Ertragskonto",I19<>0),COUNTIFS($C$9:C19,"Ertragskonto",$I$9:I19,"<>0"),"")
A22: Hinweis: Hellblaue Zellen sind Eingaben. Helle graublaue Zellen enthalten Formeln und berechnen sich automatisch.

Sheet Journal
A2: Journal | L2: Journal-Kontrolle
A3: Chronologische Erfassung der Buchungen | L3: Gesamtsumme Soll | M3: =SUM(G6:G105) -> 4420
L4: Gesamtsumme Haben | M4: =SUM(H6:H105) -> 4420
A5: Lfd. Nr. | B5: Datum | C5: Beleg-Nr. | D5: Buchungstext | E5: Sollkonto | F5: Habenkonto | G5: Sollbetrag | H5: Habenbetrag | I5: Status | J5: Hinweis | L5: Differenz | M5: =M4-M5
A6: =IF(COUNTA(B6:H6)=0,"",ROW()-5) -> 1 | B6: 02.01.2026 | C6: ER-001 | D6: Verkauf auf Ziel | E6: 1400 - Forderungen | F6: 4000 - Umsatzerlöse | G6: 1200 | H6: 1200 | I6: =IF(COUNTA(B6:H6)=0,"",IF(AND(B6<>"",E6<>"",F6<>"",G6<>"",H6<>"",G6=H6),"OK","Fehler")) -> OK | J6: =IF(COUNTA(B6:H6)=0,"",IF(B6="","Datum fehlt",IF(OR(E6="",F6=""),"Konto fehlt",IF(G6<>H6,"Beträge stimmen nicht überein","")))) | K6: =IF($E6='T-Konten'!$C$3,COUNTIF($E$6:$E6,'T-Konten'!$C$3),"") | L6: Status | M6: =IF(M6=0,"OK","Prüfen") | N6: =IF($F6='T-Konten'!$K$3,COUNTIF($F$6:$F6,'T-Konten'!$K$3),"") | O6: =IF($E6='T-Konten'!$C$24,COUNTIF($E$6:$E6,'T-Konten'!$C$24),"") | P6: =IF($F6='T-Konten'!$C$24,COUNTIF($F$6:$F6,'T-Konten'!$C$24),"") -> 1 | Q6: =IF($E6='T-Konten'!$K$24,COUNTIF($E$6:$E6,'T-Konten'!$K$24),"") | R6: =IF($F6='T-Konten'!$K$24,COUNTIF($F$6:$F6,'T-Konten'!$K$24),"")
A7: =IF(COUNTA(B7:H7)=0,"",ROW()-5) -> 2 | B7: 03.01.2026 | C7: RE-010 | D7: Materialeinkauf auf Ziel | E7: 5000 - Wareneinsatz | F7: 2000 - Verbindlichkeiten | G7: 700 | H7: 700 | I7: =IF(COUNTA(B7:H7)=0,"",IF(AND(B7<>"",E7<>"",F7<>"",G7<>"",H7<>"",G7=H7),"OK","Fehler")) -> OK | J7: =IF(COUNTA(B7:H7)=0,"",IF(B7="","Datum fehlt",IF(OR(E7="",F7=""),"Konto fehlt",IF(G7<>H7,"Beträge stimmen nicht überein","")))) | K7: =IF($E7='T-Konten'!$C$3,COUNTIF($E$6:$E7,'T-Konten'!$C$3),"") | L7: =IF($F7='T-Konten'!$C$3,COUNTIF($F$6:$F7,'T-Konten'!$C$3),"") | M7: =IF($E7='T-Konten'!$K$3,COUNTIF($E$6:$E7,'T-Konten'!$K$3),"") | N7: =IF($F7='T-Konten'!$K$3,COUNTIF($F$6:$F7,'T-Konten'!$K$3),"") | O7: =IF($E7='T-Konten'!$C$24,COUNTIF($E$6:$E7,'T-Konten'!$C$24),"") | P7: =IF($F7='T-Konten'!$C$24,COUNTIF($F$6:$F7,'T-Konten'!$C$24),"") | Q7: =IF($E7='T-Konten'!$K$24,COUNTIF($E$6:$E7,'T-Konten'!$K$24),"") | R7: =IF($F7='T-Konten'!$K$24,COUNTIF($F$6:$F7,'T-Konten'!$K$24),"") -> 1
A8: =IF(COUNTA(B8:H8)=0,"",ROW()-5) -> 3 | B8: 05.01.2026 | C8: BNK-001 | D8: Kundenzahlung per Bank | E8: 1200 - Bank | F8: 1400 - Forderungen | G8: 900 | H8: 900 | I8: =IF(COUNTA(B8:H8)=0,"",IF(AND(B8<>"",E8<>"",F8<>"",G8<>"",H8<>"",G8=H8),"OK","Fehler")) -> OK | J8: =IF(COUNTA(B8:H8)=0,"",IF(B8="","Datum fehlt",IF(OR(E8="",F8=""),"Konto fehlt",IF(G8<>H8,"Beträge stimmen nicht überein","")))) | K8: =IF($E8='T-Konten'!$C$3,COUNTIF($E$6:$E8,'T-Konten'!$C$3),"") | L8: =IF($F8='T-Konten'!$C$3,COUNTIF($F$6:$F8,'T-Konten'!$C$3),"") | M8: =IF($E8='T-Konten'!$K$3,COUNTIF($E$6:$E8,'T-Konten'!$K$3),"") -> 1 | N8: =IF($F8='T-Konten'!$K$3,COUNTIF($F$6:$F8,'T-Konten'!$K$3),"") | O8: =IF($E8='T-Konten'!$C$24,COUNTIF($E$6:$E8,'T-Konten'!$C$24),"") | P8: =IF($F8='T-Konten'!$C$24,COUNTIF($F$6:$F8,'T-Konten'!$C$24),"") | Q8: =IF($E8='T-Konten'!$K$24,COUNTIF($E$6:$E8,'T-Konten'!$K$24),"") | R8: =IF($F8='T-Konten'!$K$24,COUNTIF($F$6:$F8,'T-Konten'!$K$24),"")
A9: =IF(COUNTA(B9:H9)=0,"",ROW()-5) -> 4 | B9: 07.01.2026 | C9: KAS-001 | D9: Bareinzahlung auf Bank | E9: 1200 - Bank | F9: 1000 - Kasse | G9: 300 | H9: 300 | I9: =IF(COUNTA(B9:H9)=0,"",IF(AND(B9<>"",E9<>"",F9<>"",G9<>"",H9<>"",G9=H9),"OK","Fehler")) -> OK | J9: =IF(COUNTA(B9:H9)=0,"",IF(B9="","Datum fehlt",IF(OR(E9="",F9=""),"Konto fehlt",IF(G9<>H9,"Beträge stimmen nicht überein","")))) | K9: =IF($E9='T-Konten'!$C$3,COUNTIF($E$6:$E9,'T-Konten'!$C$3),"") | L9: =IF($F9='T-Konten'!$C$3,COUNTIF($F$6:$F9,'T-Konten'!$C$3),"") -> 1 | M9: =IF($E9='T-Konten'!$K$3,COUNTIF($E$6:$E9,'T-Konten'!$K$3),"") -> 2 | N9: =IF($F9='T-Konten'!$K$3,COUNTIF($F$6:$F9,'T-Konten'!$K$3),"") | O9: =IF($E9='T-Konten'!$C$24,COUNTIF($E$6:$E9,'T-Konten'!$C$24),"") | P9: =IF($F9='T-Konten'!$C$24,COUNTIF($F$6:$F9,'T-Konten'!$C$24),"") | Q9: =IF($E9='T-Konten'!$K$24,COUNTIF($E$6:$E9,'T-Konten'!$K$24),"") | R9: =IF($F9='T-Konten'!$K$24,COUNTIF($F$6:$F9,'T-Konten'!$K$24),"")
A10: =IF(COUNTA(B10:H10)=0,"",ROW()-5) -> 5 | B10: 10.01.2026 | C10: RE-011 | D10: Zahlung an Lieferant | E10: 2000 - Verbindlichkeiten | F10: 1200 - Bank | G10: 450 | H10: 450 | I10: =IF(COUNTA(B10:H10)=0,"",IF(AND(B10<>"",E10<>"",F10<>"",G10<>"",H10<>"",G10=H10),"OK","Fehler")) -> OK | J10: =IF(COUNTA(B10:H10)=0,"",IF(B10="","Datum fehlt",IF(OR(E10="",F10=""),"Konto fehlt",IF(G10<>H10,"Beträge stimmen nicht überein","")))) | K10: =IF($E10='T-Konten'!$C$3,COUNTIF($E$6:$E10,'T-Konten'!$C$3),"") | L10: =IF($F10='T-Konten'!$C$3,COUNTIF($F$6:$F10,'T-Konten'!$C$3),"") | M10: =IF($E10='T-Konten'!$K$3,COUNTIF($E$6:$E10,'T-Konten'!$K$3),"") | N10: =IF($F10='T-Konten'!$K$3,COUNTIF($F$6:$F10,'T-Konten'!$K$3),"") -> 1 | O10: =IF($E10='T-Konten'!$C$24,COUNTIF($E$6:$E10,'T-Konten'!$C$24),"") | P10: =IF($F10='T-Konten'!$C$24,COUNTIF($F$6:$F10,'T-Konten'!$C$24),"") | Q10: =IF($E10='T-Konten'!$K$24,COUNTIF($E$6:$E10,'T-Konten'!$K$24),"") -> 1 | R10: =IF($F10='T-Konten'!$K$24,COUNTIF($F$6:$F10,'T-Konten'!$K$24),"")
A11: =IF(COUNTA(B11:H11)=0,"",ROW()-5) -> 6 | B11: 15.01.2026 | C11: AFA-001 | D11: Monatsabschreibung | E11: 5100 - Abschreibungen | F11: 1600 - Maschinen | G11: 250 | H11: 250 | I11: =IF(COUNTA(B11:H11)=0,"",IF(AND(B11<>"",E11<>"",F11<>"",G11<>"",H11<>"",G11=H11),"OK","Fehler")) -> OK | J11: =IF(COUNTA(B11:H11)=0,"",IF(B11="","Datum fehlt",IF(OR(E11="",F11=""),"Konto fehlt",IF(G11<>H11,"Beträge stimmen nicht überein","")))) | K11: =IF($E11='T-Konten'!$C$3,COUNTIF($E$6:$E11,'T-Konten'!$C$3),"") | L11: =IF($F11='T-Konten'!$C$3,COUNTIF($F$6:$F11,'T-Konten'!$C$3),"") | M11: =IF($E11='T-Konten'!$K$3,COUNTIF($E$6:$E11,'T-Konten'!$K$3),"") | N11: =IF($F11='T-Konten'!$K$3,COUNTIF($F$6:$F11,'T-Konten'!$K$3),"") | O11: =IF($E11='T-Konten'!$C$24,COUNTIF($E$6:$E11,'T-Konten'!$C$24),"") | P11: =IF($F11='T-Konten'!$C$24,COUNTIF($F$6:$F11,'T-Konten'!$C$24),"") | Q11: =IF($E11='T-Konten'!$K$24,COUNTIF($E$6:$E11,'T-Konten'!$K$24),"") | R11: =IF($F11='T-Konten'!$K$24,COUNTIF($F$6:$F11,'T-Konten'!$K$24),"")
A12: =IF(COUNTA(B12:H12)=0,"",ROW()-5) -> 7 | B12: 18.01.2026 | C12: KAS-002 | D12: Barverkauf | E12: 1000 - Kasse | F12: 4000 - Umsatzerlöse | G12: 500 | H12: 500 | I12: =IF(COUNTA(B12:H12)=0,"",IF(AND(B12<>"",E12<>"",F12<>"",G12<>"",H12<>"",G12=H12),"OK","Fehler")) -> OK | J12: =IF(COUNTA(B12:H12)=0,"",IF(B12="","Datum fehlt",IF(OR(E12="",F12=""),"Konto fehlt",IF(G12<>H12,"Beträge stimmen nicht überein","")))) | K12: =IF($E12='T-Konten'!$C$3,COUNTIF($E$6:$E12,'T-Konten'!$C$3),"") -> 1 | L12: =IF($F12='T-Konten'!$C$3,COUNTIF($F$6:$F12,'T-Konten'!$C$3),"") | M12: =IF($E12='T-Konten'!$K$3,COUNTIF($E$6:$E12,'T-Konten'!$K$3),"") | N12: =IF($F12='T-Konten'!$K$3,COUNTIF($F$6:$F12,'T-Konten'!$K$3),"") | O12: =IF($E12='T-Konten'!$C$24,COUNTIF($E$6:$E12,'T-Konten'!$C$24),"") | P12: =IF($F12='T-Konten'!$C$24,COUNTIF($F$6:$F12,'T-Konten'!$C$24),"") -> 2 | Q12: =IF($E12='T-Konten'!$K$24,COUNTIF($E$6:$E12,'T-Konten'!$K$24),"") | R12: =IF($F12='T-Konten'!$K$24,COUNTIF($F$6:$F12,'T-Konten'!$K$24),"")
A13: =IF(COUNTA(B13:H13)=0,"",ROW()-5) -> 8 | B13: 20.01.2026 | C13: KAS-003 | D13: Wareneinsatz bar bezahlt | E13: 5000 - Wareneinsatz | F13: 1000 - Kasse | G13: 120 | H13: 120 | I13: =IF(COUNTA(B13:H13)=0,"",IF(AND(B13<>"",E13<>"",F13<>"",G13<>"",H13<>"",G13=H13),"OK","Fehler")) -> OK | J13: =IF(COUNTA(B13:H13)=0,"",IF(B13="","Datum fehlt",IF(OR(E13="",F13=""),"Konto fehlt",IF(G13<>H13,"Beträge stimmen nicht überein","")))) | K13: =IF($E13='T-Konten'!$C$3,COUNTIF($E$6:$E13,'T-Konten'!$C$3),"") | L13: =IF($F13='T-Konten'!$C$3,COUNTIF($F$6:$F13,'T-Konten'!$C$3),"") -> 2 | M13: =IF($E13='T-Konten'!$K$3,COUNTIF($E$6:$E13,'T-Konten'!$K$3),"") | N13: =IF($F13='T-Konten'!$K$3,COUNTIF($F$6:$F13,'T-Konten'!$K$3),"") | O13: =IF($E13='T-Konten'!$C$24,COUNTIF($E$6:$E13,'T-Konten'!$C$24),"") | P13: =IF($F13='T-Konten'!$C$24,COUNTIF($F$6:$F13,'T-Konten'!$C$24),"") | Q13: =IF($E13='T-Konten'!$K$24,COUNTIF($E$6:$E13,'T-Konten'!$K$24),"") | R13: =IF($F13='T-Konten'!$K$24,COUNTIF($F$6:$F13,'T-Konten'!$K$24),"")
A14: =IF(COUNTA(B14:H14)=0,"",ROW()-5) | I14: =IF(COUNTA(B14:H14)=0,"",IF(AND(B14<>"",E14<>"",F14<>"",G14<>"",H14<>"",G14=H14),"OK","Fehler")) | J14: =IF(COUNTA(B14:H14)=0,"",IF(B14="","Datum fehlt",IF(OR(E14="",F14=""),"Konto fehlt",IF(G14<>H14,"Beträge stimmen nicht überein","")))) | K14: =IF($E14='T-Konten'!$C$3,COUNTIF($E$6:$E14,'T-Konten'!$C$3),"") | L14: =IF($F14='T-Konten'!$C$3,COUNTIF($F$6:$F14,'T-Konten'!$C$3),"") | M14: =IF($E14='T-Konten'!$K$3,COUNTIF($E$6:$E14,'T-Konten'!$K$3),"") | N14: =IF($F14='T-Konten'!$K$3,COUNTIF($F$6:$F14,'T-Konten'!$K$3),"") | O14: =IF($E14='T-Konten'!$C$24,COUNTIF($E$6:$E14,'T-Konten'!$C$24),"") | P14: =IF($F14='T-Konten'!$C$24,COUNTIF($F$6:$F14,'T-Konten'!$C$24),"") | Q14: =IF($E14='T-Konten'!$K$24,COUNTIF($E$6:$E14,'T-Konten'!$K$24),"") | R14: =IF($F14='T-Konten'!$K$24,COUNTIF($F$6:$F14,'T-Konten'!$K$24),"")
A15: =IF(COUNTA(B15:H15)=0,"",ROW()-5) | I15: =IF(COUNTA(B15:H15)=0,"",IF(AND(B15<>"",E15<>"",F15<>"",G15<>"",H15<>"",G15=H15),"OK","Fehler")) | J15: =IF(COUNTA(B15:H15)=0,"",IF(B15="","Datum fehlt",IF(OR(E15="",F15=""),"Konto fehlt",IF(G15<>H15,"Beträge stimmen nicht überein","")))) | K15: =IF($E15='T-Konten'!$C$3,COUNTIF($E$6:$E15,'T-Konten'!$C$3),"") | L15: =IF($F15='T-Konten'!$C$3,COUNTIF($F$6:$F15,'T-Konten'!$C$3),"") | M15: =IF($E15='T-Konten'!$K$3,COUNTIF($E$6:$E15,'T-Konten'!$K$3),"") | N15: =IF($F15='T-Konten'!$K$3,COUNTIF($F$6:$F15,'T-Konten'!$K$3),"") | O15: =IF($E15='T-Konten'!$C$24,COUNTIF($E$6:$E15,'T-Konten'!$C$24),"") | P15: =IF($F15='T-Konten'!$C$24,COUNTIF($F$6:$F15,'T-Konten'!$C$24),"") | Q15: =IF($E15='T-Konten'!$K$24,COUNTIF($E$6:$E15,'T-Konten'!$K$24),"") | R15: =IF($F15='T-Konten'!$K$24,COUNTIF($F$6:$F15,'T-Konten'!$K$24),"")
A16: =IF(COUNTA(B16:H16)=0,"",ROW()-5) | I16: =IF(COUNTA(B16:H16)=0,"",IF(AND(B16<>"",E16<>"",F16<>"",G16<>"",H16<>"",G16=H16),"OK","Fehler")) | J16: =IF(COUNTA(B16:H16)=0,"",IF(B16="","Datum fehlt",IF(OR(E16="",F16=""),"Konto fehlt",IF(G16<>H16,"Beträge stimmen nicht überein","")))) | K16: =IF($E16='T-Konten'!$C$3,COUNTIF($E$6:$E16,'T-Konten'!$C$3),"") | L16: =IF($F16='T-Konten'!$C$3,COUNTIF($F$6:$F16,'T-Konten'!$C$3),"") | M16: =IF($E16='T-Konten'!$K$3,COUNTIF($E$6:$E16,'T-Konten'!$K$3),"") | N16: =IF($F16='T-Konten'!$K$3,COUNTIF($F$6:$F16,'T-Konten'!$K$3),"") | O16: =IF($E16='T-Konten'!$C$24,COUNTIF($E$6:$E16,'T-Konten'!$C$24),"") | P16: =IF($F16='T-Konten'!$C$24,COUNTIF($F$6:$F16,'T-Konten'!$C$24),"") | Q16: =IF($E16='T-Konten'!$K$24,COUNTIF($E$6:$E16,'T-Konten'!$K$24),"") | R16: =IF($F16='T-Konten'!$K$24,COUNTIF($F$6:$F16,'T-Konten'!$K$24),"")
A17: =IF(COUNTA(B17:H17)=0,"",ROW()-5) | I17: =IF(COUNTA(B17:H17)=0,"",IF(AND(B17<>"",E17<>"",F17<>"",G17<>"",H17<>"",G17=H17),"OK","Fehler")) | J17: =IF(COUNTA(B17:H17)=0,"",IF(B17="","Datum fehlt",IF(OR(E17="",F17=""),"Konto fehlt",IF(G17<>H17,"Beträge stimmen nicht überein","")))) | K17: =IF($E17='T-Konten'!$C$3,COUNTIF($E$6:$E17,'T-Konten'!$C$3),"") | L17: =IF($F17='T-Konten'!$C$3,COUNTIF($F$6:$F17,'T-Konten'!$C$3),"") | M17: =IF($E17='T-Konten'!$K$3,COUNTIF($E$6:$E17,'T-Konten'!$K$3),"") | N17: =IF($F17='T-Konten'!$K$3,COUNTIF($F$6:$F17,'T-Konten'!$K$3),"") | O17: =IF($E17='T-Konten'!$C$24,COUNTIF($E$6:$E17,'T-Konten'!$C$24),"") | P17: =IF($F17='T-Konten'!$C$24,COUNTIF($F$6:$F17,'T-Konten'!$C$24),"") | Q17: =IF($E17='T-Konten'!$K$24,COUNTIF($E$6:$E17,'T-Konten'!$K$24),"") | R17: =IF($F17='T-Konten'!$K$24,COUNTIF($F$6:$F17,'T-Konten'!$K$24),"")
A18: =IF(COUNTA(B18:H18)=0,"",ROW()-5) | I18: =IF(COUNTA(B18:H18)=0,"",IF(AND(B18<>"",E18<>"",F18<>"",G18<>"",H18<>"",G18=H18),"OK","Fehler")) | J18: =IF(COUNTA(B18:H18)=0,"",IF(B18="","Datum fehlt",IF(OR(E18="",F18=""),"Konto fehlt",IF(G18<>H18,"Beträge stimmen nicht überein","")))) | K18: =IF($E18='T-Konten'!$C$3,COUNTIF($E$6:$E18,'T-Konten'!$C$3),"") | L18: =IF($F18='T-Konten'!$C$3,COUNTIF($F$6:$F18,'T-Konten'!$C$3),"") | M18: =IF($E18='T-Konten'!$K$3,COUNTIF($E$6:$E18,'T-Konten'!$K$3),"") | N18: =IF($F18='T-Konten'!$K$3,COUNTIF($F$6:$F18,'T-Konten'!$K$3),"") | O18: =IF($E18='T-Konten'!$C$24,COUNTIF($E$6:$E18,'T-Konten'!$C$24),"") | P18: =IF($F18='T-Konten'!$C$24,COUNTIF($F$6:$F18,'T-Konten'!$C$24),"") | Q18: =IF($E18='T-Konten'!$K$24,COUNTIF($E$6:$E18,'T-Konten'!$K$24),"") | R18: =IF($F18='T-Konten'!$K$24,COUNTIF($F$6:$F18,'T-Konten'!$K$24),"")
A19: =IF(COUNTA(B19:H19)=0,"",ROW()-5) | I19: =IF(COUNTA(B19:H19)=0,"",IF(AND(B19<>"",E19<>"",F19<>"",G19<>"",H19<>"",G19=H19),"OK","Fehler")) | J19: =IF(COUNTA(B19:H19)=0,"",IF(B19="","Datum fehlt",IF(OR(E19="",F19=""),"Konto fehlt",IF(G19<>H19,"Beträge stimmen nicht überein","")))) | K19: =IF($E19='T-Konten'!$C$3,COUNTIF($E$6:$E19,'T-Konten'!$C$3),"") | L19: =IF($F19='T-Konten'!$C$3,COUNTIF($F$6:$F19,'T-Konten'!$C$3),"") | M19: =IF($E19='T-Konten'!$K$3,COUNTIF($E$6:$E19,'T-Konten'!$K$3),"") | N19: =IF($F19='T-Konten'!$K$3,COUNTIF($F$6:$F19,'T-Konten'!$K$3),"") | O19: =IF($E19='T-Konten'!$C$24,COUNTIF($E$6:$E19,'T-Konten'!$C$24),"") | P19: =IF($F19='T-Konten'!$C$24,COUNTIF($F$6:$F19,'T-Konten'!$C$24),"") | Q19: =IF($E19='T-Konten'!$K$24,COUNTIF($E$6:$E19,'T-Konten'!$K$24),"") | R19: =IF($F19='T-Konten'!$K$24,COUNTIF($F$6:$F19,'T-Konten'!$K$24),"")
A20: =IF(COUNTA(B20:H20)=0,"",ROW()-5) | I20: =IF(COUNTA(B20:H20)=0,"",IF(AND(B20<>"",E20<>"",F20<>"",G20<>"",H20<>"",G20=H20),"OK","Fehler")) | J20: =IF(COUNTA(B20:H20)=0,"",IF(B20="","Datum fehlt",IF(OR(E20="",F20=""),"Konto fehlt",IF(G20<>H20,"Beträge stimmen nicht überein","")))) | K20: =IF($E20='T-Konten'!$C$3,COUNTIF($E$6:$E20,'T-Konten'!$C$3),"") | L20: =IF($F20='T-Konten'!$C$3,COUNTIF($F$6:$F20,'T-Konten'!$C$3),"") | M20: =IF($E20='T-Konten'!$K$3,COUNTIF($E$6:$E20,'T-Konten'!$K$3),"") | N20: =IF($F20='T-Konten'!$K$3,COUNTIF($F$6:$F20,'T-Konten'!$K$3),"") | O20: =IF($E20='T-Konten'!$C$24,COUNTIF($E$6:$E20,'T-Konten'!$C$24),"") | P20: =IF($F20='T-Konten'!$C$24,COUNTIF($F$6:$F20,'T-Konten'!$C$24),"") | Q20: =IF($E20='T-Konten'!$K$24,COUNTIF($E$6:$E20,'T-Konten'!$K$24),"") | R20: =IF($F20='T-Konten'!$K$24,COUNTIF($F$6:$F20,'T-Konten'!$K$24),"")
A21: =IF(COUNTA(B21:H21)=0,"",ROW()-5) | I21: =IF(COUNTA(B21:H21)=0,"",IF(AND(B21<>"",E21<>"",F21<>"",G21<>"",H21<>"",G21=H21),"OK","Fehler")) | J21: =IF(COUNTA(B21:H21)=0,"",IF(B21="","Datum fehlt",IF(OR(E21="",F21=""),"Konto fehlt",IF(G21<>H21,"Beträge stimmen nicht überein","")))) | K21: =IF($E21='T-Konten'!$C$3,COUNTIF($E$6:$E21,'T-Konten'!$C$3),"") | L21: =IF($F21='T-Konten'!$C$3,COUNTIF($F$6:$F21,'T-Konten'!$C$3),"") | M21: =IF($E21='T-Konten'!$K$3,COUNTIF($E$6:$E21,'T-Konten'!$K$3),"") | N21: =IF($F21='T-Konten'!$K$3,COUNTIF($F$6:$F21,'T-Konten'!$K$3),"") | O21: =IF($E21='T-Konten'!$C$24,COUNTIF($E$6:$E21,'T-Konten'!$C$24),"") | P21: =IF($F21='T-Konten'!$C$24,COUNTIF($F$6:$F21,'T-Konten'!$C$24),"") | Q21: =IF($E21='T-Konten'!$K$24,COUNTIF($E$6:$E21,'T-Konten'!$K$24),"") | R21: =IF($F21='T-Konten'!$K$24,COUNTIF($F$6:$F21,'T-Konten'!$K$24),"")
A22: =IF(COUNTA(B22:H22)=0,"",ROW()-5) | I22: =IF(COUNTA(B22:H22)=0,"",IF(AND(B22<>"",E22<>"",F22<>"",G22<>"",H22<>"",G22=H22),"OK","Fehler")) | J22: =IF(COUNTA(B22:H22)=0,"",IF(B22="","Datum fehlt",IF(OR(E22="",F22=""),"Konto fehlt",IF(G22<>H22,"Beträge stimmen nicht überein","")))) | K22: =IF($E22='T-Konten'!$C$3,COUNTIF($E$6:$E22,'T-Konten'!$C$3),"") | L22: =IF($F22='T-Konten'!$C$3,COUNTIF($F$6:$F22,'T-Konten'!$C$3),"") | M22: =IF($E22='T-Konten'!$K$3,COUNTIF($E$6:$E22,'T-Konten'!$K$3),"") | N22: =IF($F22='T-Konten'!$K$3,COUNTIF($F$6:$F22,'T-Konten'!$K$3),"") | O22: =IF($E22='T-Konten'!$C$24,COUNTIF($E$6:$E22,'T-Konten'!$C$24),"") | P22: =IF($F22='T-Konten'!$C$24,COUNTIF($F$6:$F22,'T-Konten'!$C$24),"") | Q22: =IF($E22='T-Konten'!$K$24,COUNTIF($E$6:$E22,'T-Konten'!$K$24),"") | R22: =IF($F22='T-Konten'!$K$24,COUNTIF($F$6:$F22,'T-Konten'!$K$24),"")
A23: =IF(COUNTA(B23:H23)=0,"",ROW()-5) | I23: =IF(COUNTA(B23:H23)=0,"",IF(AND(B23<>"",E23<>"",F23<>"",G23<>"",H23<>"",G23=H23),"OK","Fehler")) | J23: =IF(COUNTA(B23:H23)=0,"",IF(B23="","Datum fehlt",IF(OR(E23="",F23=""),"Konto fehlt",IF(G23<>H23,"Beträge stimmen nicht überein","")))) | K23: =IF($E23='T-Konten'!$C$3,COUNTIF($E$6:$E23,'T-Konten'!$C$3),"") | L23: =IF($F23='T-Konten'!$C$3,COUNTIF($F$6:$F23,'T-Konten'!$C$3),"") | M23: =IF($E23='T-Konten'!$K$3,COUNTIF($E$6:$E23,'T-Konten'!$K$3),"") | N23: =IF($F23='T-Konten'!$K$3,COUNTIF($F$6:$F23,'T-Konten'!$K$3),"") | O23: =IF($E23='T-Konten'!$C$24,COUNTIF($E$6:$E23,'T-Konten'!$C$24),"") | P23: =IF($F23='T-Konten'!$C$24,COUNTIF($F$6:$F23,'T-Konten'!$C$24),"") | Q23: =IF($E23='T-Konten'!$K$24,COUNTIF($E$6:$E23,'T-Konten'!$K$24),"") | R23: =IF($F23='T-Konten'!$K$24,COUNTIF($F$6:$F23,'T-Konten'!$K$24),"")
A24: =IF(COUNTA(B24:H24)=0,"",ROW()-5) | I24: =IF(COUNTA(B24:H24)=0,"",IF(AND(B24<>"",E24<>"",F24<>"",G24<>"",H24<>"",G24=H24),"OK","Fehler")) | J24: =IF(COUNTA(B24:H24)=0,"",IF(B24="","Datum fehlt",IF(OR(E24="",F24=""),"Konto fehlt",IF(G24<>H24,"Beträge stimmen nicht überein","")))) | K24: =IF($E24='T-Konten'!$C$3,COUNTIF($E$6:$E24,'T-Konten'!$C$3),"") | L24: =IF($F24='T-Konten'!$C$3,COUNTIF($F$6:$F24,'T-Konten'!$C$3),"") | M24: =IF($E24='T-Konten'!$K$3,COUNTIF($E$6:$E24,'T-Konten'!$K$3),"") | N24: =IF($F24='T-Konten'!$K$3,COUNTIF($F$6:$F24,'T-Konten'!$K$3),"") | O24: =IF($E24='T-Konten'!$C$24,COUNTIF($E$6:$E24,'T-Konten'!$C$24),"") | P24: =IF($F24='T-Konten'!$C$24,COUNTIF($F$6:$F24,'T-Konten'!$C$24),"") | Q24: =IF($E24='T-Konten'!$K$24,COUNTIF($E$6:$E24,'T-Konten'!$K$24),"") | R24: =IF($F24='T-Konten'!$K$24,COUNTIF($F$6:$F24,'T-Konten'!$K$24),"")
A25: =IF(COUNTA(B25:H25)=0,"",ROW()-5) | I25: =IF(COUNTA(B25:H25)=0,"",IF(AND(B25<>"",E25<>"",F25<>"",G25<>"",H25<>"",G25=H25),"OK","Fehler")) | J25: =IF(COUNTA(B25:H25)=0,"",IF(B25="","Datum fehlt",IF(OR(E25="",F25=""),"Konto fehlt",IF(G25<>H25,"Beträge stimmen nicht überein","")))) | K25: =IF($E25='T-Konten'!$C$3,COUNTIF($E$6:$E25,'T-Konten'!$C$3),"") | L25: =IF($F25='T-Konten'!$C$3,COUNTIF($F$6:$F25,'T-Konten'!$C$3),"") | M25: =IF($E25='T-Konten'!$K$3,COUNTIF($E$6:$E25,'T-Konten'!$K$3),"") | N25: =IF($F25='T-Konten'!$K$3,COUNTIF($F$6:$F25,'T-Konten'!$K$3),"") | O25: =IF($E25='T-Konten'!$C$24,COUNTIF($E$6:$E25,'T-Konten'!$C$24),"") | P25: =IF($F25='T-Konten'!$C$24,COUNTIF($F$6:$F25,'T-Konten'!$C$24),"") | Q25: =IF($E25='T-Konten'!$K$24,COUNTIF($E$6:$E25,'T-Konten'!$K$24),"") | R25: =IF($F25='T-Konten'!$K$24,COUNTIF($F$6:$F25,'T-Konten'!$K$24),"")
... A105: =IF(COUNTA(B105:H105)=0,"",ROW()-5) | I105: =IF(COUNTA(B105:H105)=0,"",IF(AND(B105<>"",E105<>"",F105<>"",G105<>"",H105<>"",G105=H105),"OK","Fehler")) | J105: =IF(COUNTA(B105:H105)=0,"",IF(B105="","Datum fehlt",IF(OR(E105="",F105=""),"Konto fehlt",IF(G105<>H105,"Beträge stimmen nicht überein","")))) | K105: =IF($E105='T-Konten'!$C$3,COUNTIF($E$6:$E105,'T-Konten'!$C$3),"") | L105: =IF($F105='T-Konten'!$C$3,COUNTIF($F$6:$F105,'T-Konten'!$C$3),"") | M105: =IF($E105='T-Konten'!$K$3,COUNTIF($E$6:$E105,'T-Konten'!$K$3),"") | N105: =IF($F105='T-Konten'!$K$3,COUNTIF($F$6:$F105,'T-Konten'!$K$3),"") | O105: =IF($E105='T-Konten'!$C$24,COUNTIF($E$6:$E105,'T-Konten'!$C$24),"") | P105: =IF($F105='T-Konten'!$C$24,COUNTIF($F$6:$F105,'T-Konten'!$C$24),"") | Q105: =IF($E105='T-Konten'!$K$24,COUNTIF($E$6:$E105,'T-Konten'!$K$24),"") | R105: =IF($F105='T-Konten'!$K$24,COUNTIF($F$6:$F105,'T-Konten'!$K$24),"")

Sheet T-Konten
B1: T-Konten
B2: T-Konto 1 | J2: T-Konto 2
B3: Konto | C3: =Start!F9 -> 1000 - Kasse | J3: Konto | K3: =Start!F10 -> 1200 - Bank
B5: Soll | F5: Haben | J5: Soll | N5: Haben
B6: Datum | C6: Gegenkonto | D6: Betrag | F6: Datum | G6: Gegenkonto | H6: Betrag | J6: Datum | K6: Gegenkonto | L6: Betrag | N6: Datum | O6: Gegenkonto | P6: Betrag
B7: =IF($C$3="","Bitte Konto auswählen",IFERROR(INDEX(Journal!$B$6:$B$105,MATCH(ROW()-6,Journal!$K$6:$K$105,0)),"")) -> 18.01.2026 | C7: =IFERROR(INDEX(Journal!$F$6:$F$105,MATCH(ROW()-6,Journal!$K$6:$K$105,0)),"") -> 4000 - Umsatzerlöse | D7: =IFERROR(INDEX(Journal!$G$6:$G$105,MATCH(ROW()-6,Journal!$K$6:$K$105,0)),"") -> 500 | F7: =IF($C$3="","",IFERROR(INDEX(Journal!$B$6:$B$105,MATCH(ROW()-6,Journal!$L$6:$L$105,0)),"")) -> 07.01.2026 | G7: =IFERROR(INDEX(Journal!$E$6:$E$105,MATCH(ROW()-6,Journal!$L$6:$L$105,0)),"") -> 1200 - Bank | H7: =IFERROR(INDEX(Journal!$H$6:$H$105,MATCH(ROW()-6,Journal!$L$6:$L$105,0)),"") -> 300 | J7: =IF($K$3="","Bitte Konto auswählen",IFERROR(INDEX(Journal!$B$6:$B$105,MATCH(ROW()-6,Journal!$M$6:$M$105,0)),"")) | K7: =IFERROR(INDEX(Journal!$F$6:$F$105,MATCH(ROW()-6,Journal!$M$6:$M$105,0)),"") | L7: =IFERROR(INDEX(Journal!$G$6:$G$105,MATCH(ROW()-6,Journal!$M$6:$M$105,0)),"") | N7: =IF($K$3="","",IFERROR(INDEX(Journal!$B$6:$B$105,MATCH(ROW()-6,Journal!$N$6:$N$105,0)),"")) -> 10.01.2026 | O7: =IFERROR(INDEX(Journal!$E$6:$E$105,MATCH(ROW()-6,Journal!$N$6:$N$105,0)),"") -> 2000 - Verbindlichkeiten | P7: =IFERROR(INDEX(Journal!$H$6:$H$105,MATCH(ROW()-6,Journal!$N$6:$N$105,0)),"") -> 450
B8: =IF($C$3="","Bitte Konto auswählen",IFERROR(INDEX(Journal!$B$6:$B$105,MATCH(ROW()-6,Journal!$K$6:$K$105,0)),"")) | C8: =IFERROR(INDEX(Journal!$F$6:$F$105,MATCH(ROW()-6,Journal!$K$6:$K$105,0)),"") | D8: =IFERROR(INDEX(Journal!$G$6:$G$105,MATCH(ROW()-6,Journal!$K$6:$K$105,0)),"") | F8: =IF($C$3="","",IFERROR(INDEX(Journal!$B$6:$B$105,MATCH(ROW()-6,Journal!$L$6:$L$105,0)),"")) -> 20.01.2026 | G8: =IFERROR(INDEX(Journal!$E$6:$E$105,MATCH(ROW()-6,Journal!$L$6:$L$105,0)),"") -> 5000 - Wareneinsatz | H8: =IFERROR(INDEX(Journal!$H$6:$H$105,MATCH(ROW()-6,Journal!$L$6:$L$105,0)),"") -> 120 | J8: =IF($K$3="","Bitte Konto auswählen",IFERROR(INDEX(Journal!$B$6:$B$105,MATCH(ROW()-6,Journal!$M$6:$M$105,0)),"")) | K8: =IFERROR(INDEX(Journal!$F$6:$F$105,MATCH(ROW()-6,Journal!$M$6:$M$105,0)),"") | L8: =IFERROR(INDEX(Journal!$G$6:$G$105,MATCH(ROW()-6,Journal!$M$6:$M$105,0)),"") | N8: =IF($K$3="","",IFERROR(INDEX(Journal!$B$6:$B$105,MATCH(ROW()-6,Journal!$N$6:$N$105,0)),"")) | O8: =IFERROR(INDEX(Journal!$E$6:$E$105,MATCH(ROW()-6,Journal!$N$6:$N$105,0)),"") | P8: =IFERROR(INDEX(Journal!$H$6:$H$105,MATCH(ROW()-6,Journal!$N$6:$N$105,0)),"")
B9: =IF($C$3="","Bitte Konto auswählen",IFERROR(INDEX(Journal!$B$6:$B$105,MATCH(ROW()-6,Journal!$K$6:$K$105,0)),"")) | C9: =IFERROR(INDEX(Journal!$F$6:$F$105,MATCH(ROW()-6,Journal!$K$6:$K$105,0)),"") | D9: =IFERROR(INDEX(Journal!$G$6:$G$105,MATCH(ROW()-6,Journal!$K$6:$K$105,0)),"") | F9: =IF($C$3="","",IFERROR(INDEX(Journal!$B$6:$B$105,MATCH(ROW()-6,Journal!$L$6:$L$105,0)),"")) | G9: =IFERROR(INDEX(Journal!$E$6:$E$105,MATCH(ROW()-6,Journal!$L$6:$L$105,0)),"") | H9: =IFERROR(INDEX(Journal!$H$6:$H$105,MATCH(ROW()-6,Journal!$L$6:$L$105,0)),"") | J9: =IF($K$3="","Bitte Konto auswählen",IFERROR(INDEX(Journal!$B$6:$B$105,MATCH(ROW()-6,Journal!$M$6:$M$105,0)),"")) | K9: =IFERROR(INDEX(Journal!$F$6:$F$105,MATCH(ROW()-6,Journal!$M$6:$M$105,0)),"") | L9: =IFERROR(INDEX(Journal!$G$6:$G$105,MATCH(ROW()-6,Journal!$M$6:$M$105,0)),"") | N9: =IF($K$3="","",IFERROR(INDEX(Journal!$B$6:$B$105,MATCH(ROW()-6,Journal!$N$6:$N$105,0)),"")) | O9: =IFERROR(INDEX(Journal!$E$6:$E$105,MATCH(ROW()-6,Journal!$N$6:$N$105,0)),"") | P9: =IFERROR(INDEX(Journal!$H$6:$H$105,MATCH(ROW()-6,Journal!$N$6:$N$105,0)),"")
B10: =IF($C$3="","Bitte Konto auswählen",IFERROR(INDEX(Journal!$B$6:$B$105,MATCH(ROW()-6,Journal!$K$6:$K$105,0)),"")) | C10: =IFERROR(INDEX(Journal!$F$6:$F$105,MATCH(ROW()-6,Journal!$K$6:$K$105,0)),"") | D10: =IFERROR(INDEX(Journal!$G$6:$G$105,MATCH(ROW()-6,Journal!$K$6:$K$105,0)),"") | F10: =IF($C$3="","",IFERROR(INDEX(Journal!$B$6:$B$105,MATCH(ROW()-6,Journal!$L$6:$L$105,0)),"")) | G10: =IFERROR(INDEX(Journal!$E$6:$E$105,MATCH(ROW()-6,Journal!$L$6:$L$105,0)),"") | H10: =IFERROR(INDEX(Journal!$H$6:$H$105,MATCH(ROW()-6,Journal!$L$6:$L$105,0)),"") | J10: =IF($K$3="","Bitte Konto auswählen",IFERROR(INDEX(Journal!$B$6:$B$105,MATCH(ROW()-6,Journal!$M$6:$M$105,0)),"")) | K10: =IFERROR(INDEX(Journal!$F$6:$F$105,MATCH(ROW()-6,Journal!$M$6:$M$105,0)),"") | L10: =IFERROR(INDEX(Journal!$G$6:$G$105,MATCH(ROW()-6,Journal!$M$6:$M$105,0)),"") | N10: =IF($K$3="","",IFERROR(INDEX(Journal!$B$6:$B$105,MATCH(ROW()-6,Journal!$N$6:$N$105,0)),"")) | O10: =IFERROR(INDEX(Journal!$E$6:$E$105,MATCH(ROW()-6,Journal!$N$6:$N$105,0)),"") | P10: =IFERROR(INDEX(Journal!$H$6:$H$105,MATCH(ROW()-6,Journal!$N$6:$N$105,0)),"")
B11: =IF($C$3="","Bitte Konto auswählen",IFERROR(INDEX(Journal!$B$6:$B$105,MATCH(ROW()-6,Journal!$K$6:$K$105,0)),"")) | C11: =IFERROR(INDEX(Journal!$F$6:$F$105,MATCH(ROW()-6,Journal!$K$6:$K$105,0)),"") | D11: =IFERROR(INDEX(Journal!$G$6:$G$105,MATCH(ROW()-6,Journal!$K$6:$K$105,0)),"") | F11: =IF($C$3="","",IFERROR(INDEX(Journal!$B$6:$B$105,MATCH(ROW()-6,Journal!$L$6:$L$105,0)),"")) | G11: =IFERROR(INDEX(Journal!$E$6:$E$105,MATCH(ROW()-6,Journal!$L$6:$L$105,0)),"") | H11: =IFERROR(INDEX(Journal!$H$6:$H$105,MATCH(ROW()-6,Journal!$L$6:$L$105,0)),"") | J11: =IF($K$3="","Bitte Konto auswählen",IFERROR(INDEX(Journal!$B$6:$B$105,MATCH(ROW()-6,Journal!$M$6:$M$105,0)),"")) | K11: =IFERROR(INDEX(Journal!$F$6:$F$105,MATCH(ROW()-6,Journal!$M$6:$M$105,0)),"") | L11: =IFERROR(INDEX(Journal!$G$6:$G$105,MATCH(ROW()-6,Journal!$M$6:$M$105,0)),"") | N11: =IF($K$3="","",IFERROR(INDEX(Journal!$B$6:$B$105,MATCH(ROW()-6,Journal!$N$6:$N$105,0)),"")) | O11: =IFERROR(INDEX(Journal!$E$6:$E$105,MATCH(ROW()-6,Journal!$N$6:$N$105,0)),"") | P11: =IFERROR(INDEX(Journal!$H$6:$H$105,MATCH(ROW()-6,Journal!$N$6:$N$105,0)),"")
B12: =IF($C$3="","Bitte Konto auswählen",IFERROR(INDEX(Journal!$B$6:$B$105,MATCH(ROW()-6,Journal!$K$6:$K$105,0)),"")) | C12: =IFERROR(INDEX(Journal!$F$6:$F$105,MATCH(ROW()-6,Journal!$K$6:$K$105,0)),"") | D12: =IFERROR(INDEX(Journal!$G$6:$G$105,MATCH(ROW()-6,Journal!$K$6:$K$105,0)),"") | F12: =IF($C$3="","",IFERROR(INDEX(Journal!$B$6:$B$105,MATCH(ROW()-6,Journal!$L$6:$L$105,0)),"")) | G12: =IFERROR(INDEX(Journal!$E$6:$E$105,MATCH(ROW()-6,Journal!$L$6:$L$105,0)),"") | H12: =IFERROR(INDEX(Journal!$H$6:$H$105,MATCH(ROW()-6,Journal!$L$6:$L$105,0)),"") | J12: =IF($K$3="","Bitte Konto auswählen",IFERROR(INDEX(Journal!$B$6:$B$105,MATCH(ROW()-6,Journal!$M$6:$M$105,0)),"")) | K12: =IFERROR(INDEX(Journal!$F$6:$F$105,MATCH(ROW()-6,Journal!$M$6:$M$105,0)),"") | L12: =IFERROR(INDEX(Journal!$G$6:$G$105,MATCH(ROW()-6,Journal!$M$6:$M$105,0)),"") | N12: =IF($K$3="","",IFERROR(INDEX(Journal!$B$6:$B$105,MATCH(ROW()-6,Journal!$N$6:$N$105,0)),"")) | O12: =IFERROR(INDEX(Journal!$E$6:$E$105,MATCH(ROW()-6,Journal!$N$6:$N$105,0)),"") | P12: =IFERROR(INDEX(Journal!$H$6:$H$105,MATCH(ROW()-6,Journal!$N$6:$N$105,0)),"")
B13: =IF($C$3="","Bitte Konto auswählen",IFERROR(INDEX(Journal!$B$6:$B$105,MATCH(ROW()-6,Journal!$K$6:$K$105,0)),"")) | C13: =IFERROR(INDEX(Journal!$F$6:$F$105,MATCH(ROW()-6,Journal!$K$6:$K$105,0)),"") | D13: =IFERROR(INDEX(Journal!$G$6:$G$105,MATCH(ROW()-6,Journal!$K$6:$K$105,0)),"") | F13: =IF($C$3="","",IFERROR(INDEX(Journal!$B$6:$B$105,MATCH(ROW()-6,Journal!$L$6:$L$105,0)),"")) | G13: =IFERROR(INDEX(Journal!$E$6:$E$105,MATCH(ROW()-6,Journal!$L$6:$L$105,0)),"") | H13: =IFERROR(INDEX(Journal!$H$6:$H$105,MATCH(ROW()-6,Journal!$L$6:$L$105,0)),"") | J13: =IF($K$3="","Bitte Konto auswählen",IFERROR(INDEX(Journal!$B$6:$B$105,MATCH(ROW()-6,Journal!$M$6:$M$105,0)),"")) | K13: =IFERROR(INDEX(Journal!$F$6:$F$105,MATCH(ROW()-6,Journal!$M$6:$M$105,0)),"") | L13: =IFERROR(INDEX(Journal!$G$6:$G$105,MATCH(ROW()-6,Journal!$M$6:$M$105,0)),"") | N13: =IF($K$3="","",IFERROR(INDEX(Journal!$B$6:$B$105,MATCH(ROW()-6,Journal!$N$6:$N$105,0)),"")) | O13: =IFERROR(INDEX(Journal!$E$6:$E$105,MATCH(ROW()-6,Journal!$N$6:$N$105,0)),"") | P13: =IFERROR(INDEX(Journal!$H$6:$H$105,MATCH(ROW()-6,Journal!$N$6:$N$105,0)),"")
B14: =IF($C$3="","Bitte Konto auswählen",IFERROR(INDEX(Journal!$B$6:$B$105,MATCH(ROW()-6,Journal!$K$6:$K$105,0)),"")) | C14: =IFERROR(INDEX(Journal!$F$6:$F$105,MATCH(ROW()-6,Journal!$K$6:$K$105,0)),"") | D14: =IFERROR(INDEX(Journal!$G$6:$G$105,MATCH(ROW()-6,Journal!$K$6:$K$105,0)),"") | F14: =IF($C$3="","",IFERROR(INDEX(Journal!$B$6:$B$105,MATCH(ROW()-6,Journal!$L$6:$L$105,0)),"")) | G14: =IFERROR(INDEX(Journal!$E$6:$E$105,MATCH(ROW()-6,Journal!$L$6:$L$105,0)),"") | H14: =IFERROR(INDEX(Journal!$H$6:$H$105,MATCH(ROW()-6,Journal!$L$6:$L$105,0)),"") | J14: =IF($K$3="","Bitte Konto auswählen",IFERROR(INDEX(Journal!$B$6:$B$105,MATCH(ROW()-6,Journal!$M$6:$M$105,0)),"")) | K14: =IFERROR(INDEX(Journal!$F$6:$F$105,MATCH(ROW()-6,Journal!$M$6:$M$105,0)),"") | L14: =IFERROR(INDEX(Journal!$G$6:$G$105,MATCH(ROW()-6,Journal!$M$6:$M$105,0)),"") | N14: =IF($K$3="","",IFERROR(INDEX(Journal!$B$6:$B$105,MATCH(ROW()-6,Journal!$N$6:$N$105,0)),"")) | O14: =IFERROR(INDEX(Journal!$E$6:$E$105,MATCH(ROW()-6,Journal!$N$6:$N$105,0)),"") | P14: =IFERROR(INDEX(Journal!$H$6:$H$105,MATCH(ROW()-6,Journal!$N$6:$N$105,0)),"")
B15: =IF($C$3="","Bitte Konto auswählen",IFERROR(INDEX(Journal!$B$6:$B$105,MATCH(ROW()-6,Journal!$K$6:$K$105,0)),"")) | C15: =IFERROR(INDEX(Journal!$F$6:$F$105,MATCH(ROW()-6,Journal!$K$6:$K$105,0)),"") | D15: =IFERROR(INDEX(Journal!$G$6:$G$105,MATCH(ROW()-6,Journal!$K$6:$K$105,0)),"") | F15: =IF($C$3="","",IFERROR(INDEX(Journal!$B$6:$B$105,MATCH(ROW()-6,Journal!$L$6:$L$105,0)),"")) | G15: =IFERROR(INDEX(Journal!$E$6:$E$105,MATCH(ROW()-6,Journal!$L$6:$L$105,0)),"") | H15: =IFERROR(INDEX(Journal!$H$6:$H$105,MATCH(ROW()-6,Journal!$L$6:$L$105,0)),"") | J15: =IF($K$3="","Bitte Konto auswählen",IFERROR(INDEX(Journal!$B$6:$B$105,MATCH(ROW()-6,Journal!$M$6:$M$105,0)),"")) | K15: =IFERROR(INDEX(Journal!$F$6:$F$105,MATCH(ROW()-6,Journal!$M$6:$M$105,0)),"") | L15: =IFERROR(INDEX(Journal!$G$6:$G$105,MATCH(ROW()-6,Journal!$M$6:$M$105,0)),"") | N15: =IF($K$3="","",IFERROR(INDEX(Journal!$B$6:$B$105,MATCH(ROW()-6,Journal!$N$6:$N$105,0)),"")) | O15: =IFERROR(INDEX(Journal!$E$6:$E$105,MATCH(ROW()-6,Journal!$N$6:$N$105,0)),"") | P15: =IFERROR(INDEX(Journal!$H$6:$H$105,MATCH(ROW()-6,Journal!$N$6:$N$105,0)),"")
B16: =IF($C$3="","Bitte Konto auswählen",IFERROR(INDEX(Journal!$B$6:$B$105,MATCH(ROW()-6,Journal!$K$6:$K$105,0)),"")) | C16: =IFERROR(INDEX(Journal!$F$6:$F$105,MATCH(ROW()-6,Journal!$K$6:$K$105,0)),"") | D16: =IFERROR(INDEX(Journal!$G$6:$G$105,MATCH(ROW()-6,Journal!$K$6:$K$105,0)),"") | F16: =IF($C$3="","",IFERROR(INDEX(Journal!$B$6:$B$105,MATCH(ROW()-6,Journal!$L$6:$L$105,0)),"")) | G16: =IFERROR(INDEX(Journal!$E$6:$E$105,MATCH(ROW()-6,Journal!$L$6:$L$105,0)),"") | H16: =IFERROR(INDEX(Journal!$H$6:$H$105,MATCH(ROW()-6,Journal!$L$6:$L$105,0)),"") | J16: =IF($K$3="","Bitte Konto auswählen",IFERROR(INDEX(Journal!$B$6:$B$105,MATCH(ROW()-6,Journal!$M$6:$M$105,0)),"")) | K16: =IFERROR(INDEX(Journal!$F$6:$F$105,MATCH(ROW()-6,Journal!$M$6:$M$105,0)),"") | L16: =IFERROR(INDEX(Journal!$G$6:$G$105,MATCH(ROW()-6,Journal!$M$6:$M$105,0)),"") | N16: =IF($K$3="","",IFERROR(INDEX(Journal!$B$6:$B$105,MATCH(ROW()-6,Journal!$N$6:$N$105,0)),"")) | O16: =IFERROR(INDEX(Journal!$E$6:$E$105,MATCH(ROW()-6,Journal!$N$6:$N$105,0)),"") | P16: =IFERROR(INDEX(Journal!$H$6:$H$105,MATCH(ROW()-6,Journal!$N$6:$N$105,0)),"")
B17: =IF($C$3="","Bitte Konto auswählen",IFERROR(INDEX(Journal!$B$6:$B$105,MATCH(ROW()-6,Journal!$K$6:$K$105,0)),"")) | C17: =IFERROR(INDEX(Journal!$F$6:$F$105,MATCH(ROW()-6,Journal!$K$6:$K$105,0)),"") | D17: =IFERROR(INDEX(Journal!$G$6:$G$105,MATCH(ROW()-6,Journal!$K$6:$K$105,0)),"") | F17: =IF($C$3="","",IFERROR(INDEX(Journal!$B$6:$B$105,MATCH(ROW()-6,Journal!$L$6:$L$105,0)),"")) | G17: =IFERROR(INDEX(Journal!$E$6:$E$105,MATCH(ROW()-6,Journal!$L$6:$L$105,0)),"") | H17: =IFERROR(INDEX(Journal!$H$6:$H$105,MATCH(ROW()-6,Journal!$L$6:$L$105,0)),"") | J17: =IF($K$3="","Bitte Konto auswählen",IFERROR(INDEX(Journal!$B$6:$B$105,MATCH(ROW()-6,Journal!$M$6:$M$105,0)),"")) | K17: =IFERROR(INDEX(Journal!$F$6:$F$105,MATCH(ROW()-6,Journal!$M$6:$M$105,0)),"") | L17: =IFERROR(INDEX(Journal!$G$6:$G$105,MATCH(ROW()-6,Journal!$M$6:$M$105,0)),"") | N17: =IF($K$3="","",IFERROR(INDEX(Journal!$B$6:$B$105,MATCH(ROW()-6,Journal!$N$6:$N$105,0)),"")) | O17: =IFERROR(INDEX(Journal!$E$6:$E$105,MATCH(ROW()-6,Journal!$N$6:$N$105,0)),"") | P17: =IFERROR(INDEX(Journal!$H$6:$H$105,MATCH(ROW()-6,Journal!$N$6:$N$105,0)),"")
B18: =IF($C$3="","Bitte Konto auswählen",IFERROR(INDEX(Journal!$B$6:$B$105,MATCH(ROW()-6,Journal!$K$6:$K$105,0)),"")) | C18: =IFERROR(INDEX(Journal!$F$6:$F$105,MATCH(ROW()-6,Journal!$K$6:$K$105,0)),"") | D18: =IFERROR(INDEX(Journal!$G$6:$G$105,MATCH(ROW()-6,Journal!$K$6:$K$105,0)),"") | F18: =IF($C$3="","",IFERROR(INDEX(Journal!$B$6:$B$105,MATCH(ROW()-6,Journal!$L$6:$L$105,0)),"")) | G18: =IFERROR(INDEX(Journal!$E$6:$E$105,MATCH(ROW()-6,Journal!$L$6:$L$105,0)),"") | H18: =IFERROR(INDEX(Journal!$H$6:$H$105,MATCH(ROW()-6,Journal!$L$6:$L$105,0)),"") | J18: =IF($K$3="","Bitte Konto auswählen",IFERROR(INDEX(Journal!$B$6:$B$105,MATCH(ROW()-6,Journal!$M$6:$M$105,0)),"")) | K18: =IFERROR(INDEX(Journal!$F$6:$F$105,MATCH(ROW()-6,Journal!$M$6:$M$105,0)),"") | L18: =IFERROR(INDEX(Journal!$G$6:$G$105,MATCH(ROW()-6,Journal!$M$6:$M$105,0)),"") | N18: =IF($K$3="","",IFERROR(INDEX(Journal!$B$6:$B$105,MATCH(ROW()-6,Journal!$N$6:$N$105,0)),"")) | O18: =IFERROR(INDEX(Journal!$E$6:$E$105,MATCH(ROW()-6,Journal!$N$6:$N$105,0)),"") | P18: =IFERROR(INDEX(Journal!$H$6:$H$105,MATCH(ROW()-6,Journal!$N$6:$N$105,0)),"")
B19: Summe Soll | D19: =SUM(D7:D18) -> 500 | F19: Summe Haben | H19: =SUM(H7:H18) -> 420 | J19: Summe Soll | L19: =SUM(L7:L18) | N19: Summe Haben | P19: =SUM(P7:P18) -> 450
B20: Saldo | C20: =ABS(D19-H19) -> 80 | F20: Saldoart | G20: =IF(D19>H19,"Sollsaldo",IF(H19>D19,"Habensaldo","ausgeglichen")) -> Sollsaldo | J20: Saldo | K20: =ABS(L19-P19) | N20: Saldoart | O20: =IF(L19>P19,"Sollsaldo",IF(P19>L19,"Habensaldo","ausgeglichen"))
B23: T-Konto 3 | J23: T-Konto 4
B24: Konto | C24: =Start!F15 -> 4000 - Umsatzerlöse | J24: Konto | K24: =Start!F13 -> 2000 - Verbindlichkeiten
B26: Soll | F26: Haben | J26: Soll | N26: Haben
B27: Datum | C27: Gegenkonto | D27: Betrag | F27: Datum | G27: Gegenkonto | H27: Betrag | J27: Datum | K27: Gegenkonto | L27: Betrag | N27: Datum | O27: Gegenkonto | P27: Betrag
B28: =IF($C$24="","Bitte Konto auswählen",IFERROR(INDEX(Journal!$B$6:$B$105,MATCH(ROW()-27,Journal!$O$6:$O$105,0)),"")) | C28: =IFERROR(INDEX(Journal!$F$6:$F$105,MATCH(ROW()-27,Journal!$O$6:$O$105,0)),"") | D28: =IFERROR(INDEX(Journal!$G$6:$G$105,MATCH(ROW()-27,Journal!$O$6:$O$105,0)),"") | F28: =IF($C$24="","",IFERROR(INDEX(Journal!$B$6:$B$105,MATCH(ROW()-27,Journal!$P$6:$P$105,0)),"")) -> 02.01.2026 | G28: =IFERROR(INDEX(Journal!$E$6:$E$105,MATCH(ROW()-27,Journal!$P$6:$P$105,0)),"") -> 1400 - Forderungen | H28: =IFERROR(INDEX(Journal!$H$6:$H$105,MATCH(ROW()-27,Journal!$P$6:$P$105,0)),"") -> 1200 | J28: =IF($K$24="","Bitte Konto auswählen",IFERROR(INDEX(Journal!$B$6:$B$105,MATCH(ROW()-27,Journal!$Q$6:$Q$105,0)),"")) -> 10.01.2026 | K28: =IFERROR(INDEX(Journal!$F$6:$F$105,MATCH(ROW()-27,Journal!$Q$6:$Q$105,0)),"") -> 1200 - Bank | L28: =IFERROR(INDEX(Journal!$G$6:$G$105,MATCH(ROW()-27,Journal!$Q$6:$Q$105,0)),"") -> 450 | N28: =IF($K$24="","",IFERROR(INDEX(Journal!$B$6:$B$105,MATCH(ROW()-27,Journal!$R$6:$R$105,0)),"")) -> 03.01.2026 | O28: =IFERROR(INDEX(Journal!$E$6:$E$105,MATCH(ROW()-27,Journal!$R$6:$R$105,0)),"") -> 5000 - Wareneinsatz | P28: =IFERROR(INDEX(Journal!$H$6:$H$105,MATCH(ROW()-27,Journal!$R$6:$R$105,0)),"") -> 700
B29: =IF($C$24="","Bitte Konto auswählen",IFERROR(INDEX(Journal!$B$6:$B$105,MATCH(ROW()-27,Journal!$O$6:$O$105,0)),"")) | C29: =IFERROR(INDEX(Journal!$F$6:$F$105,MATCH(ROW()-27,Journal!$O$6:$O$105,0)),"") | D29: =IFERROR(INDEX(Journal!$G$6:$G$105,MATCH(ROW()-27,Journal!$O$6:$O$105,0)),"") | F29: =IF($C$24="","",IFERROR(INDEX(Journal!$B$6:$B$105,MATCH(ROW()-27,Journal!$P$6:$P$105,0)),"")) -> 18.01.2026 | G29: =IFERROR(INDEX(Journal!$E$6:$E$105,MATCH(ROW()-27,Journal!$P$6:$P$105,0)),"") -> 1000 - Kasse | H29: =IFERROR(INDEX(Journal!$H$6:$H$105,MATCH(ROW()-27,Journal!$P$6:$P$105,0)),"") -> 500 | J29: =IF($K$24="","Bitte Konto auswählen",IFERROR(INDEX(Journal!$B$6:$B$105,MATCH(ROW()-27,Journal!$Q$6:$Q$105,0)),"")) | K29: =IFERROR(INDEX(Journal!$F$6:$F$105,MATCH(ROW()-27,Journal!$Q$6:$Q$105,0)),"") | L29: =IFERROR(INDEX(Journal!$G$6:$G$105,MATCH(ROW()-27,Journal!$Q$6:$Q$105,0)),"") | N29: =IF($K$24="","",IFERROR(INDEX(Journal!$B$6:$B$105,MATCH(ROW()-27,Journal!$R$6:$R$105,0)),"")) | O29: =IFERROR(INDEX(Journal!$E$6:$E$105,MATCH(ROW()-27,Journal!$R$6:$R$105,0)),"") | P29: =IFERROR(INDEX(Journal!$H$6:$H$105,MATCH(ROW()-27,Journal!$R$6:$R$105,0)),"")
B30: =IF($C$24="","Bitte Konto auswählen",IFERROR(INDEX(Journal!$B$6:$B$105,MATCH(ROW()-27,Journal!$O$6:$O$105,0)),"")) | C30: =IFERROR(INDEX(Journal!$F$6:$F$105,MATCH(ROW()-27,Journal!$O$6:$O$105,0)),"") | D30: =IFERROR(INDEX(Journal!$G$6:$G$105,MATCH(ROW()-27,Journal!$O$6:$O$105,0)),"") | F30: =IF($C$24="","",IFERROR(INDEX(Journal!$B$6:$B$105,MATCH(ROW()-27,Journal!$P$6:$P$105,0)),"")) | G30: =IFERROR(INDEX(Journal!$E$6:$E$105,MATCH(ROW()-27,Journal!$P$6:$P$105,0)),"") | H30: =IFERROR(INDEX(Journal!$H$6:$H$105,MATCH(ROW()-27,Journal!$P$6:$P$105,0)),"") | J30: =IF($K$24="","Bitte Konto auswählen",IFERROR(INDEX(Journal!$B$6:$B$105,MATCH(ROW()-27,Journal!$Q$6:$Q$105,0)),"")) | K30: =IFERROR(INDEX(Journal!$F$6:$F$105,MATCH(ROW()-27,Journal!$Q$6:$Q$105,0)),"") | L30: =IFERROR(INDEX(Journal!$G$6:$G$105,MATCH(ROW()-27,Journal!$Q$6:$Q$105,0)),"") | N30: =IF($K$24="","",IFERROR(INDEX(Journal!$B$6:$B$105,MATCH(ROW()-27,Journal!$R$6:$R$105,0)),"")) | O30: =IFERROR(INDEX(Journal!$E$6:$E$105,MATCH(ROW()-27,Journal!$R$6:$R$105,0)),"") | P30: =IFERROR(INDEX(Journal!$H$6:$H$105,MATCH(ROW()-27,Journal!$R$6:$R$105,0)),"")
B31: =IF($C$24="","Bitte Konto auswählen",IFERROR(INDEX(Journal!$B$6:$B$105,MATCH(ROW()-27,Journal!$O$6:$O$105,0)),"")) | C31: =IFERROR(INDEX(Journal!$F$6:$F$105,MATCH(ROW()-27,Journal!$O$6:$O$105,0)),"") | D31: =IFERROR(INDEX(Journal!$G$6:$G$105,MATCH(ROW()-27,Journal!$O$6:$O$105,0)),"") | F31: =IF($C$24="","",IFERROR(INDEX(Journal!$B$6:$B$105,MATCH(ROW()-27,Journal!$P$6:$P$105,0)),"")) | G31: =IFERROR(INDEX(Journal!$E$6:$E$105,MATCH(ROW()-27,Journal!$P$6:$P$105,0)),"") | H31: =IFERROR(INDEX(Journal!$H$6:$H$105,MATCH(ROW()-27,Journal!$P$6:$P$105,0)),"") | J31: =IF($K$24="","Bitte Konto auswählen",IFERROR(INDEX(Journal!$B$6:$B$105,MATCH(ROW()-27,Journal!$Q$6:$Q$105,0)),"")) | K31: =IFERROR(INDEX(Journal!$F$6:$F$105,MATCH(ROW()-27,Journal!$Q$6:$Q$105,0)),"") | L31: =IFERROR(INDEX(Journal!$G$6:$G$105,MATCH(ROW()-27,Journal!$Q$6:$Q$105,0)),"") | N31: =IF($K$24="","",IFERROR(INDEX(Journal!$B$6:$B$105,MATCH(ROW()-27,Journal!$R$6:$R$105,0)),"")) | O31: =IFERROR(INDEX(Journal!$E$6:$E$105,MATCH(ROW()-27,Journal!$R$6:$R$105,0)),"") | P31: =IFERROR(INDEX(Journal!$H$6:$H$105,MATCH(ROW()-27,Journal!$R$6:$R$105,0)),"")
B32: =IF($C$24="","Bitte Konto auswählen",IFERROR(INDEX(Journal!$B$6:$B$105,MATCH(ROW()-27,Journal!$O$6:$O$105,0)),"")) | C32: =IFERROR(INDEX(Journal!$F$6:$F$105,MATCH(ROW()-27,Journal!$O$6:$O$105,0)),"") | D32: =IFERROR(INDEX(Journal!$G$6:$G$105,MATCH(ROW()-27,Journal!$O$6:$O$105,0)),"") | F32: =IF($C$24="","",IFERROR(INDEX(Journal!$B$6:$B$105,MATCH(ROW()-27,Journal!$P$6:$P$105,0)),"")) | G32: =IFERROR(INDEX(Journal!$E$6:$E$105,MATCH(ROW()-27,Journal!$P$6:$P$105,0)),"") | H32: =IFERROR(INDEX(Journal!$H$6:$H$105,MATCH(ROW()-27,Journal!$P$6:$P$105,0)),"") | J32: =IF($K$24="","Bitte Konto auswählen",IFERROR(INDEX(Journal!$B$6:$B$105,MATCH(ROW()-27,Journal!$Q$6:$Q$105,0)),"")) | K32: =IFERROR(INDEX(Journal!$F$6:$F$105,MATCH(ROW()-27,Journal!$Q$6:$Q$105,0)),"") | L32: =IFERROR(INDEX(Journal!$G$6:$G$105,MATCH(ROW()-27,Journal!$Q$6:$Q$105,0)),"") | N32: =IF($K$24="","",IFERROR(INDEX(Journal!$B$6:$B$105,MATCH(ROW()-27,Journal!$R$6:$R$105,0)),"")) | O32: =IFERROR(INDEX(Journal!$E$6:$E$105,MATCH(ROW()-27,Journal!$R$6:$R$105,0)),"") | P32: =IFERROR(INDEX(Journal!$H$6:$H$105,MATCH(ROW()-27,Journal!$R$6:$R$105,0)),"")
B33: =IF($C$24="","Bitte Konto auswählen",IFERROR(INDEX(Journal!$B$6:$B$105,MATCH(ROW()-27,Journal!$O$6:$O$105,0)),"")) | C33: =IFERROR(INDEX(Journal!$F$6:$F$105,MATCH(ROW()-27,Journal!$O$6:$O$105,0)),"") | D33: =IFERROR(INDEX(Journal!$G$6:$G$105,MATCH(ROW()-27,Journal!$O$6:$O$105,0)),"") | F33: =IF($C$24="","",IFERROR(INDEX(Journal!$B$6:$B$105,MATCH(ROW()-27,Journal!$P$6:$P$105,0)),"")) | G33: =IFERROR(INDEX(Journal!$E$6:$E$105,MATCH(ROW()-27,Journal!$P$6:$P$105,0)),"") | H33: =IFERROR(INDEX(Journal!$H$6:$H$105,MATCH(ROW()-27,Journal!$P$6:$P$105,0)),"") | J33: =IF($K$24="","Bitte Konto auswählen",IFERROR(INDEX(Journal!$B$6:$B$105,MATCH(ROW()-27,Journal!$Q$6:$Q$105,0)),"")) | K33: =IFERROR(INDEX(Journal!$F$6:$F$105,MATCH(ROW()-27,Journal!$Q$6:$Q$105,0)),"") | L33: =IFERROR(INDEX(Journal!$G$6:$G$105,MATCH(ROW()-27,Journal!$Q$6:$Q$105,0)),"") | N33: =IF($K$24="","",IFERROR(INDEX(Journal!$B$6:$B$105,MATCH(ROW()-27,Journal!$R$6:$R$105,0)),"")) | O33: =IFERROR(INDEX(Journal!$E$6:$E$105,MATCH(ROW()-27,Journal!$R$6:$R$105,0)),"") | P33: =IFERROR(INDEX(Journal!$H$6:$H$105,MATCH(ROW()-27,Journal!$R$6:$R$105,0)),"")
B34: =IF($C$24="","Bitte Konto auswählen",IFERROR(INDEX(Journal!$B$6:$B$105,MATCH(ROW()-27,Journal!$O$6:$O$105,0)),"")) | C34: =IFERROR(INDEX(Journal!$F$6:$F$105,MATCH(ROW()-27,Journal!$O$6:$O$105,0)),"") | D34: =IFERROR(INDEX(Journal!$G$6:$G$105,MATCH(ROW()-27,Journal!$O$6:$O$105,0)),"") | F34: =IF($C$24="","",IFERROR(INDEX(Journal!$B$6:$B$105,MATCH(ROW()-27,Journal!$P$6:$P$105,0)),"")) | G34: =IFERROR(INDEX(Journal!$E$6:$E$105,MATCH(ROW()-27,Journal!$P$6:$P$105,0)),"") | H34: =IFERROR(INDEX(Journal!$H$6:$H$105,MATCH(ROW()-27,Journal!$P$6:$P$105,0)),"") | J34: =IF($K$24="","Bitte Konto auswählen",IFERROR(INDEX(Journal!$B$6:$B$105,MATCH(ROW()-27,Journal!$Q$6:$Q$105,0)),"")) | K34: =IFERROR(INDEX(Journal!$F$6:$F$105,MATCH(ROW()-27,Journal!$Q$6:$Q$105,0)),"") | L34: =IFERROR(INDEX(Journal!$G$6:$G$105,MATCH(ROW()-27,Journal!$Q$6:$Q$105,0)),"") | N34: =IF($K$24="","",IFERROR(INDEX(Journal!$B$6:$B$105,MATCH(ROW()-27,Journal!$R$6:$R$105,0)),"")) | O34: =IFERROR(INDEX(Journal!$E$6:$E$105,MATCH(ROW()-27,Journal!$R$6:$R$105,0)),"") | P34: =IFERROR(INDEX(Journal!$H$6:$H$105,MATCH(ROW()-27,Journal!$R$6:$R$105,0)),"")
B35: =IF($C$24="","Bitte Konto auswählen",IFERROR(INDEX(Journal!$B$6:$B$105,MATCH(ROW()-27,Journal!$O$6:$O$105,0)),"")) | C35: =IFERROR(INDEX(Journal!$F$6:$F$105,MATCH(ROW()-27,Journal!$O$6:$O$105,0)),"") | D35: =IFERROR(INDEX(Journal!$G$6:$G$105,MATCH(ROW()-27,Journal!$O$6:$O$105,0)),"") | F35: =IF($C$24="","",IFERROR(INDEX(Journal!$B$6:$B$105,MATCH(ROW()-27,Journal!$P$6:$P$105,0)),"")) | G35: =IFERROR(INDEX(Journal!$E$6:$E$105,MATCH(ROW()-27,Journal!$P$6:$P$105,0)),"") | H35: =IFERROR(INDEX(Journal!$H$6:$H$105,MATCH(ROW()-27,Journal!$P$6:$P$105,0)),"") | J35: =IF($K$24="","Bitte Konto auswählen",IFERROR(INDEX(Journal!$B$6:$B$105,MATCH(ROW()-27,Journal!$Q$6:$Q$105,0)),"")) | K35: =IFERROR(INDEX(Journal!$F$6:$F$105,MATCH(ROW()-27,Journal!$Q$6:$Q$105,0)),"") | L35: =IFERROR(INDEX(Journal!$G$6:$G$105,MATCH(ROW()-27,Journal!$Q$6:$Q$105,0)),"") | N35: =IF($K$24="","",IFERROR(INDEX(Journal!$B$6:$B$105,MATCH(ROW()-27,Journal!$R$6:$R$105,0)),"")) | O35: =IFERROR(INDEX(Journal!$E$6:$E$105,MATCH(ROW()-27,Journal!$R$6:$R$105,0)),"") | P35: =IFERROR(INDEX(Journal!$H$6:$H$105,MATCH(ROW()-27,Journal!$R$6:$R$105,0)),"")
B36: =IF($C$24="","Bitte Konto auswählen",IFERROR(INDEX(Journal!$B$6:$B$105,MATCH(ROW()-27,Journal!$O$6:$O$105,0)),"")) | C36: =IFERROR(INDEX(Journal!$F$6:$F$105,MATCH(ROW()-27,Journal!$O$6:$O$105,0)),"") | D36: =IFERROR(INDEX(Journal!$G$6:$G$105,MATCH(ROW()-27,Journal!$O$6:$O$105,0)),"") | F36: =IF($C$24="","",IFERROR(INDEX(Journal!$B$6:$B$105,MATCH(ROW()-27,Journal!$P$6:$P$105,0)),"")) | G36: =IFERROR(INDEX(Journal!$E$6:$E$105,MATCH(ROW()-27,Journal!$P$6:$P$105,0)),"") | H36: =IFERROR(INDEX(Journal!$H$6:$H$105,MATCH(ROW()-27,Journal!$P$6:$P$105,0)),"") | J36: =IF($K$24="","Bitte Konto auswählen",IFERROR(INDEX(Journal!$B$6:$B$105,MATCH(ROW()-27,Journal!$Q$6:$Q$105,0)),"")) | K36: =IFERROR(INDEX(Journal!$F$6:$F$105,MATCH(ROW()-27,Journal!$Q$6:$Q$105,0)),"") | L36: =IFERROR(INDEX(Journal!$G$6:$G$105,MATCH(ROW()-27,Journal!$Q$6:$Q$105,0)),"") | N36: =IF($K$24="","",IFERROR(INDEX(Journal!$B$6:$B$105,MATCH(ROW()-27,Journal!$R$6:$R$105,0)),"")) | O36: =IFERROR(INDEX(Journal!$E$6:$E$105,MATCH(ROW()-27,Journal!$R$6:$R$105,0)),"") | P36: =IFERROR(INDEX(Journal!$H$6:$H$105,MATCH(ROW()-27,Journal!$R$6:$R$105,0)),"")
B37: =IF($C$24="","Bitte Konto auswählen",IFERROR(INDEX(Journal!$B$6:$B$105,MATCH(ROW()-27,Journal!$O$6:$O$105,0)),"")) | C37: =IFERROR(INDEX(Journal!$F$6:$F$105,MATCH(ROW()-27,Journal!$O$6:$O$105,0)),"") | D37: =IFERROR(INDEX(Journal!$G$6:$G$105,MATCH(ROW()-27,Journal!$O$6:$O$105,0)),"") | F37: =IF($C$24="","",IFERROR(INDEX(Journal!$B$6:$B$105,MATCH(ROW()-27,Journal!$P$6:$P$105,0)),"")) | G37: =IFERROR(INDEX(Journal!$E$6:$E$105,MATCH(ROW()-27,Journal!$P$6:$P$105,0)),"") | H37: =IFERROR(INDEX(Journal!$H$6:$H$105,MATCH(ROW()-27,Journal!$P$6:$P$105,0)),"") | J37: =IF($K$24="","Bitte Konto auswählen",IFERROR(INDEX(Journal!$B$6:$B$105,MATCH(ROW()-27,Journal!$Q$6:$Q$105,0)),"")) | K37: =IFERROR(INDEX(Journal!$F$6:$F$105,MATCH(ROW()-27,Journal!$Q$6:$Q$105,0)),"") | L37: =IFERROR(INDEX(Journal!$G$6:$G$105,MATCH(ROW()-27,Journal!$Q$6:$Q$105,0)),"") | N37: =IF($K$24="","",IFERROR(INDEX(Journal!$B$6:$B$105,MATCH(ROW()-27,Journal!$R$6:$R$105,0)),"")) | O37: =IFERROR(INDEX(Journal!$E$6:$E$105,MATCH(ROW()-27,Journal!$R$6:$R$105,0)),"") | P37: =IFERROR(INDEX(Journal!$H$6:$H$105,MATCH(ROW()-27,Journal!$R$6:$R$105,0)),"")
B38: =IF($C$24="","Bitte Konto auswählen",IFERROR(INDEX(Journal!$B$6:$B$105,MATCH(ROW()-27,Journal!$O$6:$O$105,0)),"")) | C38: =IFERROR(INDEX(Journal!$F$6:$F$105,MATCH(ROW()-27,Journal!$O$6:$O$105,0)),"") | D38: =IFERROR(INDEX(Journal!$G$6:$G$105,MATCH(ROW()-27,Journal!$O$6:$O$105,0)),"") | F38: =IF($C$24="","",IFERROR(INDEX(Journal!$B$6:$B$105,MATCH(ROW()-27,Journal!$P$6:$P$105,0)),"")) | G38: =IFERROR(INDEX(Journal!$E$6:$E$105,MATCH(ROW()-27,Journal!$P$6:$P$105,0)),"") | H38: =IFERROR(INDEX(Journal!$H$6:$H$105,MATCH(ROW()-27,Journal!$P$6:$P$105,0)),"") | J38: =IF($K$24="","Bitte Konto auswählen",IFERROR(INDEX(Journal!$B$6:$B$105,MATCH(ROW()-27,Journal!$Q$6:$Q$105,0)),"")) | K38: =IFERROR(INDEX(Journal!$F$6:$F$105,MATCH(ROW()-27,Journal!$Q$6:$Q$105,0)),"") | L38: =IFERROR(INDEX(Journal!$G$6:$G$105,MATCH(ROW()-27,Journal!$Q$6:$Q$105,0)),"") | N38: =IF($K$24="","",IFERROR(INDEX(Journal!$B$6:$B$105,MATCH(ROW()-27,Journal!$R$6:$R$105,0)),"")) | O38: =IFERROR(INDEX(Journal!$E$6:$E$105,MATCH(ROW()-27,Journal!$R$6:$R$105,0)),"") | P38: =IFERROR(INDEX(Journal!$H$6:$H$105,MATCH(ROW()-27,Journal!$R$6:$R$105,0)),"")
