Workbook

Sheet Journal
A1: T-Konten Vorlage – Journal / Grundbuch | M1: Kontenstamm (änderbar)
A3: Hinweis: Erst im Journal erfassen, danach automatische Übertragung ins Hauptbuch prüfen. | M3: Konto | N3: Typ | O3: Hinweis
M4: Kasse | N4: Aktiv | O4: Bilanzkonto
A5: Lfd. Nr. | B5: Datum | C5: Beleg-Nr. | D5: Buchungstext | E5: Sollkonto | F5: Habenkonto | G5: Betrag | H5: Sollbetrag | I5: Habenbetrag | J5: Status / Prüfung | M5: Bank | N5: Aktiv | O5: Bilanzkonto
A6: =IF(COUNTA(B6:G6)=0,"",ROW()-5) -> 1 | B6: 05.01.2026 | C6: B001 | D6: Warenverkauf bar (netto) | E6: Kasse | F6: Umsatzerlöse | G6: 1000 | H6: =IF(AND(E6<>"",G6<>""),G6,"") -> 1000 | I6: =IF(AND(F6<>"",G6<>""),G6,"") -> 1000 | J6: =IF(COUNTA(B6:G6)=0,"",IF(OR(E6="",F6=""),"Konto fehlt",IF(G6="","Betrag fehlt",IF(E6=F6,"Sollkonto = Habenkonto unzulässig","OK")))) -> OK | M6: Forderungen | N6: Aktiv | O6: Bilanzkonto
A7: =IF(COUNTA(B7:G7)=0,"",ROW()-5) -> 2 | B7: 05.01.2026 | C7: B001 | D7: Umsatzsteuer Verkauf | E7: Kasse | F7: Umsatzsteuer | G7: 190 | H7: =IF(AND(E7<>"",G7<>""),G7,"") -> 190 | I7: =IF(AND(F7<>"",G7<>""),G7,"") -> 190 | J7: =IF(COUNTA(B7:G7)=0,"",IF(OR(E7="",F7=""),"Konto fehlt",IF(G7="","Betrag fehlt",IF(E7=F7,"Sollkonto = Habenkonto unzulässig","OK")))) -> OK | M7: Vorsteuer | N7: Aktiv | O7: Bilanzkonto
A8: =IF(COUNTA(B8:G8)=0,"",ROW()-5) -> 3 | B8: 08.01.2026 | C8: B002 | D8: Wareneinkauf auf Ziel | E8: Wareneinsatz | F8: Verbindlichkeiten | G8: 800 | H8: =IF(AND(E8<>"",G8<>""),G8,"") -> 800 | I8: =IF(AND(F8<>"",G8<>""),G8,"") -> 800 | J8: =IF(COUNTA(B8:G8)=0,"",IF(OR(E8="",F8=""),"Konto fehlt",IF(G8="","Betrag fehlt",IF(E8=F8,"Sollkonto = Habenkonto unzulässig","OK")))) -> OK | M8: Maschinen | N8: Aktiv | O8: Bilanzkonto
A9: =IF(COUNTA(B9:G9)=0,"",ROW()-5) -> 4 | B9: 08.01.2026 | C9: B002 | D9: Vorsteuer aus Einkauf | E9: Vorsteuer | F9: Verbindlichkeiten | G9: 152 | H9: =IF(AND(E9<>"",G9<>""),G9,"") -> 152 | I9: =IF(AND(F9<>"",G9<>""),G9,"") -> 152 | J9: =IF(COUNTA(B9:G9)=0,"",IF(OR(E9="",F9=""),"Konto fehlt",IF(G9="","Betrag fehlt",IF(E9=F9,"Sollkonto = Habenkonto unzulässig","OK")))) -> OK | M9: Verbindlichkeiten | N9: Passiv | O9: Bilanzkonto
A10: =IF(COUNTA(B10:G10)=0,"",ROW()-5) -> 5 | B10: 10.01.2026 | C10: B003 | D10: Kundenzahlung per Bank | E10: Bank | F10: Forderungen | G10: 1500 | H10: =IF(AND(E10<>"",G10<>""),G10,"") -> 1500 | I10: =IF(AND(F10<>"",G10<>""),G10,"") -> 1500 | J10: =IF(COUNTA(B10:G10)=0,"",IF(OR(E10="",F10=""),"Konto fehlt",IF(G10="","Betrag fehlt",IF(E10=F10,"Sollkonto = Habenkonto unzulässig","OK")))) -> OK | M10: Eigenkapital | N10: Passiv | O10: Bilanzkonto
A11: =IF(COUNTA(B11:G11)=0,"",ROW()-5) -> 6 | B11: 12.01.2026 | C11: B004 | D11: Warenverkauf auf Ziel (netto) | E11: Forderungen | F11: Umsatzerlöse | G11: 2000 | H11: =IF(AND(E11<>"",G11<>""),G11,"") -> 2000 | I11: =IF(AND(F11<>"",G11<>""),G11,"") -> 2000 | J11: =IF(COUNTA(B11:G11)=0,"",IF(OR(E11="",F11=""),"Konto fehlt",IF(G11="","Betrag fehlt",IF(E11=F11,"Sollkonto = Habenkonto unzulässig","OK")))) -> OK | M11: Umsatzsteuer | N11: Passiv | O11: Bilanzkonto
A12: =IF(COUNTA(B12:G12)=0,"",ROW()-5) -> 7 | B12: 12.01.2026 | C12: B004 | D12: Umsatzsteuer Verkauf auf Ziel | E12: Forderungen | F12: Umsatzsteuer | G12: 380 | H12: =IF(AND(E12<>"",G12<>""),G12,"") -> 380 | I12: =IF(AND(F12<>"",G12<>""),G12,"") -> 380 | J12: =IF(COUNTA(B12:G12)=0,"",IF(OR(E12="",F12=""),"Konto fehlt",IF(G12="","Betrag fehlt",IF(E12=F12,"Sollkonto = Habenkonto unzulässig","OK")))) -> OK | M12: Wareneinsatz | N12: Aufwand | O12: Erfolgskonto
A13: =IF(COUNTA(B13:G13)=0,"",ROW()-5) -> 8 | B13: 18.01.2026 | C13: B005 | D13: Maschinenkauf per Bank | E13: Maschinen | F13: Bank | G13: 2500 | H13: =IF(AND(E13<>"",G13<>""),G13,"") -> 2500 | I13: =IF(AND(F13<>"",G13<>""),G13,"") -> 2500 | J13: =IF(COUNTA(B13:G13)=0,"",IF(OR(E13="",F13=""),"Konto fehlt",IF(G13="","Betrag fehlt",IF(E13=F13,"Sollkonto = Habenkonto unzulässig","OK")))) -> OK | M13: Abschreibungen | N13: Aufwand | O13: Erfolgskonto
A14: =IF(COUNTA(B14:G14)=0,"",ROW()-5) -> 9 | B14: 20.01.2026 | C14: B006 | D14: Zahlung an Lieferant | E14: Verbindlichkeiten | F14: Bank | G14: 952 | H14: =IF(AND(E14<>"",G14<>""),G14,"") -> 952 | I14: =IF(AND(F14<>"",G14<>""),G14,"") -> 952 | J14: =IF(COUNTA(B14:G14)=0,"",IF(OR(E14="",F14=""),"Konto fehlt",IF(G14="","Betrag fehlt",IF(E14=F14,"Sollkonto = Habenkonto unzulässig","OK")))) -> OK | M14: Umsatzerlöse | N14: Ertrag | O14: Erfolgskonto
A15: =IF(COUNTA(B15:G15)=0,"",ROW()-5) -> 10 | B15: 25.01.2026 | C15: B007 | D15: Planmäßige Abschreibung Maschine | E15: Abschreibungen | F15: Maschinen | G15: 300 | H15: =IF(AND(E15<>"",G15<>""),G15,"") -> 300 | I15: =IF(AND(F15<>"",G15<>""),G15,"") -> 300 | J15: =IF(COUNTA(B15:G15)=0,"",IF(OR(E15="",F15=""),"Konto fehlt",IF(G15="","Betrag fehlt",IF(E15=F15,"Sollkonto = Habenkonto unzulässig","OK")))) -> OK
A16: =IF(COUNTA(B16:G16)=0,"",ROW()-5) | H16: =IF(AND(E16<>"",G16<>""),G16,"") | I16: =IF(AND(F16<>"",G16<>""),G16,"") | J16: =IF(COUNTA(B16:G16)=0,"",IF(OR(E16="",F16=""),"Konto fehlt",IF(G16="","Betrag fehlt",IF(E16=F16,"Sollkonto = Habenkonto unzulässig","OK"))))
A17: =IF(COUNTA(B17:G17)=0,"",ROW()-5) | H17: =IF(AND(E17<>"",G17<>""),G17,"") | I17: =IF(AND(F17<>"",G17<>""),G17,"") | J17: =IF(COUNTA(B17:G17)=0,"",IF(OR(E17="",F17=""),"Konto fehlt",IF(G17="","Betrag fehlt",IF(E17=F17,"Sollkonto = Habenkonto unzulässig","OK"))))
A18: =IF(COUNTA(B18:G18)=0,"",ROW()-5) | H18: =IF(AND(E18<>"",G18<>""),G18,"") | I18: =IF(AND(F18<>"",G18<>""),G18,"") | J18: =IF(COUNTA(B18:G18)=0,"",IF(OR(E18="",F18=""),"Konto fehlt",IF(G18="","Betrag fehlt",IF(E18=F18,"Sollkonto = Habenkonto unzulässig","OK"))))
A19: =IF(COUNTA(B19:G19)=0,"",ROW()-5) | H19: =IF(AND(E19<>"",G19<>""),G19,"") | I19: =IF(AND(F19<>"",G19<>""),G19,"") | J19: =IF(COUNTA(B19:G19)=0,"",IF(OR(E19="",F19=""),"Konto fehlt",IF(G19="","Betrag fehlt",IF(E19=F19,"Sollkonto = Habenkonto unzulässig","OK"))))
A20: =IF(COUNTA(B20:G20)=0,"",ROW()-5) | H20: =IF(AND(E20<>"",G20<>""),G20,"") | I20: =IF(AND(F20<>"",G20<>""),G20,"") | J20: =IF(COUNTA(B20:G20)=0,"",IF(OR(E20="",F20=""),"Konto fehlt",IF(G20="","Betrag fehlt",IF(E20=F20,"Sollkonto = Habenkonto unzulässig","OK"))))
A21: =IF(COUNTA(B21:G21)=0,"",ROW()-5) | H21: =IF(AND(E21<>"",G21<>""),G21,"") | I21: =IF(AND(F21<>"",G21<>""),G21,"") | J21: =IF(COUNTA(B21:G21)=0,"",IF(OR(E21="",F21=""),"Konto fehlt",IF(G21="","Betrag fehlt",IF(E21=F21,"Sollkonto = Habenkonto unzulässig","OK"))))
A22: =IF(COUNTA(B22:G22)=0,"",ROW()-5) | H22: =IF(AND(E22<>"",G22<>""),G22,"") | I22: =IF(AND(F22<>"",G22<>""),G22,"") | J22: =IF(COUNTA(B22:G22)=0,"",IF(OR(E22="",F22=""),"Konto fehlt",IF(G22="","Betrag fehlt",IF(E22=F22,"Sollkonto = Habenkonto unzulässig","OK"))))
A23: =IF(COUNTA(B23:G23)=0,"",ROW()-5) | H23: =IF(AND(E23<>"",G23<>""),G23,"") | I23: =IF(AND(F23<>"",G23<>""),G23,"") | J23: =IF(COUNTA(B23:G23)=0,"",IF(OR(E23="",F23=""),"Konto fehlt",IF(G23="","Betrag fehlt",IF(E23=F23,"Sollkonto = Habenkonto unzulässig","OK"))))
A24: =IF(COUNTA(B24:G24)=0,"",ROW()-5) | H24: =IF(AND(E24<>"",G24<>""),G24,"") | I24: =IF(AND(F24<>"",G24<>""),G24,"") | J24: =IF(COUNTA(B24:G24)=0,"",IF(OR(E24="",F24=""),"Konto fehlt",IF(G24="","Betrag fehlt",IF(E24=F24,"Sollkonto = Habenkonto unzulässig","OK"))))
A25: =IF(COUNTA(B25:G25)=0,"",ROW()-5) | H25: =IF(AND(E25<>"",G25<>""),G25,"") | I25: =IF(AND(F25<>"",G25<>""),G25,"") | J25: =IF(COUNTA(B25:G25)=0,"",IF(OR(E25="",F25=""),"Konto fehlt",IF(G25="","Betrag fehlt",IF(E25=F25,"Sollkonto = Habenkonto unzulässig","OK"))))
A26: =IF(COUNTA(B26:G26)=0,"",ROW()-5) | H26: =IF(AND(E26<>"",G26<>""),G26,"") | I26: =IF(AND(F26<>"",G26<>""),G26,"") | J26: =IF(COUNTA(B26:G26)=0,"",IF(OR(E26="",F26=""),"Konto fehlt",IF(G26="","Betrag fehlt",IF(E26=F26,"Sollkonto = Habenkonto unzulässig","OK"))))
A27: =IF(COUNTA(B27:G27)=0,"",ROW()-5) | H27: =IF(AND(E27<>"",G27<>""),G27,"") | I27: =IF(AND(F27<>"",G27<>""),G27,"") | J27: =IF(COUNTA(B27:G27)=0,"",IF(OR(E27="",F27=""),"Konto fehlt",IF(G27="","Betrag fehlt",IF(E27=F27,"Sollkonto = Habenkonto unzulässig","OK"))))
... A45: =IF(COUNTA(B45:G45)=0,"",ROW()-5) | H45: =IF(AND(E45<>"",G45<>""),G45,"") | I45: =IF(AND(F45<>"",G45<>""),G45,"") | J45: =IF(COUNTA(B45:G45)=0,"",IF(OR(E45="",F45=""),"Konto fehlt",IF(G45="","Betrag fehlt",IF(E45=F45,"Sollkonto = Habenkonto unzulässig","OK"))))
F47: Summe Soll | G47: =SUM(H6:H45) -> 9774
F48: Summe Haben | G48: =SUM(I6:I45) -> 9774
F49: Differenz | G49: =G47-G48 -> 0

Sheet Hauptbuch
B1: Hauptbuch – automatische T-Konten
B3: Kontoauswahl | C3: Kasse | D3: =C3 -> Kasse | J3: Kontoauswahl | K3: Bank | L3: =K3 -> Bank
B4: Soll | F4: Haben | J4: Soll | N4: Haben
B5: Datum | C5: Gegenkonto | D5: Betrag | F5: Datum | G5: Gegenkonto | H5: Betrag | J5: Datum | K5: Gegenkonto | L5: Betrag | N5: Datum | O5: Gegenkonto | P5: Betrag
B6: =IFERROR(INDEX(Journal!$B$6:$B$45,MATCH(1,$R$6:$R$45,0)),"") -> 05.01.2026 | C6: =IFERROR(INDEX(Journal!$F$6:$F$45,MATCH(1,$R$6:$R$45,0)),"") -> Umsatzerlöse | D6: =IFERROR(INDEX(Journal!$G$6:$G$45,MATCH(1,$R$6:$R$45,0)),"") -> 1000 | F6: =IFERROR(INDEX(Journal!$B$6:$B$45,MATCH(1,$S$6:$S$45,0)),"") | G6: =IFERROR(INDEX(Journal!$E$6:$E$45,MATCH(1,$S$6:$S$45,0)),"") | H6: =IFERROR(INDEX(Journal!$G$6:$G$45,MATCH(1,$S$6:$S$45,0)),"") | J6: =IFERROR(INDEX(Journal!$B$6:$B$45,MATCH(1,$T$6:$T$45,0)),"") -> 10.01.2026 | K6: =IFERROR(INDEX(Journal!$F$6:$F$45,MATCH(1,$T$6:$T$45,0)),"") -> Forderungen | L6: =IFERROR(INDEX(Journal!$G$6:$G$45,MATCH(1,$T$6:$T$45,0)),"") -> 1500 | N6: =IFERROR(INDEX(Journal!$B$6:$B$45,MATCH(1,$U$6:$U$45,0)),"") -> 18.01.2026 | O6: =IFERROR(INDEX(Journal!$E$6:$E$45,MATCH(1,$U$6:$U$45,0)),"") -> Maschinen | P6: =IFERROR(INDEX(Journal!$G$6:$G$45,MATCH(1,$U$6:$U$45,0)),"") -> 2500 | R6: =IF(Journal!$E6=$C$3,COUNTIF(Journal!$E$6:'Journal'!$E6,$C$3),"") -> 1 | S6: =IF(Journal!$F6=$C$3,COUNTIF(Journal!$F$6:'Journal'!$F6,$C$3),"") | T6: =IF(Journal!$E6=$K$3,COUNTIF(Journal!$E$6:'Journal'!$E6,$K$3),"") | U6: =IF(Journal!$F6=$K$3,COUNTIF(Journal!$F$6:'Journal'!$F6,$K$3),"") | V6: =IF(Journal!$E6=$C$21,COUNTIF(Journal!$E$6:'Journal'!$E6,$C$21),"") | W6: =IF(Journal!$F6=$C$21,COUNTIF(Journal!$F$6:'Journal'!$F6,$C$21),"") | X6: =IF(Journal!$E6=$K$21,COUNTIF(Journal!$E$6:'Journal'!$E6,$K$21),"") | Y6: =IF(Journal!$F6=$K$21,COUNTIF(Journal!$F$6:'Journal'!$F6,$K$21),"") | Z6: =IF(Journal!$E6=$C$39,COUNTIF(Journal!$E$6:'Journal'!$E6,$C$39),"") | AA6: =IF(Journal!$F6=$C$39,COUNTIF(Journal!$F$6:'Journal'!$F6,$C$39),"") | AB6: =IF(Journal!$E6=$K$39,COUNTIF(Journal!$E$6:'Journal'!$E6,$K$39),"") | AC6: =IF(Journal!$F6=$K$39,COUNTIF(Journal!$F$6:'Journal'!$F6,$K$39),"") -> 1 | AD6: =IF(Journal!$E6=$C$57,COUNTIF(Journal!$E$6:'Journal'!$E6,$C$57),"") | AE6: =IF(Journal!$F6=$C$57,COUNTIF(Journal!$F$6:'Journal'!$F6,$C$57),"") | AF6: =IF(Journal!$E6=$K$57,COUNTIF(Journal!$E$6:'Journal'!$E6,$K$57),"") | AG6: =IF(Journal!$F6=$K$57,COUNTIF(Journal!$F$6:'Journal'!$F6,$K$57),"") | AH6: =IF(Journal!$E6=$C$75,COUNTIF(Journal!$E$6:'Journal'!$E6,$C$75),"") | AI6: =IF(Journal!$F6=$C$75,COUNTIF(Journal!$F$6:'Journal'!$F6,$C$75),"") | AJ6: =IF(Journal!$E6=$K$75,COUNTIF(Journal!$E$6:'Journal'!$E6,$K$75),"") | AK6: =IF(Journal!$F6=$K$75,COUNTIF(Journal!$F$6:'Journal'!$F6,$K$75),"")
B7: =IFERROR(INDEX(Journal!$B$6:$B$45,MATCH(2,$R$6:$R$45,0)),"") -> 05.01.2026 | C7: =IFERROR(INDEX(Journal!$F$6:$F$45,MATCH(2,$R$6:$R$45,0)),"") -> Umsatzsteuer | D7: =IFERROR(INDEX(Journal!$G$6:$G$45,MATCH(2,$R$6:$R$45,0)),"") -> 190 | F7: =IFERROR(INDEX(Journal!$B$6:$B$45,MATCH(2,$S$6:$S$45,0)),"") | G7: =IFERROR(INDEX(Journal!$E$6:$E$45,MATCH(2,$S$6:$S$45,0)),"") | H7: =IFERROR(INDEX(Journal!$G$6:$G$45,MATCH(2,$S$6:$S$45,0)),"") | J7: =IFERROR(INDEX(Journal!$B$6:$B$45,MATCH(2,$T$6:$T$45,0)),"") | K7: =IFERROR(INDEX(Journal!$F$6:$F$45,MATCH(2,$T$6:$T$45,0)),"") | L7: =IFERROR(INDEX(Journal!$G$6:$G$45,MATCH(2,$T$6:$T$45,0)),"") | N7: =IFERROR(INDEX(Journal!$B$6:$B$45,MATCH(2,$U$6:$U$45,0)),"") -> 20.01.2026 | O7: =IFERROR(INDEX(Journal!$E$6:$E$45,MATCH(2,$U$6:$U$45,0)),"") -> Verbindlichkeiten | P7: =IFERROR(INDEX(Journal!$G$6:$G$45,MATCH(2,$U$6:$U$45,0)),"") -> 952 | R7: =IF(Journal!$E7=$C$3,COUNTIF(Journal!$E$6:'Journal'!$E7,$C$3),"") -> 2 | S7: =IF(Journal!$F7=$C$3,COUNTIF(Journal!$F$6:'Journal'!$F7,$C$3),"") | T7: =IF(Journal!$E7=$K$3,COUNTIF(Journal!$E$6:'Journal'!$E7,$K$3),"") | U7: =IF(Journal!$F7=$K$3,COUNTIF(Journal!$F$6:'Journal'!$F7,$K$3),"") | V7: =IF(Journal!$E7=$C$21,COUNTIF(Journal!$E$6:'Journal'!$E7,$C$21),"") | W7: =IF(Journal!$F7=$C$21,COUNTIF(Journal!$F$6:'Journal'!$F7,$C$21),"") | X7: =IF(Journal!$E7=$K$21,COUNTIF(Journal!$E$6:'Journal'!$E7,$K$21),"") | Y7: =IF(Journal!$F7=$K$21,COUNTIF(Journal!$F$6:'Journal'!$F7,$K$21),"") | Z7: =IF(Journal!$E7=$C$39,COUNTIF(Journal!$E$6:'Journal'!$E7,$C$39),"") | AA7: =IF(Journal!$F7=$C$39,COUNTIF(Journal!$F$6:'Journal'!$F7,$C$39),"") | AB7: =IF(Journal!$E7=$K$39,COUNTIF(Journal!$E$6:'Journal'!$E7,$K$39),"") | AC7: =IF(Journal!$F7=$K$39,COUNTIF(Journal!$F$6:'Journal'!$F7,$K$39),"") | AD7: =IF(Journal!$E7=$C$57,COUNTIF(Journal!$E$6:'Journal'!$E7,$C$57),"") | AE7: =IF(Journal!$F7=$C$57,COUNTIF(Journal!$F$6:'Journal'!$F7,$C$57),"") | AF7: =IF(Journal!$E7=$K$57,COUNTIF(Journal!$E$6:'Journal'!$E7,$K$57),"") | AG7: =IF(Journal!$F7=$K$57,COUNTIF(Journal!$F$6:'Journal'!$F7,$K$57),"") | AH7: =IF(Journal!$E7=$C$75,COUNTIF(Journal!$E$6:'Journal'!$E7,$C$75),"") | AI7: =IF(Journal!$F7=$C$75,COUNTIF(Journal!$F$6:'Journal'!$F7,$C$75),"") -> 1 | AJ7: =IF(Journal!$E7=$K$75,COUNTIF(Journal!$E$6:'Journal'!$E7,$K$75),"") | AK7: =IF(Journal!$F7=$K$75,COUNTIF(Journal!$F$6:'Journal'!$F7,$K$75),"")
B8: =IFERROR(INDEX(Journal!$B$6:$B$45,MATCH(3,$R$6:$R$45,0)),"") | C8: =IFERROR(INDEX(Journal!$F$6:$F$45,MATCH(3,$R$6:$R$45,0)),"") | D8: =IFERROR(INDEX(Journal!$G$6:$G$45,MATCH(3,$R$6:$R$45,0)),"") | F8: =IFERROR(INDEX(Journal!$B$6:$B$45,MATCH(3,$S$6:$S$45,0)),"") | G8: =IFERROR(INDEX(Journal!$E$6:$E$45,MATCH(3,$S$6:$S$45,0)),"") | H8: =IFERROR(INDEX(Journal!$G$6:$G$45,MATCH(3,$S$6:$S$45,0)),"") | J8: =IFERROR(INDEX(Journal!$B$6:$B$45,MATCH(3,$T$6:$T$45,0)),"") | K8: =IFERROR(INDEX(Journal!$F$6:$F$45,MATCH(3,$T$6:$T$45,0)),"") | L8: =IFERROR(INDEX(Journal!$G$6:$G$45,MATCH(3,$T$6:$T$45,0)),"") | N8: =IFERROR(INDEX(Journal!$B$6:$B$45,MATCH(3,$U$6:$U$45,0)),"") | O8: =IFERROR(INDEX(Journal!$E$6:$E$45,MATCH(3,$U$6:$U$45,0)),"") | P8: =IFERROR(INDEX(Journal!$G$6:$G$45,MATCH(3,$U$6:$U$45,0)),"") | R8: =IF(Journal!$E8=$C$3,COUNTIF(Journal!$E$6:'Journal'!$E8,$C$3),"") | S8: =IF(Journal!$F8=$C$3,COUNTIF(Journal!$F$6:'Journal'!$F8,$C$3),"") | T8: =IF(Journal!$E8=$K$3,COUNTIF(Journal!$E$6:'Journal'!$E8,$K$3),"") | U8: =IF(Journal!$F8=$K$3,COUNTIF(Journal!$F$6:'Journal'!$F8,$K$3),"") | V8: =IF(Journal!$E8=$C$21,COUNTIF(Journal!$E$6:'Journal'!$E8,$C$21),"") | W8: =IF(Journal!$F8=$C$21,COUNTIF(Journal!$F$6:'Journal'!$F8,$C$21),"") | X8: =IF(Journal!$E8=$K$21,COUNTIF(Journal!$E$6:'Journal'!$E8,$K$21),"") | Y8: =IF(Journal!$F8=$K$21,COUNTIF(Journal!$F$6:'Journal'!$F8,$K$21),"") -> 1 | Z8: =IF(Journal!$E8=$C$39,COUNTIF(Journal!$E$6:'Journal'!$E8,$C$39),"") | AA8: =IF(Journal!$F8=$C$39,COUNTIF(Journal!$F$6:'Journal'!$F8,$C$39),"") | AB8: =IF(Journal!$E8=$K$39,COUNTIF(Journal!$E$6:'Journal'!$E8,$K$39),"") | AC8: =IF(Journal!$F8=$K$39,COUNTIF(Journal!$F$6:'Journal'!$F8,$K$39),"") | AD8: =IF(Journal!$E8=$C$57,COUNTIF(Journal!$E$6:'Journal'!$E8,$C$57),"") -> 1 | AE8: =IF(Journal!$F8=$C$57,COUNTIF(Journal!$F$6:'Journal'!$F8,$C$57),"") | AF8: =IF(Journal!$E8=$K$57,COUNTIF(Journal!$E$6:'Journal'!$E8,$K$57),"") | AG8: =IF(Journal!$F8=$K$57,COUNTIF(Journal!$F$6:'Journal'!$F8,$K$57),"") | AH8: =IF(Journal!$E8=$C$75,COUNTIF(Journal!$E$6:'Journal'!$E8,$C$75),"") | AI8: =IF(Journal!$F8=$C$75,COUNTIF(Journal!$F$6:'Journal'!$F8,$C$75),"") | AJ8: =IF(Journal!$E8=$K$75,COUNTIF(Journal!$E$6:'Journal'!$E8,$K$75),"") | AK8: =IF(Journal!$F8=$K$75,COUNTIF(Journal!$F$6:'Journal'!$F8,$K$75),"")
B9: =IFERROR(INDEX(Journal!$B$6:$B$45,MATCH(4,$R$6:$R$45,0)),"") | C9: =IFERROR(INDEX(Journal!$F$6:$F$45,MATCH(4,$R$6:$R$45,0)),"") | D9: =IFERROR(INDEX(Journal!$G$6:$G$45,MATCH(4,$R$6:$R$45,0)),"") | F9: =IFERROR(INDEX(Journal!$B$6:$B$45,MATCH(4,$S$6:$S$45,0)),"") | G9: =IFERROR(INDEX(Journal!$E$6:$E$45,MATCH(4,$S$6:$S$45,0)),"") | H9: =IFERROR(INDEX(Journal!$G$6:$G$45,MATCH(4,$S$6:$S$45,0)),"") | J9: =IFERROR(INDEX(Journal!$B$6:$B$45,MATCH(4,$T$6:$T$45,0)),"") | K9: =IFERROR(INDEX(Journal!$F$6:$F$45,MATCH(4,$T$6:$T$45,0)),"") | L9: =IFERROR(INDEX(Journal!$G$6:$G$45,MATCH(4,$T$6:$T$45,0)),"") | N9: =IFERROR(INDEX(Journal!$B$6:$B$45,MATCH(4,$U$6:$U$45,0)),"") | O9: =IFERROR(INDEX(Journal!$E$6:$E$45,MATCH(4,$U$6:$U$45,0)),"") | P9: =IFERROR(INDEX(Journal!$G$6:$G$45,MATCH(4,$U$6:$U$45,0)),"") | R9: =IF(Journal!$E9=$C$3,COUNTIF(Journal!$E$6:'Journal'!$E9,$C$3),"") | S9: =IF(Journal!$F9=$C$3,COUNTIF(Journal!$F$6:'Journal'!$F9,$C$3),"") | T9: =IF(Journal!$E9=$K$3,COUNTIF(Journal!$E$6:'Journal'!$E9,$K$3),"") | U9: =IF(Journal!$F9=$K$3,COUNTIF(Journal!$F$6:'Journal'!$F9,$K$3),"") | V9: =IF(Journal!$E9=$C$21,COUNTIF(Journal!$E$6:'Journal'!$E9,$C$21),"") | W9: =IF(Journal!$F9=$C$21,COUNTIF(Journal!$F$6:'Journal'!$F9,$C$21),"") | X9: =IF(Journal!$E9=$K$21,COUNTIF(Journal!$E$6:'Journal'!$E9,$K$21),"") | Y9: =IF(Journal!$F9=$K$21,COUNTIF(Journal!$F$6:'Journal'!$F9,$K$21),"") -> 2 | Z9: =IF(Journal!$E9=$C$39,COUNTIF(Journal!$E$6:'Journal'!$E9,$C$39),"") | AA9: =IF(Journal!$F9=$C$39,COUNTIF(Journal!$F$6:'Journal'!$F9,$C$39),"") | AB9: =IF(Journal!$E9=$K$39,COUNTIF(Journal!$E$6:'Journal'!$E9,$K$39),"") | AC9: =IF(Journal!$F9=$K$39,COUNTIF(Journal!$F$6:'Journal'!$F9,$K$39),"") | AD9: =IF(Journal!$E9=$C$57,COUNTIF(Journal!$E$6:'Journal'!$E9,$C$57),"") | AE9: =IF(Journal!$F9=$C$57,COUNTIF(Journal!$F$6:'Journal'!$F9,$C$57),"") | AF9: =IF(Journal!$E9=$K$57,COUNTIF(Journal!$E$6:'Journal'!$E9,$K$57),"") -> 1 | AG9: =IF(Journal!$F9=$K$57,COUNTIF(Journal!$F$6:'Journal'!$F9,$K$57),"") | AH9: =IF(Journal!$E9=$C$75,COUNTIF(Journal!$E$6:'Journal'!$E9,$C$75),"") | AI9: =IF(Journal!$F9=$C$75,COUNTIF(Journal!$F$6:'Journal'!$F9,$C$75),"") | AJ9: =IF(Journal!$E9=$K$75,COUNTIF(Journal!$E$6:'Journal'!$E9,$K$75),"") | AK9: =IF(Journal!$F9=$K$75,COUNTIF(Journal!$F$6:'Journal'!$F9,$K$75),"")
B10: =IFERROR(INDEX(Journal!$B$6:$B$45,MATCH(5,$R$6:$R$45,0)),"") | C10: =IFERROR(INDEX(Journal!$F$6:$F$45,MATCH(5,$R$6:$R$45,0)),"") | D10: =IFERROR(INDEX(Journal!$G$6:$G$45,MATCH(5,$R$6:$R$45,0)),"") | F10: =IFERROR(INDEX(Journal!$B$6:$B$45,MATCH(5,$S$6:$S$45,0)),"") | G10: =IFERROR(INDEX(Journal!$E$6:$E$45,MATCH(5,$S$6:$S$45,0)),"") | H10: =IFERROR(INDEX(Journal!$G$6:$G$45,MATCH(5,$S$6:$S$45,0)),"") | J10: =IFERROR(INDEX(Journal!$B$6:$B$45,MATCH(5,$T$6:$T$45,0)),"") | K10: =IFERROR(INDEX(Journal!$F$6:$F$45,MATCH(5,$T$6:$T$45,0)),"") | L10: =IFERROR(INDEX(Journal!$G$6:$G$45,MATCH(5,$T$6:$T$45,0)),"") | N10: =IFERROR(INDEX(Journal!$B$6:$B$45,MATCH(5,$U$6:$U$45,0)),"") | O10: =IFERROR(INDEX(Journal!$E$6:$E$45,MATCH(5,$U$6:$U$45,0)),"") | P10: =IFERROR(INDEX(Journal!$G$6:$G$45,MATCH(5,$U$6:$U$45,0)),"") | R10: =IF(Journal!$E10=$C$3,COUNTIF(Journal!$E$6:'Journal'!$E10,$C$3),"") | S10: =IF(Journal!$F10=$C$3,COUNTIF(Journal!$F$6:'Journal'!$F10,$C$3),"") | T10: =IF(Journal!$E10=$K$3,COUNTIF(Journal!$E$6:'Journal'!$E10,$K$3),"") -> 1 | U10: =IF(Journal!$F10=$K$3,COUNTIF(Journal!$F$6:'Journal'!$F10,$K$3),"") | V10: =IF(Journal!$E10=$C$21,COUNTIF(Journal!$E$6:'Journal'!$E10,$C$21),"") | W10: =IF(Journal!$F10=$C$21,COUNTIF(Journal!$F$6:'Journal'!$F10,$C$21),"") -> 1 | X10: =IF(Journal!$E10=$K$21,COUNTIF(Journal!$E$6:'Journal'!$E10,$K$21),"") | Y10: =IF(Journal!$F10=$K$21,COUNTIF(Journal!$F$6:'Journal'!$F10,$K$21),"") | Z10: =IF(Journal!$E10=$C$39,COUNTIF(Journal!$E$6:'Journal'!$E10,$C$39),"") | AA10: =IF(Journal!$F10=$C$39,COUNTIF(Journal!$F$6:'Journal'!$F10,$C$39),"") | AB10: =IF(Journal!$E10=$K$39,COUNTIF(Journal!$E$6:'Journal'!$E10,$K$39),"") | AC10: =IF(Journal!$F10=$K$39,COUNTIF(Journal!$F$6:'Journal'!$F10,$K$39),"") | AD10: =IF(Journal!$E10=$C$57,COUNTIF(Journal!$E$6:'Journal'!$E10,$C$57),"") | AE10: =IF(Journal!$F10=$C$57,COUNTIF(Journal!$F$6:'Journal'!$F10,$C$57),"") | AF10: =IF(Journal!$E10=$K$57,COUNTIF(Journal!$E$6:'Journal'!$E10,$K$57),"") | AG10: =IF(Journal!$F10=$K$57,COUNTIF(Journal!$F$6:'Journal'!$F10,$K$57),"") | AH10: =IF(Journal!$E10=$C$75,COUNTIF(Journal!$E$6:'Journal'!$E10,$C$75),"") | AI10: =IF(Journal!$F10=$C$75,COUNTIF(Journal!$F$6:'Journal'!$F10,$C$75),"") | AJ10: =IF(Journal!$E10=$K$75,COUNTIF(Journal!$E$6:'Journal'!$E10,$K$75),"") | AK10: =IF(Journal!$F10=$K$75,COUNTIF(Journal!$F$6:'Journal'!$F10,$K$75),"")
B11: =IFERROR(INDEX(Journal!$B$6:$B$45,MATCH(6,$R$6:$R$45,0)),"") | C11: =IFERROR(INDEX(Journal!$F$6:$F$45,MATCH(6,$R$6:$R$45,0)),"") | D11: =IFERROR(INDEX(Journal!$G$6:$G$45,MATCH(6,$R$6:$R$45,0)),"") | F11: =IFERROR(INDEX(Journal!$B$6:$B$45,MATCH(6,$S$6:$S$45,0)),"") | G11: =IFERROR(INDEX(Journal!$E$6:$E$45,MATCH(6,$S$6:$S$45,0)),"") | H11: =IFERROR(INDEX(Journal!$G$6:$G$45,MATCH(6,$S$6:$S$45,0)),"") | J11: =IFERROR(INDEX(Journal!$B$6:$B$45,MATCH(6,$T$6:$T$45,0)),"") | K11: =IFERROR(INDEX(Journal!$F$6:$F$45,MATCH(6,$T$6:$T$45,0)),"") | L11: =IFERROR(INDEX(Journal!$G$6:$G$45,MATCH(6,$T$6:$T$45,0)),"") | N11: =IFERROR(INDEX(Journal!$B$6:$B$45,MATCH(6,$U$6:$U$45,0)),"") | O11: =IFERROR(INDEX(Journal!$E$6:$E$45,MATCH(6,$U$6:$U$45,0)),"") | P11: =IFERROR(INDEX(Journal!$G$6:$G$45,MATCH(6,$U$6:$U$45,0)),"") | R11: =IF(Journal!$E11=$C$3,COUNTIF(Journal!$E$6:'Journal'!$E11,$C$3),"") | S11: =IF(Journal!$F11=$C$3,COUNTIF(Journal!$F$6:'Journal'!$F11,$C$3),"") | T11: =IF(Journal!$E11=$K$3,COUNTIF(Journal!$E$6:'Journal'!$E11,$K$3),"") | U11: =IF(Journal!$F11=$K$3,COUNTIF(Journal!$F$6:'Journal'!$F11,$K$3),"") | V11: =IF(Journal!$E11=$C$21,COUNTIF(Journal!$E$6:'Journal'!$E11,$C$21),"") -> 1 | W11: =IF(Journal!$F11=$C$21,COUNTIF(Journal!$F$6:'Journal'!$F11,$C$21),"") | X11: =IF(Journal!$E11=$K$21,COUNTIF(Journal!$E$6:'Journal'!$E11,$K$21),"") | Y11: =IF(Journal!$F11=$K$21,COUNTIF(Journal!$F$6:'Journal'!$F11,$K$21),"") | Z11: =IF(Journal!$E11=$C$39,COUNTIF(Journal!$E$6:'Journal'!$E11,$C$39),"") | AA11: =IF(Journal!$F11=$C$39,COUNTIF(Journal!$F$6:'Journal'!$F11,$C$39),"") | AB11: =IF(Journal!$E11=$K$39,COUNTIF(Journal!$E$6:'Journal'!$E11,$K$39),"") | AC11: =IF(Journal!$F11=$K$39,COUNTIF(Journal!$F$6:'Journal'!$F11,$K$39),"") -> 2 | AD11: =IF(Journal!$E11=$C$57,COUNTIF(Journal!$E$6:'Journal'!$E11,$C$57),"") | AE11: =IF(Journal!$F11=$C$57,COUNTIF(Journal!$F$6:'Journal'!$F11,$C$57),"") | AF11: =IF(Journal!$E11=$K$57,COUNTIF(Journal!$E$6:'Journal'!$E11,$K$57),"") | AG11: =IF(Journal!$F11=$K$57,COUNTIF(Journal!$F$6:'Journal'!$F11,$K$57),"") | AH11: =IF(Journal!$E11=$C$75,COUNTIF(Journal!$E$6:'Journal'!$E11,$C$75),"") | AI11: =IF(Journal!$F11=$C$75,COUNTIF(Journal!$F$6:'Journal'!$F11,$C$75),"") | AJ11: =IF(Journal!$E11=$K$75,COUNTIF(Journal!$E$6:'Journal'!$E11,$K$75),"") | AK11: =IF(Journal!$F11=$K$75,COUNTIF(Journal!$F$6:'Journal'!$F11,$K$75),"")
B12: =IFERROR(INDEX(Journal!$B$6:$B$45,MATCH(7,$R$6:$R$45,0)),"") | C12: =IFERROR(INDEX(Journal!$F$6:$F$45,MATCH(7,$R$6:$R$45,0)),"") | D12: =IFERROR(INDEX(Journal!$G$6:$G$45,MATCH(7,$R$6:$R$45,0)),"") | F12: =IFERROR(INDEX(Journal!$B$6:$B$45,MATCH(7,$S$6:$S$45,0)),"") | G12: =IFERROR(INDEX(Journal!$E$6:$E$45,MATCH(7,$S$6:$S$45,0)),"") | H12: =IFERROR(INDEX(Journal!$G$6:$G$45,MATCH(7,$S$6:$S$45,0)),"") | J12: =IFERROR(INDEX(Journal!$B$6:$B$45,MATCH(7,$T$6:$T$45,0)),"") | K12: =IFERROR(INDEX(Journal!$F$6:$F$45,MATCH(7,$T$6:$T$45,0)),"") | L12: =IFERROR(INDEX(Journal!$G$6:$G$45,MATCH(7,$T$6:$T$45,0)),"") | N12: =IFERROR(INDEX(Journal!$B$6:$B$45,MATCH(7,$U$6:$U$45,0)),"") | O12: =IFERROR(INDEX(Journal!$E$6:$E$45,MATCH(7,$U$6:$U$45,0)),"") | P12: =IFERROR(INDEX(Journal!$G$6:$G$45,MATCH(7,$U$6:$U$45,0)),"") | R12: =IF(Journal!$E12=$C$3,COUNTIF(Journal!$E$6:'Journal'!$E12,$C$3),"") | S12: =IF(Journal!$F12=$C$3,COUNTIF(Journal!$F$6:'Journal'!$F12,$C$3),"") | T12: =IF(Journal!$E12=$K$3,COUNTIF(Journal!$E$6:'Journal'!$E12,$K$3),"") | U12: =IF(Journal!$F12=$K$3,COUNTIF(Journal!$F$6:'Journal'!$F12,$K$3),"") | V12: =IF(Journal!$E12=$C$21,COUNTIF(Journal!$E$6:'Journal'!$E12,$C$21),"") -> 2 | W12: =IF(Journal!$F12=$C$21,COUNTIF(Journal!$F$6:'Journal'!$F12,$C$21),"") | X12: =IF(Journal!$E12=$K$21,COUNTIF(Journal!$E$6:'Journal'!$E12,$K$21),"") | Y12: =IF(Journal!$F12=$K$21,COUNTIF(Journal!$F$6:'Journal'!$F12,$K$21),"") | Z12: =IF(Journal!$E12=$C$39,COUNTIF(Journal!$E$6:'Journal'!$E12,$C$39),"") | AA12: =IF(Journal!$F12=$C$39,COUNTIF(Journal!$F$6:'Journal'!$F12,$C$39),"") | AB12: =IF(Journal!$E12=$K$39,COUNTIF(Journal!$E$6:'Journal'!$E12,$K$39),"") | AC12: =IF(Journal!$F12=$K$39,COUNTIF(Journal!$F$6:'Journal'!$F12,$K$39),"") | AD12: =IF(Journal!$E12=$C$57,COUNTIF(Journal!$E$6:'Journal'!$E12,$C$57),"") | AE12: =IF(Journal!$F12=$C$57,COUNTIF(Journal!$F$6:'Journal'!$F12,$C$57),"") | AF12: =IF(Journal!$E12=$K$57,COUNTIF(Journal!$E$6:'Journal'!$E12,$K$57),"") | AG12: =IF(Journal!$F12=$K$57,COUNTIF(Journal!$F$6:'Journal'!$F12,$K$57),"") | AH12: =IF(Journal!$E12=$C$75,COUNTIF(Journal!$E$6:'Journal'!$E12,$C$75),"") | AI12: =IF(Journal!$F12=$C$75,COUNTIF(Journal!$F$6:'Journal'!$F12,$C$75),"") -> 2 | AJ12: =IF(Journal!$E12=$K$75,COUNTIF(Journal!$E$6:'Journal'!$E12,$K$75),"") | AK12: =IF(Journal!$F12=$K$75,COUNTIF(Journal!$F$6:'Journal'!$F12,$K$75),"")
B13: =IFERROR(INDEX(Journal!$B$6:$B$45,MATCH(8,$R$6:$R$45,0)),"") | C13: =IFERROR(INDEX(Journal!$F$6:$F$45,MATCH(8,$R$6:$R$45,0)),"") | D13: =IFERROR(INDEX(Journal!$G$6:$G$45,MATCH(8,$R$6:$R$45,0)),"") | F13: =IFERROR(INDEX(Journal!$B$6:$B$45,MATCH(8,$S$6:$S$45,0)),"") | G13: =IFERROR(INDEX(Journal!$E$6:$E$45,MATCH(8,$S$6:$S$45,0)),"") | H13: =IFERROR(INDEX(Journal!$G$6:$G$45,MATCH(8,$S$6:$S$45,0)),"") | J13: =IFERROR(INDEX(Journal!$B$6:$B$45,MATCH(8,$T$6:$T$45,0)),"") | K13: =IFERROR(INDEX(Journal!$F$6:$F$45,MATCH(8,$T$6:$T$45,0)),"") | L13: =IFERROR(INDEX(Journal!$G$6:$G$45,MATCH(8,$T$6:$T$45,0)),"") | N13: =IFERROR(INDEX(Journal!$B$6:$B$45,MATCH(8,$U$6:$U$45,0)),"") | O13: =IFERROR(INDEX(Journal!$E$6:$E$45,MATCH(8,$U$6:$U$45,0)),"") | P13: =IFERROR(INDEX(Journal!$G$6:$G$45,MATCH(8,$U$6:$U$45,0)),"") | R13: =IF(Journal!$E13=$C$3,COUNTIF(Journal!$E$6:'Journal'!$E13,$C$3),"") | S13: =IF(Journal!$F13=$C$3,COUNTIF(Journal!$F$6:'Journal'!$F13,$C$3),"") | T13: =IF(Journal!$E13=$K$3,COUNTIF(Journal!$E$6:'Journal'!$E13,$K$3),"") | U13: =IF(Journal!$F13=$K$3,COUNTIF(Journal!$F$6:'Journal'!$F13,$K$3),"") -> 1 | V13: =IF(Journal!$E13=$C$21,COUNTIF(Journal!$E$6:'Journal'!$E13,$C$21),"") | W13: =IF(Journal!$F13=$C$21,COUNTIF(Journal!$F$6:'Journal'!$F13,$C$21),"") | X13: =IF(Journal!$E13=$K$21,COUNTIF(Journal!$E$6:'Journal'!$E13,$K$21),"") | Y13: =IF(Journal!$F13=$K$21,COUNTIF(Journal!$F$6:'Journal'!$F13,$K$21),"") | Z13: =IF(Journal!$E13=$C$39,COUNTIF(Journal!$E$6:'Journal'!$E13,$C$39),"") | AA13: =IF(Journal!$F13=$C$39,COUNTIF(Journal!$F$6:'Journal'!$F13,$C$39),"") | AB13: =IF(Journal!$E13=$K$39,COUNTIF(Journal!$E$6:'Journal'!$E13,$K$39),"") | AC13: =IF(Journal!$F13=$K$39,COUNTIF(Journal!$F$6:'Journal'!$F13,$K$39),"") | AD13: =IF(Journal!$E13=$C$57,COUNTIF(Journal!$E$6:'Journal'!$E13,$C$57),"") | AE13: =IF(Journal!$F13=$C$57,COUNTIF(Journal!$F$6:'Journal'!$F13,$C$57),"") | AF13: =IF(Journal!$E13=$K$57,COUNTIF(Journal!$E$6:'Journal'!$E13,$K$57),"") | AG13: =IF(Journal!$F13=$K$57,COUNTIF(Journal!$F$6:'Journal'!$F13,$K$57),"") | AH13: =IF(Journal!$E13=$C$75,COUNTIF(Journal!$E$6:'Journal'!$E13,$C$75),"") | AI13: =IF(Journal!$F13=$C$75,COUNTIF(Journal!$F$6:'Journal'!$F13,$C$75),"") | AJ13: =IF(Journal!$E13=$K$75,COUNTIF(Journal!$E$6:'Journal'!$E13,$K$75),"") -> 1 | AK13: =IF(Journal!$F13=$K$75,COUNTIF(Journal!$F$6:'Journal'!$F13,$K$75),"")
R14: =IF(Journal!$E14=$C$3,COUNTIF(Journal!$E$6:'Journal'!$E14,$C$3),"") | S14: =IF(Journal!$F14=$C$3,COUNTIF(Journal!$F$6:'Journal'!$F14,$C$3),"") | T14: =IF(Journal!$E14=$K$3,COUNTIF(Journal!$E$6:'Journal'!$E14,$K$3),"") | U14: =IF(Journal!$F14=$K$3,COUNTIF(Journal!$F$6:'Journal'!$F14,$K$3),"") -> 2 | V14: =IF(Journal!$E14=$C$21,COUNTIF(Journal!$E$6:'Journal'!$E14,$C$21),"") | W14: =IF(Journal!$F14=$C$21,COUNTIF(Journal!$F$6:'Journal'!$F14,$C$21),"") | X14: =IF(Journal!$E14=$K$21,COUNTIF(Journal!$E$6:'Journal'!$E14,$K$21),"") -> 1 | Y14: =IF(Journal!$F14=$K$21,COUNTIF(Journal!$F$6:'Journal'!$F14,$K$21),"") | Z14: =IF(Journal!$E14=$C$39,COUNTIF(Journal!$E$6:'Journal'!$E14,$C$39),"") | AA14: =IF(Journal!$F14=$C$39,COUNTIF(Journal!$F$6:'Journal'!$F14,$C$39),"") | AB14: =IF(Journal!$E14=$K$39,COUNTIF(Journal!$E$6:'Journal'!$E14,$K$39),"") | AC14: =IF(Journal!$F14=$K$39,COUNTIF(Journal!$F$6:'Journal'!$F14,$K$39),"") | AD14: =IF(Journal!$E14=$C$57,COUNTIF(Journal!$E$6:'Journal'!$E14,$C$57),"") | AE14: =IF(Journal!$F14=$C$57,COUNTIF(Journal!$F$6:'Journal'!$F14,$C$57),"") | AF14: =IF(Journal!$E14=$K$57,COUNTIF(Journal!$E$6:'Journal'!$E14,$K$57),"") | AG14: =IF(Journal!$F14=$K$57,COUNTIF(Journal!$F$6:'Journal'!$F14,$K$57),"") | AH14: =IF(Journal!$E14=$C$75,COUNTIF(Journal!$E$6:'Journal'!$E14,$C$75),"") | AI14: =IF(Journal!$F14=$C$75,COUNTIF(Journal!$F$6:'Journal'!$F14,$C$75),"") | AJ14: =IF(Journal!$E14=$K$75,COUNTIF(Journal!$E$6:'Journal'!$E14,$K$75),"") | AK14: =IF(Journal!$F14=$K$75,COUNTIF(Journal!$F$6:'Journal'!$F14,$K$75),"")
B15: Anfangsbestand | D15: =IFERROR(INDEX(Bilanz_EBK_SBK!$L$4:$L$11,MATCH($C$3,Bilanz_EBK_SBK!$J$4:$J$11,0)),0) -> 5000 | F15: Typ | H15: =IFERROR(INDEX(Journal!$N$4:$N$14,MATCH($C$3,Journal!$M$4:$M$14,0)),"") -> Aktiv | J15: Anfangsbestand | L15: =IFERROR(INDEX(Bilanz_EBK_SBK!$L$4:$L$11,MATCH($K$3,Bilanz_EBK_SBK!$J$4:$J$11,0)),0) -> 10000 | N15: Typ | P15: =IFERROR(INDEX(Journal!$N$4:$N$14,MATCH($K$3,Journal!$M$4:$M$14,0)),"") -> Aktiv | R15: =IF(Journal!$E15=$C$3,COUNTIF(Journal!$E$6:'Journal'!$E15,$C$3),"") | S15: =IF(Journal!$F15=$C$3,COUNTIF(Journal!$F$6:'Journal'!$F15,$C$3),"") | T15: =IF(Journal!$E15=$K$3,COUNTIF(Journal!$E$6:'Journal'!$E15,$K$3),"") | U15: =IF(Journal!$F15=$K$3,COUNTIF(Journal!$F$6:'Journal'!$F15,$K$3),"") | V15: =IF(Journal!$E15=$C$21,COUNTIF(Journal!$E$6:'Journal'!$E15,$C$21),"") | W15: =IF(Journal!$F15=$C$21,COUNTIF(Journal!$F$6:'Journal'!$F15,$C$21),"") | X15: =IF(Journal!$E15=$K$21,COUNTIF(Journal!$E$6:'Journal'!$E15,$K$21),"") | Y15: =IF(Journal!$F15=$K$21,COUNTIF(Journal!$F$6:'Journal'!$F15,$K$21),"") | Z15: =IF(Journal!$E15=$C$39,COUNTIF(Journal!$E$6:'Journal'!$E15,$C$39),"") | AA15: =IF(Journal!$F15=$C$39,COUNTIF(Journal!$F$6:'Journal'!$F15,$C$39),"") | AB15: =IF(Journal!$E15=$K$39,COUNTIF(Journal!$E$6:'Journal'!$E15,$K$39),"") | AC15: =IF(Journal!$F15=$K$39,COUNTIF(Journal!$F$6:'Journal'!$F15,$K$39),"") | AD15: =IF(Journal!$E15=$C$57,COUNTIF(Journal!$E$6:'Journal'!$E15,$C$57),"") | AE15: =IF(Journal!$F15=$C$57,COUNTIF(Journal!$F$6:'Journal'!$F15,$C$57),"") | AF15: =IF(Journal!$E15=$K$57,COUNTIF(Journal!$E$6:'Journal'!$E15,$K$57),"") | AG15: =IF(Journal!$F15=$K$57,COUNTIF(Journal!$F$6:'Journal'!$F15,$K$57),"") | AH15: =IF(Journal!$E15=$C$75,COUNTIF(Journal!$E$6:'Journal'!$E15,$C$75),"") | AI15: =IF(Journal!$F15=$C$75,COUNTIF(Journal!$F$6:'Journal'!$F15,$C$75),"") | AJ15: =IF(Journal!$E15=$K$75,COUNTIF(Journal!$E$6:'Journal'!$E15,$K$75),"") | AK15: =IF(Journal!$F15=$K$75,COUNTIF(Journal!$F$6:'Journal'!$F15,$K$75),"") -> 1
B16: Summe Soll | D16: =SUMIFS(Journal!$G$6:$G$45,Journal!$E$6:$E$45,$C$3) -> 1190 | F16: Schlusssaldo | H16: =IF(H15="Aktiv",D15+D16-D17,IF(H15="Passiv",D15-D16+D17,IF(H15="Aufwand",D16-D17,IF(H15="Ertrag",D17-D16,"")))) -> 6190 | J16: Summe Soll | L16: =SUMIFS(Journal!$G$6:$G$45,Journal!$E$6:$E$45,$K$3) -> 1500 | N16: Schlusssaldo | P16: =IF(P15="Aktiv",L15+L16-L17,IF(P15="Passiv",L15-L16+L17,IF(P15="Aufwand",L16-L17,IF(P15="Ertrag",L17-L16,"")))) -> 8048 | R16: =IF(Journal!$E16=$C$3,COUNTIF(Journal!$E$6:'Journal'!$E16,$C$3),"") | S16: =IF(Journal!$F16=$C$3,COUNTIF(Journal!$F$6:'Journal'!$F16,$C$3),"") | T16: =IF(Journal!$E16=$K$3,COUNTIF(Journal!$E$6:'Journal'!$E16,$K$3),"") | U16: =IF(Journal!$F16=$K$3,COUNTIF(Journal!$F$6:'Journal'!$F16,$K$3),"") | V16: =IF(Journal!$E16=$C$21,COUNTIF(Journal!$E$6:'Journal'!$E16,$C$21),"") | W16: =IF(Journal!$F16=$C$21,COUNTIF(Journal!$F$6:'Journal'!$F16,$C$21),"") | X16: =IF(Journal!$E16=$K$21,COUNTIF(Journal!$E$6:'Journal'!$E16,$K$21),"") | Y16: =IF(Journal!$F16=$K$21,COUNTIF(Journal!$F$6:'Journal'!$F16,$K$21),"") | Z16: =IF(Journal!$E16=$C$39,COUNTIF(Journal!$E$6:'Journal'!$E16,$C$39),"") | AA16: =IF(Journal!$F16=$C$39,COUNTIF(Journal!$F$6:'Journal'!$F16,$C$39),"") | AB16: =IF(Journal!$E16=$K$39,COUNTIF(Journal!$E$6:'Journal'!$E16,$K$39),"") | AC16: =IF(Journal!$F16=$K$39,COUNTIF(Journal!$F$6:'Journal'!$F16,$K$39),"") | AD16: =IF(Journal!$E16=$C$57,COUNTIF(Journal!$E$6:'Journal'!$E16,$C$57),"") | AE16: =IF(Journal!$F16=$C$57,COUNTIF(Journal!$F$6:'Journal'!$F16,$C$57),"") | AF16: =IF(Journal!$E16=$K$57,COUNTIF(Journal!$E$6:'Journal'!$E16,$K$57),"") | AG16: =IF(Journal!$F16=$K$57,COUNTIF(Journal!$F$6:'Journal'!$F16,$K$57),"") | AH16: =IF(Journal!$E16=$C$75,COUNTIF(Journal!$E$6:'Journal'!$E16,$C$75),"") | AI16: =IF(Journal!$F16=$C$75,COUNTIF(Journal!$F$6:'Journal'!$F16,$C$75),"") | AJ16: =IF(Journal!$E16=$K$75,COUNTIF(Journal!$E$6:'Journal'!$E16,$K$75),"") | AK16: =IF(Journal!$F16=$K$75,COUNTIF(Journal!$F$6:'Journal'!$F16,$K$75),"")
B17: Summe Haben | D17: =SUMIFS(Journal!$G$6:$G$45,Journal!$F$6:$F$45,$C$3) -> 0 | F17: Saldoart | H17: =IF(H15="","",IF(H15="Aktiv",IF(H16>=0,"Sollsaldo","Habensaldo"),IF(H15="Passiv",IF(H16>=0,"Habensaldo","Sollsaldo"),IF(H15="Aufwand","Sollsaldo","Habensaldo")))) -> Sollsaldo | J17: Summe Haben | L17: =SUMIFS(Journal!$G$6:$G$45,Journal!$F$6:$F$45,$K$3) -> 3452 | N17: Saldoart | P17: =IF(P15="","",IF(P15="Aktiv",IF(P16>=0,"Sollsaldo","Habensaldo"),IF(P15="Passiv",IF(P16>=0,"Habensaldo","Sollsaldo"),IF(P15="Aufwand","Sollsaldo","Habensaldo")))) -> Sollsaldo | R17: =IF(Journal!$E17=$C$3,COUNTIF(Journal!$E$6:'Journal'!$E17,$C$3),"") | S17: =IF(Journal!$F17=$C$3,COUNTIF(Journal!$F$6:'Journal'!$F17,$C$3),"") | T17: =IF(Journal!$E17=$K$3,COUNTIF(Journal!$E$6:'Journal'!$E17,$K$3),"") | U17: =IF(Journal!$F17=$K$3,COUNTIF(Journal!$F$6:'Journal'!$F17,$K$3),"") | V17: =IF(Journal!$E17=$C$21,COUNTIF(Journal!$E$6:'Journal'!$E17,$C$21),"") | W17: =IF(Journal!$F17=$C$21,COUNTIF(Journal!$F$6:'Journal'!$F17,$C$21),"") | X17: =IF(Journal!$E17=$K$21,COUNTIF(Journal!$E$6:'Journal'!$E17,$K$21),"") | Y17: =IF(Journal!$F17=$K$21,COUNTIF(Journal!$F$6:'Journal'!$F17,$K$21),"") | Z17: =IF(Journal!$E17=$C$39,COUNTIF(Journal!$E$6:'Journal'!$E17,$C$39),"") | AA17: =IF(Journal!$F17=$C$39,COUNTIF(Journal!$F$6:'Journal'!$F17,$C$39),"") | AB17: =IF(Journal!$E17=$K$39,COUNTIF(Journal!$E$6:'Journal'!$E17,$K$39),"") | AC17: =IF(Journal!$F17=$K$39,COUNTIF(Journal!$F$6:'Journal'!$F17,$K$39),"") | AD17: =IF(Journal!$E17=$C$57,COUNTIF(Journal!$E$6:'Journal'!$E17,$C$57),"") | AE17: =IF(Journal!$F17=$C$57,COUNTIF(Journal!$F$6:'Journal'!$F17,$C$57),"") | AF17: =IF(Journal!$E17=$K$57,COUNTIF(Journal!$E$6:'Journal'!$E17,$K$57),"") | AG17: =IF(Journal!$F17=$K$57,COUNTIF(Journal!$F$6:'Journal'!$F17,$K$57),"") | AH17: =IF(Journal!$E17=$C$75,COUNTIF(Journal!$E$6:'Journal'!$E17,$C$75),"") | AI17: =IF(Journal!$F17=$C$75,COUNTIF(Journal!$F$6:'Journal'!$F17,$C$75),"") | AJ17: =IF(Journal!$E17=$K$75,COUNTIF(Journal!$E$6:'Journal'!$E17,$K$75),"") | AK17: =IF(Journal!$F17=$K$75,COUNTIF(Journal!$F$6:'Journal'!$F17,$K$75),"")
R18: =IF(Journal!$E18=$C$3,COUNTIF(Journal!$E$6:'Journal'!$E18,$C$3),"") | S18: =IF(Journal!$F18=$C$3,COUNTIF(Journal!$F$6:'Journal'!$F18,$C$3),"") | T18: =IF(Journal!$E18=$K$3,COUNTIF(Journal!$E$6:'Journal'!$E18,$K$3),"") | U18: =IF(Journal!$F18=$K$3,COUNTIF(Journal!$F$6:'Journal'!$F18,$K$3),"") | V18: =IF(Journal!$E18=$C$21,COUNTIF(Journal!$E$6:'Journal'!$E18,$C$21),"") | W18: =IF(Journal!$F18=$C$21,COUNTIF(Journal!$F$6:'Journal'!$F18,$C$21),"") | X18: =IF(Journal!$E18=$K$21,COUNTIF(Journal!$E$6:'Journal'!$E18,$K$21),"") | Y18: =IF(Journal!$F18=$K$21,COUNTIF(Journal!$F$6:'Journal'!$F18,$K$21),"") | Z18: =IF(Journal!$E18=$C$39,COUNTIF(Journal!$E$6:'Journal'!$E18,$C$39),"") | AA18: =IF(Journal!$F18=$C$39,COUNTIF(Journal!$F$6:'Journal'!$F18,$C$39),"") | AB18: =IF(Journal!$E18=$K$39,COUNTIF(Journal!$E$6:'Journal'!$E18,$K$39),"") | AC18: =IF(Journal!$F18=$K$39,COUNTIF(Journal!$F$6:'Journal'!$F18,$K$39),"") | AD18: =IF(Journal!$E18=$C$57,COUNTIF(Journal!$E$6:'Journal'!$E18,$C$57),"") | AE18: =IF(Journal!$F18=$C$57,COUNTIF(Journal!$F$6:'Journal'!$F18,$C$57),"") | AF18: =IF(Journal!$E18=$K$57,COUNTIF(Journal!$E$6:'Journal'!$E18,$K$57),"") | AG18: =IF(Journal!$F18=$K$57,COUNTIF(Journal!$F$6:'Journal'!$F18,$K$57),"") | AH18: =IF(Journal!$E18=$C$75,COUNTIF(Journal!$E$6:'Journal'!$E18,$C$75),"") | AI18: =IF(Journal!$F18=$C$75,COUNTIF(Journal!$F$6:'Journal'!$F18,$C$75),"") | AJ18: =IF(Journal!$E18=$K$75,COUNTIF(Journal!$E$6:'Journal'!$E18,$K$75),"") | AK18: =IF(Journal!$F18=$K$75,COUNTIF(Journal!$F$6:'Journal'!$F18,$K$75),"")
R19: =IF(Journal!$E19=$C$3,COUNTIF(Journal!$E$6:'Journal'!$E19,$C$3),"") | S19: =IF(Journal!$F19=$C$3,COUNTIF(Journal!$F$6:'Journal'!$F19,$C$3),"") | T19: =IF(Journal!$E19=$K$3,COUNTIF(Journal!$E$6:'Journal'!$E19,$K$3),"") | U19: =IF(Journal!$F19=$K$3,COUNTIF(Journal!$F$6:'Journal'!$F19,$K$3),"") | V19: =IF(Journal!$E19=$C$21,COUNTIF(Journal!$E$6:'Journal'!$E19,$C$21),"") | W19: =IF(Journal!$F19=$C$21,COUNTIF(Journal!$F$6:'Journal'!$F19,$C$21),"") | X19: =IF(Journal!$E19=$K$21,COUNTIF(Journal!$E$6:'Journal'!$E19,$K$21),"") | Y19: =IF(Journal!$F19=$K$21,COUNTIF(Journal!$F$6:'Journal'!$F19,$K$21),"") | Z19: =IF(Journal!$E19=$C$39,COUNTIF(Journal!$E$6:'Journal'!$E19,$C$39),"") | AA19: =IF(Journal!$F19=$C$39,COUNTIF(Journal!$F$6:'Journal'!$F19,$C$39),"") | AB19: =IF(Journal!$E19=$K$39,COUNTIF(Journal!$E$6:'Journal'!$E19,$K$39),"") | AC19: =IF(Journal!$F19=$K$39,COUNTIF(Journal!$F$6:'Journal'!$F19,$K$39),"") | AD19: =IF(Journal!$E19=$C$57,COUNTIF(Journal!$E$6:'Journal'!$E19,$C$57),"") | AE19: =IF(Journal!$F19=$C$57,COUNTIF(Journal!$F$6:'Journal'!$F19,$C$57),"") | AF19: =IF(Journal!$E19=$K$57,COUNTIF(Journal!$E$6:'Journal'!$E19,$K$57),"") | AG19: =IF(Journal!$F19=$K$57,COUNTIF(Journal!$F$6:'Journal'!$F19,$K$57),"") | AH19: =IF(Journal!$E19=$C$75,COUNTIF(Journal!$E$6:'Journal'!$E19,$C$75),"") | AI19: =IF(Journal!$F19=$C$75,COUNTIF(Journal!$F$6:'Journal'!$F19,$C$75),"") | AJ19: =IF(Journal!$E19=$K$75,COUNTIF(Journal!$E$6:'Journal'!$E19,$K$75),"") | AK19: =IF(Journal!$F19=$K$75,COUNTIF(Journal!$F$6:'Journal'!$F19,$K$75),"")
R20: =IF(Journal!$E20=$C$3,COUNTIF(Journal!$E$6:'Journal'!$E20,$C$3),"") | S20: =IF(Journal!$F20=$C$3,COUNTIF(Journal!$F$6:'Journal'!$F20,$C$3),"") | T20: =IF(Journal!$E20=$K$3,COUNTIF(Journal!$E$6:'Journal'!$E20,$K$3),"") | U20: =IF(Journal!$F20=$K$3,COUNTIF(Journal!$F$6:'Journal'!$F20,$K$3),"") | V20: =IF(Journal!$E20=$C$21,COUNTIF(Journal!$E$6:'Journal'!$E20,$C$21),"") | W20: =IF(Journal!$F20=$C$21,COUNTIF(Journal!$F$6:'Journal'!$F20,$C$21),"") | X20: =IF(Journal!$E20=$K$21,COUNTIF(Journal!$E$6:'Journal'!$E20,$K$21),"") | Y20: =IF(Journal!$F20=$K$21,COUNTIF(Journal!$F$6:'Journal'!$F20,$K$21),"") | Z20: =IF(Journal!$E20=$C$39,COUNTIF(Journal!$E$6:'Journal'!$E20,$C$39),"") | AA20: =IF(Journal!$F20=$C$39,COUNTIF(Journal!$F$6:'Journal'!$F20,$C$39),"") | AB20: =IF(Journal!$E20=$K$39,COUNTIF(Journal!$E$6:'Journal'!$E20,$K$39),"") | AC20: =IF(Journal!$F20=$K$39,COUNTIF(Journal!$F$6:'Journal'!$F20,$K$39),"") | AD20: =IF(Journal!$E20=$C$57,COUNTIF(Journal!$E$6:'Journal'!$E20,$C$57),"") | AE20: =IF(Journal!$F20=$C$57,COUNTIF(Journal!$F$6:'Journal'!$F20,$C$57),"") | AF20: =IF(Journal!$E20=$K$57,COUNTIF(Journal!$E$6:'Journal'!$E20,$K$57),"") | AG20: =IF(Journal!$F20=$K$57,COUNTIF(Journal!$F$6:'Journal'!$F20,$K$57),"") | AH20: =IF(Journal!$E20=$C$75,COUNTIF(Journal!$E$6:'Journal'!$E20,$C$75),"") | AI20: =IF(Journal!$F20=$C$75,COUNTIF(Journal!$F$6:'Journal'!$F20,$C$75),"") | AJ20: =IF(Journal!$E20=$K$75,COUNTIF(Journal!$E$6:'Journal'!$E20,$K$75),"") | AK20: =IF(Journal!$F20=$K$75,COUNTIF(Journal!$F$6:'Journal'!$F20,$K$75),"")
B21: Kontoauswahl | C21: Forderungen | D21: =C21 -> Forderungen | J21: Kontoauswahl | K21: Verbindlichkeiten | L21: =K21 -> Verbindlichkeiten | R21: =IF(Journal!$E21=$C$3,COUNTIF(Journal!$E$6:'Journal'!$E21,$C$3),"") | S21: =IF(Journal!$F21=$C$3,COUNTIF(Journal!$F$6:'Journal'!$F21,$C$3),"") | T21: =IF(Journal!$E21=$K$3,COUNTIF(Journal!$E$6:'Journal'!$E21,$K$3),"") | U21: =IF(Journal!$F21=$K$3,COUNTIF(Journal!$F$6:'Journal'!$F21,$K$3),"") | V21: =IF(Journal!$E21=$C$21,COUNTIF(Journal!$E$6:'Journal'!$E21,$C$21),"") | W21: =IF(Journal!$F21=$C$21,COUNTIF(Journal!$F$6:'Journal'!$F21,$C$21),"") | X21: =IF(Journal!$E21=$K$21,COUNTIF(Journal!$E$6:'Journal'!$E21,$K$21),"") | Y21: =IF(Journal!$F21=$K$21,COUNTIF(Journal!$F$6:'Journal'!$F21,$K$21),"") | Z21: =IF(Journal!$E21=$C$39,COUNTIF(Journal!$E$6:'Journal'!$E21,$C$39),"") | AA21: =IF(Journal!$F21=$C$39,COUNTIF(Journal!$F$6:'Journal'!$F21,$C$39),"") | AB21: =IF(Journal!$E21=$K$39,COUNTIF(Journal!$E$6:'Journal'!$E21,$K$39),"") | AC21: =IF(Journal!$F21=$K$39,COUNTIF(Journal!$F$6:'Journal'!$F21,$K$39),"") | AD21: =IF(Journal!$E21=$C$57,COUNTIF(Journal!$E$6:'Journal'!$E21,$C$57),"") | AE21: =IF(Journal!$F21=$C$57,COUNTIF(Journal!$F$6:'Journal'!$F21,$C$57),"") | AF21: =IF(Journal!$E21=$K$57,COUNTIF(Journal!$E$6:'Journal'!$E21,$K$57),"") | AG21: =IF(Journal!$F21=$K$57,COUNTIF(Journal!$F$6:'Journal'!$F21,$K$57),"") | AH21: =IF(Journal!$E21=$C$75,COUNTIF(Journal!$E$6:'Journal'!$E21,$C$75),"") | AI21: =IF(Journal!$F21=$C$75,COUNTIF(Journal!$F$6:'Journal'!$F21,$C$75),"") | AJ21: =IF(Journal!$E21=$K$75,COUNTIF(Journal!$E$6:'Journal'!$E21,$K$75),"") | AK21: =IF(Journal!$F21=$K$75,COUNTIF(Journal!$F$6:'Journal'!$F21,$K$75),"")
B22: Soll | F22: Haben | J22: Soll | N22: Haben | R22: =IF(Journal!$E22=$C$3,COUNTIF(Journal!$E$6:'Journal'!$E22,$C$3),"") | S22: =IF(Journal!$F22=$C$3,COUNTIF(Journal!$F$6:'Journal'!$F22,$C$3),"") | T22: =IF(Journal!$E22=$K$3,COUNTIF(Journal!$E$6:'Journal'!$E22,$K$3),"") | U22: =IF(Journal!$F22=$K$3,COUNTIF(Journal!$F$6:'Journal'!$F22,$K$3),"") | V22: =IF(Journal!$E22=$C$21,COUNTIF(Journal!$E$6:'Journal'!$E22,$C$21),"") | W22: =IF(Journal!$F22=$C$21,COUNTIF(Journal!$F$6:'Journal'!$F22,$C$21),"") | X22: =IF(Journal!$E22=$K$21,COUNTIF(Journal!$E$6:'Journal'!$E22,$K$21),"") | Y22: =IF(Journal!$F22=$K$21,COUNTIF(Journal!$F$6:'Journal'!$F22,$K$21),"") | Z22: =IF(Journal!$E22=$C$39,COUNTIF(Journal!$E$6:'Journal'!$E22,$C$39),"") | AA22: =IF(Journal!$F22=$C$39,COUNTIF(Journal!$F$6:'Journal'!$F22,$C$39),"") | AB22: =IF(Journal!$E22=$K$39,COUNTIF(Journal!$E$6:'Journal'!$E22,$K$39),"") | AC22: =IF(Journal!$F22=$K$39,COUNTIF(Journal!$F$6:'Journal'!$F22,$K$39),"") | AD22: =IF(Journal!$E22=$C$57,COUNTIF(Journal!$E$6:'Journal'!$E22,$C$57),"") | AE22: =IF(Journal!$F22=$C$57,COUNTIF(Journal!$F$6:'Journal'!$F22,$C$57),"") | AF22: =IF(Journal!$E22=$K$57,COUNTIF(Journal!$E$6:'Journal'!$E22,$K$57),"") | AG22: =IF(Journal!$F22=$K$57,COUNTIF(Journal!$F$6:'Journal'!$F22,$K$57),"") | AH22: =IF(Journal!$E22=$C$75,COUNTIF(Journal!$E$6:'Journal'!$E22,$C$75),"") | AI22: =IF(Journal!$F22=$C$75,COUNTIF(Journal!$F$6:'Journal'!$F22,$C$75),"") | AJ22: =IF(Journal!$E22=$K$75,COUNTIF(Journal!$E$6:'Journal'!$E22,$K$75),"") | AK22: =IF(Journal!$F22=$K$75,COUNTIF(Journal!$F$6:'Journal'!$F22,$K$75),"")
B23: Datum | C23: Gegenkonto | D23: Betrag | F23: Datum | G23: Gegenkonto | H23: Betrag | J23: Datum | K23: Gegenkonto | L23: Betrag | N23: Datum | O23: Gegenkonto | P23: Betrag | R23: =IF(Journal!$E23=$C$3,COUNTIF(Journal!$E$6:'Journal'!$E23,$C$3),"") | S23: =IF(Journal!$F23=$C$3,COUNTIF(Journal!$F$6:'Journal'!$F23,$C$3),"") | T23: =IF(Journal!$E23=$K$3,COUNTIF(Journal!$E$6:'Journal'!$E23,$K$3),"") | U23: =IF(Journal!$F23=$K$3,COUNTIF(Journal!$F$6:'Journal'!$F23,$K$3),"") | V23: =IF(Journal!$E23=$C$21,COUNTIF(Journal!$E$6:'Journal'!$E23,$C$21),"") | W23: =IF(Journal!$F23=$C$21,COUNTIF(Journal!$F$6:'Journal'!$F23,$C$21),"") | X23: =IF(Journal!$E23=$K$21,COUNTIF(Journal!$E$6:'Journal'!$E23,$K$21),"") | Y23: =IF(Journal!$F23=$K$21,COUNTIF(Journal!$F$6:'Journal'!$F23,$K$21),"") | Z23: =IF(Journal!$E23=$C$39,COUNTIF(Journal!$E$6:'Journal'!$E23,$C$39),"") | AA23: =IF(Journal!$F23=$C$39,COUNTIF(Journal!$F$6:'Journal'!$F23,$C$39),"") | AB23: =IF(Journal!$E23=$K$39,COUNTIF(Journal!$E$6:'Journal'!$E23,$K$39),"") | AC23: =IF(Journal!$F23=$K$39,COUNTIF(Journal!$F$6:'Journal'!$F23,$K$39),"") | AD23: =IF(Journal!$E23=$C$57,COUNTIF(Journal!$E$6:'Journal'!$E23,$C$57),"") | AE23: =IF(Journal!$F23=$C$57,COUNTIF(Journal!$F$6:'Journal'!$F23,$C$57),"") | AF23: =IF(Journal!$E23=$K$57,COUNTIF(Journal!$E$6:'Journal'!$E23,$K$57),"") | AG23: =IF(Journal!$F23=$K$57,COUNTIF(Journal!$F$6:'Journal'!$F23,$K$57),"") | AH23: =IF(Journal!$E23=$C$75,COUNTIF(Journal!$E$6:'Journal'!$E23,$C$75),"") | AI23: =IF(Journal!$F23=$C$75,COUNTIF(Journal!$F$6:'Journal'!$F23,$C$75),"") | AJ23: =IF(Journal!$E23=$K$75,COUNTIF(Journal!$E$6:'Journal'!$E23,$K$75),"") | AK23: =IF(Journal!$F23=$K$75,COUNTIF(Journal!$F$6:'Journal'!$F23,$K$75),"")
B24: =IFERROR(INDEX(Journal!$B$6:$B$45,MATCH(1,$V$6:$V$45,0)),"") -> 12.01.2026 | C24: =IFERROR(INDEX(Journal!$F$6:$F$45,MATCH(1,$V$6:$V$45,0)),"") -> Umsatzerlöse | D24: =IFERROR(INDEX(Journal!$G$6:$G$45,MATCH(1,$V$6:$V$45,0)),"") -> 2000 | F24: =IFERROR(INDEX(Journal!$B$6:$B$45,MATCH(1,$W$6:$W$45,0)),"") -> 10.01.2026 | G24: =IFERROR(INDEX(Journal!$E$6:$E$45,MATCH(1,$W$6:$W$45,0)),"") -> Bank | H24: =IFERROR(INDEX(Journal!$G$6:$G$45,MATCH(1,$W$6:$W$45,0)),"") -> 1500 | J24: =IFERROR(INDEX(Journal!$B$6:$B$45,MATCH(1,$X$6:$X$45,0)),"") -> 20.01.2026 | K24: =IFERROR(INDEX(Journal!$F$6:$F$45,MATCH(1,$X$6:$X$45,0)),"") -> Bank | L24: =IFERROR(INDEX(Journal!$G$6:$G$45,MATCH(1,$X$6:$X$45,0)),"") -> 952 | N24: =IFERROR(INDEX(Journal!$B$6:$B$45,MATCH(1,$Y$6:$Y$45,0)),"") -> 08.01.2026 | O24: =IFERROR(INDEX(Journal!$E$6:$E$45,MATCH(1,$Y$6:$Y$45,0)),"") -> Wareneinsatz | P24: =IFERROR(INDEX(Journal!$G$6:$G$45,MATCH(1,$Y$6:$Y$45,0)),"") -> 800 | R24: =IF(Journal!$E24=$C$3,COUNTIF(Journal!$E$6:'Journal'!$E24,$C$3),"") | S24: =IF(Journal!$F24=$C$3,COUNTIF(Journal!$F$6:'Journal'!$F24,$C$3),"") | T24: =IF(Journal!$E24=$K$3,COUNTIF(Journal!$E$6:'Journal'!$E24,$K$3),"") | U24: =IF(Journal!$F24=$K$3,COUNTIF(Journal!$F$6:'Journal'!$F24,$K$3),"") | V24: =IF(Journal!$E24=$C$21,COUNTIF(Journal!$E$6:'Journal'!$E24,$C$21),"") | W24: =IF(Journal!$F24=$C$21,COUNTIF(Journal!$F$6:'Journal'!$F24,$C$21),"") | X24: =IF(Journal!$E24=$K$21,COUNTIF(Journal!$E$6:'Journal'!$E24,$K$21),"") | Y24: =IF(Journal!$F24=$K$21,COUNTIF(Journal!$F$6:'Journal'!$F24,$K$21),"") | Z24: =IF(Journal!$E24=$C$39,COUNTIF(Journal!$E$6:'Journal'!$E24,$C$39),"") | AA24: =IF(Journal!$F24=$C$39,COUNTIF(Journal!$F$6:'Journal'!$F24,$C$39),"") | AB24: =IF(Journal!$E24=$K$39,COUNTIF(Journal!$E$6:'Journal'!$E24,$K$39),"") | AC24: =IF(Journal!$F24=$K$39,COUNTIF(Journal!$F$6:'Journal'!$F24,$K$39),"") | AD24: =IF(Journal!$E24=$C$57,COUNTIF(Journal!$E$6:'Journal'!$E24,$C$57),"") | AE24: =IF(Journal!$F24=$C$57,COUNTIF(Journal!$F$6:'Journal'!$F24,$C$57),"") | AF24: =IF(Journal!$E24=$K$57,COUNTIF(Journal!$E$6:'Journal'!$E24,$K$57),"") | AG24: =IF(Journal!$F24=$K$57,COUNTIF(Journal!$F$6:'Journal'!$F24,$K$57),"") | AH24: =IF(Journal!$E24=$C$75,COUNTIF(Journal!$E$6:'Journal'!$E24,$C$75),"") | AI24: =IF(Journal!$F24=$C$75,COUNTIF(Journal!$F$6:'Journal'!$F24,$C$75),"") | AJ24: =IF(Journal!$E24=$K$75,COUNTIF(Journal!$E$6:'Journal'!$E24,$K$75),"") | AK24: =IF(Journal!$F24=$K$75,COUNTIF(Journal!$F$6:'Journal'!$F24,$K$75),"")
B25: =IFERROR(INDEX(Journal!$B$6:$B$45,MATCH(2,$V$6:$V$45,0)),"") -> 12.01.2026 | C25: =IFERROR(INDEX(Journal!$F$6:$F$45,MATCH(2,$V$6:$V$45,0)),"") -> Umsatzsteuer | D25: =IFERROR(INDEX(Journal!$G$6:$G$45,MATCH(2,$V$6:$V$45,0)),"") -> 380 | F25: =IFERROR(INDEX(Journal!$B$6:$B$45,MATCH(2,$W$6:$W$45,0)),"") | G25: =IFERROR(INDEX(Journal!$E$6:$E$45,MATCH(2,$W$6:$W$45,0)),"") | H25: =IFERROR(INDEX(Journal!$G$6:$G$45,MATCH(2,$W$6:$W$45,0)),"") | J25: =IFERROR(INDEX(Journal!$B$6:$B$45,MATCH(2,$X$6:$X$45,0)),"") | K25: =IFERROR(INDEX(Journal!$F$6:$F$45,MATCH(2,$X$6:$X$45,0)),"") | L25: =IFERROR(INDEX(Journal!$G$6:$G$45,MATCH(2,$X$6:$X$45,0)),"") | N25: =IFERROR(INDEX(Journal!$B$6:$B$45,MATCH(2,$Y$6:$Y$45,0)),"") -> 08.01.2026 | O25: =IFERROR(INDEX(Journal!$E$6:$E$45,MATCH(2,$Y$6:$Y$45,0)),"") -> Vorsteuer | P25: =IFERROR(INDEX(Journal!$G$6:$G$45,MATCH(2,$Y$6:$Y$45,0)),"") -> 152 | R25: =IF(Journal!$E25=$C$3,COUNTIF(Journal!$E$6:'Journal'!$E25,$C$3),"") | S25: =IF(Journal!$F25=$C$3,COUNTIF(Journal!$F$6:'Journal'!$F25,$C$3),"") | T25: =IF(Journal!$E25=$K$3,COUNTIF(Journal!$E$6:'Journal'!$E25,$K$3),"") | U25: =IF(Journal!$F25=$K$3,COUNTIF(Journal!$F$6:'Journal'!$F25,$K$3),"") | V25: =IF(Journal!$E25=$C$21,COUNTIF(Journal!$E$6:'Journal'!$E25,$C$21),"") | W25: =IF(Journal!$F25=$C$21,COUNTIF(Journal!$F$6:'Journal'!$F25,$C$21),"") | X25: =IF(Journal!$E25=$K$21,COUNTIF(Journal!$E$6:'Journal'!$E25,$K$21),"") | Y25: =IF(Journal!$F25=$K$21,COUNTIF(Journal!$F$6:'Journal'!$F25,$K$21),"") | Z25: =IF(Journal!$E25=$C$39,COUNTIF(Journal!$E$6:'Journal'!$E25,$C$39),"") | AA25: =IF(Journal!$F25=$C$39,COUNTIF(Journal!$F$6:'Journal'!$F25,$C$39),"") | AB25: =IF(Journal!$E25=$K$39,COUNTIF(Journal!$E$6:'Journal'!$E25,$K$39),"") | AC25: =IF(Journal!$F25=$K$39,COUNTIF(Journal!$F$6:'Journal'!$F25,$K$39),"") | AD25: =IF(Journal!$E25=$C$57,COUNTIF(Journal!$E$6:'Journal'!$E25,$C$57),"") | AE25: =IF(Journal!$F25=$C$57,COUNTIF(Journal!$F$6:'Journal'!$F25,$C$57),"") | AF25: =IF(Journal!$E25=$K$57,COUNTIF(Journal!$E$6:'Journal'!$E25,$K$57),"") | AG25: =IF(Journal!$F25=$K$57,COUNTIF(Journal!$F$6:'Journal'!$F25,$K$57),"") | AH25: =IF(Journal!$E25=$C$75,COUNTIF(Journal!$E$6:'Journal'!$E25,$C$75),"") | AI25: =IF(Journal!$F25=$C$75,COUNTIF(Journal!$F$6:'Journal'!$F25,$C$75),"") | AJ25: =IF(Journal!$E25=$K$75,COUNTIF(Journal!$E$6:'Journal'!$E25,$K$75),"") | AK25: =IF(Journal!$F25=$K$75,COUNTIF(Journal!$F$6:'Journal'!$F25,$K$75),"")
B26: =IFERROR(INDEX(Journal!$B$6:$B$45,MATCH(3,$V$6:$V$45,0)),"") | C26: =IFERROR(INDEX(Journal!$F$6:$F$45,MATCH(3,$V$6:$V$45,0)),"") | D26: =IFERROR(INDEX(Journal!$G$6:$G$45,MATCH(3,$V$6:$V$45,0)),"") | F26: =IFERROR(INDEX(Journal!$B$6:$B$45,MATCH(3,$W$6:$W$45,0)),"") | G26: =IFERROR(INDEX(Journal!$E$6:$E$45,MATCH(3,$W$6:$W$45,0)),"") | H26: =IFERROR(INDEX(Journal!$G$6:$G$45,MATCH(3,$W$6:$W$45,0)),"") | J26: =IFERROR(INDEX(Journal!$B$6:$B$45,MATCH(3,$X$6:$X$45,0)),"") | K26: =IFERROR(INDEX(Journal!$F$6:$F$45,MATCH(3,$X$6:$X$45,0)),"") | L26: =IFERROR(INDEX(Journal!$G$6:$G$45,MATCH(3,$X$6:$X$45,0)),"") | N26: =IFERROR(INDEX(Journal!$B$6:$B$45,MATCH(3,$Y$6:$Y$45,0)),"") | O26: =IFERROR(INDEX(Journal!$E$6:$E$45,MATCH(3,$Y$6:$Y$45,0)),"") | P26: =IFERROR(INDEX(Journal!$G$6:$G$45,MATCH(3,$Y$6:$Y$45,0)),"") | R26: =IF(Journal!$E26=$C$3,COUNTIF(Journal!$E$6:'Journal'!$E26,$C$3),"") | S26: =IF(Journal!$F26=$C$3,COUNTIF(Journal!$F$6:'Journal'!$F26,$C$3),"") | T26: =IF(Journal!$E26=$K$3,COUNTIF(Journal!$E$6:'Journal'!$E26,$K$3),"") | U26: =IF(Journal!$F26=$K$3,COUNTIF(Journal!$F$6:'Journal'!$F26,$K$3),"") | V26: =IF(Journal!$E26=$C$21,COUNTIF(Journal!$E$6:'Journal'!$E26,$C$21),"") | W26: =IF(Journal!$F26=$C$21,COUNTIF(Journal!$F$6:'Journal'!$F26,$C$21),"") | X26: =IF(Journal!$E26=$K$21,COUNTIF(Journal!$E$6:'Journal'!$E26,$K$21),"") | Y26: =IF(Journal!$F26=$K$21,COUNTIF(Journal!$F$6:'Journal'!$F26,$K$21),"") | Z26: =IF(Journal!$E26=$C$39,COUNTIF(Journal!$E$6:'Journal'!$E26,$C$39),"") | AA26: =IF(Journal!$F26=$C$39,COUNTIF(Journal!$F$6:'Journal'!$F26,$C$39),"") | AB26: =IF(Journal!$E26=$K$39,COUNTIF(Journal!$E$6:'Journal'!$E26,$K$39),"") | AC26: =IF(Journal!$F26=$K$39,COUNTIF(Journal!$F$6:'Journal'!$F26,$K$39),"") | AD26: =IF(Journal!$E26=$C$57,COUNTIF(Journal!$E$6:'Journal'!$E26,$C$57),"") | AE26: =IF(Journal!$F26=$C$57,COUNTIF(Journal!$F$6:'Journal'!$F26,$C$57),"") | AF26: =IF(Journal!$E26=$K$57,COUNTIF(Journal!$E$6:'Journal'!$E26,$K$57),"") | AG26: =IF(Journal!$F26=$K$57,COUNTIF(Journal!$F$6:'Journal'!$F26,$K$57),"") | AH26: =IF(Journal!$E26=$C$75,COUNTIF(Journal!$E$6:'Journal'!$E26,$C$75),"") | AI26: =IF(Journal!$F26=$C$75,COUNTIF(Journal!$F$6:'Journal'!$F26,$C$75),"") | AJ26: =IF(Journal!$E26=$K$75,COUNTIF(Journal!$E$6:'Journal'!$E26,$K$75),"") | AK26: =IF(Journal!$F26=$K$75,COUNTIF(Journal!$F$6:'Journal'!$F26,$K$75),"")
B27: =IFERROR(INDEX(Journal!$B$6:$B$45,MATCH(4,$V$6:$V$45,0)),"") | C27: =IFERROR(INDEX(Journal!$F$6:$F$45,MATCH(4,$V$6:$V$45,0)),"") | D27: =IFERROR(INDEX(Journal!$G$6:$G$45,MATCH(4,$V$6:$V$45,0)),"") | F27: =IFERROR(INDEX(Journal!$B$6:$B$45,MATCH(4,$W$6:$W$45,0)),"") | G27: =IFERROR(INDEX(Journal!$E$6:$E$45,MATCH(4,$W$6:$W$45,0)),"") | H27: =IFERROR(INDEX(Journal!$G$6:$G$45,MATCH(4,$W$6:$W$45,0)),"") | J27: =IFERROR(INDEX(Journal!$B$6:$B$45,MATCH(4,$X$6:$X$45,0)),"") | K27: =IFERROR(INDEX(Journal!$F$6:$F$45,MATCH(4,$X$6:$X$45,0)),"") | L27: =IFERROR(INDEX(Journal!$G$6:$G$45,MATCH(4,$X$6:$X$45,0)),"") | N27: =IFERROR(INDEX(Journal!$B$6:$B$45,MATCH(4,$Y$6:$Y$45,0)),"") | O27: =IFERROR(INDEX(Journal!$E$6:$E$45,MATCH(4,$Y$6:$Y$45,0)),"") | P27: =IFERROR(INDEX(Journal!$G$6:$G$45,MATCH(4,$Y$6:$Y$45,0)),"") | R27: =IF(Journal!$E27=$C$3,COUNTIF(Journal!$E$6:'Journal'!$E27,$C$3),"") | S27: =IF(Journal!$F27=$C$3,COUNTIF(Journal!$F$6:'Journal'!$F27,$C$3),"") | T27: =IF(Journal!$E27=$K$3,COUNTIF(Journal!$E$6:'Journal'!$E27,$K$3),"") | U27: =IF(Journal!$F27=$K$3,COUNTIF(Journal!$F$6:'Journal'!$F27,$K$3),"") | V27: =IF(Journal!$E27=$C$21,COUNTIF(Journal!$E$6:'Journal'!$E27,$C$21),"") | W27: =IF(Journal!$F27=$C$21,COUNTIF(Journal!$F$6:'Journal'!$F27,$C$21),"") | X27: =IF(Journal!$E27=$K$21,COUNTIF(Journal!$E$6:'Journal'!$E27,$K$21),"") | Y27: =IF(Journal!$F27=$K$21,COUNTIF(Journal!$F$6:'Journal'!$F27,$K$21),"") | Z27: =IF(Journal!$E27=$C$39,COUNTIF(Journal!$E$6:'Journal'!$E27,$C$39),"") | AA27: =IF(Journal!$F27=$C$39,COUNTIF(Journal!$F$6:'Journal'!$F27,$C$39),"") | AB27: =IF(Journal!$E27=$K$39,COUNTIF(Journal!$E$6:'Journal'!$E27,$K$39),"") | AC27: =IF(Journal!$F27=$K$39,COUNTIF(Journal!$F$6:'Journal'!$F27,$K$39),"") | AD27: =IF(Journal!$E27=$C$57,COUNTIF(Journal!$E$6:'Journal'!$E27,$C$57),"") | AE27: =IF(Journal!$F27=$C$57,COUNTIF(Journal!$F$6:'Journal'!$F27,$C$57),"") | AF27: =IF(Journal!$E27=$K$57,COUNTIF(Journal!$E$6:'Journal'!$E27,$K$57),"") | AG27: =IF(Journal!$F27=$K$57,COUNTIF(Journal!$F$6:'Journal'!$F27,$K$57),"") | AH27: =IF(Journal!$E27=$C$75,COUNTIF(Journal!$E$6:'Journal'!$E27,$C$75),"") | AI27: =IF(Journal!$F27=$C$75,COUNTIF(Journal!$F$6:'Journal'!$F27,$C$75),"") | AJ27: =IF(Journal!$E27=$K$75,COUNTIF(Journal!$E$6:'Journal'!$E27,$K$75),"") | AK27: =IF(Journal!$F27=$K$75,COUNTIF(Journal!$F$6:'Journal'!$F27,$K$75),"")
B28: =IFERROR(INDEX(Journal!$B$6:$B$45,MATCH(5,$V$6:$V$45,0)),"") | C28: =IFERROR(INDEX(Journal!$F$6:$F$45,MATCH(5,$V$6:$V$45,0)),"") | D28: =IFERROR(INDEX(Journal!$G$6:$G$45,MATCH(5,$V$6:$V$45,0)),"") | F28: =IFERROR(INDEX(Journal!$B$6:$B$45,MATCH(5,$W$6:$W$45,0)),"") | G28: =IFERROR(INDEX(Journal!$E$6:$E$45,MATCH(5,$W$6:$W$45,0)),"") | H28: =IFERROR(INDEX(Journal!$G$6:$G$45,MATCH(5,$W$6:$W$45,0)),"") | J28: =IFERROR(INDEX(Journal!$B$6:$B$45,MATCH(5,$X$6:$X$45,0)),"") | K28: =IFERROR(INDEX(Journal!$F$6:$F$45,MATCH(5,$X$6:$X$45,0)),"") | L28: =IFERROR(INDEX(Journal!$G$6:$G$45,MATCH(5,$X$6:$X$45,0)),"") | N28: =IFERROR(INDEX(Journal!$B$6:$B$45,MATCH(5,$Y$6:$Y$45,0)),"") | O28: =IFERROR(INDEX(Journal!$E$6:$E$45,MATCH(5,$Y$6:$Y$45,0)),"") | P28: =IFERROR(INDEX(Journal!$G$6:$G$45,MATCH(5,$Y$6:$Y$45,0)),"") | R28: =IF(Journal!$E28=$C$3,COUNTIF(Journal!$E$6:'Journal'!$E28,$C$3),"") | S28: =IF(Journal!$F28=$C$3,COUNTIF(Journal!$F$6:'Journal'!$F28,$C$3),"") | T28: =IF(Journal!$E28=$K$3,COUNTIF(Journal!$E$6:'Journal'!$E28,$K$3),"") | U28: =IF(Journal!$F28=$K$3,COUNTIF(Journal!$F$6:'Journal'!$F28,$K$3),"") | V28: =IF(Journal!$E28=$C$21,COUNTIF(Journal!$E$6:'Journal'!$E28,$C$21),"") | W28: =IF(Journal!$F28=$C$21,COUNTIF(Journal!$F$6:'Journal'!$F28,$C$21),"") | X28: =IF(Journal!$E28=$K$21,COUNTIF(Journal!$E$6:'Journal'!$E28,$K$21),"") | Y28: =IF(Journal!$F28=$K$21,COUNTIF(Journal!$F$6:'Journal'!$F28,$K$21),"") | Z28: =IF(Journal!$E28=$C$39,COUNTIF(Journal!$E$6:'Journal'!$E28,$C$39),"") | AA28: =IF(Journal!$F28=$C$39,COUNTIF(Journal!$F$6:'Journal'!$F28,$C$39),"") | AB28: =IF(Journal!$E28=$K$39,COUNTIF(Journal!$E$6:'Journal'!$E28,$K$39),"") | AC28: =IF(Journal!$F28=$K$39,COUNTIF(Journal!$F$6:'Journal'!$F28,$K$39),"") | AD28: =IF(Journal!$E28=$C$57,COUNTIF(Journal!$E$6:'Journal'!$E28,$C$57),"") | AE28: =IF(Journal!$F28=$C$57,COUNTIF(Journal!$F$6:'Journal'!$F28,$C$57),"") | AF28: =IF(Journal!$E28=$K$57,COUNTIF(Journal!$E$6:'Journal'!$E28,$K$57),"") | AG28: =IF(Journal!$F28=$K$57,COUNTIF(Journal!$F$6:'Journal'!$F28,$K$57),"") | AH28: =IF(Journal!$E28=$C$75,COUNTIF(Journal!$E$6:'Journal'!$E28,$C$75),"") | AI28: =IF(Journal!$F28=$C$75,COUNTIF(Journal!$F$6:'Journal'!$F28,$C$75),"") | AJ28: =IF(Journal!$E28=$K$75,COUNTIF(Journal!$E$6:'Journal'!$E28,$K$75),"") | AK28: =IF(Journal!$F28=$K$75,COUNTIF(Journal!$F$6:'Journal'!$F28,$K$75),"")
B29: =IFERROR(INDEX(Journal!$B$6:$B$45,MATCH(6,$V$6:$V$45,0)),"") | C29: =IFERROR(INDEX(Journal!$F$6:$F$45,MATCH(6,$V$6:$V$45,0)),"") | D29: =IFERROR(INDEX(Journal!$G$6:$G$45,MATCH(6,$V$6:$V$45,0)),"") | F29: =IFERROR(INDEX(Journal!$B$6:$B$45,MATCH(6,$W$6:$W$45,0)),"") | G29: =IFERROR(INDEX(Journal!$E$6:$E$45,MATCH(6,$W$6:$W$45,0)),"") | H29: =IFERROR(INDEX(Journal!$G$6:$G$45,MATCH(6,$W$6:$W$45,0)),"") | J29: =IFERROR(INDEX(Journal!$B$6:$B$45,MATCH(6,$X$6:$X$45,0)),"") | K29: =IFERROR(INDEX(Journal!$F$6:$F$45,MATCH(6,$X$6:$X$45,0)),"") | L29: =IFERROR(INDEX(Journal!$G$6:$G$45,MATCH(6,$X$6:$X$45,0)),"") | N29: =IFERROR(INDEX(Journal!$B$6:$B$45,MATCH(6,$Y$6:$Y$45,0)),"") | O29: =IFERROR(INDEX(Journal!$E$6:$E$45,MATCH(6,$Y$6:$Y$45,0)),"") | P29: =IFERROR(INDEX(Journal!$G$6:$G$45,MATCH(6,$Y$6:$Y$45,0)),"") | R29: =IF(Journal!$E29=$C$3,COUNTIF(Journal!$E$6:'Journal'!$E29,$C$3),"") | S29: =IF(Journal!$F29=$C$3,COUNTIF(Journal!$F$6:'Journal'!$F29,$C$3),"") | T29: =IF(Journal!$E29=$K$3,COUNTIF(Journal!$E$6:'Journal'!$E29,$K$3),"") | U29: =IF(Journal!$F29=$K$3,COUNTIF(Journal!$F$6:'Journal'!$F29,$K$3),"") | V29: =IF(Journal!$E29=$C$21,COUNTIF(Journal!$E$6:'Journal'!$E29,$C$21),"") | W29: =IF(Journal!$F29=$C$21,COUNTIF(Journal!$F$6:'Journal'!$F29,$C$21),"") | X29: =IF(Journal!$E29=$K$21,COUNTIF(Journal!$E$6:'Journal'!$E29,$K$21),"") | Y29: =IF(Journal!$F29=$K$21,COUNTIF(Journal!$F$6:'Journal'!$F29,$K$21),"") | Z29: =IF(Journal!$E29=$C$39,COUNTIF(Journal!$E$6:'Journal'!$E29,$C$39),"") | AA29: =IF(Journal!$F29=$C$39,COUNTIF(Journal!$F$6:'Journal'!$F29,$C$39),"") | AB29: =IF(Journal!$E29=$K$39,COUNTIF(Journal!$E$6:'Journal'!$E29,$K$39),"") | AC29: =IF(Journal!$F29=$K$39,COUNTIF(Journal!$F$6:'Journal'!$F29,$K$39),"") | AD29: =IF(Journal!$E29=$C$57,COUNTIF(Journal!$E$6:'Journal'!$E29,$C$57),"") | AE29: =IF(Journal!$F29=$C$57,COUNTIF(Journal!$F$6:'Journal'!$F29,$C$57),"") | AF29: =IF(Journal!$E29=$K$57,COUNTIF(Journal!$E$6:'Journal'!$E29,$K$57),"") | AG29: =IF(Journal!$F29=$K$57,COUNTIF(Journal!$F$6:'Journal'!$F29,$K$57),"") | AH29: =IF(Journal!$E29=$C$75,COUNTIF(Journal!$E$6:'Journal'!$E29,$C$75),"") | AI29: =IF(Journal!$F29=$C$75,COUNTIF(Journal!$F$6:'Journal'!$F29,$C$75),"") | AJ29: =IF(Journal!$E29=$K$75,COUNTIF(Journal!$E$6:'Journal'!$E29,$K$75),"") | AK29: =IF(Journal!$F29=$K$75,COUNTIF(Journal!$F$6:'Journal'!$F29,$K$75),"")
