Workbook
Name Monate: Listen!$A$1:$A$12
Name StatusCodes: Listen!$C$1:$C$6

Sheet Anwesenheitsliste
A1: Anwesenheitsliste
A2: Jahr | B2: 2026 | D2: Schnellstart: Jahr und Monat wählen, danach pro Person einen Code je Tag eintragen.
A3: Monat | B3: April
A4: Mitarbeitende | C4: ="Tagesstatus · "&$B$3&" "&$B$2 -> Tagesstatus · April 2026 | AH4: Summen
A5: Name | B5: Bereich / Notiz | C5: =IF(C6="","",CHOOSE(WEEKDAY(C6,2),"Mo","Di","Mi","Do","Fr","Sa","So")) -> Mi | D5: =IF(D6="","",CHOOSE(WEEKDAY(D6,2),"Mo","Di","Mi","Do","Fr","Sa","So")) -> Do | E5: =IF(E6="","",CHOOSE(WEEKDAY(E6,2),"Mo","Di","Mi","Do","Fr","Sa","So")) -> Fr | F5: =IF(F6="","",CHOOSE(WEEKDAY(F6,2),"Mo","Di","Mi","Do","Fr","Sa","So")) -> Sa | G5: =IF(G6="","",CHOOSE(WEEKDAY(G6,2),"Mo","Di","Mi","Do","Fr","Sa","So")) -> So | H5: =IF(H6="","",CHOOSE(WEEKDAY(H6,2),"Mo","Di","Mi","Do","Fr","Sa","So")) -> Mo | I5: =IF(I6="","",CHOOSE(WEEKDAY(I6,2),"Mo","Di","Mi","Do","Fr","Sa","So")) -> Di | J5: =IF(J6="","",CHOOSE(WEEKDAY(J6,2),"Mo","Di","Mi","Do","Fr","Sa","So")) -> Mi | ... AG5: =IF(AG6="","",CHOOSE(WEEKDAY(AG6,2),"Mo","Di","Mi","Do","Fr","Sa","So")) | AH5: A | AI5: K | AJ5: U | AK5: HO
C6: =IF(COLUMN()-COLUMN($C$6)+1<=DAY(EOMONTH(DATE($B$2,MATCH($B$3,Listen!$A$1:$A$12,0),1),0)),DATE($B$2,MATCH($B$3,Listen!$A$1:$A$12,0),COLUMN()-COLUMN($C$6)+1),"") -> 46113 | D6: =IF(COLUMN()-COLUMN($C$6)+1<=DAY(EOMONTH(DATE($B$2,MATCH($B$3,Listen!$A$1:$A$12,0),1),0)),DATE($B$2,MATCH($B$3,Listen!$A$1:$A$12,0),COLUMN()-COLUMN($C$6)+1),"") -> 46114 | E6: =IF(COLUMN()-COLUMN($C$6)+1<=DAY(EOMONTH(DATE($B$2,MATCH($B$3,Listen!$A$1:$A$12,0),1),0)),DATE($B$2,MATCH($B$3,Listen!$A$1:$A$12,0),COLUMN()-COLUMN($C$6)+1),"") -> 46115 | F6: =IF(COLUMN()-COLUMN($C$6)+1<=DAY(EOMONTH(DATE($B$2,MATCH($B$3,Listen!$A$1:$A$12,0),1),0)),DATE($B$2,MATCH($B$3,Listen!$A$1:$A$12,0),COLUMN()-COLUMN($C$6)+1),"") -> 46116 | G6: =IF(COLUMN()-COLUMN($C$6)+1<=DAY(EOMONTH(DATE($B$2,MATCH($B$3,Listen!$A$1:$A$12,0),1),0)),DATE($B$2,MATCH($B$3,Listen!$A$1:$A$12,0),COLUMN()-COLUMN($C$6)+1),"") -> 46117 | H6: =IF(COLUMN()-COLUMN($C$6)+1<=DAY(EOMONTH(DATE($B$2,MATCH($B$3,Listen!$A$1:$A$12,0),1),0)),DATE($B$2,MATCH($B$3,Listen!$A$1:$A$12,0),COLUMN()-COLUMN($C$6)+1),"") -> 46118 | I6: =IF(COLUMN()-COLUMN($C$6)+1<=DAY(EOMONTH(DATE($B$2,MATCH($B$3,Listen!$A$1:$A$12,0),1),0)),DATE($B$2,MATCH($B$3,Listen!$A$1:$A$12,0),COLUMN()-COLUMN($C$6)+1),"") -> 46119 | J6: =IF(COLUMN()-COLUMN($C$6)+1<=DAY(EOMONTH(DATE($B$2,MATCH($B$3,Listen!$A$1:$A$12,0),1),0)),DATE($B$2,MATCH($B$3,Listen!$A$1:$A$12,0),COLUMN()-COLUMN($C$6)+1),"") -> 46120 | ... AG6: =IF(COLUMN()-COLUMN($C$6)+1<=DAY(EOMONTH(DATE($B$2,MATCH($B$3,Listen!$A$1:$A$12,0),1),0)),DATE($B$2,MATCH($B$3,Listen!$A$1:$A$12,0),COLUMN()-COLUMN($C$6)+1),"")
A7: Lukas | H7: U | AH7: =COUNTIF($C7:$AG7,"A") -> 0 | AI7: =COUNTIF($C7:$AG7,"K") -> 0 | AJ7: =COUNTIF($C7:$AG7,"U") -> 1 | AK7: =COUNTIF($C7:$AG7,"HO") -> 0
A8: Maria | I8: A | V8: U | W8: U | X8: U | Y8: U | Z8: U | AH8: =COUNTIF($C8:$AG8,"A") -> 1 | AI8: =COUNTIF($C8:$AG8,"K") -> 0 | AJ8: =COUNTIF($C8:$AG8,"U") -> 5 | AK8: =COUNTIF($C8:$AG8,"HO") -> 0
A9: Thomas | H9: HO | O9: U | P9: U | Q9: U | R9: U | AH9: =COUNTIF($C9:$AG9,"A") -> 0 | AI9: =COUNTIF($C9:$AG9,"K") -> 0 | AJ9: =COUNTIF($C9:$AG9,"U") -> 4 | AK9: =COUNTIF($C9:$AG9,"HO") -> 1
A10: Robert | J10: K | P10: F | AH10: =COUNTIF($C10:$AG10,"A") -> 0 | AI10: =COUNTIF($C10:$AG10,"K") -> 1 | AJ10: =COUNTIF($C10:$AG10,"U") -> 0 | AK10: =COUNTIF($C10:$AG10,"HO") -> 0
A11: Dejen | H11: U | O11: HO | W11: S | X11: S | AH11: =COUNTIF($C11:$AG11,"A") -> 0 | AI11: =COUNTIF($C11:$AG11,"K") -> 0 | AJ11: =COUNTIF($C11:$AG11,"U") -> 1 | AK11: =COUNTIF($C11:$AG11,"HO") -> 1
A12: Manuel | I12: A | Q12: K | V12: K | W12: K | AH12: =COUNTIF($C12:$AG12,"A") -> 1 | AI12: =COUNTIF($C12:$AG12,"K") -> 3 | AJ12: =COUNTIF($C12:$AG12,"U") -> 0 | AK12: =COUNTIF($C12:$AG12,"HO") -> 0
A13: Lena | H13: HO | AH13: =COUNTIF($C13:$AG13,"A") -> 0 | AI13: =COUNTIF($C13:$AG13,"K") -> 0 | AJ13: =COUNTIF($C13:$AG13,"U") -> 0 | AK13: =COUNTIF($C13:$AG13,"HO") -> 1
A14: Stefan | J14: K | AH14: =COUNTIF($C14:$AG14,"A") -> 0 | AI14: =COUNTIF($C14:$AG14,"K") -> 1 | AJ14: =COUNTIF($C14:$AG14,"U") -> 0 | AK14: =COUNTIF($C14:$AG14,"HO") -> 0
AH15: =COUNTIF($C15:$AG15,"A") -> 0 | AI15: =COUNTIF($C15:$AG15,"K") -> 0 | AJ15: =COUNTIF($C15:$AG15,"U") -> 0 | AK15: =COUNTIF($C15:$AG15,"HO") -> 0
AH16: =COUNTIF($C16:$AG16,"A") -> 0 | AI16: =COUNTIF($C16:$AG16,"K") -> 0 | AJ16: =COUNTIF($C16:$AG16,"U") -> 0 | AK16: =COUNTIF($C16:$AG16,"HO") -> 0
AH17: =COUNTIF($C17:$AG17,"A") -> 0 | AI17: =COUNTIF($C17:$AG17,"K") -> 0 | AJ17: =COUNTIF($C17:$AG17,"U") -> 0 | AK17: =COUNTIF($C17:$AG17,"HO") -> 0
AH18: =COUNTIF($C18:$AG18,"A") -> 0 | AI18: =COUNTIF($C18:$AG18,"K") -> 0 | AJ18: =COUNTIF($C18:$AG18,"U") -> 0 | AK18: =COUNTIF($C18:$AG18,"HO") -> 0
AH19: =COUNTIF($C19:$AG19,"A") -> 0 | AI19: =COUNTIF($C19:$AG19,"K") -> 0 | AJ19: =COUNTIF($C19:$AG19,"U") -> 0 | AK19: =COUNTIF($C19:$AG19,"HO") -> 0
AH20: =COUNTIF($C20:$AG20,"A") -> 0 | AI20: =COUNTIF($C20:$AG20,"K") -> 0 | AJ20: =COUNTIF($C20:$AG20,"U") -> 0 | AK20: =COUNTIF($C20:$AG20,"HO") -> 0
AH21: =COUNTIF($C21:$AG21,"A") -> 0 | AI21: =COUNTIF($C21:$AG21,"K") -> 0 | AJ21: =COUNTIF($C21:$AG21,"U") -> 0 | AK21: =COUNTIF($C21:$AG21,"HO") -> 0
AH22: =COUNTIF($C22:$AG22,"A") -> 0 | AI22: =COUNTIF($C22:$AG22,"K") -> 0 | AJ22: =COUNTIF($C22:$AG22,"U") -> 0 | AK22: =COUNTIF($C22:$AG22,"HO") -> 0
AH23: =COUNTIF($C23:$AG23,"A") -> 0 | AI23: =COUNTIF($C23:$AG23,"K") -> 0 | AJ23: =COUNTIF($C23:$AG23,"U") -> 0 | AK23: =COUNTIF($C23:$AG23,"HO") -> 0
AH24: =COUNTIF($C24:$AG24,"A") -> 0 | AI24: =COUNTIF($C24:$AG24,"K") -> 0 | AJ24: =COUNTIF($C24:$AG24,"U") -> 0 | AK24: =COUNTIF($C24:$AG24,"HO") -> 0
AH25: =COUNTIF($C25:$AG25,"A") -> 0 | AI25: =COUNTIF($C25:$AG25,"K") -> 0 | AJ25: =COUNTIF($C25:$AG25,"U") -> 0 | AK25: =COUNTIF($C25:$AG25,"HO") -> 0
AH26: =COUNTIF($C26:$AG26,"A") -> 0 | AI26: =COUNTIF($C26:$AG26,"K") -> 0 | AJ26: =COUNTIF($C26:$AG26,"U") -> 0 | AK26: =COUNTIF($C26:$AG26,"HO") -> 0
... AH31: =COUNTIF($C31:$AG31,"A") -> 0 | AI31: =COUNTIF($C31:$AG31,"K") -> 0 | AJ31: =COUNTIF($C31:$AG31,"U") -> 0 | AK31: =COUNTIF($C31:$AG31,"HO") -> 0
A33: Codes: A = Anwesend · K = Krank · U = Urlaub · F = Frei · HO = Homeoffice · S = Schulung. Wochenenden werden automatisch markiert.

Sheet Listen
A1: Januar | C1: A | D1: Anwesend
A2: Februar | C2: K | D2: Krank
A3: März | C3: U | D3: Urlaub
A4: April | C4: F | D4: Frei
A5: Mai | C5: HO | D5: Homeoffice
A6: Juni | C6: S | D6: Schulung
A7: Juli
A8: August
A9: September
A10: Oktober
A11: November
A12: Dezember
