Workbook

Sheet Einsatzplanung
B2: Einsatzplanung / Dienstplan | AJ2: Monatsübersicht
B3: Monat | C3: März | E3: Jahr | F3: 2026 | H3: Legende | I3: F | J3: Frühschicht | K3: S | L3: Spätschicht | M3: N | N3: Nachtschicht | AJ3: Geplante Std. gesamt | AK3: =SUM(AJ8:AJ37) -> 2602.5
B4: Hinweis | C4: Monat und Jahr ändern, Planung passt sich an. | I4: B | J4: Bereitschaft | K4: O | L4: Frei | M4: U/K | N4: Urlaub / Krank | AJ4: Früh gesamt | AK4: =SUM(AK8:AK37) -> 186 | AL4: Spät gesamt | AM4: =SUM(AL8:AL37) -> 104 | AN4: Nacht gesamt | AO4: =SUM(AM8:AM37) -> 57
E6: =IF(E7="","",CHOOSE(WEEKDAY(DATE($F$3,MATCH($C$3,Listen!$P$2:$P$13,0),E7),2),"Mo","Di","Mi","Do","Fr","Sa","So")) -> So | F6: =IF(F7="","",CHOOSE(WEEKDAY(DATE($F$3,MATCH($C$3,Listen!$P$2:$P$13,0),F7),2),"Mo","Di","Mi","Do","Fr","Sa","So")) -> Mo | G6: =IF(G7="","",CHOOSE(WEEKDAY(DATE($F$3,MATCH($C$3,Listen!$P$2:$P$13,0),G7),2),"Mo","Di","Mi","Do","Fr","Sa","So")) -> Di | H6: =IF(H7="","",CHOOSE(WEEKDAY(DATE($F$3,MATCH($C$3,Listen!$P$2:$P$13,0),H7),2),"Mo","Di","Mi","Do","Fr","Sa","So")) -> Mi | I6: =IF(I7="","",CHOOSE(WEEKDAY(DATE($F$3,MATCH($C$3,Listen!$P$2:$P$13,0),I7),2),"Mo","Di","Mi","Do","Fr","Sa","So")) -> Do | J6: =IF(J7="","",CHOOSE(WEEKDAY(DATE($F$3,MATCH($C$3,Listen!$P$2:$P$13,0),J7),2),"Mo","Di","Mi","Do","Fr","Sa","So")) -> Fr | K6: =IF(K7="","",CHOOSE(WEEKDAY(DATE($F$3,MATCH($C$3,Listen!$P$2:$P$13,0),K7),2),"Mo","Di","Mi","Do","Fr","Sa","So")) -> Sa | L6: =IF(L7="","",CHOOSE(WEEKDAY(DATE($F$3,MATCH($C$3,Listen!$P$2:$P$13,0),L7),2),"Mo","Di","Mi","Do","Fr","Sa","So")) -> So | ... AI6: =IF(AI7="","",CHOOSE(WEEKDAY(DATE($F$3,MATCH($C$3,Listen!$P$2:$P$13,0),AI7),2),"Mo","Di","Mi","Do","Fr","Sa","So")) -> Di
A7: Personal-Nr | B7: Mitarbeiter | C7: Abteilung | D7: Soll Std. /Woche | E7: =IF(COLUMN()-COLUMN($E$7)+1<=DAY(EOMONTH(DATE($F$3,MATCH($C$3,Listen!$P$2:$P$13,0),1),0)),COLUMN()-COLUMN($E$7)+1,"") -> 1 | F7: =IF(COLUMN()-COLUMN($E$7)+1<=DAY(EOMONTH(DATE($F$3,MATCH($C$3,Listen!$P$2:$P$13,0),1),0)),COLUMN()-COLUMN($E$7)+1,"") -> 2 | G7: =IF(COLUMN()-COLUMN($E$7)+1<=DAY(EOMONTH(DATE($F$3,MATCH($C$3,Listen!$P$2:$P$13,0),1),0)),COLUMN()-COLUMN($E$7)+1,"") -> 3 | H7: =IF(COLUMN()-COLUMN($E$7)+1<=DAY(EOMONTH(DATE($F$3,MATCH($C$3,Listen!$P$2:$P$13,0),1),0)),COLUMN()-COLUMN($E$7)+1,"") -> 4 | I7: =IF(COLUMN()-COLUMN($E$7)+1<=DAY(EOMONTH(DATE($F$3,MATCH($C$3,Listen!$P$2:$P$13,0),1),0)),COLUMN()-COLUMN($E$7)+1,"") -> 5 | J7: =IF(COLUMN()-COLUMN($E$7)+1<=DAY(EOMONTH(DATE($F$3,MATCH($C$3,Listen!$P$2:$P$13,0),1),0)),COLUMN()-COLUMN($E$7)+1,"") -> 6 | K7: =IF(COLUMN()-COLUMN($E$7)+1<=DAY(EOMONTH(DATE($F$3,MATCH($C$3,Listen!$P$2:$P$13,0),1),0)),COLUMN()-COLUMN($E$7)+1,"") -> 7 | L7: =IF(COLUMN()-COLUMN($E$7)+1<=DAY(EOMONTH(DATE($F$3,MATCH($C$3,Listen!$P$2:$P$13,0),1),0)),COLUMN()-COLUMN($E$7)+1,"") -> 8 | ... AI7: =IF(COLUMN()-COLUMN($E$7)+1<=DAY(EOMONTH(DATE($F$3,MATCH($C$3,Listen!$P$2:$P$13,0),1),0)),COLUMN()-COLUMN($E$7)+1,"") -> 31 | AJ7: Geplante Std. | AK7: Früh | AL7: Spät | AM7: Nacht | AN7: Bereitschaft | AO7: Frei | AP7: Urlaub | AQ7: Krank | AR7: Hinweise
A8: =IFERROR(INDEX(Listen!$J$2:$J$31,ROW()-7),"") -> 1001 | B8: =IFERROR(INDEX(Listen!$K$2:$K$31,ROW()-7),"") -> Anna Becker | C8: =IFERROR(INDEX(Listen!$L$2:$L$31,ROW()-7),"") -> Verkauf | D8: =IFERROR(INDEX(Listen!$M$2:$M$31,ROW()-7),"") -> 40 | E8: O | F8: F | G8: S | H8: F | I8: S | J8: F | K8: F | L8: O | M8: U | N8: U | O8: U | P8: U | Q8: U | R8: F | S8: O | T8: F | U8: S | V8: F | W8: S | X8: F | Y8: F | Z8: O | AA8: S | AB8: F | AC8: S | AD8: F | AE8: S | AF8: F | AG8: O | AH8: F | AI8: S | AJ8: =AK8*Listen!$F$2+AL8*Listen!$F$3+AM8*Listen!$F$4+AN8*Listen!$F$5+AO8*Listen!$F$6+AP8*Listen!$F$7+AQ8*Listen!$F$8 -> 157.5 | AK8: =COUNTIF($E8:$AI8,"F") -> 13 | AL8: =COUNTIF($E8:$AI8,"S") -> 8 | AM8: =COUNTIF($E8:$AI8,"N") -> 0 | AN8: =COUNTIF($E8:$AI8,"B") -> 0 | AO8: =COUNTIF($E8:$AI8,"O") -> 5 | AP8: =COUNTIF($E8:$AI8,"U") -> 5 | AQ8: =COUNTIF($E8:$AI8,"K") -> 0 | AR8: Urlaub Mitte des Monats
A9: =IFERROR(INDEX(Listen!$J$2:$J$31,ROW()-7),"") -> 1002 | B9: =IFERROR(INDEX(Listen!$K$2:$K$31,ROW()-7),"") -> Jonas Weber | C9: =IFERROR(INDEX(Listen!$L$2:$L$31,ROW()-7),"") -> Lager | D9: =IFERROR(INDEX(Listen!$M$2:$M$31,ROW()-7),"") -> 40 | E9: O | F9: S | G9: F | H9: F | I9: S | J9: F | K9: F | L9: O | M9: F | N9: F | O9: S | P9: F | Q9: F | R9: F | S9: O | T9: F | U9: S | V9: F | W9: F | X9: S | Y9: F | Z9: O | AA9: S | AB9: F | AC9: F | AD9: S | AE9: F | AF9: F | AG9: O | AH9: F | AI9: F | AJ9: =AK9*Listen!$F$2+AL9*Listen!$F$3+AM9*Listen!$F$4+AN9*Listen!$F$5+AO9*Listen!$F$6+AP9*Listen!$F$7+AQ9*Listen!$F$8 -> 195 | AK9: =COUNTIF($E9:$AI9,"F") -> 19 | AL9: =COUNTIF($E9:$AI9,"S") -> 7 | AM9: =COUNTIF($E9:$AI9,"N") -> 0 | AN9: =COUNTIF($E9:$AI9,"B") -> 0 | AO9: =COUNTIF($E9:$AI9,"O") -> 5 | AP9: =COUNTIF($E9:$AI9,"U") -> 0 | AQ9: =COUNTIF($E9:$AI9,"K") -> 0
A10: =IFERROR(INDEX(Listen!$J$2:$J$31,ROW()-7),"") -> 1003 | B10: =IFERROR(INDEX(Listen!$K$2:$K$31,ROW()-7),"") -> Lara Hoffmann | C10: =IFERROR(INDEX(Listen!$L$2:$L$31,ROW()-7),"") -> Büro | D10: =IFERROR(INDEX(Listen!$M$2:$M$31,ROW()-7),"") -> 30 | E10: O | F10: F | G10: F | H10: F | I10: F | J10: F | K10: O | L10: O | M10: F | N10: F | O10: F | P10: F | Q10: F | R10: O | S10: O | T10: F | U10: F | V10: F | W10: F | X10: F | Y10: O | Z10: O | AA10: U | AB10: U | AC10: U | AD10: U | AE10: U | AF10: O | AG10: O | AH10: F | AI10: F | AJ10: =AK10*Listen!$F$2+AL10*Listen!$F$3+AM10*Listen!$F$4+AN10*Listen!$F$5+AO10*Listen!$F$6+AP10*Listen!$F$7+AQ10*Listen!$F$8 -> 127.5 | AK10: =COUNTIF($E10:$AI10,"F") -> 17 | AL10: =COUNTIF($E10:$AI10,"S") -> 0 | AM10: =COUNTIF($E10:$AI10,"N") -> 0 | AN10: =COUNTIF($E10:$AI10,"B") -> 0 | AO10: =COUNTIF($E10:$AI10,"O") -> 9 | AP10: =COUNTIF($E10:$AI10,"U") -> 5 | AQ10: =COUNTIF($E10:$AI10,"K") -> 0 | AR10: Urlaub Ende des Monats
A11: =IFERROR(INDEX(Listen!$J$2:$J$31,ROW()-7),"") -> 1004 | B11: =IFERROR(INDEX(Listen!$K$2:$K$31,ROW()-7),"") -> Tim Schuster | C11: =IFERROR(INDEX(Listen!$L$2:$L$31,ROW()-7),"") -> Service | D11: =IFERROR(INDEX(Listen!$M$2:$M$31,ROW()-7),"") -> 40 | E11: F | F11: S | G11: N | H11: O | I11: F | J11: S | K11: N | L11: O | M11: F | N11: S | O11: N | P11: O | Q11: F | R11: S | S11: O | T11: O | U11: K | V11: K | W11: N | X11: O | Y11: F | Z11: S | AA11: N | AB11: O | AC11: F | AD11: S | AE11: N | AF11: O | AG11: F | AH11: S | AI11: N | AJ11: =AK11*Listen!$F$2+AL11*Listen!$F$3+AM11*Listen!$F$4+AN11*Listen!$F$5+AO11*Listen!$F$6+AP11*Listen!$F$7+AQ11*Listen!$F$8 -> 157.5 | AK11: =COUNTIF($E11:$AI11,"F") -> 7 | AL11: =COUNTIF($E11:$AI11,"S") -> 7 | AM11: =COUNTIF($E11:$AI11,"N") -> 7 | AN11: =COUNTIF($E11:$AI11,"B") -> 0 | AO11: =COUNTIF($E11:$AI11,"O") -> 8 | AP11: =COUNTIF($E11:$AI11,"U") -> 0 | AQ11: =COUNTIF($E11:$AI11,"K") -> 2 | AR11: 2 Krankheitstage
A12: =IFERROR(INDEX(Listen!$J$2:$J$31,ROW()-7),"") -> 1005 | B12: =IFERROR(INDEX(Listen!$K$2:$K$31,ROW()-7),"") -> Mia Krause | C12: =IFERROR(INDEX(Listen!$L$2:$L$31,ROW()-7),"") -> Verkauf | D12: =IFERROR(INDEX(Listen!$M$2:$M$31,ROW()-7),"") -> 35 | E12: O | F12: F | G12: S | H12: F | I12: S | J12: F | K12: F | L12: O | M12: S | N12: F | O12: S | P12: F | Q12: S | R12: F | S12: O | T12: F | U12: S | V12: F | W12: S | X12: F | Y12: F | Z12: O | AA12: S | AB12: F | AC12: S | AD12: F | AE12: S | AF12: F | AG12: O | AH12: F | AI12: S | AJ12: =AK12*Listen!$F$2+AL12*Listen!$F$3+AM12*Listen!$F$4+AN12*Listen!$F$5+AO12*Listen!$F$6+AP12*Listen!$F$7+AQ12*Listen!$F$8 -> 195 | AK12: =COUNTIF($E12:$AI12,"F") -> 15 | AL12: =COUNTIF($E12:$AI12,"S") -> 11 | AM12: =COUNTIF($E12:$AI12,"N") -> 0 | AN12: =COUNTIF($E12:$AI12,"B") -> 0 | AO12: =COUNTIF($E12:$AI12,"O") -> 5 | AP12: =COUNTIF($E12:$AI12,"U") -> 0 | AQ12: =COUNTIF($E12:$AI12,"K") -> 0
A13: =IFERROR(INDEX(Listen!$J$2:$J$31,ROW()-7),"") -> 1006 | B13: =IFERROR(INDEX(Listen!$K$2:$K$31,ROW()-7),"") -> Paul Richter | C13: =IFERROR(INDEX(Listen!$L$2:$L$31,ROW()-7),"") -> Produktion | D13: =IFERROR(INDEX(Listen!$M$2:$M$31,ROW()-7),"") -> 40 | E13: S | F13: N | G13: N | H13: O | I13: F | J13: S | K13: N | L13: N | M13: O | N13: F | O13: S | P13: N | Q13: N | R13: O | S13: F | T13: S | U13: N | V13: N | W13: O | X13: F | Y13: S | Z13: N | AA13: N | AB13: O | AC13: F | AD13: S | AE13: N | AF13: N | AG13: O | AH13: F | AI13: S | AJ13: =AK13*Listen!$F$2+AL13*Listen!$F$3+AM13*Listen!$F$4+AN13*Listen!$F$5+AO13*Listen!$F$6+AP13*Listen!$F$7+AQ13*Listen!$F$8 -> 187.5 | AK13: =COUNTIF($E13:$AI13,"F") -> 6 | AL13: =COUNTIF($E13:$AI13,"S") -> 7 | AM13: =COUNTIF($E13:$AI13,"N") -> 12 | AN13: =COUNTIF($E13:$AI13,"B") -> 0 | AO13: =COUNTIF($E13:$AI13,"O") -> 6 | AP13: =COUNTIF($E13:$AI13,"U") -> 0 | AQ13: =COUNTIF($E13:$AI13,"K") -> 0
A14: =IFERROR(INDEX(Listen!$J$2:$J$31,ROW()-7),"") -> 1007 | B14: =IFERROR(INDEX(Listen!$K$2:$K$31,ROW()-7),"") -> Nina Vogel | C14: =IFERROR(INDEX(Listen!$L$2:$L$31,ROW()-7),"") -> Büro | D14: =IFERROR(INDEX(Listen!$M$2:$M$31,ROW()-7),"") -> 25 | E14: O | F14: F | G14: F | H14: F | I14: F | J14: F | K14: O | L14: O | M14: F | N14: F | O14: F | P14: F | Q14: F | R14: O | S14: O | T14: F | U14: F | V14: F | W14: F | X14: F | Y14: O | Z14: O | AA14: F | AB14: F | AC14: F | AD14: F | AE14: F | AF14: O | AG14: O | AH14: F | AI14: F | AJ14: =AK14*Listen!$F$2+AL14*Listen!$F$3+AM14*Listen!$F$4+AN14*Listen!$F$5+AO14*Listen!$F$6+AP14*Listen!$F$7+AQ14*Listen!$F$8 -> 165 | AK14: =COUNTIF($E14:$AI14,"F") -> 22 | AL14: =COUNTIF($E14:$AI14,"S") -> 0 | AM14: =COUNTIF($E14:$AI14,"N") -> 0 | AN14: =COUNTIF($E14:$AI14,"B") -> 0 | AO14: =COUNTIF($E14:$AI14,"O") -> 9 | AP14: =COUNTIF($E14:$AI14,"U") -> 0 | AQ14: =COUNTIF($E14:$AI14,"K") -> 0
A15: =IFERROR(INDEX(Listen!$J$2:$J$31,ROW()-7),"") -> 1008 | B15: =IFERROR(INDEX(Listen!$K$2:$K$31,ROW()-7),"") -> Leon König | C15: =IFERROR(INDEX(Listen!$L$2:$L$31,ROW()-7),"") -> Lager | D15: =IFERROR(INDEX(Listen!$M$2:$M$31,ROW()-7),"") -> 40 | E15: O | F15: S | G15: F | H15: F | I15: S | J15: F | K15: F | L15: O | M15: F | N15: F | O15: S | P15: F | Q15: F | R15: F | S15: O | T15: F | U15: S | V15: F | W15: F | X15: S | Y15: F | Z15: O | AA15: S | AB15: F | AC15: F | AD15: S | AE15: F | AF15: F | AG15: O | AH15: F | AI15: F | AJ15: =AK15*Listen!$F$2+AL15*Listen!$F$3+AM15*Listen!$F$4+AN15*Listen!$F$5+AO15*Listen!$F$6+AP15*Listen!$F$7+AQ15*Listen!$F$8 -> 195 | AK15: =COUNTIF($E15:$AI15,"F") -> 19 | AL15: =COUNTIF($E15:$AI15,"S") -> 7 | AM15: =COUNTIF($E15:$AI15,"N") -> 0 | AN15: =COUNTIF($E15:$AI15,"B") -> 0 | AO15: =COUNTIF($E15:$AI15,"O") -> 5 | AP15: =COUNTIF($E15:$AI15,"U") -> 0 | AQ15: =COUNTIF($E15:$AI15,"K") -> 0
A16: =IFERROR(INDEX(Listen!$J$2:$J$31,ROW()-7),"") -> 1009 | B16: =IFERROR(INDEX(Listen!$K$2:$K$31,ROW()-7),"") -> Sophie Braun | C16: =IFERROR(INDEX(Listen!$L$2:$L$31,ROW()-7),"") -> Service | D16: =IFERROR(INDEX(Listen!$M$2:$M$31,ROW()-7),"") -> 30 | E16: S | F16: N | G16: O | H16: F | I16: S | J16: N | K16: O | L16: F | M16: S | N16: N | O16: O | P16: F | Q16: S | R16: N | S16: O | T16: F | U16: S | V16: N | W16: O | X16: F | Y16: S | Z16: O | AA16: O | AB16: F | AC16: S | AD16: N | AE16: O | AF16: F | AG16: S | AH16: N | AI16: O | AJ16: =AK16*Listen!$F$2+AL16*Listen!$F$3+AM16*Listen!$F$4+AN16*Listen!$F$5+AO16*Listen!$F$6+AP16*Listen!$F$7+AQ16*Listen!$F$8 -> 165 | AK16: =COUNTIF($E16:$AI16,"F") -> 7 | AL16: =COUNTIF($E16:$AI16,"S") -> 8 | AM16: =COUNTIF($E16:$AI16,"N") -> 7 | AN16: =COUNTIF($E16:$AI16,"B") -> 0 | AO16: =COUNTIF($E16:$AI16,"O") -> 9 | AP16: =COUNTIF($E16:$AI16,"U") -> 0 | AQ16: =COUNTIF($E16:$AI16,"K") -> 0
A17: =IFERROR(INDEX(Listen!$J$2:$J$31,ROW()-7),"") -> 1010 | B17: =IFERROR(INDEX(Listen!$K$2:$K$31,ROW()-7),"") -> Max Neumann | C17: =IFERROR(INDEX(Listen!$L$2:$L$31,ROW()-7),"") -> Produktion | D17: =IFERROR(INDEX(Listen!$M$2:$M$31,ROW()-7),"") -> 40 | E17: F | F17: S | G17: N | H17: N | I17: O | J17: F | K17: S | L17: N | M17: N | N17: O | O17: F | P17: S | Q17: N | R17: N | S17: O | T17: F | U17: S | V17: N | W17: N | X17: O | Y17: F | Z17: S | AA17: N | AB17: N | AC17: O | AD17: F | AE17: S | AF17: N | AG17: N | AH17: O | AI17: F | AJ17: =AK17*Listen!$F$2+AL17*Listen!$F$3+AM17*Listen!$F$4+AN17*Listen!$F$5+AO17*Listen!$F$6+AP17*Listen!$F$7+AQ17*Listen!$F$8 -> 187.5 | AK17: =COUNTIF($E17:$AI17,"F") -> 7 | AL17: =COUNTIF($E17:$AI17,"S") -> 6 | AM17: =COUNTIF($E17:$AI17,"N") -> 12 | AN17: =COUNTIF($E17:$AI17,"B") -> 0 | AO17: =COUNTIF($E17:$AI17,"O") -> 6 | AP17: =COUNTIF($E17:$AI17,"U") -> 0 | AQ17: =COUNTIF($E17:$AI17,"K") -> 0
A18: =IFERROR(INDEX(Listen!$J$2:$J$31,ROW()-7),"") -> 1011 | B18: =IFERROR(INDEX(Listen!$K$2:$K$31,ROW()-7),"") -> Clara Wolf | C18: =IFERROR(INDEX(Listen!$L$2:$L$31,ROW()-7),"") -> Verkauf | D18: =IFERROR(INDEX(Listen!$M$2:$M$31,ROW()-7),"") -> 30 | E18: O | F18: F | G18: S | H18: F | I18: S | J18: F | K18: F | L18: O | M18: S | N18: F | O18: S | P18: F | Q18: S | R18: F | S18: O | T18: F | U18: S | V18: F | W18: S | X18: F | Y18: F | Z18: O | AA18: S | AB18: F | AC18: S | AD18: F | AE18: S | AF18: F | AG18: O | AH18: F | AI18: S | AJ18: =AK18*Listen!$F$2+AL18*Listen!$F$3+AM18*Listen!$F$4+AN18*Listen!$F$5+AO18*Listen!$F$6+AP18*Listen!$F$7+AQ18*Listen!$F$8 -> 195 | AK18: =COUNTIF($E18:$AI18,"F") -> 15 | AL18: =COUNTIF($E18:$AI18,"S") -> 11 | AM18: =COUNTIF($E18:$AI18,"N") -> 0 | AN18: =COUNTIF($E18:$AI18,"B") -> 0 | AO18: =COUNTIF($E18:$AI18,"O") -> 5 | AP18: =COUNTIF($E18:$AI18,"U") -> 0 | AQ18: =COUNTIF($E18:$AI18,"K") -> 0
A19: =IFERROR(INDEX(Listen!$J$2:$J$31,ROW()-7),"") -> 1012 | B19: =IFERROR(INDEX(Listen!$K$2:$K$31,ROW()-7),"") -> Felix Hartmann | C19: =IFERROR(INDEX(Listen!$L$2:$L$31,ROW()-7),"") -> Service | D19: =IFERROR(INDEX(Listen!$M$2:$M$31,ROW()-7),"") -> 40 | E19: F | F19: S | G19: N | H19: O | I19: F | J19: K | K19: N | L19: O | M19: F | N19: S | O19: N | P19: O | Q19: F | R19: S | S19: O | T19: O | U19: F | V19: S | W19: N | X19: O | Y19: F | Z19: S | AA19: N | AB19: O | AC19: F | AD19: S | AE19: N | AF19: O | AG19: F | AH19: S | AI19: N | AJ19: =AK19*Listen!$F$2+AL19*Listen!$F$3+AM19*Listen!$F$4+AN19*Listen!$F$5+AO19*Listen!$F$6+AP19*Listen!$F$7+AQ19*Listen!$F$8 -> 165 | AK19: =COUNTIF($E19:$AI19,"F") -> 8 | AL19: =COUNTIF($E19:$AI19,"S") -> 7 | AM19: =COUNTIF($E19:$AI19,"N") -> 7 | AN19: =COUNTIF($E19:$AI19,"B") -> 0 | AO19: =COUNTIF($E19:$AI19,"O") -> 8 | AP19: =COUNTIF($E19:$AI19,"U") -> 0 | AQ19: =COUNTIF($E19:$AI19,"K") -> 1
A20: =IFERROR(INDEX(Listen!$J$2:$J$31,ROW()-7),"") -> 1013 | B20: =IFERROR(INDEX(Listen!$K$2:$K$31,ROW()-7),"") -> Emma Schneider | C20: =IFERROR(INDEX(Listen!$L$2:$L$31,ROW()-7),"") -> Lager | D20: =IFERROR(INDEX(Listen!$M$2:$M$31,ROW()-7),"") -> 35 | E20: O | F20: F | G20: S | H20: F | I20: F | J20: S | K20: O | L20: O | M20: S | N20: F | O20: F | P20: S | Q20: F | R20: O | S20: O | T20: F | U20: F | V20: S | W20: F | X20: F | Y20: O | Z20: O | AA20: F | AB20: S | AC20: F | AD20: F | AE20: S | AF20: O | AG20: O | AH20: S | AI20: F | AJ20: =AK20*Listen!$F$2+AL20*Listen!$F$3+AM20*Listen!$F$4+AN20*Listen!$F$5+AO20*Listen!$F$6+AP20*Listen!$F$7+AQ20*Listen!$F$8 -> 165 | AK20: =COUNTIF($E20:$AI20,"F") -> 14 | AL20: =COUNTIF($E20:$AI20,"S") -> 8 | AM20: =COUNTIF($E20:$AI20,"N") -> 0 | AN20: =COUNTIF($E20:$AI20,"B") -> 0 | AO20: =COUNTIF($E20:$AI20,"O") -> 9 | AP20: =COUNTIF($E20:$AI20,"U") -> 0 | AQ20: =COUNTIF($E20:$AI20,"K") -> 0
A21: =IFERROR(INDEX(Listen!$J$2:$J$31,ROW()-7),"") -> 1014 | B21: =IFERROR(INDEX(Listen!$K$2:$K$31,ROW()-7),"") -> Noah Fischer | C21: =IFERROR(INDEX(Listen!$L$2:$L$31,ROW()-7),"") -> Produktion | D21: =IFERROR(INDEX(Listen!$M$2:$M$31,ROW()-7),"") -> 40 | E21: O | F21: F | G21: S | H21: N | I21: N | J21: O | K21: F | L21: S | M21: N | N21: N | O21: O | P21: F | Q21: S | R21: N | S21: N | T21: O | U21: F | V21: S | W21: N | X21: N | Y21: O | Z21: F | AA21: S | AB21: N | AC21: N | AD21: O | AE21: F | AF21: S | AG21: N | AH21: N | AI21: O | AJ21: =AK21*Listen!$F$2+AL21*Listen!$F$3+AM21*Listen!$F$4+AN21*Listen!$F$5+AO21*Listen!$F$6+AP21*Listen!$F$7+AQ21*Listen!$F$8 -> 180 | AK21: =COUNTIF($E21:$AI21,"F") -> 6 | AL21: =COUNTIF($E21:$AI21,"S") -> 6 | AM21: =COUNTIF($E21:$AI21,"N") -> 12 | AN21: =COUNTIF($E21:$AI21,"B") -> 0 | AO21: =COUNTIF($E21:$AI21,"O") -> 7 | AP21: =COUNTIF($E21:$AI21,"U") -> 0 | AQ21: =COUNTIF($E21:$AI21,"K") -> 0
A22: =IFERROR(INDEX(Listen!$J$2:$J$31,ROW()-7),"") -> 1015 | B22: =IFERROR(INDEX(Listen!$K$2:$K$31,ROW()-7),"") -> Laura Zimmer | C22: =IFERROR(INDEX(Listen!$L$2:$L$31,ROW()-7),"") -> Verkauf | D22: =IFERROR(INDEX(Listen!$M$2:$M$31,ROW()-7),"") -> 20 | E22: O | F22: F | G22: S | H22: F | I22: S | J22: F | K22: O | L22: O | M22: S | N22: F | O22: S | P22: F | Q22: S | R22: O | S22: O | T22: F | U22: S | V22: F | W22: S | X22: F | Y22: O | Z22: O | AA22: S | AB22: F | AC22: S | AD22: F | AE22: S | AF22: O | AG22: O | AH22: F | AI22: S | AJ22: =AK22*Listen!$F$2+AL22*Listen!$F$3+AM22*Listen!$F$4+AN22*Listen!$F$5+AO22*Listen!$F$6+AP22*Listen!$F$7+AQ22*Listen!$F$8 -> 165 | AK22: =COUNTIF($E22:$AI22,"F") -> 11 | AL22: =COUNTIF($E22:$AI22,"S") -> 11 | AM22: =COUNTIF($E22:$AI22,"N") -> 0 | AN22: =COUNTIF($E22:$AI22,"B") -> 0 | AO22: =COUNTIF($E22:$AI22,"O") -> 9 | AP22: =COUNTIF($E22:$AI22,"U") -> 0 | AQ22: =COUNTIF($E22:$AI22,"K") -> 0
A23: =IFERROR(INDEX(Listen!$J$2:$J$31,ROW()-7),"") -> 0 | B23: =IFERROR(INDEX(Listen!$K$2:$K$31,ROW()-7),"") -> 0 | C23: =IFERROR(INDEX(Listen!$L$2:$L$31,ROW()-7),"") -> 0 | D23: =IFERROR(INDEX(Listen!$M$2:$M$31,ROW()-7),"") -> 0 | AJ23: =AK23*Listen!$F$2+AL23*Listen!$F$3+AM23*Listen!$F$4+AN23*Listen!$F$5+AO23*Listen!$F$6+AP23*Listen!$F$7+AQ23*Listen!$F$8 -> 0 | AK23: =COUNTIF($E23:$AI23,"F") -> 0 | AL23: =COUNTIF($E23:$AI23,"S") -> 0 | AM23: =COUNTIF($E23:$AI23,"N") -> 0 | AN23: =COUNTIF($E23:$AI23,"B") -> 0 | AO23: =COUNTIF($E23:$AI23,"O") -> 0 | AP23: =COUNTIF($E23:$AI23,"U") -> 0 | AQ23: =COUNTIF($E23:$AI23,"K") -> 0
A24: =IFERROR(INDEX(Listen!$J$2:$J$31,ROW()-7),"") -> 0 | B24: =IFERROR(INDEX(Listen!$K$2:$K$31,ROW()-7),"") -> 0 | C24: =IFERROR(INDEX(Listen!$L$2:$L$31,ROW()-7),"") -> 0 | D24: =IFERROR(INDEX(Listen!$M$2:$M$31,ROW()-7),"") -> 0 | AJ24: =AK24*Listen!$F$2+AL24*Listen!$F$3+AM24*Listen!$F$4+AN24*Listen!$F$5+AO24*Listen!$F$6+AP24*Listen!$F$7+AQ24*Listen!$F$8 -> 0 | AK24: =COUNTIF($E24:$AI24,"F") -> 0 | AL24: =COUNTIF($E24:$AI24,"S") -> 0 | AM24: =COUNTIF($E24:$AI24,"N") -> 0 | AN24: =COUNTIF($E24:$AI24,"B") -> 0 | AO24: =COUNTIF($E24:$AI24,"O") -> 0 | AP24: =COUNTIF($E24:$AI24,"U") -> 0 | AQ24: =COUNTIF($E24:$AI24,"K") -> 0
A25: =IFERROR(INDEX(Listen!$J$2:$J$31,ROW()-7),"") -> 0 | B25: =IFERROR(INDEX(Listen!$K$2:$K$31,ROW()-7),"") -> 0 | C25: =IFERROR(INDEX(Listen!$L$2:$L$31,ROW()-7),"") -> 0 | D25: =IFERROR(INDEX(Listen!$M$2:$M$31,ROW()-7),"") -> 0 | AJ25: =AK25*Listen!$F$2+AL25*Listen!$F$3+AM25*Listen!$F$4+AN25*Listen!$F$5+AO25*Listen!$F$6+AP25*Listen!$F$7+AQ25*Listen!$F$8 -> 0 | AK25: =COUNTIF($E25:$AI25,"F") -> 0 | AL25: =COUNTIF($E25:$AI25,"S") -> 0 | AM25: =COUNTIF($E25:$AI25,"N") -> 0 | AN25: =COUNTIF($E25:$AI25,"B") -> 0 | AO25: =COUNTIF($E25:$AI25,"O") -> 0 | AP25: =COUNTIF($E25:$AI25,"U") -> 0 | AQ25: =COUNTIF($E25:$AI25,"K") -> 0
A26: =IFERROR(INDEX(Listen!$J$2:$J$31,ROW()-7),"") -> 0 | B26: =IFERROR(INDEX(Listen!$K$2:$K$31,ROW()-7),"") -> 0 | C26: =IFERROR(INDEX(Listen!$L$2:$L$31,ROW()-7),"") -> 0 | D26: =IFERROR(INDEX(Listen!$M$2:$M$31,ROW()-7),"") -> 0 | AJ26: =AK26*Listen!$F$2+AL26*Listen!$F$3+AM26*Listen!$F$4+AN26*Listen!$F$5+AO26*Listen!$F$6+AP26*Listen!$F$7+AQ26*Listen!$F$8 -> 0 | AK26: =COUNTIF($E26:$AI26,"F") -> 0 | AL26: =COUNTIF($E26:$AI26,"S") -> 0 | AM26: =COUNTIF($E26:$AI26,"N") -> 0 | AN26: =COUNTIF($E26:$AI26,"B") -> 0 | AO26: =COUNTIF($E26:$AI26,"O") -> 0 | AP26: =COUNTIF($E26:$AI26,"U") -> 0 | AQ26: =COUNTIF($E26:$AI26,"K") -> 0
A27: =IFERROR(INDEX(Listen!$J$2:$J$31,ROW()-7),"") -> 0 | B27: =IFERROR(INDEX(Listen!$K$2:$K$31,ROW()-7),"") -> 0 | C27: =IFERROR(INDEX(Listen!$L$2:$L$31,ROW()-7),"") -> 0 | D27: =IFERROR(INDEX(Listen!$M$2:$M$31,ROW()-7),"") -> 0 | AJ27: =AK27*Listen!$F$2+AL27*Listen!$F$3+AM27*Listen!$F$4+AN27*Listen!$F$5+AO27*Listen!$F$6+AP27*Listen!$F$7+AQ27*Listen!$F$8 -> 0 | AK27: =COUNTIF($E27:$AI27,"F") -> 0 | AL27: =COUNTIF($E27:$AI27,"S") -> 0 | AM27: =COUNTIF($E27:$AI27,"N") -> 0 | AN27: =COUNTIF($E27:$AI27,"B") -> 0 | AO27: =COUNTIF($E27:$AI27,"O") -> 0 | AP27: =COUNTIF($E27:$AI27,"U") -> 0 | AQ27: =COUNTIF($E27:$AI27,"K") -> 0
A28: =IFERROR(INDEX(Listen!$J$2:$J$31,ROW()-7),"") -> 0 | B28: =IFERROR(INDEX(Listen!$K$2:$K$31,ROW()-7),"") -> 0 | C28: =IFERROR(INDEX(Listen!$L$2:$L$31,ROW()-7),"") -> 0 | D28: =IFERROR(INDEX(Listen!$M$2:$M$31,ROW()-7),"") -> 0 | AJ28: =AK28*Listen!$F$2+AL28*Listen!$F$3+AM28*Listen!$F$4+AN28*Listen!$F$5+AO28*Listen!$F$6+AP28*Listen!$F$7+AQ28*Listen!$F$8 -> 0 | AK28: =COUNTIF($E28:$AI28,"F") -> 0 | AL28: =COUNTIF($E28:$AI28,"S") -> 0 | AM28: =COUNTIF($E28:$AI28,"N") -> 0 | AN28: =COUNTIF($E28:$AI28,"B") -> 0 | AO28: =COUNTIF($E28:$AI28,"O") -> 0 | AP28: =COUNTIF($E28:$AI28,"U") -> 0 | AQ28: =COUNTIF($E28:$AI28,"K") -> 0
A29: =IFERROR(INDEX(Listen!$J$2:$J$31,ROW()-7),"") -> 0 | B29: =IFERROR(INDEX(Listen!$K$2:$K$31,ROW()-7),"") -> 0 | C29: =IFERROR(INDEX(Listen!$L$2:$L$31,ROW()-7),"") -> 0 | D29: =IFERROR(INDEX(Listen!$M$2:$M$31,ROW()-7),"") -> 0 | AJ29: =AK29*Listen!$F$2+AL29*Listen!$F$3+AM29*Listen!$F$4+AN29*Listen!$F$5+AO29*Listen!$F$6+AP29*Listen!$F$7+AQ29*Listen!$F$8 -> 0 | AK29: =COUNTIF($E29:$AI29,"F") -> 0 | AL29: =COUNTIF($E29:$AI29,"S") -> 0 | AM29: =COUNTIF($E29:$AI29,"N") -> 0 | AN29: =COUNTIF($E29:$AI29,"B") -> 0 | AO29: =COUNTIF($E29:$AI29,"O") -> 0 | AP29: =COUNTIF($E29:$AI29,"U") -> 0 | AQ29: =COUNTIF($E29:$AI29,"K") -> 0
A30: =IFERROR(INDEX(Listen!$J$2:$J$31,ROW()-7),"") -> 0 | B30: =IFERROR(INDEX(Listen!$K$2:$K$31,ROW()-7),"") -> 0 | C30: =IFERROR(INDEX(Listen!$L$2:$L$31,ROW()-7),"") -> 0 | D30: =IFERROR(INDEX(Listen!$M$2:$M$31,ROW()-7),"") -> 0 | AJ30: =AK30*Listen!$F$2+AL30*Listen!$F$3+AM30*Listen!$F$4+AN30*Listen!$F$5+AO30*Listen!$F$6+AP30*Listen!$F$7+AQ30*Listen!$F$8 -> 0 | AK30: =COUNTIF($E30:$AI30,"F") -> 0 | AL30: =COUNTIF($E30:$AI30,"S") -> 0 | AM30: =COUNTIF($E30:$AI30,"N") -> 0 | AN30: =COUNTIF($E30:$AI30,"B") -> 0 | AO30: =COUNTIF($E30:$AI30,"O") -> 0 | AP30: =COUNTIF($E30:$AI30,"U") -> 0 | AQ30: =COUNTIF($E30:$AI30,"K") -> 0
A31: =IFERROR(INDEX(Listen!$J$2:$J$31,ROW()-7),"") -> 0 | B31: =IFERROR(INDEX(Listen!$K$2:$K$31,ROW()-7),"") -> 0 | C31: =IFERROR(INDEX(Listen!$L$2:$L$31,ROW()-7),"") -> 0 | D31: =IFERROR(INDEX(Listen!$M$2:$M$31,ROW()-7),"") -> 0 | AJ31: =AK31*Listen!$F$2+AL31*Listen!$F$3+AM31*Listen!$F$4+AN31*Listen!$F$5+AO31*Listen!$F$6+AP31*Listen!$F$7+AQ31*Listen!$F$8 -> 0 | AK31: =COUNTIF($E31:$AI31,"F") -> 0 | AL31: =COUNTIF($E31:$AI31,"S") -> 0 | AM31: =COUNTIF($E31:$AI31,"N") -> 0 | AN31: =COUNTIF($E31:$AI31,"B") -> 0 | AO31: =COUNTIF($E31:$AI31,"O") -> 0 | AP31: =COUNTIF($E31:$AI31,"U") -> 0 | AQ31: =COUNTIF($E31:$AI31,"K") -> 0
A32: =IFERROR(INDEX(Listen!$J$2:$J$31,ROW()-7),"") -> 0 | B32: =IFERROR(INDEX(Listen!$K$2:$K$31,ROW()-7),"") -> 0 | C32: =IFERROR(INDEX(Listen!$L$2:$L$31,ROW()-7),"") -> 0 | D32: =IFERROR(INDEX(Listen!$M$2:$M$31,ROW()-7),"") -> 0 | AJ32: =AK32*Listen!$F$2+AL32*Listen!$F$3+AM32*Listen!$F$4+AN32*Listen!$F$5+AO32*Listen!$F$6+AP32*Listen!$F$7+AQ32*Listen!$F$8 -> 0 | AK32: =COUNTIF($E32:$AI32,"F") -> 0 | AL32: =COUNTIF($E32:$AI32,"S") -> 0 | AM32: =COUNTIF($E32:$AI32,"N") -> 0 | AN32: =COUNTIF($E32:$AI32,"B") -> 0 | AO32: =COUNTIF($E32:$AI32,"O") -> 0 | AP32: =COUNTIF($E32:$AI32,"U") -> 0 | AQ32: =COUNTIF($E32:$AI32,"K") -> 0
A33: =IFERROR(INDEX(Listen!$J$2:$J$31,ROW()-7),"") -> 0 | B33: =IFERROR(INDEX(Listen!$K$2:$K$31,ROW()-7),"") -> 0 | C33: =IFERROR(INDEX(Listen!$L$2:$L$31,ROW()-7),"") -> 0 | D33: =IFERROR(INDEX(Listen!$M$2:$M$31,ROW()-7),"") -> 0 | AJ33: =AK33*Listen!$F$2+AL33*Listen!$F$3+AM33*Listen!$F$4+AN33*Listen!$F$5+AO33*Listen!$F$6+AP33*Listen!$F$7+AQ33*Listen!$F$8 -> 0 | AK33: =COUNTIF($E33:$AI33,"F") -> 0 | AL33: =COUNTIF($E33:$AI33,"S") -> 0 | AM33: =COUNTIF($E33:$AI33,"N") -> 0 | AN33: =COUNTIF($E33:$AI33,"B") -> 0 | AO33: =COUNTIF($E33:$AI33,"O") -> 0 | AP33: =COUNTIF($E33:$AI33,"U") -> 0 | AQ33: =COUNTIF($E33:$AI33,"K") -> 0
A34: =IFERROR(INDEX(Listen!$J$2:$J$31,ROW()-7),"") -> 0 | B34: =IFERROR(INDEX(Listen!$K$2:$K$31,ROW()-7),"") -> 0 | C34: =IFERROR(INDEX(Listen!$L$2:$L$31,ROW()-7),"") -> 0 | D34: =IFERROR(INDEX(Listen!$M$2:$M$31,ROW()-7),"") -> 0 | AJ34: =AK34*Listen!$F$2+AL34*Listen!$F$3+AM34*Listen!$F$4+AN34*Listen!$F$5+AO34*Listen!$F$6+AP34*Listen!$F$7+AQ34*Listen!$F$8 -> 0 | AK34: =COUNTIF($E34:$AI34,"F") -> 0 | AL34: =COUNTIF($E34:$AI34,"S") -> 0 | AM34: =COUNTIF($E34:$AI34,"N") -> 0 | AN34: =COUNTIF($E34:$AI34,"B") -> 0 | AO34: =COUNTIF($E34:$AI34,"O") -> 0 | AP34: =COUNTIF($E34:$AI34,"U") -> 0 | AQ34: =COUNTIF($E34:$AI34,"K") -> 0
... A37: =IFERROR(INDEX(Listen!$J$2:$J$31,ROW()-7),"") -> 0 | B37: =IFERROR(INDEX(Listen!$K$2:$K$31,ROW()-7),"") -> 0 | C37: =IFERROR(INDEX(Listen!$L$2:$L$31,ROW()-7),"") -> 0 | D37: =IFERROR(INDEX(Listen!$M$2:$M$31,ROW()-7),"") -> 0 | AJ37: =AK37*Listen!$F$2+AL37*Listen!$F$3+AM37*Listen!$F$4+AN37*Listen!$F$5+AO37*Listen!$F$6+AP37*Listen!$F$7+AQ37*Listen!$F$8 -> 0 | AK37: =COUNTIF($E37:$AI37,"F") -> 0 | AL37: =COUNTIF($E37:$AI37,"S") -> 0 | AM37: =COUNTIF($E37:$AI37,"N") -> 0 | AN37: =COUNTIF($E37:$AI37,"B") -> 0 | AO37: =COUNTIF($E37:$AI37,"O") -> 0 | AP37: =COUNTIF($E37:$AI37,"U") -> 0 | AQ37: =COUNTIF($E37:$AI37,"K") -> 0
A40: Hinweis | B40: Codes, Mitarbeitende und Stundenwerte können in der Liste 'Listen' angepasst werden.

Sheet Listen
A1: Code | B1: Bezeichnung | C1: Start | D1: Ende | E1: Pause (Std) | F1: Arbeitsstunden | G1: Hinweis / Farbe | J1: Personal-Nr | K1: Mitarbeitername | L1: Abteilung | M1: Soll-Stunden/Woche | P1: Monate
A2: F | B2: Frühschicht | C2: 06:00 | D2: 14:00 | E2: 0.5 | F2: 7.5 | G2: Früh | J2: 1001 | K2: Anna Becker | L2: Verkauf | M2: 40 | P2: Januar
A3: S | B3: Spätschicht | C3: 14:00 | D3: 22:00 | E3: 0.5 | F3: 7.5 | G3: Spät | J3: 1002 | K3: Jonas Weber | L3: Lager | M3: 40 | P3: Februar
A4: N | B4: Nachtschicht | C4: 22:00 | D4: 06:00 | E4: 0.5 | F4: 7.5 | G4: Nacht | J4: 1003 | K4: Lara Hoffmann | L4: Büro | M4: 30 | P4: März
A5: B | B5: Bereitschaft | C5: 08:00 | D5: 16:00 | E5: 0.5 | F5: 7.5 | G5: Bereitschaft | J5: 1004 | K5: Tim Schuster | L5: Service | M5: 40 | P5: April
A6: O | B6: Frei | E6: 0 | F6: 0 | G6: Frei | J6: 1005 | K6: Mia Krause | L6: Verkauf | M6: 35 | P6: Mai
A7: U | B7: Urlaub | E7: 0 | F7: 0 | G7: Urlaub | J7: 1006 | K7: Paul Richter | L7: Produktion | M7: 40 | P7: Juni
A8: K | B8: Krank | E8: 0 | F8: 0 | G8: Krank | J8: 1007 | K8: Nina Vogel | L8: Büro | M8: 25 | P8: Juli
J9: 1008 | K9: Leon König | L9: Lager | M9: 40 | P9: August
A10: Hinweis | B10: Codes und Mitarbeitende können hier angepasst werden. | J10: 1009 | K10: Sophie Braun | L10: Service | M10: 30 | P10: September
J11: 1010 | K11: Max Neumann | L11: Produktion | M11: 40 | P11: Oktober
J12: 1011 | K12: Clara Wolf | L12: Verkauf | M12: 30 | P12: November
J13: 1012 | K13: Felix Hartmann | L13: Service | M13: 40 | P13: Dezember
J14: 1013 | K14: Emma Schneider | L14: Lager | M14: 35
J15: 1014 | K15: Noah Fischer | L15: Produktion | M15: 40
J16: 1015 | K16: Laura Zimmer | L16: Verkauf | M16: 20
