Workbook
Name SchichtListe: Listen!$A$2:$A$9

Sheet Einsatzplan
A1: Einsatzplanung / Dienstplan
A3: Unternehmen | B3: Beispiel GmbH | D3: Abteilung | E3: Verkauf & Service | G3: Planer | H3: Sergio | J3: Wochenstart | K3: 46083
A5: Mitarbeiter | B5: Bereich / Rolle | C5: Soll-Stunden | D5: Montag 02.03.2026 | E5: Dienstag 03.03.2026 | F5: Mittwoch 04.03.2026 | G5: Donnerstag 05.03.2026 | H5: Freitag 06.03.2026 | I5: Samstag 07.03.2026 | J5: Sonntag 08.03.2026 | K5: Geplante Stunden | L5: Differenz | M5: Früh | N5: Spät | O5: Nacht | P5: Frei / Abwesend
A6: Anna Keller | B6: Verkauf | C6: 40 | D6: Früh | E6: Früh | F6: Tag | G6: Spät | H6: Früh | I6: Frei | J6: Frei | K6: =COUNTIF(D6:J6,Listen!$A$2)*Listen!$D$2+COUNTIF(D6:J6,Listen!$A$3)*Listen!$D$3+COUNTIF(D6:J6,Listen!$A$4)*Listen!$D$4+COUNTIF(D6:J6,Listen!$A$5)*Listen!$D$5+COUNTIF(D6:J6,Listen!$A$6)*Listen!$D$6+COUNTIF(D6:J6,Listen!$A$7)*Listen!$D$7+COUNTIF(D6:J6,Listen!$A$8)*Listen!$D$8+COUNTIF(D6:J6,Listen!$A$9)*Listen!$D$9 -> 40 | L6: =K6-C6 -> 0 | M6: =COUNTIF(D6:J6,"Früh") -> 3 | N6: =COUNTIF(D6:J6,"Spät") -> 1 | O6: =COUNTIF(D6:J6,"Nacht") -> 0 | P6: =COUNTIF(D6:J6,"Frei")+COUNTIF(D6:J6,"Urlaub")+COUNTIF(D6:J6,"Krank") -> 2
A7: Lukas Braun | B7: Lager | C7: 40 | D7: Tag | E7: Tag | F7: Früh | G7: Früh | H7: Spät | I7: Spät | J7: Frei | K7: =COUNTIF(D7:J7,Listen!$A$2)*Listen!$D$2+COUNTIF(D7:J7,Listen!$A$3)*Listen!$D$3+COUNTIF(D7:J7,Listen!$A$4)*Listen!$D$4+COUNTIF(D7:J7,Listen!$A$5)*Listen!$D$5+COUNTIF(D7:J7,Listen!$A$6)*Listen!$D$6+COUNTIF(D7:J7,Listen!$A$7)*Listen!$D$7+COUNTIF(D7:J7,Listen!$A$8)*Listen!$D$8+COUNTIF(D7:J7,Listen!$A$9)*Listen!$D$9 -> 48 | L7: =K7-C7 -> 8 | M7: =COUNTIF(D7:J7,"Früh") -> 2 | N7: =COUNTIF(D7:J7,"Spät") -> 2 | O7: =COUNTIF(D7:J7,"Nacht") -> 0 | P7: =COUNTIF(D7:J7,"Frei")+COUNTIF(D7:J7,"Urlaub")+COUNTIF(D7:J7,"Krank") -> 1
A8: Sophie Wagner | B8: Service | C8: 32 | D8: Spät | E8: Spät | F8: Frei | G8: Früh | H8: Früh | I8: Tag | J8: Frei | K8: =COUNTIF(D8:J8,Listen!$A$2)*Listen!$D$2+COUNTIF(D8:J8,Listen!$A$3)*Listen!$D$3+COUNTIF(D8:J8,Listen!$A$4)*Listen!$D$4+COUNTIF(D8:J8,Listen!$A$5)*Listen!$D$5+COUNTIF(D8:J8,Listen!$A$6)*Listen!$D$6+COUNTIF(D8:J8,Listen!$A$7)*Listen!$D$7+COUNTIF(D8:J8,Listen!$A$8)*Listen!$D$8+COUNTIF(D8:J8,Listen!$A$9)*Listen!$D$9 -> 40 | L8: =K8-C8 -> 8 | M8: =COUNTIF(D8:J8,"Früh") -> 2 | N8: =COUNTIF(D8:J8,"Spät") -> 2 | O8: =COUNTIF(D8:J8,"Nacht") -> 0 | P8: =COUNTIF(D8:J8,"Frei")+COUNTIF(D8:J8,"Urlaub")+COUNTIF(D8:J8,"Krank") -> 2
A9: Daniel Hoffmann | B9: Büro | C9: 40 | D9: Tag | E9: Tag | F9: Tag | G9: Tag | H9: Tag | I9: Frei | J9: Frei | K9: =COUNTIF(D9:J9,Listen!$A$2)*Listen!$D$2+COUNTIF(D9:J9,Listen!$A$3)*Listen!$D$3+COUNTIF(D9:J9,Listen!$A$4)*Listen!$D$4+COUNTIF(D9:J9,Listen!$A$5)*Listen!$D$5+COUNTIF(D9:J9,Listen!$A$6)*Listen!$D$6+COUNTIF(D9:J9,Listen!$A$7)*Listen!$D$7+COUNTIF(D9:J9,Listen!$A$8)*Listen!$D$8+COUNTIF(D9:J9,Listen!$A$9)*Listen!$D$9 -> 40 | L9: =K9-C9 -> 0 | M9: =COUNTIF(D9:J9,"Früh") -> 0 | N9: =COUNTIF(D9:J9,"Spät") -> 0 | O9: =COUNTIF(D9:J9,"Nacht") -> 0 | P9: =COUNTIF(D9:J9,"Frei")+COUNTIF(D9:J9,"Urlaub")+COUNTIF(D9:J9,"Krank") -> 2
A10: Mia Schneider | B10: Verkauf | C10: 24 | D10: Früh | E10: Frei | F10: Früh | G10: Frei | H10: Tag | I10: Frei | J10: Frei | K10: =COUNTIF(D10:J10,Listen!$A$2)*Listen!$D$2+COUNTIF(D10:J10,Listen!$A$3)*Listen!$D$3+COUNTIF(D10:J10,Listen!$A$4)*Listen!$D$4+COUNTIF(D10:J10,Listen!$A$5)*Listen!$D$5+COUNTIF(D10:J10,Listen!$A$6)*Listen!$D$6+COUNTIF(D10:J10,Listen!$A$7)*Listen!$D$7+COUNTIF(D10:J10,Listen!$A$8)*Listen!$D$8+COUNTIF(D10:J10,Listen!$A$9)*Listen!$D$9 -> 24 | L10: =K10-C10 -> 0 | M10: =COUNTIF(D10:J10,"Früh") -> 2 | N10: =COUNTIF(D10:J10,"Spät") -> 0 | O10: =COUNTIF(D10:J10,"Nacht") -> 0 | P10: =COUNTIF(D10:J10,"Frei")+COUNTIF(D10:J10,"Urlaub")+COUNTIF(D10:J10,"Krank") -> 4
A11: Jonas Fischer | B11: Lager | C11: 40 | D11: Nacht | E11: Nacht | F11: Frei | G11: Spät | H11: Spät | I11: Nacht | J11: Frei | K11: =COUNTIF(D11:J11,Listen!$A$2)*Listen!$D$2+COUNTIF(D11:J11,Listen!$A$3)*Listen!$D$3+COUNTIF(D11:J11,Listen!$A$4)*Listen!$D$4+COUNTIF(D11:J11,Listen!$A$5)*Listen!$D$5+COUNTIF(D11:J11,Listen!$A$6)*Listen!$D$6+COUNTIF(D11:J11,Listen!$A$7)*Listen!$D$7+COUNTIF(D11:J11,Listen!$A$8)*Listen!$D$8+COUNTIF(D11:J11,Listen!$A$9)*Listen!$D$9 -> 40 | L11: =K11-C11 -> 0 | M11: =COUNTIF(D11:J11,"Früh") -> 0 | N11: =COUNTIF(D11:J11,"Spät") -> 2 | O11: =COUNTIF(D11:J11,"Nacht") -> 3 | P11: =COUNTIF(D11:J11,"Frei")+COUNTIF(D11:J11,"Urlaub")+COUNTIF(D11:J11,"Krank") -> 2
A12: Laura Weber | B12: Service | C12: 30 | D12: Spät | E12: Früh | F12: Spät | G12: Früh | H12: Frei | I12: Frei | J12: Urlaub | K12: =COUNTIF(D12:J12,Listen!$A$2)*Listen!$D$2+COUNTIF(D12:J12,Listen!$A$3)*Listen!$D$3+COUNTIF(D12:J12,Listen!$A$4)*Listen!$D$4+COUNTIF(D12:J12,Listen!$A$5)*Listen!$D$5+COUNTIF(D12:J12,Listen!$A$6)*Listen!$D$6+COUNTIF(D12:J12,Listen!$A$7)*Listen!$D$7+COUNTIF(D12:J12,Listen!$A$8)*Listen!$D$8+COUNTIF(D12:J12,Listen!$A$9)*Listen!$D$9 -> 32 | L12: =K12-C12 -> 2 | M12: =COUNTIF(D12:J12,"Früh") -> 2 | N12: =COUNTIF(D12:J12,"Spät") -> 2 | O12: =COUNTIF(D12:J12,"Nacht") -> 0 | P12: =COUNTIF(D12:J12,"Frei")+COUNTIF(D12:J12,"Urlaub")+COUNTIF(D12:J12,"Krank") -> 3
A13: Felix Richter | B13: Technik | C13: 38 | D13: Tag | E13: Tag | F13: Früh | G13: Früh | H13: Tag | I13: Frei | J13: Krank | K13: =COUNTIF(D13:J13,Listen!$A$2)*Listen!$D$2+COUNTIF(D13:J13,Listen!$A$3)*Listen!$D$3+COUNTIF(D13:J13,Listen!$A$4)*Listen!$D$4+COUNTIF(D13:J13,Listen!$A$5)*Listen!$D$5+COUNTIF(D13:J13,Listen!$A$6)*Listen!$D$6+COUNTIF(D13:J13,Listen!$A$7)*Listen!$D$7+COUNTIF(D13:J13,Listen!$A$8)*Listen!$D$8+COUNTIF(D13:J13,Listen!$A$9)*Listen!$D$9 -> 40 | L13: =K13-C13 -> 2 | M13: =COUNTIF(D13:J13,"Früh") -> 2 | N13: =COUNTIF(D13:J13,"Spät") -> 0 | O13: =COUNTIF(D13:J13,"Nacht") -> 0 | P13: =COUNTIF(D13:J13,"Frei")+COUNTIF(D13:J13,"Urlaub")+COUNTIF(D13:J13,"Krank") -> 2
A14: Nina Hartmann | B14: Empfang | C14: 35 | D14: Früh | E14: Tag | F14: Tag | G14: Spät | H14: Spät | I14: Frei | J14: Frei | K14: =COUNTIF(D14:J14,Listen!$A$2)*Listen!$D$2+COUNTIF(D14:J14,Listen!$A$3)*Listen!$D$3+COUNTIF(D14:J14,Listen!$A$4)*Listen!$D$4+COUNTIF(D14:J14,Listen!$A$5)*Listen!$D$5+COUNTIF(D14:J14,Listen!$A$6)*Listen!$D$6+COUNTIF(D14:J14,Listen!$A$7)*Listen!$D$7+COUNTIF(D14:J14,Listen!$A$8)*Listen!$D$8+COUNTIF(D14:J14,Listen!$A$9)*Listen!$D$9 -> 40 | L14: =K14-C14 -> 5 | M14: =COUNTIF(D14:J14,"Früh") -> 1 | N14: =COUNTIF(D14:J14,"Spät") -> 2 | O14: =COUNTIF(D14:J14,"Nacht") -> 0 | P14: =COUNTIF(D14:J14,"Frei")+COUNTIF(D14:J14,"Urlaub")+COUNTIF(D14:J14,"Krank") -> 2
A15: Paul Zimmermann | B15: Büro | C15: 40 | D15: Tag | E15: Tag | F15: Tag | G15: Tag | H15: Tag | I15: Halbtag | J15: Frei | K15: =COUNTIF(D15:J15,Listen!$A$2)*Listen!$D$2+COUNTIF(D15:J15,Listen!$A$3)*Listen!$D$3+COUNTIF(D15:J15,Listen!$A$4)*Listen!$D$4+COUNTIF(D15:J15,Listen!$A$5)*Listen!$D$5+COUNTIF(D15:J15,Listen!$A$6)*Listen!$D$6+COUNTIF(D15:J15,Listen!$A$7)*Listen!$D$7+COUNTIF(D15:J15,Listen!$A$8)*Listen!$D$8+COUNTIF(D15:J15,Listen!$A$9)*Listen!$D$9 -> 44 | L15: =K15-C15 -> 4 | M15: =COUNTIF(D15:J15,"Früh") -> 0 | N15: =COUNTIF(D15:J15,"Spät") -> 0 | O15: =COUNTIF(D15:J15,"Nacht") -> 0 | P15: =COUNTIF(D15:J15,"Frei")+COUNTIF(D15:J15,"Urlaub")+COUNTIF(D15:J15,"Krank") -> 1
A16: Emma Krüger | B16: Service | C16: 20 | D16: Halbtag | E16: Frei | F16: Halbtag | G16: Frei | H16: Halbtag | I16: Frei | J16: Frei | K16: =COUNTIF(D16:J16,Listen!$A$2)*Listen!$D$2+COUNTIF(D16:J16,Listen!$A$3)*Listen!$D$3+COUNTIF(D16:J16,Listen!$A$4)*Listen!$D$4+COUNTIF(D16:J16,Listen!$A$5)*Listen!$D$5+COUNTIF(D16:J16,Listen!$A$6)*Listen!$D$6+COUNTIF(D16:J16,Listen!$A$7)*Listen!$D$7+COUNTIF(D16:J16,Listen!$A$8)*Listen!$D$8+COUNTIF(D16:J16,Listen!$A$9)*Listen!$D$9 -> 12 | L16: =K16-C16 -> -8 | M16: =COUNTIF(D16:J16,"Früh") -> 0 | N16: =COUNTIF(D16:J16,"Spät") -> 0 | O16: =COUNTIF(D16:J16,"Nacht") -> 0 | P16: =COUNTIF(D16:J16,"Frei")+COUNTIF(D16:J16,"Urlaub")+COUNTIF(D16:J16,"Krank") -> 4
A17: Leon Neumann | B17: Lager | C17: 30 | D17: Früh | E17: Spät | F17: Frei | G17: Früh | H17: Spät | I17: Frei | J17: Frei | K17: =COUNTIF(D17:J17,Listen!$A$2)*Listen!$D$2+COUNTIF(D17:J17,Listen!$A$3)*Listen!$D$3+COUNTIF(D17:J17,Listen!$A$4)*Listen!$D$4+COUNTIF(D17:J17,Listen!$A$5)*Listen!$D$5+COUNTIF(D17:J17,Listen!$A$6)*Listen!$D$6+COUNTIF(D17:J17,Listen!$A$7)*Listen!$D$7+COUNTIF(D17:J17,Listen!$A$8)*Listen!$D$8+COUNTIF(D17:J17,Listen!$A$9)*Listen!$D$9 -> 32 | L17: =K17-C17 -> 2 | M17: =COUNTIF(D17:J17,"Früh") -> 2 | N17: =COUNTIF(D17:J17,"Spät") -> 2 | O17: =COUNTIF(D17:J17,"Nacht") -> 0 | P17: =COUNTIF(D17:J17,"Frei")+COUNTIF(D17:J17,"Urlaub")+COUNTIF(D17:J17,"Krank") -> 3
A19: Tagesübersicht | J19: Legende
A20: Schicht | B20: Montag 02.03.2026 | C20: Dienstag 03.03.2026 | D20: Mittwoch 04.03.2026 | E20: Donnerstag 05.03.2026 | F20: Freitag 06.03.2026 | G20: Samstag 07.03.2026 | H20: Sonntag 08.03.2026 | J20: Schicht | K20: Zeit | L20: Stunden | N20: Hinweis
A21: Früh | B21: =COUNTIF($D$6:$D$17,"Früh") -> 4 | C21: =COUNTIF($E$6:$E$17,"Früh") -> 2 | D21: =COUNTIF($F$6:$F$17,"Früh") -> 3 | E21: =COUNTIF($G$6:$G$17,"Früh") -> 5 | F21: =COUNTIF($H$6:$H$17,"Früh") -> 2 | G21: =COUNTIF($I$6:$I$17,"Früh") -> 0 | H21: =COUNTIF($J$6:$J$17,"Früh") -> 0 | J21: Früh | K21: 06:00-14:00 | L21: 8 | N21: Diese Vorlage ist absichtlich einfach gehalten: Dropdowns, Farben, Stunden und Tagesübersicht – ohne unnötige Komplexität.
A22: Spät | B22: =COUNTIF($D$6:$D$17,"Spät") -> 2 | C22: =COUNTIF($E$6:$E$17,"Spät") -> 2 | D22: =COUNTIF($F$6:$F$17,"Spät") -> 1 | E22: =COUNTIF($G$6:$G$17,"Spät") -> 3 | F22: =COUNTIF($H$6:$H$17,"Spät") -> 4 | G22: =COUNTIF($I$6:$I$17,"Spät") -> 1 | H22: =COUNTIF($J$6:$J$17,"Spät") -> 0 | J22: Spät | K22: 14:00-22:00 | L22: 8
A23: Nacht | B23: =COUNTIF($D$6:$D$17,"Nacht") -> 1 | C23: =COUNTIF($E$6:$E$17,"Nacht") -> 1 | D23: =COUNTIF($F$6:$F$17,"Nacht") -> 0 | E23: =COUNTIF($G$6:$G$17,"Nacht") -> 0 | F23: =COUNTIF($H$6:$H$17,"Nacht") -> 0 | G23: =COUNTIF($I$6:$I$17,"Nacht") -> 1 | H23: =COUNTIF($J$6:$J$17,"Nacht") -> 0 | J23: Nacht | K23: 22:00-06:00 | L23: 8
A24: Tag | B24: =COUNTIF($D$6:$D$17,"Tag") -> 4 | C24: =COUNTIF($E$6:$E$17,"Tag") -> 5 | D24: =COUNTIF($F$6:$F$17,"Tag") -> 4 | E24: =COUNTIF($G$6:$G$17,"Tag") -> 2 | F24: =COUNTIF($H$6:$H$17,"Tag") -> 4 | G24: =COUNTIF($I$6:$I$17,"Tag") -> 1 | H24: =COUNTIF($J$6:$J$17,"Tag") -> 0 | J24: Tag | K24: 09:00-17:00 | L24: 8
A25: Halbtag | B25: =COUNTIF($D$6:$D$17,"Halbtag") -> 1 | C25: =COUNTIF($E$6:$E$17,"Halbtag") -> 0 | D25: =COUNTIF($F$6:$F$17,"Halbtag") -> 1 | E25: =COUNTIF($G$6:$G$17,"Halbtag") -> 0 | F25: =COUNTIF($H$6:$H$17,"Halbtag") -> 1 | G25: =COUNTIF($I$6:$I$17,"Halbtag") -> 1 | H25: =COUNTIF($J$6:$J$17,"Halbtag") -> 0 | J25: Halbtag | K25: 09:00-13:00 | L25: 4
A26: Frei / Abwesend | B26: =COUNTIF($D$6:$D$17,"Frei")+COUNTIF($D$6:$D$17,"Urlaub")+COUNTIF($D$6:$D$17,"Krank") -> 0 | C26: =COUNTIF($E$6:$E$17,"Frei")+COUNTIF($E$6:$E$17,"Urlaub")+COUNTIF($E$6:$E$17,"Krank") -> 2 | D26: =COUNTIF($F$6:$F$17,"Frei")+COUNTIF($F$6:$F$17,"Urlaub")+COUNTIF($F$6:$F$17,"Krank") -> 3 | E26: =COUNTIF($G$6:$G$17,"Frei")+COUNTIF($G$6:$G$17,"Urlaub")+COUNTIF($G$6:$G$17,"Krank") -> 2 | F26: =COUNTIF($H$6:$H$17,"Frei")+COUNTIF($H$6:$H$17,"Urlaub")+COUNTIF($H$6:$H$17,"Krank") -> 1 | G26: =COUNTIF($I$6:$I$17,"Frei")+COUNTIF($I$6:$I$17,"Urlaub")+COUNTIF($I$6:$I$17,"Krank") -> 8 | H26: =COUNTIF($J$6:$J$17,"Frei")+COUNTIF($J$6:$J$17,"Urlaub")+COUNTIF($J$6:$J$17,"Krank") -> 12 | J26: Frei | K26: - | L26: 0
J27: Urlaub | K27: - | L27: 0
J28: Krank | K28: - | L28: 0

Sheet Listen
A1: Schicht | B1: Beginn | C1: Ende | D1: Stunden
A2: Früh | B2: 06:00 | C2: 14:00 | D2: 8
A3: Spät | B3: 14:00 | C3: 22:00 | D3: 8
A4: Nacht | B4: 22:00 | C4: 06:00 | D4: 8
A5: Tag | B5: 09:00 | C5: 17:00 | D5: 8
A6: Halbtag | B6: 09:00 | C6: 13:00 | D6: 4
A7: Frei | B7: - | C7: - | D7: 0
A8: Urlaub | B8: - | C8: - | D8: 0
A9: Krank | B9: - | C9: - | D9: 0
