Workbook

Sheet Einsatzplanung
A1: Einsatzplanung
A3: Team / Abteilung | B3: Filiale Mitte | D3: Kalenderwoche | E3: 11 | F3: Zeitraum von | G3: 09.03.2026 | H3: Zeitraum bis | I3: 13.03.2026
A4: Planer / Verantwortlich | B4: Sergio Beispiel | E4: Dropdowns für Schichten verwenden; Stunden werden automatisch berechnet.
A6: Mitarbeiter | B6: Position | C6: Montag | D6: Dienstag | E6: Mittwoch | F6: Donnerstag | G6: Freitag | H6: Wochenstunden | I6: Bemerkungen | K6: Legende
A7: Anna Becker | B7: Service | C7: Früh | D7: Früh | E7: Spät | F7: Spät | G7: Frei | H7: =IF(A7="","",SUM(IFERROR(VLOOKUP(C7,Listen!$A$2:$B$7,2,FALSE),0),IFERROR(VLOOKUP(D7,Listen!$A$2:$B$7,2,FALSE),0),IFERROR(VLOOKUP(E7,Listen!$A$2:$B$7,2,FALSE),0),IFERROR(VLOOKUP(F7,Listen!$A$2:$B$7,2,FALSE),0),IFERROR(VLOOKUP(G7,Listen!$A$2:$B$7,2,FALSE),0))) -> 32 | I7: Leitet das Abendteam am Donnerstag. | K7: Früh | L7: 08:00-16:00
A8: Lukas Weber | B8: Verkauf | C8: Spät | D8: Spät | E8: Früh | F8: Früh | G8: Früh | H8: =IF(A8="","",SUM(IFERROR(VLOOKUP(C8,Listen!$A$2:$B$7,2,FALSE),0),IFERROR(VLOOKUP(D8,Listen!$A$2:$B$7,2,FALSE),0),IFERROR(VLOOKUP(E8,Listen!$A$2:$B$7,2,FALSE),0),IFERROR(VLOOKUP(F8,Listen!$A$2:$B$7,2,FALSE),0),IFERROR(VLOOKUP(G8,Listen!$A$2:$B$7,2,FALSE),0))) -> 40 | K8: Spät | L8: 14:00-22:00
A9: Mia Schneider | B9: Lager | C9: Früh | D9: Urlaub | E9: Urlaub | F9: Urlaub | G9: Urlaub | H9: =IF(A9="","",SUM(IFERROR(VLOOKUP(C9,Listen!$A$2:$B$7,2,FALSE),0),IFERROR(VLOOKUP(D9,Listen!$A$2:$B$7,2,FALSE),0),IFERROR(VLOOKUP(E9,Listen!$A$2:$B$7,2,FALSE),0),IFERROR(VLOOKUP(F9,Listen!$A$2:$B$7,2,FALSE),0),IFERROR(VLOOKUP(G9,Listen!$A$2:$B$7,2,FALSE),0))) -> 8 | I9: Urlaub bis Freitag. | K9: Nacht | L9: 22:00-06:00
A10: Noah Fischer | B10: Produktion | C10: Nacht | D10: Nacht | E10: Frei | F10: Nacht | G10: Nacht | H10: =IF(A10="","",SUM(IFERROR(VLOOKUP(C10,Listen!$A$2:$B$7,2,FALSE),0),IFERROR(VLOOKUP(D10,Listen!$A$2:$B$7,2,FALSE),0),IFERROR(VLOOKUP(E10,Listen!$A$2:$B$7,2,FALSE),0),IFERROR(VLOOKUP(F10,Listen!$A$2:$B$7,2,FALSE),0),IFERROR(VLOOKUP(G10,Listen!$A$2:$B$7,2,FALSE),0))) -> 32 | K10: Frei | L10: 0 Std.
A11: Emma Wagner | B11: Verwaltung | C11: Früh | D11: Früh | E11: Früh | F11: Früh | G11: Früh | H11: =IF(A11="","",SUM(IFERROR(VLOOKUP(C11,Listen!$A$2:$B$7,2,FALSE),0),IFERROR(VLOOKUP(D11,Listen!$A$2:$B$7,2,FALSE),0),IFERROR(VLOOKUP(E11,Listen!$A$2:$B$7,2,FALSE),0),IFERROR(VLOOKUP(F11,Listen!$A$2:$B$7,2,FALSE),0),IFERROR(VLOOKUP(G11,Listen!$A$2:$B$7,2,FALSE),0))) -> 40 | I11: Nur Tagschicht. | K11: Urlaub | L11: 0 Std.
A12: Paul Hoffmann | B12: Service | C12: Spät | D12: Spät | E12: Spät | F12: Frei | G12: Spät | H12: =IF(A12="","",SUM(IFERROR(VLOOKUP(C12,Listen!$A$2:$B$7,2,FALSE),0),IFERROR(VLOOKUP(D12,Listen!$A$2:$B$7,2,FALSE),0),IFERROR(VLOOKUP(E12,Listen!$A$2:$B$7,2,FALSE),0),IFERROR(VLOOKUP(F12,Listen!$A$2:$B$7,2,FALSE),0),IFERROR(VLOOKUP(G12,Listen!$A$2:$B$7,2,FALSE),0))) -> 32 | K12: Krank | L12: 0 Std.
A13: Lea Klein | B13: Verkauf | C13: Krank | D13: Krank | E13: Früh | F13: Früh | G13: Spät | H13: =IF(A13="","",SUM(IFERROR(VLOOKUP(C13,Listen!$A$2:$B$7,2,FALSE),0),IFERROR(VLOOKUP(D13,Listen!$A$2:$B$7,2,FALSE),0),IFERROR(VLOOKUP(E13,Listen!$A$2:$B$7,2,FALSE),0),IFERROR(VLOOKUP(F13,Listen!$A$2:$B$7,2,FALSE),0),IFERROR(VLOOKUP(G13,Listen!$A$2:$B$7,2,FALSE),0))) -> 24 | I13: Rückkehr ab Mittwoch.
A14: Ben Richter | B14: Lager | C14: Früh | D14: Früh | E14: Früh | F14: Spät | G14: Spät | H14: =IF(A14="","",SUM(IFERROR(VLOOKUP(C14,Listen!$A$2:$B$7,2,FALSE),0),IFERROR(VLOOKUP(D14,Listen!$A$2:$B$7,2,FALSE),0),IFERROR(VLOOKUP(E14,Listen!$A$2:$B$7,2,FALSE),0),IFERROR(VLOOKUP(F14,Listen!$A$2:$B$7,2,FALSE),0),IFERROR(VLOOKUP(G14,Listen!$A$2:$B$7,2,FALSE),0))) -> 40
A15: Sofia Wolf | B15: Produktion | C15: Nacht | D15: Frei | E15: Nacht | F15: Nacht | G15: Frei | H15: =IF(A15="","",SUM(IFERROR(VLOOKUP(C15,Listen!$A$2:$B$7,2,FALSE),0),IFERROR(VLOOKUP(D15,Listen!$A$2:$B$7,2,FALSE),0),IFERROR(VLOOKUP(E15,Listen!$A$2:$B$7,2,FALSE),0),IFERROR(VLOOKUP(F15,Listen!$A$2:$B$7,2,FALSE),0),IFERROR(VLOOKUP(G15,Listen!$A$2:$B$7,2,FALSE),0))) -> 24
A16: Jonas Neumann | B16: Service | C16: Früh | D16: Spät | E16: Früh | F16: Spät | G16: Früh | H16: =IF(A16="","",SUM(IFERROR(VLOOKUP(C16,Listen!$A$2:$B$7,2,FALSE),0),IFERROR(VLOOKUP(D16,Listen!$A$2:$B$7,2,FALSE),0),IFERROR(VLOOKUP(E16,Listen!$A$2:$B$7,2,FALSE),0),IFERROR(VLOOKUP(F16,Listen!$A$2:$B$7,2,FALSE),0),IFERROR(VLOOKUP(G16,Listen!$A$2:$B$7,2,FALSE),0))) -> 40
H17: =IF(A17="","",SUM(IFERROR(VLOOKUP(C17,Listen!$A$2:$B$7,2,FALSE),0),IFERROR(VLOOKUP(D17,Listen!$A$2:$B$7,2,FALSE),0),IFERROR(VLOOKUP(E17,Listen!$A$2:$B$7,2,FALSE),0),IFERROR(VLOOKUP(F17,Listen!$A$2:$B$7,2,FALSE),0),IFERROR(VLOOKUP(G17,Listen!$A$2:$B$7,2,FALSE),0)))
H18: =IF(A18="","",SUM(IFERROR(VLOOKUP(C18,Listen!$A$2:$B$7,2,FALSE),0),IFERROR(VLOOKUP(D18,Listen!$A$2:$B$7,2,FALSE),0),IFERROR(VLOOKUP(E18,Listen!$A$2:$B$7,2,FALSE),0),IFERROR(VLOOKUP(F18,Listen!$A$2:$B$7,2,FALSE),0),IFERROR(VLOOKUP(G18,Listen!$A$2:$B$7,2,FALSE),0)))
H19: =IF(A19="","",SUM(IFERROR(VLOOKUP(C19,Listen!$A$2:$B$7,2,FALSE),0),IFERROR(VLOOKUP(D19,Listen!$A$2:$B$7,2,FALSE),0),IFERROR(VLOOKUP(E19,Listen!$A$2:$B$7,2,FALSE),0),IFERROR(VLOOKUP(F19,Listen!$A$2:$B$7,2,FALSE),0),IFERROR(VLOOKUP(G19,Listen!$A$2:$B$7,2,FALSE),0)))
H20: =IF(A20="","",SUM(IFERROR(VLOOKUP(C20,Listen!$A$2:$B$7,2,FALSE),0),IFERROR(VLOOKUP(D20,Listen!$A$2:$B$7,2,FALSE),0),IFERROR(VLOOKUP(E20,Listen!$A$2:$B$7,2,FALSE),0),IFERROR(VLOOKUP(F20,Listen!$A$2:$B$7,2,FALSE),0),IFERROR(VLOOKUP(G20,Listen!$A$2:$B$7,2,FALSE),0)))
H21: =IF(A21="","",SUM(IFERROR(VLOOKUP(C21,Listen!$A$2:$B$7,2,FALSE),0),IFERROR(VLOOKUP(D21,Listen!$A$2:$B$7,2,FALSE),0),IFERROR(VLOOKUP(E21,Listen!$A$2:$B$7,2,FALSE),0),IFERROR(VLOOKUP(F21,Listen!$A$2:$B$7,2,FALSE),0),IFERROR(VLOOKUP(G21,Listen!$A$2:$B$7,2,FALSE),0)))
H22: =IF(A22="","",SUM(IFERROR(VLOOKUP(C22,Listen!$A$2:$B$7,2,FALSE),0),IFERROR(VLOOKUP(D22,Listen!$A$2:$B$7,2,FALSE),0),IFERROR(VLOOKUP(E22,Listen!$A$2:$B$7,2,FALSE),0),IFERROR(VLOOKUP(F22,Listen!$A$2:$B$7,2,FALSE),0),IFERROR(VLOOKUP(G22,Listen!$A$2:$B$7,2,FALSE),0)))
H23: =IF(A23="","",SUM(IFERROR(VLOOKUP(C23,Listen!$A$2:$B$7,2,FALSE),0),IFERROR(VLOOKUP(D23,Listen!$A$2:$B$7,2,FALSE),0),IFERROR(VLOOKUP(E23,Listen!$A$2:$B$7,2,FALSE),0),IFERROR(VLOOKUP(F23,Listen!$A$2:$B$7,2,FALSE),0),IFERROR(VLOOKUP(G23,Listen!$A$2:$B$7,2,FALSE),0)))
H24: =IF(A24="","",SUM(IFERROR(VLOOKUP(C24,Listen!$A$2:$B$7,2,FALSE),0),IFERROR(VLOOKUP(D24,Listen!$A$2:$B$7,2,FALSE),0),IFERROR(VLOOKUP(E24,Listen!$A$2:$B$7,2,FALSE),0),IFERROR(VLOOKUP(F24,Listen!$A$2:$B$7,2,FALSE),0),IFERROR(VLOOKUP(G24,Listen!$A$2:$B$7,2,FALSE),0)))
H25: =IF(A25="","",SUM(IFERROR(VLOOKUP(C25,Listen!$A$2:$B$7,2,FALSE),0),IFERROR(VLOOKUP(D25,Listen!$A$2:$B$7,2,FALSE),0),IFERROR(VLOOKUP(E25,Listen!$A$2:$B$7,2,FALSE),0),IFERROR(VLOOKUP(F25,Listen!$A$2:$B$7,2,FALSE),0),IFERROR(VLOOKUP(G25,Listen!$A$2:$B$7,2,FALSE),0)))
H26: =IF(A26="","",SUM(IFERROR(VLOOKUP(C26,Listen!$A$2:$B$7,2,FALSE),0),IFERROR(VLOOKUP(D26,Listen!$A$2:$B$7,2,FALSE),0),IFERROR(VLOOKUP(E26,Listen!$A$2:$B$7,2,FALSE),0),IFERROR(VLOOKUP(F26,Listen!$A$2:$B$7,2,FALSE),0),IFERROR(VLOOKUP(G26,Listen!$A$2:$B$7,2,FALSE),0)))
A28: Tagesübersicht
B29: Montag | C29: Dienstag | D29: Mittwoch | E29: Donnerstag | F29: Freitag
A30: Anzahl Früh | B30: =COUNTIF($C$7:$C$26,"Früh") -> 5 | C30: =COUNTIF($D$7:$D$26,"Früh") -> 3 | D30: =COUNTIF($E$7:$E$26,"Früh") -> 5 | E30: =COUNTIF($F$7:$F$26,"Früh") -> 3 | F30: =COUNTIF($G$7:$G$26,"Früh") -> 3
A31: Anzahl Spät | B31: =COUNTIF($C$7:$C$26,"Spät") -> 2 | C31: =COUNTIF($D$7:$D$26,"Spät") -> 3 | D31: =COUNTIF($E$7:$E$26,"Spät") -> 2 | E31: =COUNTIF($F$7:$F$26,"Spät") -> 3 | F31: =COUNTIF($G$7:$G$26,"Spät") -> 3
A32: Anzahl Nacht | B32: =COUNTIF($C$7:$C$26,"Nacht") -> 2 | C32: =COUNTIF($D$7:$D$26,"Nacht") -> 1 | D32: =COUNTIF($E$7:$E$26,"Nacht") -> 1 | E32: =COUNTIF($F$7:$F$26,"Nacht") -> 2 | F32: =COUNTIF($G$7:$G$26,"Nacht") -> 1
A33: Anzahl Frei / Abwesend | B33: =COUNTIF($C$7:$C$26,"Frei")+COUNTIF($C$7:$C$26,"Urlaub")+COUNTIF($C$7:$C$26,"Krank") -> 1 | C33: =COUNTIF($D$7:$D$26,"Frei")+COUNTIF($D$7:$D$26,"Urlaub")+COUNTIF($D$7:$D$26,"Krank") -> 3 | D33: =COUNTIF($E$7:$E$26,"Frei")+COUNTIF($E$7:$E$26,"Urlaub")+COUNTIF($E$7:$E$26,"Krank") -> 2 | E33: =COUNTIF($F$7:$F$26,"Frei")+COUNTIF($F$7:$F$26,"Urlaub")+COUNTIF($F$7:$F$26,"Krank") -> 2 | F33: =COUNTIF($G$7:$G$26,"Frei")+COUNTIF($G$7:$G$26,"Urlaub")+COUNTIF($G$7:$G$26,"Krank") -> 3

Sheet Listen
A1: Schicht | B1: Stunden | D1: Positionen
A2: Früh | B2: 8 | D2: Service
A3: Spät | B3: 8 | D3: Verkauf
A4: Nacht | B4: 8 | D4: Lager
A5: Frei | B5: 0 | D5: Verwaltung
A6: Urlaub | B6: 0 | D6: Produktion
A7: Krank | B7: 0
A10: Hinweis
A11: Diese Hilfslisten können direkt bearbeitet werden. Änderungen wirken sich auf Dropdowns und Stundenberechnung in der Einsatzplanung aus.
