Workbook
Name Kategorien: Einstellungen!$I$3:$I$20
Name Kontenliste: Einstellungen!$M$3:$M$5
Name Statusliste: Einstellungen!$K$3:$K$6
Name Unterkategorien: Einstellungen!$J$3:$J$20
Name Vorgangsarten: Einstellungen!$H$3:$H$6
Name Zahlungsarten: Einstellungen!$L$3:$L$7

Sheet Uebersicht
A1: EÜR Kleinunternehmer ohne Umsatzsteuer | J1: So nutzt du die Datei
A2: =Einstellungen!B3&" – Geschäftsjahr "&Einstellungen!B5 -> Nordlicht Designstudio – Geschäftsjahr 2026 | J2: 1. Buchungen erfassen
J3: 2. Kategorien anpassen
A4: Einnahmen | C4: Ausgaben | E4: AfA | G4: Gewinn / Verlust | J4: 3. Ergebnis prüfen
A5: =SUMIFS(Buchungen!$M$3:$M$300,Buchungen!$F$3:$F$300,"Einnahme",Buchungen!$D$3:$D$300,Einstellungen!$B$5,Buchungen!$P$3:$P$300,"Bezahlt/Erhalten") -> 41700 | C5: =SUMIFS(Buchungen!$O$3:$O$300,Buchungen!$F$3:$F$300,"Ausgabe",Buchungen!$D$3:$D$300,Einstellungen!$B$5,Buchungen!$P$3:$P$300,"Bezahlt/Erhalten") -> 3718.77 | E5: =SUM(Anlagen_AfA!$R$3:$R$120) -> 964.9 | G5: =A5-C5-E5 -> 37016.33
A7: Privateinlagen | C7: Privatentnahmen | E7: Anzahl Buchungen | G7: Status
A8: =SUMIFS(Buchungen!$M$3:$M$300,Buchungen!$F$3:$F$300,"Privateinlage",Buchungen!$D$3:$D$300,Einstellungen!$B$5,Buchungen!$P$3:$P$300,"Bezahlt/Erhalten") -> 2300 | C8: =SUMIFS(Buchungen!$M$3:$M$300,Buchungen!$F$3:$F$300,"Privatentnahme",Buchungen!$D$3:$D$300,Einstellungen!$B$5,Buchungen!$P$3:$P$300,"Bezahlt/Erhalten") -> 2600 | E8: =COUNTIFS(Buchungen!$D$3:$D$300,Einstellungen!$B$5,Buchungen!$P$3:$P$300,"<>Storniert",Buchungen!$B$3:$B$300,"<>") -> 51 | G8: =IF(A5>Einstellungen!$B$8,"Grenze überschritten",IF(A5>=Einstellungen!$B$8*Einstellungen!$B$9,"Warnung: nahe an der Grenze","OK")) -> OK
A11: Jahresübersicht | E11: Kontrolle
A12: Betriebliche Einnahmen | B12: =A5-B13 -> 41700 | E12: Umsatz vs. Grenze | F12: =TEXT(A5/Einstellungen!$B$8,"0%")&" der Jahresgrenze genutzt" -> 42% der Jahresgrenze genutzt
A13: Sonstige Einnahmen | B13: =SUMIFS(Buchungen!$M$3:$M$300,Buchungen!$F$3:$F$300,"Einnahme",Buchungen!$G$3:$G$300,"Sonstige betriebliche Einnahmen",Buchungen!$D$3:$D$300,Einstellungen!$B$5,Buchungen!$P$3:$P$300,"Bezahlt/Erhalten") -> 0 | E13: Offene Buchungen | F13: =COUNTIFS(Buchungen!$D$3:$D$300,Einstellungen!$B$5,Buchungen!$P$3:$P$300,"Offen")&" offene Buchungen" -> 2 offene Buchungen
A14: Gesamteinnahmen | B14: =A5 -> 41700 | E14: Hinweis | F14: =IF(G5<0,"Verlust im Auswahljahr.","Ergebnis positiv.") -> Ergebnis positiv.
A16: Betriebsausgaben | B16: =C5-B18 -> 3686.27
A17: Abschreibung (AfA) | B17: =E5 -> 964.9
A18: Sonstige Ausgaben | B18: =SUMIFS(Buchungen!$O$3:$O$300,Buchungen!$F$3:$F$300,"Ausgabe",Buchungen!$G$3:$G$300,"Sonstige Ausgaben",Buchungen!$D$3:$D$300,Einstellungen!$B$5,Buchungen!$P$3:$P$300,"Bezahlt/Erhalten") -> 32.5
A19: Gesamtausgaben | B19: =C5+E5 -> 4683.67
A21: Gewinn / Verlust | B21: =G5 -> 37016.33
K33: Monatswerte für Diagramm | O33: Ausgaben nach Kategorie
K34: Monat | L34: Einnahmen | M34: Ausgaben | O34: Kategorie | P34: Summe
K35: Jan | L35: =SUMIFS(Buchungen!$M$3:$M$300,Buchungen!$F$3:$F$300,"Einnahme",Buchungen!$C$3:$C$300,1,Buchungen!$D$3:$D$300,Einstellungen!$B$5,Buchungen!$P$3:$P$300,"Bezahlt/Erhalten") -> 3800 | M35: =SUMIFS(Buchungen!$O$3:$O$300,Buchungen!$F$3:$F$300,"Ausgabe",Buchungen!$C$3:$C$300,1,Buchungen!$D$3:$D$300,Einstellungen!$B$5,Buchungen!$P$3:$P$300,"Bezahlt/Erhalten") -> 358.49 | O35: Software / Tools | P35: =SUMIFS(Buchungen!$O$3:$O$300,Buchungen!$F$3:$F$300,"Ausgabe",Buchungen!$G$3:$G$300,O35,Buchungen!$D$3:$D$300,Einstellungen!$B$5,Buchungen!$P$3:$P$300,"Bezahlt/Erhalten") -> 196.97
K36: Feb | L36: =SUMIFS(Buchungen!$M$3:$M$300,Buchungen!$F$3:$F$300,"Einnahme",Buchungen!$C$3:$C$300,2,Buchungen!$D$3:$D$300,Einstellungen!$B$5,Buchungen!$P$3:$P$300,"Bezahlt/Erhalten") -> 2950 | M36: =SUMIFS(Buchungen!$O$3:$O$300,Buchungen!$F$3:$F$300,"Ausgabe",Buchungen!$C$3:$C$300,2,Buchungen!$D$3:$D$300,Einstellungen!$B$5,Buchungen!$P$3:$P$300,"Bezahlt/Erhalten") -> 310.49 | O36: Telefon / Internet | P36: =SUMIFS(Buchungen!$O$3:$O$300,Buchungen!$F$3:$F$300,"Ausgabe",Buchungen!$G$3:$G$300,O36,Buchungen!$D$3:$D$300,Einstellungen!$B$5,Buchungen!$P$3:$P$300,"Bezahlt/Erhalten") -> 436.5
K37: Mrz | L37: =SUMIFS(Buchungen!$M$3:$M$300,Buchungen!$F$3:$F$300,"Einnahme",Buchungen!$C$3:$C$300,3,Buchungen!$D$3:$D$300,Einstellungen!$B$5,Buchungen!$P$3:$P$300,"Bezahlt/Erhalten") -> 4200 | M37: =SUMIFS(Buchungen!$O$3:$O$300,Buchungen!$F$3:$F$300,"Ausgabe",Buchungen!$C$3:$C$300,3,Buchungen!$D$3:$D$300,Einstellungen!$B$5,Buchungen!$P$3:$P$300,"Bezahlt/Erhalten") -> 501 | O37: Marketing / Werbung | P37: =SUMIFS(Buchungen!$O$3:$O$300,Buchungen!$F$3:$F$300,"Ausgabe",Buchungen!$G$3:$G$300,O37,Buchungen!$D$3:$D$300,Einstellungen!$B$5,Buchungen!$P$3:$P$300,"Bezahlt/Erhalten") -> 475
K38: Apr | L38: =SUMIFS(Buchungen!$M$3:$M$300,Buchungen!$F$3:$F$300,"Einnahme",Buchungen!$C$3:$C$300,4,Buchungen!$D$3:$D$300,Einstellungen!$B$5,Buchungen!$P$3:$P$300,"Bezahlt/Erhalten") -> 3600 | M38: =SUMIFS(Buchungen!$O$3:$O$300,Buchungen!$F$3:$F$300,"Ausgabe",Buchungen!$C$3:$C$300,4,Buchungen!$D$3:$D$300,Einstellungen!$B$5,Buchungen!$P$3:$P$300,"Bezahlt/Erhalten") -> 358.4 | O38: Reisen / Fahrten | P38: =SUMIFS(Buchungen!$O$3:$O$300,Buchungen!$F$3:$F$300,"Ausgabe",Buchungen!$G$3:$G$300,O38,Buchungen!$D$3:$D$300,Einstellungen!$B$5,Buchungen!$P$3:$P$300,"Bezahlt/Erhalten") -> 325.8
K39: Mai | L39: =SUMIFS(Buchungen!$M$3:$M$300,Buchungen!$F$3:$F$300,"Einnahme",Buchungen!$C$3:$C$300,5,Buchungen!$D$3:$D$300,Einstellungen!$B$5,Buchungen!$P$3:$P$300,"Bezahlt/Erhalten") -> 4100 | M39: =SUMIFS(Buchungen!$O$3:$O$300,Buchungen!$F$3:$F$300,"Ausgabe",Buchungen!$C$3:$C$300,5,Buchungen!$D$3:$D$300,Einstellungen!$B$5,Buchungen!$P$3:$P$300,"Bezahlt/Erhalten") -> 252.5 | O39: Fortbildung | P39: =SUMIFS(Buchungen!$O$3:$O$300,Buchungen!$F$3:$F$300,"Ausgabe",Buchungen!$G$3:$G$300,O39,Buchungen!$D$3:$D$300,Einstellungen!$B$5,Buchungen!$P$3:$P$300,"Bezahlt/Erhalten") -> 569
K40: Jun | L40: =SUMIFS(Buchungen!$M$3:$M$300,Buchungen!$F$3:$F$300,"Einnahme",Buchungen!$C$3:$C$300,6,Buchungen!$D$3:$D$300,Einstellungen!$B$5,Buchungen!$P$3:$P$300,"Bezahlt/Erhalten") -> 3150 | M40: =SUMIFS(Buchungen!$O$3:$O$300,Buchungen!$F$3:$F$300,"Ausgabe",Buchungen!$C$3:$C$300,6,Buchungen!$D$3:$D$300,Einstellungen!$B$5,Buchungen!$P$3:$P$300,"Bezahlt/Erhalten") -> 379 | O40: Versicherungen | P40: =SUMIFS(Buchungen!$O$3:$O$300,Buchungen!$F$3:$F$300,"Ausgabe",Buchungen!$G$3:$G$300,O40,Buchungen!$D$3:$D$300,Einstellungen!$B$5,Buchungen!$P$3:$P$300,"Bezahlt/Erhalten") -> 220
K41: Jul | L41: =SUMIFS(Buchungen!$M$3:$M$300,Buchungen!$F$3:$F$300,"Einnahme",Buchungen!$C$3:$C$300,7,Buchungen!$D$3:$D$300,Einstellungen!$B$5,Buchungen!$P$3:$P$300,"Bezahlt/Erhalten") -> 4700 | M41: =SUMIFS(Buchungen!$O$3:$O$300,Buchungen!$F$3:$F$300,"Ausgabe",Buchungen!$C$3:$C$300,7,Buchungen!$D$3:$D$300,Einstellungen!$B$5,Buchungen!$P$3:$P$300,"Bezahlt/Erhalten") -> 468.5 | O41: Miete / Coworking | P41: =SUMIFS(Buchungen!$O$3:$O$300,Buchungen!$F$3:$F$300,"Ausgabe",Buchungen!$G$3:$G$300,O41,Buchungen!$D$3:$D$300,Einstellungen!$B$5,Buchungen!$P$3:$P$300,"Bezahlt/Erhalten") -> 960
K42: Aug | L42: =SUMIFS(Buchungen!$M$3:$M$300,Buchungen!$F$3:$F$300,"Einnahme",Buchungen!$C$3:$C$300,8,Buchungen!$D$3:$D$300,Einstellungen!$B$5,Buchungen!$P$3:$P$300,"Bezahlt/Erhalten") -> 3300 | M42: =SUMIFS(Buchungen!$O$3:$O$300,Buchungen!$F$3:$F$300,"Ausgabe",Buchungen!$C$3:$C$300,8,Buchungen!$D$3:$D$300,Einstellungen!$B$5,Buchungen!$P$3:$P$300,"Bezahlt/Erhalten") -> 63.5 | O42: Beratung / Fremdleistungen | P42: =SUMIFS(Buchungen!$O$3:$O$300,Buchungen!$F$3:$F$300,"Ausgabe",Buchungen!$G$3:$G$300,O42,Buchungen!$D$3:$D$300,Einstellungen!$B$5,Buchungen!$P$3:$P$300,"Bezahlt/Erhalten") -> 420
K43: Sep | L43: =SUMIFS(Buchungen!$M$3:$M$300,Buchungen!$F$3:$F$300,"Einnahme",Buchungen!$C$3:$C$300,9,Buchungen!$D$3:$D$300,Einstellungen!$B$5,Buchungen!$P$3:$P$300,"Bezahlt/Erhalten") -> 3900 | M43: =SUMIFS(Buchungen!$O$3:$O$300,Buchungen!$F$3:$F$300,"Ausgabe",Buchungen!$C$3:$C$300,9,Buchungen!$D$3:$D$300,Einstellungen!$B$5,Buchungen!$P$3:$P$300,"Bezahlt/Erhalten") -> 332 | O43: Bankgebühren | P43: =SUMIFS(Buchungen!$O$3:$O$300,Buchungen!$F$3:$F$300,"Ausgabe",Buchungen!$G$3:$G$300,O43,Buchungen!$D$3:$D$300,Einstellungen!$B$5,Buchungen!$P$3:$P$300,"Bezahlt/Erhalten") -> 24
K44: Okt | L44: =SUMIFS(Buchungen!$M$3:$M$300,Buchungen!$F$3:$F$300,"Einnahme",Buchungen!$C$3:$C$300,10,Buchungen!$D$3:$D$300,Einstellungen!$B$5,Buchungen!$P$3:$P$300,"Bezahlt/Erhalten") -> 3400 | M44: =SUMIFS(Buchungen!$O$3:$O$300,Buchungen!$F$3:$F$300,"Ausgabe",Buchungen!$C$3:$C$300,10,Buchungen!$D$3:$D$300,Einstellungen!$B$5,Buchungen!$P$3:$P$300,"Bezahlt/Erhalten") -> 398.5 | O44: Bürobedarf | P44: =SUMIFS(Buchungen!$O$3:$O$300,Buchungen!$F$3:$F$300,"Ausgabe",Buchungen!$G$3:$G$300,O44,Buchungen!$D$3:$D$300,Einstellungen!$B$5,Buchungen!$P$3:$P$300,"Bezahlt/Erhalten") -> 59
K45: Nov | L45: =SUMIFS(Buchungen!$M$3:$M$300,Buchungen!$F$3:$F$300,"Einnahme",Buchungen!$C$3:$C$300,11,Buchungen!$D$3:$D$300,Einstellungen!$B$5,Buchungen!$P$3:$P$300,"Bezahlt/Erhalten") -> 4600 | M45: =SUMIFS(Buchungen!$O$3:$O$300,Buchungen!$F$3:$F$300,"Ausgabe",Buchungen!$C$3:$C$300,11,Buchungen!$D$3:$D$300,Einstellungen!$B$5,Buchungen!$P$3:$P$300,"Bezahlt/Erhalten") -> 145.4 | O45: Sonstige Ausgaben | P45: =SUMIFS(Buchungen!$O$3:$O$300,Buchungen!$F$3:$F$300,"Ausgabe",Buchungen!$G$3:$G$300,O45,Buchungen!$D$3:$D$300,Einstellungen!$B$5,Buchungen!$P$3:$P$300,"Bezahlt/Erhalten") -> 32.5
K46: Dez | L46: =SUMIFS(Buchungen!$M$3:$M$300,Buchungen!$F$3:$F$300,"Einnahme",Buchungen!$C$3:$C$300,12,Buchungen!$D$3:$D$300,Einstellungen!$B$5,Buchungen!$P$3:$P$300,"Bezahlt/Erhalten") -> 0 | M46: =SUMIFS(Buchungen!$O$3:$O$300,Buchungen!$F$3:$F$300,"Ausgabe",Buchungen!$C$3:$C$300,12,Buchungen!$D$3:$D$300,Einstellungen!$B$5,Buchungen!$P$3:$P$300,"Bezahlt/Erhalten") -> 150.99

Sheet Buchungen
A1: Buchungen – laufende Einnahmen und Ausgaben
A2: ID | B2: Datum | C2: Monat | D2: Jahr | E2: Beleg-Nr. | F2: Vorgangsart | G2: Kategorie | H2: Unterkategorie | I2: Beschreibung / Zweck | J2: Kunde / Lieferant | K2: Zahlungsart | L2: Konto | M2: Betrag (€) | N2: % abziehbar | O2: Steuerlich relevant (€) | P2: Status | Q2: Notizen
A3: =IF(B3="","",ROW()-2) -> 1 | B3: 46027 | C3: =IF(B3="","",MONTH(B3)) -> 1 | D3: =IF(B3="","",YEAR(B3)) -> 2026 | E3: RE-2026-001 | F3: Einnahme | G3: Honorare | H3: Webdesign | I3: Website-Relaunch Januar | J3: Kunde Nord GmbH | K3: Überweisung | L3: Bank | M3: 3800 | N3: 1 | O3: =IF(B3="","",IF(F3="Ausgabe",M3*N3,IF(F3="Einnahme",M3,0))) -> 3800 | P3: Bezahlt/Erhalten
A4: =IF(B4="","",ROW()-2) -> 2 | B4: 46029 | C4: =IF(B4="","",MONTH(B4)) -> 1 | D4: =IF(B4="","",YEAR(B4)) -> 2026 | E4: AU-2026-001 | F4: Ausgabe | G4: Software / Tools | H4: Adobe | I4: Adobe Creative Cloud | J4: Adobe | K4: Lastschrift | L4: Bank | M4: 69.99 | N4: 1 | O4: =IF(B4="","",IF(F4="Ausgabe",M4*N4,IF(F4="Einnahme",M4,0))) -> 69.99 | P4: Bezahlt/Erhalten
A5: =IF(B5="","",ROW()-2) -> 3 | B5: 46032 | C5: =IF(B5="","",MONTH(B5)) -> 1 | D5: =IF(B5="","",YEAR(B5)) -> 2026 | E5: AU-2026-002 | F5: Ausgabe | G5: Telefon / Internet | H5: Telefon | I5: Mobilfunk & Internet | J5: Telekom | K5: Lastschrift | L5: Bank | M5: 48.5 | N5: 1 | O5: =IF(B5="","",IF(F5="Ausgabe",M5*N5,IF(F5="Einnahme",M5,0))) -> 48.5 | P5: Bezahlt/Erhalten
A6: =IF(B6="","",ROW()-2) -> 4 | B6: 46036 | C6: =IF(B6="","",MONTH(B6)) -> 1 | D6: =IF(B6="","",YEAR(B6)) -> 2026 | E6: AU-2026-003 | F6: Ausgabe | G6: Miete / Coworking | H6: Coworking | I6: Coworking Januar | J6: Betahaus | K6: Überweisung | L6: Bank | M6: 240 | N6: 1 | O6: =IF(B6="","",IF(F6="Ausgabe",M6*N6,IF(F6="Einnahme",M6,0))) -> 240 | P6: Bezahlt/Erhalten
A7: =IF(B7="","",ROW()-2) -> 5 | B7: 46042 | C7: =IF(B7="","",MONTH(B7)) -> 1 | D7: =IF(B7="","",YEAR(B7)) -> 2026 | E7: PR-2026-001 | F7: Privateinlage | G7: Privateinlage | H7: Privateinlage | I7: Startkapital | J7: Privat | K7: Überweisung | L7: Bank | M7: 1500 | N7: 1 | O7: =IF(B7="","",IF(F7="Ausgabe",M7*N7,IF(F7="Einnahme",M7,0))) -> 0 | P7: Bezahlt/Erhalten
A8: =IF(B8="","",ROW()-2) -> 6 | B8: 46057 | C8: =IF(B8="","",MONTH(B8)) -> 2 | D8: =IF(B8="","",YEAR(B8)) -> 2026 | E8: RE-2026-002 | F8: Einnahme | G8: Verkäufe / Leistungen | H8: Wartung | I8: Wartungsvertrag Februar | J8: Kunde Süd AG | K8: Überweisung | L8: Bank | M8: 2950 | N8: 1 | O8: =IF(B8="","",IF(F8="Ausgabe",M8*N8,IF(F8="Einnahme",M8,0))) -> 2950 | P8: Bezahlt/Erhalten
A9: =IF(B9="","",ROW()-2) -> 7 | B9: 46060 | C9: =IF(B9="","",MONTH(B9)) -> 2 | D9: =IF(B9="","",YEAR(B9)) -> 2026 | E9: AU-2026-004 | F9: Ausgabe | G9: Software / Tools | H9: Canva | I9: Canva Pro | J9: Canva | K9: Karte | L9: Bank | M9: 12.99 | N9: 1 | O9: =IF(B9="","",IF(F9="Ausgabe",M9*N9,IF(F9="Einnahme",M9,0))) -> 12.99 | P9: Bezahlt/Erhalten
A10: =IF(B10="","",ROW()-2) -> 8 | B10: 46062 | C10: =IF(B10="","",MONTH(B10)) -> 2 | D10: =IF(B10="","",YEAR(B10)) -> 2026 | E10: AU-2026-005 | F10: Ausgabe | G10: Marketing / Werbung | H10: Kampagne | I10: LinkedIn Kampagne | J10: LinkedIn | K10: Karte | L10: Bank | M10: 190 | N10: 1 | O10: =IF(B10="","",IF(F10="Ausgabe",M10*N10,IF(F10="Einnahme",M10,0))) -> 190 | P10: Bezahlt/Erhalten
A11: =IF(B11="","",ROW()-2) -> 9 | B11: 46065 | C11: =IF(B11="","",MONTH(B11)) -> 2 | D11: =IF(B11="","",YEAR(B11)) -> 2026 | E11: AU-2026-006 | F11: Ausgabe | G11: Bürobedarf | H11: Maus | I11: Ergonomische Maus | J11: Büroshop | K11: Karte | L11: Bank | M11: 59 | N11: 1 | O11: =IF(B11="","",IF(F11="Ausgabe",M11*N11,IF(F11="Einnahme",M11,0))) -> 59 | P11: Bezahlt/Erhalten
A12: =IF(B12="","",ROW()-2) -> 10 | B12: 46068 | C12: =IF(B12="","",MONTH(B12)) -> 2 | D12: =IF(B12="","",YEAR(B12)) -> 2026 | E12: AU-2026-007 | F12: Ausgabe | G12: Telefon / Internet | H12: Telefon | I12: Mobilfunk & Internet | J12: Telekom | K12: Lastschrift | L12: Bank | M12: 48.5 | N12: 1 | O12: =IF(B12="","",IF(F12="Ausgabe",M12*N12,IF(F12="Einnahme",M12,0))) -> 48.5 | P12: Bezahlt/Erhalten
A13: =IF(B13="","",ROW()-2) -> 11 | B13: 46086 | C13: =IF(B13="","",MONTH(B13)) -> 3 | D13: =IF(B13="","",YEAR(B13)) -> 2026 | E13: RE-2026-003 | F13: Einnahme | G13: Honorare | H13: Beratung | I13: Strategie-Workshop März | J13: Studio Blau | K13: Überweisung | L13: Bank | M13: 4200 | N13: 1 | O13: =IF(B13="","",IF(F13="Ausgabe",M13*N13,IF(F13="Einnahme",M13,0))) -> 4200 | P13: Bezahlt/Erhalten
A14: =IF(B14="","",ROW()-2) -> 12 | B14: 46087 | C14: =IF(B14="","",MONTH(B14)) -> 3 | D14: =IF(B14="","",YEAR(B14)) -> 2026 | E14: AU-2026-008 | F14: Ausgabe | G14: Miete / Coworking | H14: Coworking | I14: Coworking März | J14: Betahaus | K14: Überweisung | L14: Bank | M14: 240 | N14: 1 | O14: =IF(B14="","",IF(F14="Ausgabe",M14*N14,IF(F14="Einnahme",M14,0))) -> 240 | P14: Bezahlt/Erhalten
... A32: =IF(B32="","",ROW()-2) -> 30 | B32: 46213 | C32: =IF(B32="","",MONTH(B32)) -> 7 | D32: =IF(B32="","",YEAR(B32)) -> 2026 | E32: AU-2026-020 | F32: Ausgabe | G32: Beratung / Fremdleistungen | H32: Beratung | I32: Copywriting Freelancer | J32: Anna Text | K32: Überweisung | L32: Bank | M32: 420 | N32: 1 | O32: =IF(B32="","",IF(F32="Ausgabe",M32*N32,IF(F32="Einnahme",M32,0))) -> 420 | P32: Bezahlt/Erhalten
A33: =IF(B33="","",ROW()-2) -> 31 | B33: 46221 | C33: =IF(B33="","",MONTH(B33)) -> 7 | D33: =IF(B33="","",YEAR(B33)) -> 2026 | E33: AU-2026-021 | F33: Ausgabe | G33: Sonstige Ausgaben | H33: Papier | I33: Drucksachen Muster | J33: Druckerei | K33: Überweisung | L33: Bank | M33: 95 | N33: 1 | O33: =IF(B33="","",IF(F33="Ausgabe",M33*N33,IF(F33="Einnahme",M33,0))) -> 95 | P33: Offen | Q33: noch nicht bezahlt
A34: =IF(B34="","",ROW()-2) -> 32 | B34: 46239 | C34: =IF(B34="","",MONTH(B34)) -> 8 | D34: =IF(B34="","",YEAR(B34)) -> 2026 | E34: RE-2026-008 | F34: Einnahme | G34: Verkäufe / Leistungen | H34: Webdesign | I34: Mini-Projekt August | J34: Kunde West KG | K34: Überweisung | L34: Bank | M34: 3300 | N34: 1 | O34: =IF(B34="","",IF(F34="Ausgabe",M34*N34,IF(F34="Einnahme",M34,0))) -> 3300 | P34: Bezahlt/Erhalten
A35: =IF(B35="","",ROW()-2) -> 33 | B35: 46240 | C35: =IF(B35="","",MONTH(B35)) -> 8 | D35: =IF(B35="","",YEAR(B35)) -> 2026 | E35: AU-2026-022 | F35: Ausgabe | G35: Software / Tools | H35: Abo | I35: Figma Professional | J35: Figma | K35: Karte | L35: Bank | M35: 15 | N35: 1 | O35: =IF(B35="","",IF(F35="Ausgabe",M35*N35,IF(F35="Einnahme",M35,0))) -> 15 | P35: Bezahlt/Erhalten
A36: =IF(B36="","",ROW()-2) -> 34 | B36: 46246 | C36: =IF(B36="","",MONTH(B36)) -> 8 | D36: =IF(B36="","",YEAR(B36)) -> 2026 | E36: AU-2026-023 | F36: Ausgabe | G36: Telefon / Internet | H36: Telefon | I36: Mobilfunk & Internet | J36: Telekom | K36: Lastschrift | L36: Bank | M36: 48.5 | N36: 1 | O36: =IF(B36="","",IF(F36="Ausgabe",M36*N36,IF(F36="Einnahme",M36,0))) -> 48.5 | P36: Bezahlt/Erhalten
A37: =IF(B37="","",ROW()-2) -> 35 | B37: 46255 | C37: =IF(B37="","",MONTH(B37)) -> 8 | D37: =IF(B37="","",YEAR(B37)) -> 2026 | E37: PR-2026-004 | F37: Privateinlage | G37: Privateinlage | H37: Privateinlage | I37: Zusätzliche Einlage | J37: Privat | K37: Überweisung | L37: Bank | M37: 800 | N37: 1 | O37: =IF(B37="","",IF(F37="Ausgabe",M37*N37,IF(F37="Einnahme",M37,0))) -> 0 | P37: Bezahlt/Erhalten
A38: =IF(B38="","",ROW()-2) -> 36 | B38: 46270 | C38: =IF(B38="","",MONTH(B38)) -> 9 | D38: =IF(B38="","",YEAR(B38)) -> 2026 | E38: RE-2026-009 | F38: Einnahme | G38: Honorare | H38: Beratung | I38: Audit September | J38: Luma GmbH | K38: Überweisung | L38: Bank | M38: 3900 | N38: 1 | O38: =IF(B38="","",IF(F38="Ausgabe",M38*N38,IF(F38="Einnahme",M38,0))) -> 3900 | P38: Bezahlt/Erhalten
A39: =IF(B39="","",ROW()-2) -> 37 | B39: 46273 | C39: =IF(B39="","",MONTH(B39)) -> 9 | D39: =IF(B39="","",YEAR(B39)) -> 2026 | E39: AU-2026-024 | F39: Ausgabe | G39: Fortbildung | H39: Kurs | I39: Fachtagung Branding | J39: Conference GmbH | K39: Überweisung | L39: Bank | M39: 320 | N39: 1 | O39: =IF(B39="","",IF(F39="Ausgabe",M39*N39,IF(F39="Einnahme",M39,0))) -> 320 | P39: Bezahlt/Erhalten
A40: =IF(B40="","",ROW()-2) -> 38 | B40: 46280 | C40: =IF(B40="","",MONTH(B40)) -> 9 | D40: =IF(B40="","",YEAR(B40)) -> 2026 | E40: AU-2026-025 | F40: Ausgabe | G40: Bankgebühren | H40: Bank | I40: Kontoführungsgebühr Q3 | J40: Bank | K40: Lastschrift | L40: Bank | M40: 12 | N40: 1 | O40: =IF(B40="","",IF(F40="Ausgabe",M40*N40,IF(F40="Einnahme",M40,0))) -> 12 | P40: Bezahlt/Erhalten
A41: =IF(B41="","",ROW()-2) -> 39 | B41: 46283 | C41: =IF(B41="","",MONTH(B41)) -> 9 | D41: =IF(B41="","",YEAR(B41)) -> 2026 | E41: PR-2026-005 | F41: Privatentnahme | G41: Privatentnahme | H41: Privatentnahme | I41: Private Entnahme September | J41: Privat | K41: Überweisung | L41: Bank | M41: 700 | N41: 1 | O41: =IF(B41="","",IF(F41="Ausgabe",M41*N41,IF(F41="Einnahme",M41,0))) -> 0 | P41: Bezahlt/Erhalten
A42: =IF(B42="","",ROW()-2) -> 40 | B42: 46301 | C42: =IF(B42="","",MONTH(B42)) -> 10 | D42: =IF(B42="","",YEAR(B42)) -> 2026 | E42: RE-2026-010 | F42: Einnahme | G42: Verkäufe / Leistungen | H42: Webdesign | I42: Websitepflege Oktober | J42: Kunde Nord GmbH | K42: Überweisung | L42: Bank | M42: 3400 | N42: 1 | O42: =IF(B42="","",IF(F42="Ausgabe",M42*N42,IF(F42="Einnahme",M42,0))) -> 3400 | P42: Bezahlt/Erhalten
A43: =IF(B43="","",ROW()-2) -> 41 | B43: 46304 | C43: =IF(B43="","",MONTH(B43)) -> 10 | D43: =IF(B43="","",YEAR(B43)) -> 2026 | E43: AU-2026-026 | F43: Ausgabe | G43: Miete / Coworking | H43: Coworking | I43: Coworking Oktober | J43: Betahaus | K43: Überweisung | L43: Bank | M43: 240 | N43: 1 | O43: =IF(B43="","",IF(F43="Ausgabe",M43*N43,IF(F43="Einnahme",M43,0))) -> 240 | P43: Bezahlt/Erhalten
A44: =IF(B44="","",ROW()-2) -> 42 | B44: 46308 | C44: =IF(B44="","",MONTH(B44)) -> 10 | D44: =IF(B44="","",YEAR(B44)) -> 2026 | E44: AU-2026-027 | F44: Ausgabe | G44: Telefon / Internet | H44: Telefon | I44: Mobilfunk & Internet | J44: Telekom | K44: Lastschrift | L44: Bank | M44: 48.5 | N44: 1 | O44: =IF(B44="","",IF(F44="Ausgabe",M44*N44,IF(F44="Einnahme",M44,0))) -> 48.5 | P44: Bezahlt/Erhalten
A45: =IF(B45="","",ROW()-2) -> 43 | B45: 46312 | C45: =IF(B45="","",MONTH(B45)) -> 10 | D45: =IF(B45="","",YEAR(B45)) -> 2026 | E45: AU-2026-028 | F45: Ausgabe | G45: Marketing / Werbung | H45: Kampagne | I45: Instagram Ads | J45: Meta | K45: Karte | L45: Bank | M45: 110 | N45: 1 | O45: =IF(B45="","",IF(F45="Ausgabe",M45*N45,IF(F45="Einnahme",M45,0))) -> 110 | P45: Bezahlt/Erhalten
... A48: =IF(B48="","",ROW()-2) -> 46 | B48: 46341 | C48: =IF(B48="","",MONTH(B48)) -> 11 | D48: =IF(B48="","",YEAR(B48)) -> 2026 | E48: AU-2026-030 | F48: Ausgabe | G48: Telefon / Internet | H48: Telefon | I48: Mobilfunk & Internet | J48: Telekom | K48: Lastschrift | L48: Bank | M48: 48.5 | N48: 1 | O48: =IF(B48="","",IF(F48="Ausgabe",M48*N48,IF(F48="Einnahme",M48,0))) -> 48.5 | P48: Bezahlt/Erhalten
A49: =IF(B49="","",ROW()-2) -> 47 | B49: 46361 | C49: =IF(B49="","",MONTH(B49)) -> 12 | D49: =IF(B49="","",YEAR(B49)) -> 2026 | E49: RE-2026-012 | F49: Einnahme | G49: Verkäufe / Leistungen | H49: Wartung | I49: Retainer Dezember | J49: Kunde Süd AG | K49: Überweisung | L49: Bank | M49: 3200 | N49: 1 | O49: =IF(B49="","",IF(F49="Ausgabe",M49*N49,IF(F49="Einnahme",M49,0))) -> 3200 | P49: Offen | Q49: Rechnung offen zum Jahresende
A50: =IF(B50="","",ROW()-2) -> 48 | B50: 46363 | C50: =IF(B50="","",MONTH(B50)) -> 12 | D50: =IF(B50="","",YEAR(B50)) -> 2026 | E50: AU-2026-031 | F50: Ausgabe | G50: Software / Tools | H50: Adobe | I50: Adobe Creative Cloud | J50: Adobe | K50: Lastschrift | L50: Bank | M50: 69.99 | N50: 1 | O50: =IF(B50="","",IF(F50="Ausgabe",M50*N50,IF(F50="Einnahme",M50,0))) -> 69.99 | P50: Bezahlt/Erhalten
A51: =IF(B51="","",ROW()-2) -> 49 | B51: 46367 | C51: =IF(B51="","",MONTH(B51)) -> 12 | D51: =IF(B51="","",YEAR(B51)) -> 2026 | E51: AU-2026-032 | F51: Ausgabe | G51: Telefon / Internet | H51: Telefon | I51: Mobilfunk & Internet | J51: Telekom | K51: Lastschrift | L51: Bank | M51: 48.5 | N51: 1 | O51: =IF(B51="","",IF(F51="Ausgabe",M51*N51,IF(F51="Einnahme",M51,0))) -> 48.5 | P51: Bezahlt/Erhalten
A52: =IF(B52="","",ROW()-2) -> 50 | B52: 46374 | C52: =IF(B52="","",MONTH(B52)) -> 12 | D52: =IF(B52="","",YEAR(B52)) -> 2026 | E52: AU-2026-033 | F52: Ausgabe | G52: Sonstige Ausgaben | H52: Papier | I52: Geschenke / Karten | J52: Papeterie | K52: Karte | L52: Bank | M52: 65 | N52: 0.5 | O52: =IF(B52="","",IF(F52="Ausgabe",M52*N52,IF(F52="Einnahme",M52,0))) -> 32.5 | P52: Bezahlt/Erhalten | Q52: nur anteilig betrieblich
A53: =IF(B53="","",ROW()-2) -> 51 | B53: 46376 | C53: =IF(B53="","",MONTH(B53)) -> 12 | D53: =IF(B53="","",YEAR(B53)) -> 2026 | E53: PR-2026-006 | F53: Privatentnahme | G53: Privatentnahme | H53: Privatentnahme | I53: Private Entnahme Dezember | J53: Privat | K53: Überweisung | L53: Bank | M53: 700 | N53: 1 | O53: =IF(B53="","",IF(F53="Ausgabe",M53*N53,IF(F53="Einnahme",M53,0))) -> 0 | P53: Bezahlt/Erhalten
A54: =IF(B54="","",ROW()-2) | C54: =IF(B54="","",MONTH(B54)) | D54: =IF(B54="","",YEAR(B54)) | O54: =IF(B54="","",IF(F54="Ausgabe",M54*N54,IF(F54="Einnahme",M54,0)))
A55: =IF(B55="","",ROW()-2) | C55: =IF(B55="","",MONTH(B55)) | D55: =IF(B55="","",YEAR(B55)) | O55: =IF(B55="","",IF(F55="Ausgabe",M55*N55,IF(F55="Einnahme",M55,0)))
A56: =IF(B56="","",ROW()-2) | C56: =IF(B56="","",MONTH(B56)) | D56: =IF(B56="","",YEAR(B56)) | O56: =IF(B56="","",IF(F56="Ausgabe",M56*N56,IF(F56="Einnahme",M56,0)))
A57: =IF(B57="","",ROW()-2) | C57: =IF(B57="","",MONTH(B57)) | D57: =IF(B57="","",YEAR(B57)) | O57: =IF(B57="","",IF(F57="Ausgabe",M57*N57,IF(F57="Einnahme",M57,0)))
A58: =IF(B58="","",ROW()-2) | C58: =IF(B58="","",MONTH(B58)) | D58: =IF(B58="","",YEAR(B58)) | O58: =IF(B58="","",IF(F58="Ausgabe",M58*N58,IF(F58="Einnahme",M58,0)))
A59: =IF(B59="","",ROW()-2) | C59: =IF(B59="","",MONTH(B59)) | D59: =IF(B59="","",YEAR(B59)) | O59: =IF(B59="","",IF(F59="Ausgabe",M59*N59,IF(F59="Einnahme",M59,0)))
...

Sheet Einstellungen
A1: EÜR Kleinunternehmer ohne Umsatzsteuer – Einstellungen
H2: Vorgangsarten | I2: Kategorien | J2: Unterkategorien | K2: Status | L2: Zahlungsarten | M2: Konten
A3: Unternehmensname | B3: Nordlicht Designstudio | D3: Kurzanleitung | H3: Einnahme | I3: Verkäufe / Leistungen | J3: Webdesign | K3: Bezahlt/Erhalten | L3: Überweisung | M3: Bank
A4: Inhaber/in | B4: Max Mustermann | D4: 1. Geschäftsjahr und Stammdaten links prüfen. | H4: Ausgabe | I4: Honorare | J4: Beratung | K4: Offen | L4: Lastschrift | M4: Kasse
A5: Geschäftsjahr | B5: 2026 | D5: 2. Buchungen nur in der Tabelle 'Buchungen' erfassen. | H5: Privateinlage | I5: Provisionen | J5: Wartung | K5: Teilweise | L5: Karte | M5: PayPal
A6: Währung | B6: EUR | D6: 3. Nur 'Bezahlt/Erhalten' fließt in die EÜR ein. | H6: Privatentnahme | I6: Sonstige betriebliche Einnahmen | J6: Hosting | K6: Storniert | L6: Bar
A7: Umsatzgrenze Vorjahr (€) | B7: 25000 | D7: 4. % abziehbar bei gemischt genutzten Kosten anpassen. | I7: Material / Betriebsmittel | J7: Abo | L7: PayPal
A8: Umsatzgrenze laufendes Jahr (€) | B8: 100000 | D8: 5. Anlagegüter bei Bedarf in 'Anlagen_AfA' ergänzen. | I8: Software / Tools | J8: Kampagne
A9: Warnschwelle | B9: 0.8 | D9: 6. Die Übersicht zeigt Ergebnis und Warnhinweise automatisch. | I9: Telefon / Internet | J9: Bahn
I10: Marketing / Werbung | J10: Hotel
D11: Farblegende | I11: Reisen / Fahrten | J11: Kurs
D12: Manuelle Eingabe | I12: Fortbildung | J12: Haftpflicht
D13: Automatische Berechnung | I13: Versicherungen | J13: Coworking
D14: Hinweis / Warnung | I14: Miete / Coworking | J14: Canva
I15: Beratung / Fremdleistungen | J15: Adobe
I16: Bankgebühren | J16: Bank
I17: Bürobedarf | J17: Papier
I18: Sonstige Ausgaben | J18: Maus
I19: Privateinlage | J19: Laptop
I20: Privatentnahme | J20: Telefon

Sheet Anlagen_AfA
A1: Anlagen & AfA – lineare Abschreibung
A2: Anlagen-ID | B2: Kaufdatum | C2: Beschreibung | D2: Kategorie | E2: Lieferant | F2: Anschaffungskosten (€) | G2: % betrieblich | H2: Abschreibungsbasis (€) | I2: Nutzungsdauer (Jahre) | J2: Methode | K2: Jahres-AfA (€) | L2: Startjahr | M2: Startmonat | N2: AfA im 1. Jahr (€) | O2: Kumulierte AfA (€) | P2: Restwert (€) | Q2: Status | R2: AfA im Auswahljahr (€)
A3: =IF(B3="","",ROW()-2) -> 1 | B3: 46025 | C3: MacBook Pro 14 | D3: Hardware | E3: Apple | F3: 1899 | G3: 1 | H3: =IF(B3="","",F3*G3) -> 1899 | I3: 3 | J3: Linear | K3: =IF(B3="","",IFERROR(H3/I3,0)) -> 633 | L3: =IF(B3="","",YEAR(B3)) -> 2026 | M3: =IF(B3="","",MONTH(B3)) -> 1 | N3: =IF(B3="","",K3*(13-M3)/12) -> 633 | O3: =IF(B3="","",IF(Einstellungen!$B$5<L3,0,MIN(H3,N3+MAX(0,(Einstellungen!$B$5-L3))*K3))) -> 633 | P3: =IF(B3="","",MAX(0,H3-O3)) -> 1266 | Q3: =IF(B3="","",IF(P3<=0.01,"Abgeschlossen","Aktiv")) -> Aktiv | R3: =IF(B3="","",IF(Einstellungen!$B$5<L3,0,IF(Einstellungen!$B$5=L3,N3,MAX(0,MIN(K3,H3-N3-(Einstellungen!$B$5-L3-1)*K3))))) -> 633
A4: =IF(B4="","",ROW()-2) -> 2 | B4: 46071 | C4: Bürostuhl Ergonomie | D4: Ausstattung | E4: Office Partner | F4: 420 | G4: 1 | H4: =IF(B4="","",F4*G4) -> 420 | I4: 5 | J4: Linear | K4: =IF(B4="","",IFERROR(H4/I4,0)) -> 84 | L4: =IF(B4="","",YEAR(B4)) -> 2026 | M4: =IF(B4="","",MONTH(B4)) -> 2 | N4: =IF(B4="","",K4*(13-M4)/12) -> 77 | O4: =IF(B4="","",IF(Einstellungen!$B$5<L4,0,MIN(H4,N4+MAX(0,(Einstellungen!$B$5-L4))*K4))) -> 77 | P4: =IF(B4="","",MAX(0,H4-O4)) -> 343 | Q4: =IF(B4="","",IF(P4<=0.01,"Abgeschlossen","Aktiv")) -> Aktiv | R4: =IF(B4="","",IF(Einstellungen!$B$5<L4,0,IF(Einstellungen!$B$5=L4,N4,MAX(0,MIN(K4,H4-N4-(Einstellungen!$B$5-L4-1)*K4))))) -> 77
A5: =IF(B5="","",ROW()-2) -> 3 | B5: 46090 | C5: iPhone Business | D5: Hardware | E5: Apple | F5: 999 | G5: 0.8 | H5: =IF(B5="","",F5*G5) -> 799.2 | I5: 3 | J5: Linear | K5: =IF(B5="","",IFERROR(H5/I5,0)) -> 266.4 | L5: =IF(B5="","",YEAR(B5)) -> 2026 | M5: =IF(B5="","",MONTH(B5)) -> 3 | N5: =IF(B5="","",K5*(13-M5)/12) -> 222 | O5: =IF(B5="","",IF(Einstellungen!$B$5<L5,0,MIN(H5,N5+MAX(0,(Einstellungen!$B$5-L5))*K5))) -> 222 | P5: =IF(B5="","",MAX(0,H5-O5)) -> 577.2 | Q5: =IF(B5="","",IF(P5<=0.01,"Abgeschlossen","Aktiv")) -> Aktiv | R5: =IF(B5="","",IF(Einstellungen!$B$5<L5,0,IF(Einstellungen!$B$5=L5,N5,MAX(0,MIN(K5,H5-N5-(Einstellungen!$B$5-L5-1)*K5))))) -> 222
A6: =IF(B6="","",ROW()-2) -> 4 | B6: 46205 | C6: Monitor 27 Zoll | D6: Hardware | E6: Dell | F6: 329 | G6: 1 | H6: =IF(B6="","",F6*G6) -> 329 | I6: 5 | J6: Linear | K6: =IF(B6="","",IFERROR(H6/I6,0)) -> 65.8 | L6: =IF(B6="","",YEAR(B6)) -> 2026 | M6: =IF(B6="","",MONTH(B6)) -> 7 | N6: =IF(B6="","",K6*(13-M6)/12) -> 32.9 | O6: =IF(B6="","",IF(Einstellungen!$B$5<L6,0,MIN(H6,N6+MAX(0,(Einstellungen!$B$5-L6))*K6))) -> 32.9 | P6: =IF(B6="","",MAX(0,H6-O6)) -> 296.1 | Q6: =IF(B6="","",IF(P6<=0.01,"Abgeschlossen","Aktiv")) -> Aktiv | R6: =IF(B6="","",IF(Einstellungen!$B$5<L6,0,IF(Einstellungen!$B$5=L6,N6,MAX(0,MIN(K6,H6-N6-(Einstellungen!$B$5-L6-1)*K6))))) -> 32.9
A7: =IF(B7="","",ROW()-2) | H7: =IF(B7="","",F7*G7) | J7: Linear | K7: =IF(B7="","",IFERROR(H7/I7,0)) | L7: =IF(B7="","",YEAR(B7)) | M7: =IF(B7="","",MONTH(B7)) | N7: =IF(B7="","",K7*(13-M7)/12) | O7: =IF(B7="","",IF(Einstellungen!$B$5<L7,0,MIN(H7,N7+MAX(0,(Einstellungen!$B$5-L7))*K7))) | P7: =IF(B7="","",MAX(0,H7-O7)) | Q7: =IF(B7="","",IF(P7<=0.01,"Abgeschlossen","Aktiv")) | R7: =IF(B7="","",IF(Einstellungen!$B$5<L7,0,IF(Einstellungen!$B$5=L7,N7,MAX(0,MIN(K7,H7-N7-(Einstellungen!$B$5-L7-1)*K7)))))
A8: =IF(B8="","",ROW()-2) | H8: =IF(B8="","",F8*G8) | J8: Linear | K8: =IF(B8="","",IFERROR(H8/I8,0)) | L8: =IF(B8="","",YEAR(B8)) | M8: =IF(B8="","",MONTH(B8)) | N8: =IF(B8="","",K8*(13-M8)/12) | O8: =IF(B8="","",IF(Einstellungen!$B$5<L8,0,MIN(H8,N8+MAX(0,(Einstellungen!$B$5-L8))*K8))) | P8: =IF(B8="","",MAX(0,H8-O8)) | Q8: =IF(B8="","",IF(P8<=0.01,"Abgeschlossen","Aktiv")) | R8: =IF(B8="","",IF(Einstellungen!$B$5<L8,0,IF(Einstellungen!$B$5=L8,N8,MAX(0,MIN(K8,H8-N8-(Einstellungen!$B$5-L8-1)*K8)))))
A9: =IF(B9="","",ROW()-2) | H9: =IF(B9="","",F9*G9) | J9: Linear | K9: =IF(B9="","",IFERROR(H9/I9,0)) | L9: =IF(B9="","",YEAR(B9)) | M9: =IF(B9="","",MONTH(B9)) | N9: =IF(B9="","",K9*(13-M9)/12) | O9: =IF(B9="","",IF(Einstellungen!$B$5<L9,0,MIN(H9,N9+MAX(0,(Einstellungen!$B$5-L9))*K9))) | P9: =IF(B9="","",MAX(0,H9-O9)) | Q9: =IF(B9="","",IF(P9<=0.01,"Abgeschlossen","Aktiv")) | R9: =IF(B9="","",IF(Einstellungen!$B$5<L9,0,IF(Einstellungen!$B$5=L9,N9,MAX(0,MIN(K9,H9-N9-(Einstellungen!$B$5-L9-1)*K9)))))
A10: =IF(B10="","",ROW()-2) | H10: =IF(B10="","",F10*G10) | J10: Linear | K10: =IF(B10="","",IFERROR(H10/I10,0)) | L10: =IF(B10="","",YEAR(B10)) | M10: =IF(B10="","",MONTH(B10)) | N10: =IF(B10="","",K10*(13-M10)/12) | O10: =IF(B10="","",IF(Einstellungen!$B$5<L10,0,MIN(H10,N10+MAX(0,(Einstellungen!$B$5-L10))*K10))) | P10: =IF(B10="","",MAX(0,H10-O10)) | Q10: =IF(B10="","",IF(P10<=0.01,"Abgeschlossen","Aktiv")) | R10: =IF(B10="","",IF(Einstellungen!$B$5<L10,0,IF(Einstellungen!$B$5=L10,N10,MAX(0,MIN(K10,H10-N10-(Einstellungen!$B$5-L10-1)*K10)))))
A11: =IF(B11="","",ROW()-2) | H11: =IF(B11="","",F11*G11) | J11: Linear | K11: =IF(B11="","",IFERROR(H11/I11,0)) | L11: =IF(B11="","",YEAR(B11)) | M11: =IF(B11="","",MONTH(B11)) | N11: =IF(B11="","",K11*(13-M11)/12) | O11: =IF(B11="","",IF(Einstellungen!$B$5<L11,0,MIN(H11,N11+MAX(0,(Einstellungen!$B$5-L11))*K11))) | P11: =IF(B11="","",MAX(0,H11-O11)) | Q11: =IF(B11="","",IF(P11<=0.01,"Abgeschlossen","Aktiv")) | R11: =IF(B11="","",IF(Einstellungen!$B$5<L11,0,IF(Einstellungen!$B$5=L11,N11,MAX(0,MIN(K11,H11-N11-(Einstellungen!$B$5-L11-1)*K11)))))
A12: =IF(B12="","",ROW()-2) | H12: =IF(B12="","",F12*G12) | J12: Linear | K12: =IF(B12="","",IFERROR(H12/I12,0)) | L12: =IF(B12="","",YEAR(B12)) | M12: =IF(B12="","",MONTH(B12)) | N12: =IF(B12="","",K12*(13-M12)/12) | O12: =IF(B12="","",IF(Einstellungen!$B$5<L12,0,MIN(H12,N12+MAX(0,(Einstellungen!$B$5-L12))*K12))) | P12: =IF(B12="","",MAX(0,H12-O12)) | Q12: =IF(B12="","",IF(P12<=0.01,"Abgeschlossen","Aktiv")) | R12: =IF(B12="","",IF(Einstellungen!$B$5<L12,0,IF(Einstellungen!$B$5=L12,N12,MAX(0,MIN(K12,H12-N12-(Einstellungen!$B$5-L12-1)*K12)))))
A13: =IF(B13="","",ROW()-2) | H13: =IF(B13="","",F13*G13) | J13: Linear | K13: =IF(B13="","",IFERROR(H13/I13,0)) | L13: =IF(B13="","",YEAR(B13)) | M13: =IF(B13="","",MONTH(B13)) | N13: =IF(B13="","",K13*(13-M13)/12) | O13: =IF(B13="","",IF(Einstellungen!$B$5<L13,0,MIN(H13,N13+MAX(0,(Einstellungen!$B$5-L13))*K13))) | P13: =IF(B13="","",MAX(0,H13-O13)) | Q13: =IF(B13="","",IF(P13<=0.01,"Abgeschlossen","Aktiv")) | R13: =IF(B13="","",IF(Einstellungen!$B$5<L13,0,IF(Einstellungen!$B$5=L13,N13,MAX(0,MIN(K13,H13-N13-(Einstellungen!$B$5-L13-1)*K13)))))
A14: =IF(B14="","",ROW()-2) | H14: =IF(B14="","",F14*G14) | J14: Linear | K14: =IF(B14="","",IFERROR(H14/I14,0)) | L14: =IF(B14="","",YEAR(B14)) | M14: =IF(B14="","",MONTH(B14)) | N14: =IF(B14="","",K14*(13-M14)/12) | O14: =IF(B14="","",IF(Einstellungen!$B$5<L14,0,MIN(H14,N14+MAX(0,(Einstellungen!$B$5-L14))*K14))) | P14: =IF(B14="","",MAX(0,H14-O14)) | Q14: =IF(B14="","",IF(P14<=0.01,"Abgeschlossen","Aktiv")) | R14: =IF(B14="","",IF(Einstellungen!$B$5<L14,0,IF(Einstellungen!$B$5=L14,N14,MAX(0,MIN(K14,H14-N14-(Einstellungen!$B$5-L14-1)*K14)))))
A15: =IF(B15="","",ROW()-2) | H15: =IF(B15="","",F15*G15) | J15: Linear | K15: =IF(B15="","",IFERROR(H15/I15,0)) | L15: =IF(B15="","",YEAR(B15)) | M15: =IF(B15="","",MONTH(B15)) | N15: =IF(B15="","",K15*(13-M15)/12) | O15: =IF(B15="","",IF(Einstellungen!$B$5<L15,0,MIN(H15,N15+MAX(0,(Einstellungen!$B$5-L15))*K15))) | P15: =IF(B15="","",MAX(0,H15-O15)) | Q15: =IF(B15="","",IF(P15<=0.01,"Abgeschlossen","Aktiv")) | R15: =IF(B15="","",IF(Einstellungen!$B$5<L15,0,IF(Einstellungen!$B$5=L15,N15,MAX(0,MIN(K15,H15-N15-(Einstellungen!$B$5-L15-1)*K15)))))
A16: =IF(B16="","",ROW()-2) | H16: =IF(B16="","",F16*G16) | J16: Linear | K16: =IF(B16="","",IFERROR(H16/I16,0)) | L16: =IF(B16="","",YEAR(B16)) | M16: =IF(B16="","",MONTH(B16)) | N16: =IF(B16="","",K16*(13-M16)/12) | O16: =IF(B16="","",IF(Einstellungen!$B$5<L16,0,MIN(H16,N16+MAX(0,(Einstellungen!$B$5-L16))*K16))) | P16: =IF(B16="","",MAX(0,H16-O16)) | Q16: =IF(B16="","",IF(P16<=0.01,"Abgeschlossen","Aktiv")) | R16: =IF(B16="","",IF(Einstellungen!$B$5<L16,0,IF(Einstellungen!$B$5=L16,N16,MAX(0,MIN(K16,H16-N16-(Einstellungen!$B$5-L16-1)*K16)))))
A17: =IF(B17="","",ROW()-2) | H17: =IF(B17="","",F17*G17) | J17: Linear | K17: =IF(B17="","",IFERROR(H17/I17,0)) | L17: =IF(B17="","",YEAR(B17)) | M17: =IF(B17="","",MONTH(B17)) | N17: =IF(B17="","",K17*(13-M17)/12) | O17: =IF(B17="","",IF(Einstellungen!$B$5<L17,0,MIN(H17,N17+MAX(0,(Einstellungen!$B$5-L17))*K17))) | P17: =IF(B17="","",MAX(0,H17-O17)) | Q17: =IF(B17="","",IF(P17<=0.01,"Abgeschlossen","Aktiv")) | R17: =IF(B17="","",IF(Einstellungen!$B$5<L17,0,IF(Einstellungen!$B$5=L17,N17,MAX(0,MIN(K17,H17-N17-(Einstellungen!$B$5-L17-1)*K17)))))
A18: =IF(B18="","",ROW()-2) | H18: =IF(B18="","",F18*G18) | J18: Linear | K18: =IF(B18="","",IFERROR(H18/I18,0)) | L18: =IF(B18="","",YEAR(B18)) | M18: =IF(B18="","",MONTH(B18)) | N18: =IF(B18="","",K18*(13-M18)/12) | O18: =IF(B18="","",IF(Einstellungen!$B$5<L18,0,MIN(H18,N18+MAX(0,(Einstellungen!$B$5-L18))*K18))) | P18: =IF(B18="","",MAX(0,H18-O18)) | Q18: =IF(B18="","",IF(P18<=0.01,"Abgeschlossen","Aktiv")) | R18: =IF(B18="","",IF(Einstellungen!$B$5<L18,0,IF(Einstellungen!$B$5=L18,N18,MAX(0,MIN(K18,H18-N18-(Einstellungen!$B$5-L18-1)*K18)))))
... A120: =IF(B120="","",ROW()-2) | H120: =IF(B120="","",F120*G120) | J120: Linear | K120: =IF(B120="","",IFERROR(H120/I120,0)) | L120: =IF(B120="","",YEAR(B120)) | M120: =IF(B120="","",MONTH(B120)) | N120: =IF(B120="","",K120*(13-M120)/12) | O120: =IF(B120="","",IF(Einstellungen!$B$5<L120,0,MIN(H120,N120+MAX(0,(Einstellungen!$B$5-L120))*K120))) | P120: =IF(B120="","",MAX(0,H120-O120)) | Q120: =IF(B120="","",IF(P120<=0.01,"Abgeschlossen","Aktiv")) | R120: =IF(B120="","",IF(Einstellungen!$B$5<L120,0,IF(Einstellungen!$B$5=L120,N120,MAX(0,MIN(K120,H120-N120-(Einstellungen!$B$5-L120-1)*K120)))))
