Workbook
Name AusgabeKategorien: Kategorien!$I$2:INDEX(Kategorien!$I:$I,MATCH("zzz",Kategorien!$I:$I))
Name EinnahmeKategorien: Kategorien!$H$2:INDEX(Kategorien!$H:$H,MATCH("zzz",Kategorien!$H:$H))

Sheet Start
A1: EÜR Kleinunternehmer ohne Umsatzsteuer | J1: Jahre
J2: 2025
A3: Auswertungsjahr | B3: 2025
A5: Betriebseinnahmen | D5: Betriebsausgaben | G5: Gewinn | J5: Anzahl Buchungen
A6: =SUMIFS(Buchungen!$M$4:$M$200,Buchungen!$O$4:$O$200,$B$3,Buchungen!$C$4:$C$200,"Einnahme") -> 14520 | D6: =SUMIFS(Buchungen!$M$4:$M$200,Buchungen!$O$4:$O$200,$B$3,Buchungen!$C$4:$C$200,"Ausgabe") -> 2059.73 | G6: =A6-D6 -> 12460.27 | J6: =COUNTIFS(Buchungen!$O$4:$O$200,$B$3) -> 30
A8: Monat mit höchsten Einnahmen | D8: Monat mit höchsten Ausgaben | G8: Prüfung
A9: =INDEX($A$12:$A$23,MATCH(MAX($B$12:$B$23),$B$12:$B$23,0)) -> Jan | C9: =INDEX($A$12:$A$23,MATCH(MAX($C$12:$C$23),$C$12:$C$23,0)) -> Mai | G9: =IF(COUNTIFS(Buchungen!$C$4:$C$200,"<>",Buchungen!$I$4:$I$200,"")>0,"Es gibt Buchungen ohne Kategorie","Alle Buchungen sind kategorisiert") -> Alle Buchungen sind kategorisiert
A11: Monat | B11: Einnahmen | C11: Ausgaben | N11: Ausgabenkategorie | O11: Summe | Q11: Top 5 Ausgabenkategorien | R11: Betrag
A12: Jan | B12: =SUMIFS(Buchungen!$M$4:$M$200,Buchungen!$O$4:$O$200,$B$3,Buchungen!$N$4:$N$200,1,Buchungen!$C$4:$C$200,"Einnahme") -> 4000 | C12: =SUMIFS(Buchungen!$M$4:$M$200,Buchungen!$O$4:$O$200,$B$3,Buchungen!$N$4:$N$200,1,Buchungen!$C$4:$C$200,"Ausgabe") -> 344.94 | N12: Waren / Materialien / Verbrauch | O12: =SUMIFS(Buchungen!$M$4:$M$200,Buchungen!$O$4:$O$200,$B$3,Buchungen!$C$4:$C$200,"Ausgabe",Buchungen!$I$4:$I$200,N12) -> 0 | Q12: =IF(R12=0,"",INDEX($N$12:$N$49,MATCH(R12,$O$12:$O$49,0))) -> Fremdleistungen / Freelancer / Provisionen | R12: =LARGE($O$12:$O$49,1) -> 450
A13: Feb | B13: =SUMIFS(Buchungen!$M$4:$M$200,Buchungen!$O$4:$O$200,$B$3,Buchungen!$N$4:$N$200,2,Buchungen!$C$4:$C$200,"Einnahme") -> 2500 | C13: =SUMIFS(Buchungen!$M$4:$M$200,Buchungen!$O$4:$O$200,$B$3,Buchungen!$N$4:$N$200,2,Buchungen!$C$4:$C$200,"Ausgabe") -> 462.6 | N13: Fremdleistungen / Freelancer / Provisionen | O13: =SUMIFS(Buchungen!$M$4:$M$200,Buchungen!$O$4:$O$200,$B$3,Buchungen!$C$4:$C$200,"Ausgabe",Buchungen!$I$4:$I$200,N13) -> 450 | Q13: =IF(R13=0,"",INDEX($N$12:$N$49,MATCH(R13,$O$12:$O$49,0))) -> Werbung / Marketing | R13: =LARGE($O$12:$O$49,2) -> 276.4
A14: Mrz | B14: =SUMIFS(Buchungen!$M$4:$M$200,Buchungen!$O$4:$O$200,$B$3,Buchungen!$N$4:$N$200,3,Buchungen!$C$4:$C$200,"Einnahme") -> 2700 | C14: =SUMIFS(Buchungen!$M$4:$M$200,Buchungen!$O$4:$O$200,$B$3,Buchungen!$N$4:$N$200,3,Buchungen!$C$4:$C$200,"Ausgabe") -> 271.49 | N14: Personal | O14: =SUMIFS(Buchungen!$M$4:$M$200,Buchungen!$O$4:$O$200,$B$3,Buchungen!$C$4:$C$200,"Ausgabe",Buchungen!$I$4:$I$200,N14) -> 0 | Q14: =IF(R14=0,"",INDEX($N$12:$N$49,MATCH(R14,$O$12:$O$49,0))) -> Steuerberatung / Buchhaltung / Recht | R14: =LARGE($O$12:$O$49,3) -> 240
A15: Apr | B15: =SUMIFS(Buchungen!$M$4:$M$200,Buchungen!$O$4:$O$200,$B$3,Buchungen!$N$4:$N$200,4,Buchungen!$C$4:$C$200,"Einnahme") -> 1400 | C15: =SUMIFS(Buchungen!$M$4:$M$200,Buchungen!$O$4:$O$200,$B$3,Buchungen!$N$4:$N$200,4,Buchungen!$C$4:$C$200,"Ausgabe") -> 264.4 | N15: AfA immaterielle Wirtschaftsgüter | O15: =SUMIFS(Buchungen!$M$4:$M$200,Buchungen!$O$4:$O$200,$B$3,Buchungen!$C$4:$C$200,"Ausgabe",Buchungen!$I$4:$I$200,N15) -> 0 | Q15: =IF(R15=0,"",INDEX($N$12:$N$49,MATCH(R15,$O$12:$O$49,0))) -> Miete Büro / Coworking | R15: =LARGE($O$12:$O$49,4) -> 220
A16: Mai | B16: =SUMIFS(Buchungen!$M$4:$M$200,Buchungen!$O$4:$O$200,$B$3,Buchungen!$N$4:$N$200,5,Buchungen!$C$4:$C$200,"Einnahme") -> 950 | C16: =SUMIFS(Buchungen!$M$4:$M$200,Buchungen!$O$4:$O$200,$B$3,Buchungen!$N$4:$N$200,5,Buchungen!$C$4:$C$200,"Ausgabe") -> 576 | N16: AfA Sachanlagen | O16: =SUMIFS(Buchungen!$M$4:$M$200,Buchungen!$O$4:$O$200,$B$3,Buchungen!$C$4:$C$200,"Ausgabe",Buchungen!$I$4:$I$200,N16) -> 0 | Q16: =IF(R16=0,"",INDEX($N$12:$N$49,MATCH(R16,$O$12:$O$49,0))) -> Beiträge / Gebühren / Versicherungen | R16: =LARGE($O$12:$O$49,5) -> 168
A17: Jun | B17: =SUMIFS(Buchungen!$M$4:$M$200,Buchungen!$O$4:$O$200,$B$3,Buchungen!$N$4:$N$200,6,Buchungen!$C$4:$C$200,"Einnahme") -> 950 | C17: =SUMIFS(Buchungen!$M$4:$M$200,Buchungen!$O$4:$O$200,$B$3,Buchungen!$N$4:$N$200,6,Buchungen!$C$4:$C$200,"Ausgabe") -> 60.9 | N17: Sonderabschreibungen | O17: =SUMIFS(Buchungen!$M$4:$M$200,Buchungen!$O$4:$O$200,$B$3,Buchungen!$C$4:$C$200,"Ausgabe",Buchungen!$I$4:$I$200,N17) -> 0
A18: Jul | B18: =SUMIFS(Buchungen!$M$4:$M$200,Buchungen!$O$4:$O$200,$B$3,Buchungen!$N$4:$N$200,7,Buchungen!$C$4:$C$200,"Einnahme") -> 950 | C18: =SUMIFS(Buchungen!$M$4:$M$200,Buchungen!$O$4:$O$200,$B$3,Buchungen!$N$4:$N$200,7,Buchungen!$C$4:$C$200,"Ausgabe") -> 29.4 | N18: GWG | O18: =SUMIFS(Buchungen!$M$4:$M$200,Buchungen!$O$4:$O$200,$B$3,Buchungen!$C$4:$C$200,"Ausgabe",Buchungen!$I$4:$I$200,N18) -> 0
A19: Aug | B19: =SUMIFS(Buchungen!$M$4:$M$200,Buchungen!$O$4:$O$200,$B$3,Buchungen!$N$4:$N$200,8,Buchungen!$C$4:$C$200,"Einnahme") -> 1070 | C19: =SUMIFS(Buchungen!$M$4:$M$200,Buchungen!$O$4:$O$200,$B$3,Buchungen!$N$4:$N$200,8,Buchungen!$C$4:$C$200,"Ausgabe") -> 50 | N19: Restbuchwert bei Abgang | O19: =SUMIFS(Buchungen!$M$4:$M$200,Buchungen!$O$4:$O$200,$B$3,Buchungen!$C$4:$C$200,"Ausgabe",Buchungen!$I$4:$I$200,N19) -> 0
A20: Sep | B20: =SUMIFS(Buchungen!$M$4:$M$200,Buchungen!$O$4:$O$200,$B$3,Buchungen!$N$4:$N$200,9,Buchungen!$C$4:$C$200,"Einnahme") -> 0 | C20: =SUMIFS(Buchungen!$M$4:$M$200,Buchungen!$O$4:$O$200,$B$3,Buchungen!$N$4:$N$200,9,Buchungen!$C$4:$C$200,"Ausgabe") -> 0 | N20: Miete Büro / Coworking | O20: =SUMIFS(Buchungen!$M$4:$M$200,Buchungen!$O$4:$O$200,$B$3,Buchungen!$C$4:$C$200,"Ausgabe",Buchungen!$I$4:$I$200,N20) -> 220
A21: Okt | B21: =SUMIFS(Buchungen!$M$4:$M$200,Buchungen!$O$4:$O$200,$B$3,Buchungen!$N$4:$N$200,10,Buchungen!$C$4:$C$200,"Einnahme") -> 0 | C21: =SUMIFS(Buchungen!$M$4:$M$200,Buchungen!$O$4:$O$200,$B$3,Buchungen!$N$4:$N$200,10,Buchungen!$C$4:$C$200,"Ausgabe") -> 0 | N21: Doppelte Haushaltsführung | O21: =SUMIFS(Buchungen!$M$4:$M$200,Buchungen!$O$4:$O$200,$B$3,Buchungen!$C$4:$C$200,"Ausgabe",Buchungen!$I$4:$I$200,N21) -> 0
A22: Nov | B22: =SUMIFS(Buchungen!$M$4:$M$200,Buchungen!$O$4:$O$200,$B$3,Buchungen!$N$4:$N$200,11,Buchungen!$C$4:$C$200,"Einnahme") -> 0 | C22: =SUMIFS(Buchungen!$M$4:$M$200,Buchungen!$O$4:$O$200,$B$3,Buchungen!$N$4:$N$200,11,Buchungen!$C$4:$C$200,"Ausgabe") -> 0 | N22: Sonstige Raumkosten | O22: =SUMIFS(Buchungen!$M$4:$M$200,Buchungen!$O$4:$O$200,$B$3,Buchungen!$C$4:$C$200,"Ausgabe",Buchungen!$I$4:$I$200,N22) -> 0
A23: Dez | B23: =SUMIFS(Buchungen!$M$4:$M$200,Buchungen!$O$4:$O$200,$B$3,Buchungen!$N$4:$N$200,12,Buchungen!$C$4:$C$200,"Einnahme") -> 0 | C23: =SUMIFS(Buchungen!$M$4:$M$200,Buchungen!$O$4:$O$200,$B$3,Buchungen!$N$4:$N$200,12,Buchungen!$C$4:$C$200,"Ausgabe") -> 0 | N23: Telefon / Internet | O23: =SUMIFS(Buchungen!$M$4:$M$200,Buchungen!$O$4:$O$200,$B$3,Buchungen!$C$4:$C$200,"Ausgabe",Buchungen!$I$4:$I$200,N23) -> 54.95
N24: Reisekosten / Übernachtung | O24: =SUMIFS(Buchungen!$M$4:$M$200,Buchungen!$O$4:$O$200,$B$3,Buchungen!$C$4:$C$200,"Ausgabe",Buchungen!$I$4:$I$200,N24) -> 79.9
N25: Fortbildung | O25: =SUMIFS(Buchungen!$M$4:$M$200,Buchungen!$O$4:$O$200,$B$3,Buchungen!$C$4:$C$200,"Ausgabe",Buchungen!$I$4:$I$200,N25) -> 129.99
A26: Letzte 10 Buchungen | N26: Steuerberatung / Buchhaltung / Recht | O26: =SUMIFS(Buchungen!$M$4:$M$200,Buchungen!$O$4:$O$200,$B$3,Buchungen!$C$4:$C$200,"Ausgabe",Buchungen!$I$4:$I$200,N26) -> 240
A27: Datum | B27: Typ | C27: Beschreibung | D27: Kategorie | E27: Betrag | N27: Leasing bewegliche Güter | O27: =SUMIFS(Buchungen!$M$4:$M$200,Buchungen!$O$4:$O$200,$B$3,Buchungen!$C$4:$C$200,"Ausgabe",Buchungen!$I$4:$I$200,N27) -> 0
A28: 26.08.2025 | B28: =Buchungen!C33 -> Einnahme | C28: =Buchungen!D33 -> Sonstige betriebliche Erstattung | D28: =Buchungen!I33 -> Sonstige betriebliche Einnahmen | E28: =Buchungen!M33 -> 120 | N28: Reparaturen / Instandhaltung | O28: =SUMIFS(Buchungen!$M$4:$M$200,Buchungen!$O$4:$O$200,$B$3,Buchungen!$C$4:$C$200,"Ausgabe",Buchungen!$I$4:$I$200,N28) -> 0
A29: 14.08.2025 | B29: =Buchungen!C32 -> Ausgabe | C29: =Buchungen!D32 -> Fachbuch Branding | D29: =Buchungen!I32 -> Büromaterial / Porto / Fachliteratur | E29: =Buchungen!M32 -> 32 | N29: Beiträge / Gebühren / Versicherungen | O29: =SUMIFS(Buchungen!$M$4:$M$200,Buchungen!$O$4:$O$200,$B$3,Buchungen!$C$4:$C$200,"Ausgabe",Buchungen!$I$4:$I$200,N29) -> 168
A30: 07.08.2025 | B30: =Buchungen!C31 -> Ausgabe | C30: =Buchungen!D31 -> Domain und Hosting | D30: =Buchungen!I31 -> Software / IT / EDV | E30: =Buchungen!M31 -> 18 | N30: Software / IT / EDV | O30: =SUMIFS(Buchungen!$M$4:$M$200,Buchungen!$O$4:$O$200,$B$3,Buchungen!$C$4:$C$200,"Ausgabe",Buchungen!$I$4:$I$200,N30) -> 123.99
A31: 01.08.2025 | B31: =Buchungen!C30 -> Einnahme | C31: =Buchungen!D30 -> Retainer August | D31: =Buchungen!I30 -> Umsätze / Dienstleistungen | E31: =Buchungen!M30 -> 950 | N31: Büromaterial / Porto / Fachliteratur | O31: =SUMIFS(Buchungen!$M$4:$M$200,Buchungen!$O$4:$O$200,$B$3,Buchungen!$C$4:$C$200,"Ausgabe",Buchungen!$I$4:$I$200,N31) -> 74.6
A32: 15.07.2025 | B32: =Buchungen!C29 -> Ausgabe | C32: =Buchungen!D29 -> Kaffee mit Kunde | D32: =Buchungen!I29 -> Bewirtung | E32: =Buchungen!M29 -> 29.4 | N32: Entsorgung | O32: =SUMIFS(Buchungen!$M$4:$M$200,Buchungen!$O$4:$O$200,$B$3,Buchungen!$C$4:$C$200,"Ausgabe",Buchungen!$I$4:$I$200,N32) -> 0
A33: 08.07.2025 | B33: =Buchungen!C28 -> Ausgabe | C33: =Buchungen!D28 -> Private Parkstrafe auf Dienstfahrt | D33: =Buchungen!I28 -> Nicht abzugsfähige Kosten | E33: =Buchungen!M28 -> 0 | N33: Verpackung / Versand | O33: =SUMIFS(Buchungen!$M$4:$M$200,Buchungen!$O$4:$O$200,$B$3,Buchungen!$C$4:$C$200,"Ausgabe",Buchungen!$I$4:$I$200,N33) -> 0
A34: 03.07.2025 | B34: =Buchungen!C27 -> Einnahme | C34: =Buchungen!D27 -> Retainer Juli | D34: =Buchungen!I27 -> Umsätze / Dienstleistungen | E34: =Buchungen!M27 -> 950 | N34: Werbung / Marketing | O34: =SUMIFS(Buchungen!$M$4:$M$200,Buchungen!$O$4:$O$200,$B$3,Buchungen!$C$4:$C$200,"Ausgabe",Buchungen!$I$4:$I$200,N34) -> 276.4
A35: 21.06.2025 | B35: =Buchungen!C26 -> Ausgabe | C35: =Buchungen!D26 -> Kundengeschenk | D35: =Buchungen!I26 -> Geschenke | E35: =Buchungen!M26 -> 24.9 | N35: Zinsen Anlagefinanzierung | O35: =SUMIFS(Buchungen!$M$4:$M$200,Buchungen!$O$4:$O$200,$B$3,Buchungen!$C$4:$C$200,"Ausgabe",Buchungen!$I$4:$I$200,N35) -> 0
A36: 10.06.2025 | B36: =Buchungen!C25 -> Ausgabe | C36: =Buchungen!D25 -> Software-Tool Figma | D36: =Buchungen!I25 -> Software / IT / EDV | E36: =Buchungen!M25 -> 36 | N36: Sonstige Schuldzinsen | O36: =SUMIFS(Buchungen!$M$4:$M$200,Buchungen!$O$4:$O$200,$B$3,Buchungen!$C$4:$C$200,"Ausgabe",Buchungen!$I$4:$I$200,N36) -> 0
A37: 04.06.2025 | B37: =Buchungen!C24 -> Einnahme | C37: =Buchungen!D24 -> Retainer Juni | D37: =Buchungen!I24 -> Umsätze / Dienstleistungen | E37: =Buchungen!M24 -> 950 | N37: Sonstige abziehbare Betriebsausgaben | O37: =SUMIFS(Buchungen!$M$4:$M$200,Buchungen!$O$4:$O$200,$B$3,Buchungen!$C$4:$C$200,"Ausgabe",Buchungen!$I$4:$I$200,N37) -> 0
N38: Geschenke | O38: =SUMIFS(Buchungen!$M$4:$M$200,Buchungen!$O$4:$O$200,$B$3,Buchungen!$C$4:$C$200,"Ausgabe",Buchungen!$I$4:$I$200,N38) -> 24.9
N39: Bewirtung | O39: =SUMIFS(Buchungen!$M$4:$M$200,Buchungen!$O$4:$O$200,$B$3,Buchungen!$C$4:$C$200,"Ausgabe",Buchungen!$I$4:$I$200,N39) -> 91
N40: Verpflegungsmehraufwand | O40: =SUMIFS(Buchungen!$M$4:$M$200,Buchungen!$O$4:$O$200,$B$3,Buchungen!$C$4:$C$200,"Ausgabe",Buchungen!$I$4:$I$200,N40) -> 0
N41: Häusliches Arbeitszimmer | O41: =SUMIFS(Buchungen!$M$4:$M$200,Buchungen!$O$4:$O$200,$B$3,Buchungen!$C$4:$C$200,"Ausgabe",Buchungen!$I$4:$I$200,N41) -> 0
N42: Homeoffice-Pauschale | O42: =SUMIFS(Buchungen!$M$4:$M$200,Buchungen!$O$4:$O$200,$B$3,Buchungen!$C$4:$C$200,"Ausgabe",Buchungen!$I$4:$I$200,N42) -> 126
N43: Sonstige beschränkt abziehbare Kosten | O43: =SUMIFS(Buchungen!$M$4:$M$200,Buchungen!$O$4:$O$200,$B$3,Buchungen!$C$4:$C$200,"Ausgabe",Buchungen!$I$4:$I$200,N43) -> 0
...

Sheet Buchungen
A1: Buchungen
R2: Hinweise
A3: ID | B3: Datum | C3: Typ | D3: Beschreibung | E3: Gegenpartei | F3: Beleg-Nr. | G3: Zahlungsart | H3: Konto/Kasse | I3: Kategorie | J3: EÜR-Zeile | K3: Steuerl. % | L3: Bruttobetrag | M3: Steuerl. Betrag | N3: Monat | O3: Jahr | P3: Notizen | R3: Nur blau hinterlegte Felder werden normal erfasst.
A4: 1 | B4: 45660 | C4: Einnahme | D4: Logo- und Branding-Paket | E4: Studio Nord GmbH | F4: RE-2025-001 | G4: Überweisung | H4: Geschäftskonto | I4: Umsätze / Dienstleistungen | J4: =IFERROR(INDEX(Kategorien!$C$4:$C$46,MATCH(I4,Kategorien!$B$4:$B$46,0)),"") -> 12 | K4: =IFERROR(INDEX(Kategorien!$E$4:$E$46,MATCH(I4,Kategorien!$B$4:$B$46,0)),0) -> 1 | L4: 2200 | M4: =ROUND(L4*K4,2) -> 2200 | N4: =MONTH(B4) -> 1 | O4: =YEAR(B4) -> 2025 | R4: Kategorie steuert EÜR-Zeile und Standard-% abziehbar.
A5: 2 | B5: 45664 | C5: Ausgabe | D5: Adobe Creative Cloud | E5: Adobe | F5: BE-2025-001 | G5: Lastschrift | H5: Geschäftskonto | I5: Software / IT / EDV | J5: =IFERROR(INDEX(Kategorien!$C$4:$C$46,MATCH(I5,Kategorien!$B$4:$B$46,0)),"") -> 50 | K5: =IFERROR(INDEX(Kategorien!$E$4:$E$46,MATCH(I5,Kategorien!$B$4:$B$46,0)),0) -> 1 | L5: 69.99 | M5: =ROUND(L5*K5,2) -> 69.99 | N5: =MONTH(B5) -> 1 | O5: =YEAR(B5) -> 2025 | P5: Jahresabo anteilig | R5: Steuerl. % kann je Buchung überschrieben werden.
A6: 3 | B6: 45666 | C6: Ausgabe | D6: Mobilfunk und Internet | E6: Telekom | F6: BE-2025-002 | G6: Lastschrift | H6: Geschäftskonto | I6: Telefon / Internet | J6: =IFERROR(INDEX(Kategorien!$C$4:$C$46,MATCH(I6,Kategorien!$B$4:$B$46,0)),"") -> 43 | K6: =IFERROR(INDEX(Kategorien!$E$4:$E$46,MATCH(I6,Kategorien!$B$4:$B$46,0)),0) -> 1 | L6: 54.95 | M6: =ROUND(L6*K6,2) -> 54.95 | N6: =MONTH(B6) -> 1 | O6: =YEAR(B6) -> 2025 | R6: Gelb = Kategorie fehlt. Hellblau = teilweise abziehbar. Rot = nicht abzugsfähig.
A7: 4 | B7: 45669 | C7: Ausgabe | D7: Coworking Januar | E7: WorkHub Berlin | F7: BE-2025-003 | G7: Karte | H7: Geschäftskonto | I7: Miete Büro / Coworking | J7: =IFERROR(INDEX(Kategorien!$C$4:$C$46,MATCH(I7,Kategorien!$B$4:$B$46,0)),"") -> 39 | K7: =IFERROR(INDEX(Kategorien!$E$4:$E$46,MATCH(I7,Kategorien!$B$4:$B$46,0)),0) -> 1 | L7: 220 | M7: =ROUND(L7*K7,2) -> 220 | N7: =MONTH(B7) -> 1 | O7: =YEAR(B7) -> 2025
A8: 5 | B8: 45679 | C8: Einnahme | D8: Website-Redesign Abschlag | E8: Bergmann OHG | F8: RE-2025-002 | G8: Überweisung | H8: Geschäftskonto | I8: Umsätze / Dienstleistungen | J8: =IFERROR(INDEX(Kategorien!$C$4:$C$46,MATCH(I8,Kategorien!$B$4:$B$46,0)),"") -> 12 | K8: =IFERROR(INDEX(Kategorien!$E$4:$E$46,MATCH(I8,Kategorien!$B$4:$B$46,0)),0) -> 1 | L8: 1800 | M8: =ROUND(L8*K8,2) -> 1800 | N8: =MONTH(B8) -> 1 | O8: =YEAR(B8) -> 2025
A9: 6 | B9: 45693 | C9: Ausgabe | D9: Google Ads Kampagne | E9: Google Ireland | F9: BE-2025-004 | G9: Karte | H9: Geschäftskonto | I9: Werbung / Marketing | J9: =IFERROR(INDEX(Kategorien!$C$4:$C$46,MATCH(I9,Kategorien!$B$4:$B$46,0)),"") -> 54 | K9: =IFERROR(INDEX(Kategorien!$E$4:$E$46,MATCH(I9,Kategorien!$B$4:$B$46,0)),0) -> 1 | L9: 180 | M9: =ROUND(L9*K9,2) -> 180 | N9: =MONTH(B9) -> 2 | O9: =YEAR(B9) -> 2025
A10: 7 | B10: 45699 | C10: Ausgabe | D10: Büromaterial | E10: Staples | F10: BE-2025-005 | G10: Karte | H10: Geschäftskonto | I10: Büromaterial / Porto / Fachliteratur | J10: =IFERROR(INDEX(Kategorien!$C$4:$C$46,MATCH(I10,Kategorien!$B$4:$B$46,0)),"") -> 51 | K10: =IFERROR(INDEX(Kategorien!$E$4:$E$46,MATCH(I10,Kategorien!$B$4:$B$46,0)),0) -> 1 | L10: 42.6 | M10: =ROUND(L10*K10,2) -> 42.6 | N10: =MONTH(B10) -> 2 | O10: =YEAR(B10) -> 2025
A11: 8 | B11: 45705 | C11: Einnahme | D11: Website-Redesign Restzahlung | E11: Bergmann OHG | F11: RE-2025-003 | G11: Überweisung | H11: Geschäftskonto | I11: Umsätze / Dienstleistungen | J11: =IFERROR(INDEX(Kategorien!$C$4:$C$46,MATCH(I11,Kategorien!$B$4:$B$46,0)),"") -> 12 | K11: =IFERROR(INDEX(Kategorien!$E$4:$E$46,MATCH(I11,Kategorien!$B$4:$B$46,0)),0) -> 1 | L11: 2500 | M11: =ROUND(L11*K11,2) -> 2500 | N11: =MONTH(B11) -> 2 | O11: =YEAR(B11) -> 2025
A12: 9 | B12: 45708 | C12: Ausgabe | D12: Steuerberater Q1 | E12: Kanzlei Vogt | F12: BE-2025-006 | G12: Überweisung | H12: Geschäftskonto | I12: Steuerberatung / Buchhaltung / Recht | J12: =IFERROR(INDEX(Kategorien!$C$4:$C$46,MATCH(I12,Kategorien!$B$4:$B$46,0)),"") -> 46 | K12: =IFERROR(INDEX(Kategorien!$E$4:$E$46,MATCH(I12,Kategorien!$B$4:$B$46,0)),0) -> 1 | L12: 240 | M12: =ROUND(L12*K12,2) -> 240 | N12: =MONTH(B12) -> 2 | O12: =YEAR(B12) -> 2025
A13: 10 | B13: 45720 | C13: Einnahme | D13: Monatlicher Design-Support | E13: Studio Nord GmbH | F13: RE-2025-004 | G13: Überweisung | H13: Geschäftskonto | I13: Umsätze / Dienstleistungen | J13: =IFERROR(INDEX(Kategorien!$C$4:$C$46,MATCH(I13,Kategorien!$B$4:$B$46,0)),"") -> 12 | K13: =IFERROR(INDEX(Kategorien!$E$4:$E$46,MATCH(I13,Kategorien!$B$4:$B$46,0)),0) -> 1 | L13: 950 | M13: =ROUND(L13*K13,2) -> 950 | N13: =MONTH(B13) -> 3 | O13: =YEAR(B13) -> 2025
A14: 11 | B14: 45722 | C14: Ausgabe | D14: Bahnfahrt zu Kundentermin | E14: Deutsche Bahn | F14: BE-2025-007 | G14: Karte | H14: Geschäftskonto | I14: Reisekosten / Übernachtung | J14: =IFERROR(INDEX(Kategorien!$C$4:$C$46,MATCH(I14,Kategorien!$B$4:$B$46,0)),"") -> 44 | K14: =IFERROR(INDEX(Kategorien!$E$4:$E$46,MATCH(I14,Kategorien!$B$4:$B$46,0)),0) -> 1 | L14: 79.9 | M14: =ROUND(L14*K14,2) -> 79.9 | N14: =MONTH(B14) -> 3 | O14: =YEAR(B14) -> 2025
A15: 12 | B15: 45722 | C15: Ausgabe | D15: Geschäftsessen | E15: Restaurant Morgenrot | F15: BE-2025-008 | G15: Karte | H15: Geschäftskonto | I15: Bewirtung | J15: =IFERROR(INDEX(Kategorien!$C$4:$C$46,MATCH(I15,Kategorien!$B$4:$B$46,0)),"") -> 63 | K15: =IFERROR(INDEX(Kategorien!$E$4:$E$46,MATCH(I15,Kategorien!$B$4:$B$46,0)),0) -> 0.7 | L15: 88 | M15: =ROUND(L15*K15,2) -> 61.6 | N15: =MONTH(B15) -> 3 | O15: =YEAR(B15) -> 2025
A16: 13 | B16: 45731 | C16: Ausgabe | D16: Online-Kurs UI/UX | E16: Udemy | F16: BE-2025-009 | G16: Karte | H16: Geschäftskonto | I16: Fortbildung | J16: =IFERROR(INDEX(Kategorien!$C$4:$C$46,MATCH(I16,Kategorien!$B$4:$B$46,0)),"") -> 45 | K16: =IFERROR(INDEX(Kategorien!$E$4:$E$46,MATCH(I16,Kategorien!$B$4:$B$46,0)),0) -> 1 | L16: 129.99 | M16: =ROUND(L16*K16,2) -> 129.99 | N16: =MONTH(B16) -> 3 | O16: =YEAR(B16) -> 2025
A17: 14 | B17: 45744 | C17: Einnahme | D17: Illustrationsprojekt | E17: Klein & Co. KG | F17: RE-2025-005 | G17: Überweisung | H17: Geschäftskonto | I17: Umsätze / Dienstleistungen | J17: =IFERROR(INDEX(Kategorien!$C$4:$C$46,MATCH(I17,Kategorien!$B$4:$B$46,0)),"") -> 12 | K17: =IFERROR(INDEX(Kategorien!$E$4:$E$46,MATCH(I17,Kategorien!$B$4:$B$46,0)),0) -> 1 | L17: 1750 | M17: =ROUND(L17*K17,2) -> 1750 | N17: =MONTH(B17) -> 3 | O17: =YEAR(B17) -> 2025
A18: 15 | B18: 45750 | C18: Ausgabe | D18: Berufshaftpflicht | E18: AXA | F18: BE-2025-010 | G18: Lastschrift | H18: Geschäftskonto | I18: Beiträge / Gebühren / Versicherungen | J18: =IFERROR(INDEX(Kategorien!$C$4:$C$46,MATCH(I18,Kategorien!$B$4:$B$46,0)),"") -> 49 | K18: =IFERROR(INDEX(Kategorien!$E$4:$E$46,MATCH(I18,Kategorien!$B$4:$B$46,0)),0) -> 1 | L18: 168 | M18: =ROUND(L18*K18,2) -> 168 | N18: =MONTH(B18) -> 4 | O18: =YEAR(B18) -> 2025
... A33: 30 | B33: 45895 | C33: Einnahme | D33: Sonstige betriebliche Erstattung | E33: Versicherung Rückerstattung | F33: RE-2025-011 | G33: Überweisung | H33: Geschäftskonto | I33: Sonstige betriebliche Einnahmen | J33: =IFERROR(INDEX(Kategorien!$C$4:$C$46,MATCH(I33,Kategorien!$B$4:$B$46,0)),"") -> 16 | K33: =IFERROR(INDEX(Kategorien!$E$4:$E$46,MATCH(I33,Kategorien!$B$4:$B$46,0)),0) -> 1 | L33: 120 | M33: =ROUND(L33*K33,2) -> 120 | N33: =MONTH(B33) -> 8 | O33: =YEAR(B33) -> 2025

Sheet Kategorien
A1: Kategorien und Zuordnung | H1: Aktive Einnahmen | I1: Aktive Ausgaben | K1: Hinweis
H2: =IFERROR(INDEX($B$4:$B$46,_xludf.AGGREGATE(15,6,(ROW($B$4:$B$46)-ROW($B$4)+1)/(($A$4:$A$46="Einnahme")*($F$4:$F$46="Ja")),ROWS(H$2:H2))),"") | I2: =IFERROR(INDEX($B$4:$B$46,_xludf.AGGREGATE(15,6,(ROW($B$4:$B$46)-ROW($B$4)+1)/(($A$4:$A$46="Ausgabe")*($F$4:$F$46="Ja")),ROWS(I$2:I2))),"") | K2: Standard-% abziehbar kann bei einzelnen Buchungen manuell überschrieben werden.
A3: Typ | B3: Kategorie | C3: EÜR-Zeile | D3: Gruppe | E3: Standard-% abziehbar | F3: Aktiv | G3: Sortierung | H3: =IFERROR(INDEX($B$4:$B$46,_xludf.AGGREGATE(15,6,(ROW($B$4:$B$46)-ROW($B$4)+1)/(($A$4:$A$46="Einnahme")*($F$4:$F$46="Ja")),ROWS(H$2:H3))),"") | I3: =IFERROR(INDEX($B$4:$B$46,_xludf.AGGREGATE(15,6,(ROW($B$4:$B$46)-ROW($B$4)+1)/(($A$4:$A$46="Ausgabe")*($F$4:$F$46="Ja")),ROWS(I$2:I3))),"") | K3: Zeile 74 ist als nicht abzugsfähig mit 0% vorbelegt.
A4: Einnahme | B4: Umsätze / Dienstleistungen | C4: 12 | D4: Betriebseinnahmen | E4: 1 | F4: Ja | G4: 1 | H4: =IFERROR(INDEX($B$4:$B$46,_xludf.AGGREGATE(15,6,(ROW($B$4:$B$46)-ROW($B$4)+1)/(($A$4:$A$46="Einnahme")*($F$4:$F$46="Ja")),ROWS(H$2:H4))),"") | I4: =IFERROR(INDEX($B$4:$B$46,_xludf.AGGREGATE(15,6,(ROW($B$4:$B$46)-ROW($B$4)+1)/(($A$4:$A$46="Ausgabe")*($F$4:$F$46="Ja")),ROWS(I$2:I4))),"") | K4: Bewirtung ist beispielhaft mit 70% hinterlegt.
A5: Einnahme | B5: Sonstige betriebliche Einnahmen | C5: 16 | D5: Betriebseinnahmen | E5: 1 | F5: Ja | G5: 2 | H5: =IFERROR(INDEX($B$4:$B$46,_xludf.AGGREGATE(15,6,(ROW($B$4:$B$46)-ROW($B$4)+1)/(($A$4:$A$46="Einnahme")*($F$4:$F$46="Ja")),ROWS(H$2:H5))),"") | I5: =IFERROR(INDEX($B$4:$B$46,_xludf.AGGREGATE(15,6,(ROW($B$4:$B$46)-ROW($B$4)+1)/(($A$4:$A$46="Ausgabe")*($F$4:$F$46="Ja")),ROWS(I$2:I5))),"")
A6: Einnahme | B6: Verkauf Anlagevermögen | C6: 19 | D6: Betriebseinnahmen | E6: 1 | F6: Ja | G6: 3 | H6: =IFERROR(INDEX($B$4:$B$46,_xludf.AGGREGATE(15,6,(ROW($B$4:$B$46)-ROW($B$4)+1)/(($A$4:$A$46="Einnahme")*($F$4:$F$46="Ja")),ROWS(H$2:H6))),"") | I6: =IFERROR(INDEX($B$4:$B$46,_xludf.AGGREGATE(15,6,(ROW($B$4:$B$46)-ROW($B$4)+1)/(($A$4:$A$46="Ausgabe")*($F$4:$F$46="Ja")),ROWS(I$2:I6))),"")
A7: Einnahme | B7: Private Kfz-Nutzung | C7: 20 | D7: Betriebseinnahmen | E7: 1 | F7: Ja | G7: 4 | H7: =IFERROR(INDEX($B$4:$B$46,_xludf.AGGREGATE(15,6,(ROW($B$4:$B$46)-ROW($B$4)+1)/(($A$4:$A$46="Einnahme")*($F$4:$F$46="Ja")),ROWS(H$2:H7))),"") | I7: =IFERROR(INDEX($B$4:$B$46,_xludf.AGGREGATE(15,6,(ROW($B$4:$B$46)-ROW($B$4)+1)/(($A$4:$A$46="Ausgabe")*($F$4:$F$46="Ja")),ROWS(I$2:I7))),"")
A8: Einnahme | B8: Sachentnahmen / sonstige Entnahmen | C8: 21 | D8: Betriebseinnahmen | E8: 1 | F8: Ja | G8: 5 | H8: =IFERROR(INDEX($B$4:$B$46,_xludf.AGGREGATE(15,6,(ROW($B$4:$B$46)-ROW($B$4)+1)/(($A$4:$A$46="Einnahme")*($F$4:$F$46="Ja")),ROWS(H$2:H8))),"") | I8: =IFERROR(INDEX($B$4:$B$46,_xludf.AGGREGATE(15,6,(ROW($B$4:$B$46)-ROW($B$4)+1)/(($A$4:$A$46="Ausgabe")*($F$4:$F$46="Ja")),ROWS(I$2:I8))),"")
A9: Ausgabe | B9: Waren / Materialien / Verbrauch | C9: 27 | D9: Wareneinsatz | E9: 1 | F9: Ja | G9: 10 | H9: =IFERROR(INDEX($B$4:$B$46,_xludf.AGGREGATE(15,6,(ROW($B$4:$B$46)-ROW($B$4)+1)/(($A$4:$A$46="Einnahme")*($F$4:$F$46="Ja")),ROWS(H$2:H9))),"") | I9: =IFERROR(INDEX($B$4:$B$46,_xludf.AGGREGATE(15,6,(ROW($B$4:$B$46)-ROW($B$4)+1)/(($A$4:$A$46="Ausgabe")*($F$4:$F$46="Ja")),ROWS(I$2:I9))),"")
A10: Ausgabe | B10: Fremdleistungen / Freelancer / Provisionen | C10: 29 | D10: Fremdleistungen | E10: 1 | F10: Ja | G10: 11 | H10: =IFERROR(INDEX($B$4:$B$46,_xludf.AGGREGATE(15,6,(ROW($B$4:$B$46)-ROW($B$4)+1)/(($A$4:$A$46="Einnahme")*($F$4:$F$46="Ja")),ROWS(H$2:H10))),"") | I10: =IFERROR(INDEX($B$4:$B$46,_xludf.AGGREGATE(15,6,(ROW($B$4:$B$46)-ROW($B$4)+1)/(($A$4:$A$46="Ausgabe")*($F$4:$F$46="Ja")),ROWS(I$2:I10))),"")
A11: Ausgabe | B11: Personal | C11: 30 | D11: Personal | E11: 1 | F11: Ja | G11: 12 | H11: =IFERROR(INDEX($B$4:$B$46,_xludf.AGGREGATE(15,6,(ROW($B$4:$B$46)-ROW($B$4)+1)/(($A$4:$A$46="Einnahme")*($F$4:$F$46="Ja")),ROWS(H$2:H11))),"") | I11: =IFERROR(INDEX($B$4:$B$46,_xludf.AGGREGATE(15,6,(ROW($B$4:$B$46)-ROW($B$4)+1)/(($A$4:$A$46="Ausgabe")*($F$4:$F$46="Ja")),ROWS(I$2:I11))),"")
A12: Ausgabe | B12: AfA immaterielle Wirtschaftsgüter | C12: 32 | D12: Abschreibungen | E12: 1 | F12: Ja | G12: 13 | H12: =IFERROR(INDEX($B$4:$B$46,_xludf.AGGREGATE(15,6,(ROW($B$4:$B$46)-ROW($B$4)+1)/(($A$4:$A$46="Einnahme")*($F$4:$F$46="Ja")),ROWS(H$2:H12))),"") | I12: =IFERROR(INDEX($B$4:$B$46,_xludf.AGGREGATE(15,6,(ROW($B$4:$B$46)-ROW($B$4)+1)/(($A$4:$A$46="Ausgabe")*($F$4:$F$46="Ja")),ROWS(I$2:I12))),"")
A13: Ausgabe | B13: AfA Sachanlagen | C13: 33 | D13: Abschreibungen | E13: 1 | F13: Ja | G13: 14 | H13: =IFERROR(INDEX($B$4:$B$46,_xludf.AGGREGATE(15,6,(ROW($B$4:$B$46)-ROW($B$4)+1)/(($A$4:$A$46="Einnahme")*($F$4:$F$46="Ja")),ROWS(H$2:H13))),"") | I13: =IFERROR(INDEX($B$4:$B$46,_xludf.AGGREGATE(15,6,(ROW($B$4:$B$46)-ROW($B$4)+1)/(($A$4:$A$46="Ausgabe")*($F$4:$F$46="Ja")),ROWS(I$2:I13))),"")
A14: Ausgabe | B14: Sonderabschreibungen | C14: 34 | D14: Abschreibungen | E14: 1 | F14: Ja | G14: 15 | H14: =IFERROR(INDEX($B$4:$B$46,_xludf.AGGREGATE(15,6,(ROW($B$4:$B$46)-ROW($B$4)+1)/(($A$4:$A$46="Einnahme")*($F$4:$F$46="Ja")),ROWS(H$2:H14))),"") | I14: =IFERROR(INDEX($B$4:$B$46,_xludf.AGGREGATE(15,6,(ROW($B$4:$B$46)-ROW($B$4)+1)/(($A$4:$A$46="Ausgabe")*($F$4:$F$46="Ja")),ROWS(I$2:I14))),"")
A15: Ausgabe | B15: GWG | C15: 36 | D15: Abschreibungen | E15: 1 | F15: Ja | G15: 16 | H15: =IFERROR(INDEX($B$4:$B$46,_xludf.AGGREGATE(15,6,(ROW($B$4:$B$46)-ROW($B$4)+1)/(($A$4:$A$46="Einnahme")*($F$4:$F$46="Ja")),ROWS(H$2:H15))),"") | I15: =IFERROR(INDEX($B$4:$B$46,_xludf.AGGREGATE(15,6,(ROW($B$4:$B$46)-ROW($B$4)+1)/(($A$4:$A$46="Ausgabe")*($F$4:$F$46="Ja")),ROWS(I$2:I15))),"")
A16: Ausgabe | B16: Restbuchwert bei Abgang | C16: 38 | D16: Abschreibungen | E16: 1 | F16: Ja | G16: 17 | H16: =IFERROR(INDEX($B$4:$B$46,_xludf.AGGREGATE(15,6,(ROW($B$4:$B$46)-ROW($B$4)+1)/(($A$4:$A$46="Einnahme")*($F$4:$F$46="Ja")),ROWS(H$2:H16))),"") | I16: =IFERROR(INDEX($B$4:$B$46,_xludf.AGGREGATE(15,6,(ROW($B$4:$B$46)-ROW($B$4)+1)/(($A$4:$A$46="Ausgabe")*($F$4:$F$46="Ja")),ROWS(I$2:I16))),"")
... A24: Ausgabe | B24: Leasing bewegliche Güter | C24: 47 | D24: Allgemeine Kosten | E24: 1 | F24: Ja | G24: 25 | H24: =IFERROR(INDEX($B$4:$B$46,_xludf.AGGREGATE(15,6,(ROW($B$4:$B$46)-ROW($B$4)+1)/(($A$4:$A$46="Einnahme")*($F$4:$F$46="Ja")),ROWS(H$2:H24))),"") | I24: =IFERROR(INDEX($B$4:$B$46,_xludf.AGGREGATE(15,6,(ROW($B$4:$B$46)-ROW($B$4)+1)/(($A$4:$A$46="Ausgabe")*($F$4:$F$46="Ja")),ROWS(I$2:I24))),"")
A25: Ausgabe | B25: Reparaturen / Instandhaltung | C25: 48 | D25: Allgemeine Kosten | E25: 1 | F25: Ja | G25: 26 | I25: =IFERROR(INDEX($B$4:$B$46,_xludf.AGGREGATE(15,6,(ROW($B$4:$B$46)-ROW($B$4)+1)/(($A$4:$A$46="Ausgabe")*($F$4:$F$46="Ja")),ROWS(I$2:I25))),"")
A26: Ausgabe | B26: Beiträge / Gebühren / Versicherungen | C26: 49 | D26: Allgemeine Kosten | E26: 1 | F26: Ja | G26: 27 | I26: =IFERROR(INDEX($B$4:$B$46,_xludf.AGGREGATE(15,6,(ROW($B$4:$B$46)-ROW($B$4)+1)/(($A$4:$A$46="Ausgabe")*($F$4:$F$46="Ja")),ROWS(I$2:I26))),"")
A27: Ausgabe | B27: Software / IT / EDV | C27: 50 | D27: Allgemeine Kosten | E27: 1 | F27: Ja | G27: 28 | I27: =IFERROR(INDEX($B$4:$B$46,_xludf.AGGREGATE(15,6,(ROW($B$4:$B$46)-ROW($B$4)+1)/(($A$4:$A$46="Ausgabe")*($F$4:$F$46="Ja")),ROWS(I$2:I27))),"")
A28: Ausgabe | B28: Büromaterial / Porto / Fachliteratur | C28: 51 | D28: Allgemeine Kosten | E28: 1 | F28: Ja | G28: 29 | I28: =IFERROR(INDEX($B$4:$B$46,_xludf.AGGREGATE(15,6,(ROW($B$4:$B$46)-ROW($B$4)+1)/(($A$4:$A$46="Ausgabe")*($F$4:$F$46="Ja")),ROWS(I$2:I28))),"")
A29: Ausgabe | B29: Entsorgung | C29: 52 | D29: Allgemeine Kosten | E29: 1 | F29: Ja | G29: 30 | I29: =IFERROR(INDEX($B$4:$B$46,_xludf.AGGREGATE(15,6,(ROW($B$4:$B$46)-ROW($B$4)+1)/(($A$4:$A$46="Ausgabe")*($F$4:$F$46="Ja")),ROWS(I$2:I29))),"")
A30: Ausgabe | B30: Verpackung / Versand | C30: 53 | D30: Allgemeine Kosten | E30: 1 | F30: Ja | G30: 31 | I30: =IFERROR(INDEX($B$4:$B$46,_xludf.AGGREGATE(15,6,(ROW($B$4:$B$46)-ROW($B$4)+1)/(($A$4:$A$46="Ausgabe")*($F$4:$F$46="Ja")),ROWS(I$2:I30))),"")
A31: Ausgabe | B31: Werbung / Marketing | C31: 54 | D31: Allgemeine Kosten | E31: 1 | F31: Ja | G31: 32 | I31: =IFERROR(INDEX($B$4:$B$46,_xludf.AGGREGATE(15,6,(ROW($B$4:$B$46)-ROW($B$4)+1)/(($A$4:$A$46="Ausgabe")*($F$4:$F$46="Ja")),ROWS(I$2:I31))),"")
A32: Ausgabe | B32: Zinsen Anlagefinanzierung | C32: 55 | D32: Finanzierung | E32: 1 | F32: Ja | G32: 33 | I32: =IFERROR(INDEX($B$4:$B$46,_xludf.AGGREGATE(15,6,(ROW($B$4:$B$46)-ROW($B$4)+1)/(($A$4:$A$46="Ausgabe")*($F$4:$F$46="Ja")),ROWS(I$2:I32))),"")
A33: Ausgabe | B33: Sonstige Schuldzinsen | C33: 56 | D33: Finanzierung | E33: 1 | F33: Ja | G33: 34 | I33: =IFERROR(INDEX($B$4:$B$46,_xludf.AGGREGATE(15,6,(ROW($B$4:$B$46)-ROW($B$4)+1)/(($A$4:$A$46="Ausgabe")*($F$4:$F$46="Ja")),ROWS(I$2:I33))),"")
A34: Ausgabe | B34: Sonstige abziehbare Betriebsausgaben | C34: 60 | D34: Allgemeine Kosten | E34: 1 | F34: Ja | G34: 35 | I34: =IFERROR(INDEX($B$4:$B$46,_xludf.AGGREGATE(15,6,(ROW($B$4:$B$46)-ROW($B$4)+1)/(($A$4:$A$46="Ausgabe")*($F$4:$F$46="Ja")),ROWS(I$2:I34))),"")
A35: Ausgabe | B35: Geschenke | C35: 62 | D35: Teilweise / besondere Regeln | E35: 1 | F35: Ja | G35: 36 | I35: =IFERROR(INDEX($B$4:$B$46,_xludf.AGGREGATE(15,6,(ROW($B$4:$B$46)-ROW($B$4)+1)/(($A$4:$A$46="Ausgabe")*($F$4:$F$46="Ja")),ROWS(I$2:I35))),"")
A36: Ausgabe | B36: Bewirtung | C36: 63 | D36: Teilweise / besondere Regeln | E36: 0.7 | F36: Ja | G36: 37 | I36: =IFERROR(INDEX($B$4:$B$46,_xludf.AGGREGATE(15,6,(ROW($B$4:$B$46)-ROW($B$4)+1)/(($A$4:$A$46="Ausgabe")*($F$4:$F$46="Ja")),ROWS(I$2:I36))),"")
... A46: Ausgabe | B46: Nicht abzugsfähige Kosten | C46: 74 | D46: Nicht abzugsfähig | E46: 0 | F46: Ja | G46: 47 | I46: =IFERROR(INDEX($B$4:$B$46,_xludf.AGGREGATE(15,6,(ROW($B$4:$B$46)-ROW($B$4)+1)/(($A$4:$A$46="Ausgabe")*($F$4:$F$46="Ja")),ROWS(I$2:I46))),"")
I47: =IFERROR(INDEX($B$4:$B$46,_xludf.AGGREGATE(15,6,(ROW($B$4:$B$46)-ROW($B$4)+1)/(($A$4:$A$46="Ausgabe")*($F$4:$F$46="Ja")),ROWS(I$2:I47))),"")
I48: =IFERROR(INDEX($B$4:$B$46,_xludf.AGGREGATE(15,6,(ROW($B$4:$B$46)-ROW($B$4)+1)/(($A$4:$A$46="Ausgabe")*($F$4:$F$46="Ja")),ROWS(I$2:I48))),"")
I49: =IFERROR(INDEX($B$4:$B$46,_xludf.AGGREGATE(15,6,(ROW($B$4:$B$46)-ROW($B$4)+1)/(($A$4:$A$46="Ausgabe")*($F$4:$F$46="Ja")),ROWS(I$2:I49))),"")
I50: =IFERROR(INDEX($B$4:$B$46,_xludf.AGGREGATE(15,6,(ROW($B$4:$B$46)-ROW($B$4)+1)/(($A$4:$A$46="Ausgabe")*($F$4:$F$46="Ja")),ROWS(I$2:I50))),"")
I51: =IFERROR(INDEX($B$4:$B$46,_xludf.AGGREGATE(15,6,(ROW($B$4:$B$46)-ROW($B$4)+1)/(($A$4:$A$46="Ausgabe")*($F$4:$F$46="Ja")),ROWS(I$2:I51))),"")
I52: =IFERROR(INDEX($B$4:$B$46,_xludf.AGGREGATE(15,6,(ROW($B$4:$B$46)-ROW($B$4)+1)/(($A$4:$A$46="Ausgabe")*($F$4:$F$46="Ja")),ROWS(I$2:I52))),"")
I53: =IFERROR(INDEX($B$4:$B$46,_xludf.AGGREGATE(15,6,(ROW($B$4:$B$46)-ROW($B$4)+1)/(($A$4:$A$46="Ausgabe")*($F$4:$F$46="Ja")),ROWS(I$2:I53))),"")
I54: =IFERROR(INDEX($B$4:$B$46,_xludf.AGGREGATE(15,6,(ROW($B$4:$B$46)-ROW($B$4)+1)/(($A$4:$A$46="Ausgabe")*($F$4:$F$46="Ja")),ROWS(I$2:I54))),"")
I55: =IFERROR(INDEX($B$4:$B$46,_xludf.AGGREGATE(15,6,(ROW($B$4:$B$46)-ROW($B$4)+1)/(($A$4:$A$46="Ausgabe")*($F$4:$F$46="Ja")),ROWS(I$2:I55))),"")
I56: =IFERROR(INDEX($B$4:$B$46,_xludf.AGGREGATE(15,6,(ROW($B$4:$B$46)-ROW($B$4)+1)/(($A$4:$A$46="Ausgabe")*($F$4:$F$46="Ja")),ROWS(I$2:I56))),"")
...

Sheet EÜR_Jahresübersicht
A1: EÜR Jahresübersicht
D2: Betriebseinnahmen gesamt | G2: Betriebsausgaben gesamt | J2: Gewinn
A3: Jahr | B3: 2025 | D3: =B12 -> 14520 | G3: =B54 -> 2059.73 | J3: =D3-G3+B58-B59+B60 -> 12460.27
A6: Betriebseinnahmen | B6: Betrag | C6: Beschreibung
A7: 12 | B7: =SUMIFS(Buchungen!$M$4:$M$200,Buchungen!$O$4:$O$200,$B$3,Buchungen!$J$4:$J$200,A7,Buchungen!$C$4:$C$200,"Einnahme") -> 14400 | C7: Umsätze / Dienstleistungen
A8: 16 | B8: =SUMIFS(Buchungen!$M$4:$M$200,Buchungen!$O$4:$O$200,$B$3,Buchungen!$J$4:$J$200,A8,Buchungen!$C$4:$C$200,"Einnahme") -> 120 | C8: Sonstige betriebliche Einnahmen
A9: 19 | B9: =SUMIFS(Buchungen!$M$4:$M$200,Buchungen!$O$4:$O$200,$B$3,Buchungen!$J$4:$J$200,A9,Buchungen!$C$4:$C$200,"Einnahme") -> 0 | C9: Verkauf Anlagevermögen
A10: 20 | B10: =SUMIFS(Buchungen!$M$4:$M$200,Buchungen!$O$4:$O$200,$B$3,Buchungen!$J$4:$J$200,A10,Buchungen!$C$4:$C$200,"Einnahme") -> 0 | C10: Private Kfz-Nutzung
A11: 21 | B11: =SUMIFS(Buchungen!$M$4:$M$200,Buchungen!$O$4:$O$200,$B$3,Buchungen!$J$4:$J$200,A11,Buchungen!$C$4:$C$200,"Einnahme") -> 0 | C11: Sachentnahmen / sonstige Entnahmen
A12: 23 | B12: =SUM(B7:B11) -> 14520 | C12: Summe Betriebseinnahmen
A15: Betriebsausgaben | B15: Betrag | C15: Beschreibung
A16: 27 | B16: =SUMIFS(Buchungen!$M$4:$M$200,Buchungen!$O$4:$O$200,$B$3,Buchungen!$J$4:$J$200,A16,Buchungen!$C$4:$C$200,"Ausgabe") -> 0 | C16: Waren / Materialien / Verbrauch
A17: 29 | B17: =SUMIFS(Buchungen!$M$4:$M$200,Buchungen!$O$4:$O$200,$B$3,Buchungen!$J$4:$J$200,A17,Buchungen!$C$4:$C$200,"Ausgabe") -> 450 | C17: Fremdleistungen / Freelancer / Provisionen
A18: 30 | B18: =SUMIFS(Buchungen!$M$4:$M$200,Buchungen!$O$4:$O$200,$B$3,Buchungen!$J$4:$J$200,A18,Buchungen!$C$4:$C$200,"Ausgabe") -> 0 | C18: Personal
A19: 32 | B19: =SUMIFS(Buchungen!$M$4:$M$200,Buchungen!$O$4:$O$200,$B$3,Buchungen!$J$4:$J$200,A19,Buchungen!$C$4:$C$200,"Ausgabe") -> 0 | C19: AfA immaterielle Wirtschaftsgüter
A20: 33 | B20: =SUMIFS(Buchungen!$M$4:$M$200,Buchungen!$O$4:$O$200,$B$3,Buchungen!$J$4:$J$200,A20,Buchungen!$C$4:$C$200,"Ausgabe") -> 0 | C20: AfA Sachanlagen
A21: 34 | B21: =SUMIFS(Buchungen!$M$4:$M$200,Buchungen!$O$4:$O$200,$B$3,Buchungen!$J$4:$J$200,A21,Buchungen!$C$4:$C$200,"Ausgabe") -> 0 | C21: Sonderabschreibungen
A22: 36 | B22: =SUMIFS(Buchungen!$M$4:$M$200,Buchungen!$O$4:$O$200,$B$3,Buchungen!$J$4:$J$200,A22,Buchungen!$C$4:$C$200,"Ausgabe") -> 0 | C22: GWG
A23: 38 | B23: =SUMIFS(Buchungen!$M$4:$M$200,Buchungen!$O$4:$O$200,$B$3,Buchungen!$J$4:$J$200,A23,Buchungen!$C$4:$C$200,"Ausgabe") -> 0 | C23: Restbuchwert bei Abgang
A24: 39 | B24: =SUMIFS(Buchungen!$M$4:$M$200,Buchungen!$O$4:$O$200,$B$3,Buchungen!$J$4:$J$200,A24,Buchungen!$C$4:$C$200,"Ausgabe") -> 220 | C24: Miete Büro / Coworking
A25: 40 | B25: =SUMIFS(Buchungen!$M$4:$M$200,Buchungen!$O$4:$O$200,$B$3,Buchungen!$J$4:$J$200,A25,Buchungen!$C$4:$C$200,"Ausgabe") -> 0 | C25: Doppelte Haushaltsführung
A26: 41 | B26: =SUMIFS(Buchungen!$M$4:$M$200,Buchungen!$O$4:$O$200,$B$3,Buchungen!$J$4:$J$200,A26,Buchungen!$C$4:$C$200,"Ausgabe") -> 0 | C26: Sonstige Raumkosten
A27: 43 | B27: =SUMIFS(Buchungen!$M$4:$M$200,Buchungen!$O$4:$O$200,$B$3,Buchungen!$J$4:$J$200,A27,Buchungen!$C$4:$C$200,"Ausgabe") -> 54.95 | C27: Telefon / Internet
... A53: 74 | B53: =SUMIFS(Buchungen!$M$4:$M$200,Buchungen!$O$4:$O$200,$B$3,Buchungen!$J$4:$J$200,A53,Buchungen!$C$4:$C$200,"Ausgabe") -> 0 | C53: Nicht abzugsfähige Kosten
A54: 75 | B54: =SUM(B16:B53) -> 2059.73 | C54: Summe Betriebsausgaben
E56: Quelle Struktur: https://www.excelvorlage.de/euer-kleinunternehmer-ohne-umsatzsteuer/
A57: Optionale manuelle Anpassungen | B57: Betrag | C57: Hinweis | E57: Offizielle EÜR-Logik: https://www.bundesfinanzministerium.de/
A58: Steuerfreie Zusatzeinnahmen | B58: 0 | C58: Optional
A59: Zusätzliche nicht abzugsfähige Beträge | B59: 0 | C59: Optional
A60: Sonstige manuelle Anpassungen | B60: 0 | C60: Optional
A61: Bereinigter Gewinn | B61: =J3 -> 12460.27
