Workbook

Sheet Konfiguration
A1: Tätigkeitsnachweis – Konfiguration
F2: Monatsbeginn | G2: Monat | N2: Januar
A3: Startjahr | B3: 2026 | F3: =DATE($B$3,$C$4,1) -> 46023 | G3: =CHOOSE(MONTH(F3),"Januar","Februar","März","April","Mai","Juni","Juli","August","September","Oktober","November","Dezember")&" "&YEAR(F3) -> Januar 2026 | N3: Februar
A4: Startmonat | B4: Januar | C4: =MATCH(B4,$N$2:$N$13,0) -> 1 | F4: =DATE($B$3,$C$4+1,1) -> 46054 | G4: =CHOOSE(MONTH(F4),"Januar","Februar","März","April","Mai","Juni","Juli","August","September","Oktober","November","Dezember")&" "&YEAR(F4) -> Februar 2026 | N4: März
A5: Zeitraum | B5: =CHOOSE(MONTH($F$3),"Januar","Februar","März","April","Mai","Juni","Juli","August","September","Oktober","November","Dezember")&" "&YEAR($F$3)&" bis "&CHOOSE(MONTH($F$14),"Januar","Februar","März","April","Mai","Juni","Juli","August","September","Oktober","November","Dezember")&" "&YEAR($F$14) -> Januar 2026 bis Dezember 2026 | F5: =DATE($B$3,$C$4+2,1) -> 46082 | G5: =CHOOSE(MONTH(F5),"Januar","Februar","März","April","Mai","Juni","Juli","August","September","Oktober","November","Dezember")&" "&YEAR(F5) -> März 2026 | H5: Eigene Ereignisse & Feiertage | N5: April
F6: =DATE($B$3,$C$4+3,1) -> 46113 | G6: =CHOOSE(MONTH(F6),"Januar","Februar","März","April","Mai","Juni","Juli","August","September","Oktober","November","Dezember")&" "&YEAR(F6) -> April 2026 | H6: Datum | I6: Ereignis / Feiertag | N6: Mai
A7: Aktivitäten | F7: =DATE($B$3,$C$4+4,1) -> 46143 | G7: =CHOOSE(MONTH(F7),"Januar","Februar","März","April","Mai","Juni","Juli","August","September","Oktober","November","Dezember")&" "&YEAR(F7) -> Mai 2026 | H7: 46023 | I7: Neujahr | N7: Juni
A8: Aktivität 1 | B8: E-Mails | F8: =DATE($B$3,$C$4+5,1) -> 46174 | G8: =CHOOSE(MONTH(F8),"Januar","Februar","März","April","Mai","Juni","Juli","August","September","Oktober","November","Dezember")&" "&YEAR(F8) -> Juni 2026 | H8: 46028 | I8: Heilige Drei Könige | N8: Juli
A9: Aktivität 2 | B9: Meetings | F9: =DATE($B$3,$C$4+6,1) -> 46204 | G9: =CHOOSE(MONTH(F9),"Januar","Februar","März","April","Mai","Juni","Juli","August","September","Oktober","November","Dezember")&" "&YEAR(F9) -> Juli 2026 | H9: 46115 | I9: Team-Workshop | N9: August
A10: Aktivität 3 | B10: Telefonate | F10: =DATE($B$3,$C$4+7,1) -> 46235 | G10: =CHOOSE(MONTH(F10),"Januar","Februar","März","April","Mai","Juni","Juli","August","September","Oktober","November","Dezember")&" "&YEAR(F10) -> August 2026 | H10: 46143 | I10: Tag der Arbeit | N10: September
A11: Aktivität 4 | B11: Vorbereitung | F11: =DATE($B$3,$C$4+8,1) -> 46266 | G11: =CHOOSE(MONTH(F11),"Januar","Februar","März","April","Mai","Juni","Juli","August","September","Oktober","November","Dezember")&" "&YEAR(F11) -> September 2026 | H11: 46160 | I11: Urlaub | N11: Oktober
A12: Aktivität 5 | B12: Sonstiges | F12: =DATE($B$3,$C$4+9,1) -> 46296 | G12: =CHOOSE(MONTH(F12),"Januar","Februar","März","April","Mai","Juni","Juli","August","September","Oktober","November","Dezember")&" "&YEAR(F12) -> Oktober 2026 | H12: 46161 | I12: Urlaub | N12: November
F13: =DATE($B$3,$C$4+10,1) -> 46327 | G13: =CHOOSE(MONTH(F13),"Januar","Februar","März","April","Mai","Juni","Juli","August","September","Oktober","November","Dezember")&" "&YEAR(F13) -> November 2026 | H13: 46162 | I13: Seminar | N13: Dezember
A14: Hinweis | F14: =DATE($B$3,$C$4+11,1) -> 46357 | G14: =CHOOSE(MONTH(F14),"Januar","Februar","März","April","Mai","Juni","Juli","August","September","Oktober","November","Dezember")&" "&YEAR(F14) -> Dezember 2026 | H14: 46273 | I14: Kundentermin
A15: Hellblaue Felder sind Eingabefelder. Das Blatt ist bewusst einfach gehalten, nicht geschützt und direkt nutzbar. | H15: 46298 | I15: Tag der Deutschen Einheit
H16: 46380 | I16: Betriebsferien
H17: 46381 | I17: 1. Weihnachtstag
H18: 46382 | I18: 2. Weihnachtstag

Sheet Kalender
A1: Arbeitszeiterfassung
A2: ="Zeitraum: " & Konfiguration!$B$5 -> Zeitraum: Januar 2026 bis Dezember 2026
A3: =Konfiguration!$G$3 -> Januar 2026 | B3: =Konfiguration!$G$4 -> Februar 2026 | C3: =Konfiguration!$G$5 -> März 2026 | D3: =Konfiguration!$G$6 -> April 2026 | E3: =Konfiguration!$G$7 -> Mai 2026 | F3: =Konfiguration!$G$8 -> Juni 2026
A4: =Konfiguration!$G$9 -> Juli 2026 | B4: =Konfiguration!$G$10 -> August 2026 | C4: =Konfiguration!$G$11 -> September 2026 | D4: =Konfiguration!$G$12 -> Oktober 2026 | E4: =Konfiguration!$G$13 -> November 2026 | F4: =Konfiguration!$G$14 -> Dezember 2026
A6: =Konfiguration!$G$3 -> Januar 2026
A7: Datum | B7: Tag | C7: KW | D7: Feiertag / Ereignis | E7: Gesamtstunden | F7: =Konfiguration!$B$8 -> E-Mails | G7: =Konfiguration!$B$9 -> Meetings | H7: =Konfiguration!$B$10 -> Telefonate | I7: =Konfiguration!$B$11 -> Vorbereitung | J7: =Konfiguration!$B$12 -> Sonstiges
A8: =IF(1<=DAY(DATE(YEAR(Konfiguration!$F$3),MONTH(Konfiguration!$F$3)+1,0)),Konfiguration!$F$3+0,"") -> 46023 | B8: =IF($A8="","",CHOOSE(WEEKDAY($A8,2),"Mo","Di","Mi","Do","Fr","Sa","So")) -> Do | C8: =IF(A8="","",_xlfn.ISOWEEKNUM(A8)) -> 1 | D8: =IF($A8="","",IFERROR(VLOOKUP($A8,Konfiguration!$H$7:$I$106,2,FALSE),"")) -> Neujahr
A9: =IF(2<=DAY(DATE(YEAR(Konfiguration!$F$3),MONTH(Konfiguration!$F$3)+1,0)),Konfiguration!$F$3+1,"") -> 46024 | B9: =IF($A9="","",CHOOSE(WEEKDAY($A9,2),"Mo","Di","Mi","Do","Fr","Sa","So")) -> Fr | C9: =IF(A9="","",_xlfn.ISOWEEKNUM(A9)) -> 1 | D9: =IF($A9="","",IFERROR(VLOOKUP($A9,Konfiguration!$H$7:$I$106,2,FALSE),"")) | E9: 6.5 | F9: 1 | G9: 1.5 | H9: 1 | I9: 2 | J9: 1
A10: =IF(3<=DAY(DATE(YEAR(Konfiguration!$F$3),MONTH(Konfiguration!$F$3)+1,0)),Konfiguration!$F$3+2,"") -> 46025 | B10: =IF($A10="","",CHOOSE(WEEKDAY($A10,2),"Mo","Di","Mi","Do","Fr","Sa","So")) -> Sa | C10: =IF(A10="","",_xlfn.ISOWEEKNUM(A10)) -> 1 | D10: =IF($A10="","",IFERROR(VLOOKUP($A10,Konfiguration!$H$7:$I$106,2,FALSE),""))
A11: =IF(4<=DAY(DATE(YEAR(Konfiguration!$F$3),MONTH(Konfiguration!$F$3)+1,0)),Konfiguration!$F$3+3,"") -> 46026 | B11: =IF($A11="","",CHOOSE(WEEKDAY($A11,2),"Mo","Di","Mi","Do","Fr","Sa","So")) -> So | C11: =IF(A11="","",_xlfn.ISOWEEKNUM(A11)) -> 1 | D11: =IF($A11="","",IFERROR(VLOOKUP($A11,Konfiguration!$H$7:$I$106,2,FALSE),""))
A12: =IF(5<=DAY(DATE(YEAR(Konfiguration!$F$3),MONTH(Konfiguration!$F$3)+1,0)),Konfiguration!$F$3+4,"") -> 46027 | B12: =IF($A12="","",CHOOSE(WEEKDAY($A12,2),"Mo","Di","Mi","Do","Fr","Sa","So")) -> Mo | C12: =IF(A12="","",_xlfn.ISOWEEKNUM(A12)) -> 2 | D12: =IF($A12="","",IFERROR(VLOOKUP($A12,Konfiguration!$H$7:$I$106,2,FALSE),"")) | E12: 8 | F12: 0.5 | G12: 3 | H12: 0.5 | I12: 3 | J12: 1
A13: =IF(6<=DAY(DATE(YEAR(Konfiguration!$F$3),MONTH(Konfiguration!$F$3)+1,0)),Konfiguration!$F$3+5,"") -> 46028 | B13: =IF($A13="","",CHOOSE(WEEKDAY($A13,2),"Mo","Di","Mi","Do","Fr","Sa","So")) -> Di | C13: =IF(A13="","",_xlfn.ISOWEEKNUM(A13)) -> 2 | D13: =IF($A13="","",IFERROR(VLOOKUP($A13,Konfiguration!$H$7:$I$106,2,FALSE),"")) -> Heilige Drei Könige
A14: =IF(7<=DAY(DATE(YEAR(Konfiguration!$F$3),MONTH(Konfiguration!$F$3)+1,0)),Konfiguration!$F$3+6,"") -> 46029 | B14: =IF($A14="","",CHOOSE(WEEKDAY($A14,2),"Mo","Di","Mi","Do","Fr","Sa","So")) -> Mi | C14: =IF(A14="","",_xlfn.ISOWEEKNUM(A14)) -> 2 | D14: =IF($A14="","",IFERROR(VLOOKUP($A14,Konfiguration!$H$7:$I$106,2,FALSE),"")) | E14: 7.5 | F14: 1.5 | G14: 1 | H14: 1.5 | I14: 2.5 | J14: 1
A15: =IF(8<=DAY(DATE(YEAR(Konfiguration!$F$3),MONTH(Konfiguration!$F$3)+1,0)),Konfiguration!$F$3+7,"") -> 46030 | B15: =IF($A15="","",CHOOSE(WEEKDAY($A15,2),"Mo","Di","Mi","Do","Fr","Sa","So")) -> Do | C15: =IF(A15="","",_xlfn.ISOWEEKNUM(A15)) -> 2 | D15: =IF($A15="","",IFERROR(VLOOKUP($A15,Konfiguration!$H$7:$I$106,2,FALSE),"")) | E15: 8 | F15: 0.5 | G15: 1 | H15: 1 | I15: 3.5 | J15: 2
A16: =IF(9<=DAY(DATE(YEAR(Konfiguration!$F$3),MONTH(Konfiguration!$F$3)+1,0)),Konfiguration!$F$3+8,"") -> 46031 | B16: =IF($A16="","",CHOOSE(WEEKDAY($A16,2),"Mo","Di","Mi","Do","Fr","Sa","So")) -> Fr | C16: =IF(A16="","",_xlfn.ISOWEEKNUM(A16)) -> 2 | D16: =IF($A16="","",IFERROR(VLOOKUP($A16,Konfiguration!$H$7:$I$106,2,FALSE),"")) | E16: 6.5 | F16: 0.5 | G16: 1.5 | H16: 0.5 | I16: 4 | J16: 0
A17: =IF(10<=DAY(DATE(YEAR(Konfiguration!$F$3),MONTH(Konfiguration!$F$3)+1,0)),Konfiguration!$F$3+9,"") -> 46032 | B17: =IF($A17="","",CHOOSE(WEEKDAY($A17,2),"Mo","Di","Mi","Do","Fr","Sa","So")) -> Sa | C17: =IF(A17="","",_xlfn.ISOWEEKNUM(A17)) -> 2 | D17: =IF($A17="","",IFERROR(VLOOKUP($A17,Konfiguration!$H$7:$I$106,2,FALSE),"")) | E17: 2 | F17: 0.5 | G17: 0 | H17: 0 | I17: 1 | J17: 0.5
A18: =IF(11<=DAY(DATE(YEAR(Konfiguration!$F$3),MONTH(Konfiguration!$F$3)+1,0)),Konfiguration!$F$3+10,"") -> 46033 | B18: =IF($A18="","",CHOOSE(WEEKDAY($A18,2),"Mo","Di","Mi","Do","Fr","Sa","So")) -> So | C18: =IF(A18="","",_xlfn.ISOWEEKNUM(A18)) -> 2 | D18: =IF($A18="","",IFERROR(VLOOKUP($A18,Konfiguration!$H$7:$I$106,2,FALSE),""))
A19: =IF(12<=DAY(DATE(YEAR(Konfiguration!$F$3),MONTH(Konfiguration!$F$3)+1,0)),Konfiguration!$F$3+11,"") -> 46034 | B19: =IF($A19="","",CHOOSE(WEEKDAY($A19,2),"Mo","Di","Mi","Do","Fr","Sa","So")) -> Mo | C19: =IF(A19="","",_xlfn.ISOWEEKNUM(A19)) -> 3 | D19: =IF($A19="","",IFERROR(VLOOKUP($A19,Konfiguration!$H$7:$I$106,2,FALSE),"")) | E19: 8 | F19: 1 | G19: 1 | H19: 1.5 | I19: 2 | J19: 2.5
A20: =IF(13<=DAY(DATE(YEAR(Konfiguration!$F$3),MONTH(Konfiguration!$F$3)+1,0)),Konfiguration!$F$3+12,"") -> 46035 | B20: =IF($A20="","",CHOOSE(WEEKDAY($A20,2),"Mo","Di","Mi","Do","Fr","Sa","So")) -> Di | C20: =IF(A20="","",_xlfn.ISOWEEKNUM(A20)) -> 3 | D20: =IF($A20="","",IFERROR(VLOOKUP($A20,Konfiguration!$H$7:$I$106,2,FALSE),"")) | E20: 8 | F20: 0.5 | G20: 3 | H20: 0.5 | I20: 4 | J20: 0
A21: =IF(14<=DAY(DATE(YEAR(Konfiguration!$F$3),MONTH(Konfiguration!$F$3)+1,0)),Konfiguration!$F$3+13,"") -> 46036 | B21: =IF($A21="","",CHOOSE(WEEKDAY($A21,2),"Mo","Di","Mi","Do","Fr","Sa","So")) -> Mi | C21: =IF(A21="","",_xlfn.ISOWEEKNUM(A21)) -> 3 | D21: =IF($A21="","",IFERROR(VLOOKUP($A21,Konfiguration!$H$7:$I$106,2,FALSE),"")) | E21: 7.5 | F21: 1.5 | G21: 2.5 | H21: 0.5 | I21: 2.5 | J21: 0.5
A22: =IF(15<=DAY(DATE(YEAR(Konfiguration!$F$3),MONTH(Konfiguration!$F$3)+1,0)),Konfiguration!$F$3+14,"") -> 46037 | B22: =IF($A22="","",CHOOSE(WEEKDAY($A22,2),"Mo","Di","Mi","Do","Fr","Sa","So")) -> Do | C22: =IF(A22="","",_xlfn.ISOWEEKNUM(A22)) -> 3 | D22: =IF($A22="","",IFERROR(VLOOKUP($A22,Konfiguration!$H$7:$I$106,2,FALSE),"")) | E22: 8 | F22: 0.5 | G22: 3 | H22: 0.5 | I22: 3 | J22: 1
A23: =IF(16<=DAY(DATE(YEAR(Konfiguration!$F$3),MONTH(Konfiguration!$F$3)+1,0)),Konfiguration!$F$3+15,"") -> 46038 | B23: =IF($A23="","",CHOOSE(WEEKDAY($A23,2),"Mo","Di","Mi","Do","Fr","Sa","So")) -> Fr | C23: =IF(A23="","",_xlfn.ISOWEEKNUM(A23)) -> 3 | D23: =IF($A23="","",IFERROR(VLOOKUP($A23,Konfiguration!$H$7:$I$106,2,FALSE),"")) | E23: 6.5 | F23: 1 | G23: 1.5 | H23: 1.5 | I23: 2 | J23: 0.5
A24: =IF(17<=DAY(DATE(YEAR(Konfiguration!$F$3),MONTH(Konfiguration!$F$3)+1,0)),Konfiguration!$F$3+16,"") -> 46039 | B24: =IF($A24="","",CHOOSE(WEEKDAY($A24,2),"Mo","Di","Mi","Do","Fr","Sa","So")) -> Sa | C24: =IF(A24="","",_xlfn.ISOWEEKNUM(A24)) -> 3 | D24: =IF($A24="","",IFERROR(VLOOKUP($A24,Konfiguration!$H$7:$I$106,2,FALSE),""))
A25: =IF(18<=DAY(DATE(YEAR(Konfiguration!$F$3),MONTH(Konfiguration!$F$3)+1,0)),Konfiguration!$F$3+17,"") -> 46040 | B25: =IF($A25="","",CHOOSE(WEEKDAY($A25,2),"Mo","Di","Mi","Do","Fr","Sa","So")) -> So | C25: =IF(A25="","",_xlfn.ISOWEEKNUM(A25)) -> 3 | D25: =IF($A25="","",IFERROR(VLOOKUP($A25,Konfiguration!$H$7:$I$106,2,FALSE),""))
A26: =IF(19<=DAY(DATE(YEAR(Konfiguration!$F$3),MONTH(Konfiguration!$F$3)+1,0)),Konfiguration!$F$3+18,"") -> 46041 | B26: =IF($A26="","",CHOOSE(WEEKDAY($A26,2),"Mo","Di","Mi","Do","Fr","Sa","So")) -> Mo | C26: =IF(A26="","",_xlfn.ISOWEEKNUM(A26)) -> 4 | D26: =IF($A26="","",IFERROR(VLOOKUP($A26,Konfiguration!$H$7:$I$106,2,FALSE),"")) | E26: 8 | F26: 1.5 | G26: 2 | H26: 1.5 | I26: 2.5 | J26: 0.5
A27: =IF(20<=DAY(DATE(YEAR(Konfiguration!$F$3),MONTH(Konfiguration!$F$3)+1,0)),Konfiguration!$F$3+19,"") -> 46042 | B27: =IF($A27="","",CHOOSE(WEEKDAY($A27,2),"Mo","Di","Mi","Do","Fr","Sa","So")) -> Di | C27: =IF(A27="","",_xlfn.ISOWEEKNUM(A27)) -> 4 | D27: =IF($A27="","",IFERROR(VLOOKUP($A27,Konfiguration!$H$7:$I$106,2,FALSE),"")) | E27: 8 | F27: 0.5 | G27: 3 | H27: 1.5 | I27: 2.5 | J27: 0.5
A28: =IF(21<=DAY(DATE(YEAR(Konfiguration!$F$3),MONTH(Konfiguration!$F$3)+1,0)),Konfiguration!$F$3+20,"") -> 46043 | B28: =IF($A28="","",CHOOSE(WEEKDAY($A28,2),"Mo","Di","Mi","Do","Fr","Sa","So")) -> Mi | C28: =IF(A28="","",_xlfn.ISOWEEKNUM(A28)) -> 4 | D28: =IF($A28="","",IFERROR(VLOOKUP($A28,Konfiguration!$H$7:$I$106,2,FALSE),"")) | E28: 7.5 | F28: 1 | G28: 1 | H28: 1.5 | I28: 2 | J28: 2
A29: =IF(22<=DAY(DATE(YEAR(Konfiguration!$F$3),MONTH(Konfiguration!$F$3)+1,0)),Konfiguration!$F$3+21,"") -> 46044 | B29: =IF($A29="","",CHOOSE(WEEKDAY($A29,2),"Mo","Di","Mi","Do","Fr","Sa","So")) -> Do | C29: =IF(A29="","",_xlfn.ISOWEEKNUM(A29)) -> 4 | D29: =IF($A29="","",IFERROR(VLOOKUP($A29,Konfiguration!$H$7:$I$106,2,FALSE),"")) | E29: 8 | F29: 1.5 | G29: 1 | H29: 1.5 | I29: 2.5 | J29: 1.5
A30: =IF(23<=DAY(DATE(YEAR(Konfiguration!$F$3),MONTH(Konfiguration!$F$3)+1,0)),Konfiguration!$F$3+22,"") -> 46045 | B30: =IF($A30="","",CHOOSE(WEEKDAY($A30,2),"Mo","Di","Mi","Do","Fr","Sa","So")) -> Fr | C30: =IF(A30="","",_xlfn.ISOWEEKNUM(A30)) -> 4 | D30: =IF($A30="","",IFERROR(VLOOKUP($A30,Konfiguration!$H$7:$I$106,2,FALSE),"")) | E30: 6.5 | F30: 1 | G30: 3 | H30: 1 | I30: 1.5 | J30: 0
A31: =IF(24<=DAY(DATE(YEAR(Konfiguration!$F$3),MONTH(Konfiguration!$F$3)+1,0)),Konfiguration!$F$3+23,"") -> 46046 | B31: =IF($A31="","",CHOOSE(WEEKDAY($A31,2),"Mo","Di","Mi","Do","Fr","Sa","So")) -> Sa | C31: =IF(A31="","",_xlfn.ISOWEEKNUM(A31)) -> 4 | D31: =IF($A31="","",IFERROR(VLOOKUP($A31,Konfiguration!$H$7:$I$106,2,FALSE),""))
A32: =IF(25<=DAY(DATE(YEAR(Konfiguration!$F$3),MONTH(Konfiguration!$F$3)+1,0)),Konfiguration!$F$3+24,"") -> 46047 | B32: =IF($A32="","",CHOOSE(WEEKDAY($A32,2),"Mo","Di","Mi","Do","Fr","Sa","So")) -> So | C32: =IF(A32="","",_xlfn.ISOWEEKNUM(A32)) -> 4 | D32: =IF($A32="","",IFERROR(VLOOKUP($A32,Konfiguration!$H$7:$I$106,2,FALSE),""))
A33: =IF(26<=DAY(DATE(YEAR(Konfiguration!$F$3),MONTH(Konfiguration!$F$3)+1,0)),Konfiguration!$F$3+25,"") -> 46048 | B33: =IF($A33="","",CHOOSE(WEEKDAY($A33,2),"Mo","Di","Mi","Do","Fr","Sa","So")) -> Mo | C33: =IF(A33="","",_xlfn.ISOWEEKNUM(A33)) -> 5 | D33: =IF($A33="","",IFERROR(VLOOKUP($A33,Konfiguration!$H$7:$I$106,2,FALSE),"")) | E33: 8 | F33: 1 | G33: 3 | H33: 1 | I33: 3 | J33: 0
A34: =IF(27<=DAY(DATE(YEAR(Konfiguration!$F$3),MONTH(Konfiguration!$F$3)+1,0)),Konfiguration!$F$3+26,"") -> 46049 | B34: =IF($A34="","",CHOOSE(WEEKDAY($A34,2),"Mo","Di","Mi","Do","Fr","Sa","So")) -> Di | C34: =IF(A34="","",_xlfn.ISOWEEKNUM(A34)) -> 5 | D34: =IF($A34="","",IFERROR(VLOOKUP($A34,Konfiguration!$H$7:$I$106,2,FALSE),"")) | E34: 8 | F34: 1 | G34: 1.5 | H34: 0.5 | I34: 2.5 | J34: 2.5
A35: =IF(28<=DAY(DATE(YEAR(Konfiguration!$F$3),MONTH(Konfiguration!$F$3)+1,0)),Konfiguration!$F$3+27,"") -> 46050 | B35: =IF($A35="","",CHOOSE(WEEKDAY($A35,2),"Mo","Di","Mi","Do","Fr","Sa","So")) -> Mi | C35: =IF(A35="","",_xlfn.ISOWEEKNUM(A35)) -> 5 | D35: =IF($A35="","",IFERROR(VLOOKUP($A35,Konfiguration!$H$7:$I$106,2,FALSE),"")) | E35: 7.5 | F35: 0.5 | G35: 3 | H35: 1 | I35: 3 | J35: 0
A36: =IF(29<=DAY(DATE(YEAR(Konfiguration!$F$3),MONTH(Konfiguration!$F$3)+1,0)),Konfiguration!$F$3+28,"") -> 46051 | B36: =IF($A36="","",CHOOSE(WEEKDAY($A36,2),"Mo","Di","Mi","Do","Fr","Sa","So")) -> Do | C36: =IF(A36="","",_xlfn.ISOWEEKNUM(A36)) -> 5 | D36: =IF($A36="","",IFERROR(VLOOKUP($A36,Konfiguration!$H$7:$I$106,2,FALSE),"")) | E36: 8 | F36: 1 | G36: 2 | H36: 1.5 | I36: 3.5 | J36: 0
A37: =IF(30<=DAY(DATE(YEAR(Konfiguration!$F$3),MONTH(Konfiguration!$F$3)+1,0)),Konfiguration!$F$3+29,"") -> 46052 | B37: =IF($A37="","",CHOOSE(WEEKDAY($A37,2),"Mo","Di","Mi","Do","Fr","Sa","So")) -> Fr | C37: =IF(A37="","",_xlfn.ISOWEEKNUM(A37)) -> 5 | D37: =IF($A37="","",IFERROR(VLOOKUP($A37,Konfiguration!$H$7:$I$106,2,FALSE),"")) | E37: 6.5 | F37: 1 | G37: 3 | H37: 0.5 | I37: 2 | J37: 0
A38: =IF(31<=DAY(DATE(YEAR(Konfiguration!$F$3),MONTH(Konfiguration!$F$3)+1,0)),Konfiguration!$F$3+30,"") -> 46053 | B38: =IF($A38="","",CHOOSE(WEEKDAY($A38,2),"Mo","Di","Mi","Do","Fr","Sa","So")) -> Sa | C38: =IF(A38="","",_xlfn.ISOWEEKNUM(A38)) -> 5 | D38: =IF($A38="","",IFERROR(VLOOKUP($A38,Konfiguration!$H$7:$I$106,2,FALSE),""))
D39: Monatssumme | E39: =SUM(E8:E38) -> 152.5 | F39: =SUM(F8:F38) -> 19 | G39: =SUM(G8:G38) -> 41.5 | H39: =SUM(H8:H38) -> 20.5 | I39: =SUM(I8:I38) -> 54.5 | J39: =SUM(J8:J38) -> 17
A41: =Konfiguration!$G$4 -> Februar 2026
A42: Datum | B42: Tag | C42: KW | D42: Feiertag / Ereignis | E42: Gesamtstunden | F42: =Konfiguration!$B$8 -> E-Mails | G42: =Konfiguration!$B$9 -> Meetings | H42: =Konfiguration!$B$10 -> Telefonate | I42: =Konfiguration!$B$11 -> Vorbereitung | J42: =Konfiguration!$B$12 -> Sonstiges
A43: =IF(1<=DAY(DATE(YEAR(Konfiguration!$F$4),MONTH(Konfiguration!$F$4)+1,0)),Konfiguration!$F$4+0,"") -> 46054 | B43: =IF($A43="","",CHOOSE(WEEKDAY($A43,2),"Mo","Di","Mi","Do","Fr","Sa","So")) -> So | C43: =IF($A43="","",_xludf.ISOWEEKNUM($A43)) -> #NAME? | D43: =IF($A43="","",IFERROR(VLOOKUP($A43,Konfiguration!$H$7:$I$106,2,FALSE),""))
A44: =IF(2<=DAY(DATE(YEAR(Konfiguration!$F$4),MONTH(Konfiguration!$F$4)+1,0)),Konfiguration!$F$4+1,"") -> 46055 | B44: =IF($A44="","",CHOOSE(WEEKDAY($A44,2),"Mo","Di","Mi","Do","Fr","Sa","So")) -> Mo | C44: =IF($A44="","",_xludf.ISOWEEKNUM($A44)) -> #NAME? | D44: =IF($A44="","",IFERROR(VLOOKUP($A44,Konfiguration!$H$7:$I$106,2,FALSE),"")) | E44: 8 | F44: 1.5 | G44: 2.5 | H44: 0.5 | I44: 3 | J44: 0.5
A45: =IF(3<=DAY(DATE(YEAR(Konfiguration!$F$4),MONTH(Konfiguration!$F$4)+1,0)),Konfiguration!$F$4+2,"") -> 46056 | B45: =IF($A45="","",CHOOSE(WEEKDAY($A45,2),"Mo","Di","Mi","Do","Fr","Sa","So")) -> Di | C45: =IF($A45="","",_xludf.ISOWEEKNUM($A45)) -> #NAME? | D45: =IF($A45="","",IFERROR(VLOOKUP($A45,Konfiguration!$H$7:$I$106,2,FALSE),"")) | E45: 8 | F45: 0.5 | G45: 2.5 | H45: 1 | I45: 2 | J45: 2
A46: =IF(4<=DAY(DATE(YEAR(Konfiguration!$F$4),MONTH(Konfiguration!$F$4)+1,0)),Konfiguration!$F$4+3,"") -> 46057 | B46: =IF($A46="","",CHOOSE(WEEKDAY($A46,2),"Mo","Di","Mi","Do","Fr","Sa","So")) -> Mi | C46: =IF($A46="","",_xludf.ISOWEEKNUM($A46)) -> #NAME? | D46: =IF($A46="","",IFERROR(VLOOKUP($A46,Konfiguration!$H$7:$I$106,2,FALSE),"")) | E46: 7.5 | F46: 1.5 | G46: 1 | H46: 1.5 | I46: 3.5 | J46: 0
A47: =IF(5<=DAY(DATE(YEAR(Konfiguration!$F$4),MONTH(Konfiguration!$F$4)+1,0)),Konfiguration!$F$4+4,"") -> 46058 | B47: =IF($A47="","",CHOOSE(WEEKDAY($A47,2),"Mo","Di","Mi","Do","Fr","Sa","So")) -> Do | C47: =IF($A47="","",_xludf.ISOWEEKNUM($A47)) -> #NAME? | D47: =IF($A47="","",IFERROR(VLOOKUP($A47,Konfiguration!$H$7:$I$106,2,FALSE),"")) | E47: 8 | F47: 1 | G47: 2 | H47: 1.5 | I47: 3 | J47: 0.5
A48: =IF(6<=DAY(DATE(YEAR(Konfiguration!$F$4),MONTH(Konfiguration!$F$4)+1,0)),Konfiguration!$F$4+5,"") -> 46059 | B48: =IF($A48="","",CHOOSE(WEEKDAY($A48,2),"Mo","Di","Mi","Do","Fr","Sa","So")) -> Fr | C48: =IF($A48="","",_xludf.ISOWEEKNUM($A48)) -> #NAME? | D48: =IF($A48="","",IFERROR(VLOOKUP($A48,Konfiguration!$H$7:$I$106,2,FALSE),"")) | E48: 6.5 | F48: 1.5 | G48: 2.5 | H48: 1.5 | I48: 1 | J48: 0
A49: =IF(7<=DAY(DATE(YEAR(Konfiguration!$F$4),MONTH(Konfiguration!$F$4)+1,0)),Konfiguration!$F$4+6,"") -> 46060 | B49: =IF($A49="","",CHOOSE(WEEKDAY($A49,2),"Mo","Di","Mi","Do","Fr","Sa","So")) -> Sa | C49: =IF($A49="","",_xludf.ISOWEEKNUM($A49)) -> #NAME? | D49: =IF($A49="","",IFERROR(VLOOKUP($A49,Konfiguration!$H$7:$I$106,2,FALSE),"")) | E49: 2 | F49: 0.5 | G49: 0 | H49: 0 | I49: 1 | J49: 0.5
A50: =IF(8<=DAY(DATE(YEAR(Konfiguration!$F$4),MONTH(Konfiguration!$F$4)+1,0)),Konfiguration!$F$4+7,"") -> 46061 | B50: =IF($A50="","",CHOOSE(WEEKDAY($A50,2),"Mo","Di","Mi","Do","Fr","Sa","So")) -> So | C50: =IF($A50="","",_xludf.ISOWEEKNUM($A50)) -> #NAME? | D50: =IF($A50="","",IFERROR(VLOOKUP($A50,Konfiguration!$H$7:$I$106,2,FALSE),""))
A51: =IF(9<=DAY(DATE(YEAR(Konfiguration!$F$4),MONTH(Konfiguration!$F$4)+1,0)),Konfiguration!$F$4+8,"") -> 46062 | B51: =IF($A51="","",CHOOSE(WEEKDAY($A51,2),"Mo","Di","Mi","Do","Fr","Sa","So")) -> Mo | C51: =IF($A51="","",_xludf.ISOWEEKNUM($A51)) -> #NAME? | D51: =IF($A51="","",IFERROR(VLOOKUP($A51,Konfiguration!$H$7:$I$106,2,FALSE),"")) | E51: 8 | F51: 0.5 | G51: 1 | H51: 1 | I51: 3.5 | J51: 2
A52: =IF(10<=DAY(DATE(YEAR(Konfiguration!$F$4),MONTH(Konfiguration!$F$4)+1,0)),Konfiguration!$F$4+9,"") -> 46063 | B52: =IF($A52="","",CHOOSE(WEEKDAY($A52,2),"Mo","Di","Mi","Do","Fr","Sa","So")) -> Di | C52: =IF($A52="","",_xludf.ISOWEEKNUM($A52)) -> #NAME? | D52: =IF($A52="","",IFERROR(VLOOKUP($A52,Konfiguration!$H$7:$I$106,2,FALSE),"")) | E52: 8 | F52: 1.5 | G52: 1 | H52: 0.5 | I52: 3 | J52: 2
A53: =IF(11<=DAY(DATE(YEAR(Konfiguration!$F$4),MONTH(Konfiguration!$F$4)+1,0)),Konfiguration!$F$4+10,"") -> 46064 | B53: =IF($A53="","",CHOOSE(WEEKDAY($A53,2),"Mo","Di","Mi","Do","Fr","Sa","So")) -> Mi | C53: =IF($A53="","",_xludf.ISOWEEKNUM($A53)) -> #NAME? | D53: =IF($A53="","",IFERROR(VLOOKUP($A53,Konfiguration!$H$7:$I$106,2,FALSE),"")) | E53: 7.5 | F53: 1.5 | G53: 3 | H53: 1.5 | I53: 1.5 | J53: 0
A54: =IF(12<=DAY(DATE(YEAR(Konfiguration!$F$4),MONTH(Konfiguration!$F$4)+1,0)),Konfiguration!$F$4+11,"") -> 46065 | B54: =IF($A54="","",CHOOSE(WEEKDAY($A54,2),"Mo","Di","Mi","Do","Fr","Sa","So")) -> Do | C54: =IF($A54="","",_xludf.ISOWEEKNUM($A54)) -> #NAME? | D54: =IF($A54="","",IFERROR(VLOOKUP($A54,Konfiguration!$H$7:$I$106,2,FALSE),"")) | E54: 8 | F54: 1 | G54: 2.5 | H54: 1.5 | I54: 3 | J54: 0
A55: =IF(13<=DAY(DATE(YEAR(Konfiguration!$F$4),MONTH(Konfiguration!$F$4)+1,0)),Konfiguration!$F$4+12,"") -> 46066 | B55: =IF($A55="","",CHOOSE(WEEKDAY($A55,2),"Mo","Di","Mi","Do","Fr","Sa","So")) -> Fr | C55: =IF($A55="","",_xludf.ISOWEEKNUM($A55)) -> #NAME? | D55: =IF($A55="","",IFERROR(VLOOKUP($A55,Konfiguration!$H$7:$I$106,2,FALSE),"")) | E55: 6.5 | F55: 0.5 | G55: 2.5 | H55: 1 | I55: 2.5 | J55: 0
A56: =IF(14<=DAY(DATE(YEAR(Konfiguration!$F$4),MONTH(Konfiguration!$F$4)+1,0)),Konfiguration!$F$4+13,"") -> 46067 | B56: =IF($A56="","",CHOOSE(WEEKDAY($A56,2),"Mo","Di","Mi","Do","Fr","Sa","So")) -> Sa | C56: =IF($A56="","",_xludf.ISOWEEKNUM($A56)) -> #NAME? | D56: =IF($A56="","",IFERROR(VLOOKUP($A56,Konfiguration!$H$7:$I$106,2,FALSE),"")) | E56: 2 | F56: 0.5 | G56: 0 | H56: 0 | I56: 1 | J56: 0.5
A57: =IF(15<=DAY(DATE(YEAR(Konfiguration!$F$4),MONTH(Konfiguration!$F$4)+1,0)),Konfiguration!$F$4+14,"") -> 46068 | B57: =IF($A57="","",CHOOSE(WEEKDAY($A57,2),"Mo","Di","Mi","Do","Fr","Sa","So")) -> So | C57: =IF($A57="","",_xludf.ISOWEEKNUM($A57)) -> #NAME? | D57: =IF($A57="","",IFERROR(VLOOKUP($A57,Konfiguration!$H$7:$I$106,2,FALSE),""))
A58: =IF(16<=DAY(DATE(YEAR(Konfiguration!$F$4),MONTH(Konfiguration!$F$4)+1,0)),Konfiguration!$F$4+15,"") -> 46069 | B58: =IF($A58="","",CHOOSE(WEEKDAY($A58,2),"Mo","Di","Mi","Do","Fr","Sa","So")) -> Mo | C58: =IF($A58="","",_xludf.ISOWEEKNUM($A58)) -> #NAME? | D58: =IF($A58="","",IFERROR(VLOOKUP($A58,Konfiguration!$H$7:$I$106,2,FALSE),"")) | E58: 8 | F58: 1.5 | G58: 1 | H58: 1 | I58: 2 | J58: 2.5
A59: =IF(17<=DAY(DATE(YEAR(Konfiguration!$F$4),MONTH(Konfiguration!$F$4)+1,0)),Konfiguration!$F$4+16,"") -> 46070 | B59: =IF($A59="","",CHOOSE(WEEKDAY($A59,2),"Mo","Di","Mi","Do","Fr","Sa","So")) -> Di | C59: =IF($A59="","",_xludf.ISOWEEKNUM($A59)) -> #NAME? | D59: =IF($A59="","",IFERROR(VLOOKUP($A59,Konfiguration!$H$7:$I$106,2,FALSE),"")) | E59: 8 | F59: 0.5 | G59: 2 | H59: 0.5 | I59: 2.5 | J59: 2.5
A60: =IF(18<=DAY(DATE(YEAR(Konfiguration!$F$4),MONTH(Konfiguration!$F$4)+1,0)),Konfiguration!$F$4+17,"") -> 46071 | B60: =IF($A60="","",CHOOSE(WEEKDAY($A60,2),"Mo","Di","Mi","Do","Fr","Sa","So")) -> Mi | C60: =IF($A60="","",_xludf.ISOWEEKNUM($A60)) -> #NAME? | D60: =IF($A60="","",IFERROR(VLOOKUP($A60,Konfiguration!$H$7:$I$106,2,FALSE),"")) | E60: 7.5 | F60: 1 | G60: 2.5 | H60: 1 | I60: 2 | J60: 1
A61: =IF(19<=DAY(DATE(YEAR(Konfiguration!$F$4),MONTH(Konfiguration!$F$4)+1,0)),Konfiguration!$F$4+18,"") -> 46072 | B61: =IF($A61="","",CHOOSE(WEEKDAY($A61,2),"Mo","Di","Mi","Do","Fr","Sa","So")) -> Do | C61: =IF($A61="","",_xludf.ISOWEEKNUM($A61)) -> #NAME? | D61: =IF($A61="","",IFERROR(VLOOKUP($A61,Konfiguration!$H$7:$I$106,2,FALSE),"")) | E61: 8 | F61: 0.5 | G61: 2.5 | H61: 1 | I61: 4 | J61: 0
A62: =IF(20<=DAY(DATE(YEAR(Konfiguration!$F$4),MONTH(Konfiguration!$F$4)+1,0)),Konfiguration!$F$4+19,"") -> 46073 | B62: =IF($A62="","",CHOOSE(WEEKDAY($A62,2),"Mo","Di","Mi","Do","Fr","Sa","So")) -> Fr | C62: =IF($A62="","",_xludf.ISOWEEKNUM($A62)) -> #NAME? | D62: =IF($A62="","",IFERROR(VLOOKUP($A62,Konfiguration!$H$7:$I$106,2,FALSE),"")) | E62: 6.5 | F62: 1 | G62: 1.5 | H62: 1 | I62: 3 | J62: 0
A63: =IF(21<=DAY(DATE(YEAR(Konfiguration!$F$4),MONTH(Konfiguration!$F$4)+1,0)),Konfiguration!$F$4+20,"") -> 46074 | B63: =IF($A63="","",CHOOSE(WEEKDAY($A63,2),"Mo","Di","Mi","Do","Fr","Sa","So")) -> Sa | C63: =IF($A63="","",_xludf.ISOWEEKNUM($A63)) -> #NAME? | D63: =IF($A63="","",IFERROR(VLOOKUP($A63,Konfiguration!$H$7:$I$106,2,FALSE),""))
A64: =IF(22<=DAY(DATE(YEAR(Konfiguration!$F$4),MONTH(Konfiguration!$F$4)+1,0)),Konfiguration!$F$4+21,"") -> 46075 | B64: =IF($A64="","",CHOOSE(WEEKDAY($A64,2),"Mo","Di","Mi","Do","Fr","Sa","So")) -> So | C64: =IF($A64="","",_xludf.ISOWEEKNUM($A64)) -> #NAME? | D64: =IF($A64="","",IFERROR(VLOOKUP($A64,Konfiguration!$H$7:$I$106,2,FALSE),""))
A65: =IF(23<=DAY(DATE(YEAR(Konfiguration!$F$4),MONTH(Konfiguration!$F$4)+1,0)),Konfiguration!$F$4+22,"") -> 46076 | B65: =IF($A65="","",CHOOSE(WEEKDAY($A65,2),"Mo","Di","Mi","Do","Fr","Sa","So")) -> Mo | C65: =IF($A65="","",_xludf.ISOWEEKNUM($A65)) -> #NAME? | D65: =IF($A65="","",IFERROR(VLOOKUP($A65,Konfiguration!$H$7:$I$106,2,FALSE),"")) | E65: 8 | F65: 1 | G65: 2.5 | H65: 1 | I65: 3.5 | J65: 0
A66: =IF(24<=DAY(DATE(YEAR(Konfiguration!$F$4),MONTH(Konfiguration!$F$4)+1,0)),Konfiguration!$F$4+23,"") -> 46077 | B66: =IF($A66="","",CHOOSE(WEEKDAY($A66,2),"Mo","Di","Mi","Do","Fr","Sa","So")) -> Di | C66: =IF($A66="","",_xludf.ISOWEEKNUM($A66)) -> #NAME? | D66: =IF($A66="","",IFERROR(VLOOKUP($A66,Konfiguration!$H$7:$I$106,2,FALSE),"")) | E66: 8 | F66: 0.5 | G66: 1.5 | H66: 0.5 | I66: 2.5 | J66: 3
A67: =IF(25<=DAY(DATE(YEAR(Konfiguration!$F$4),MONTH(Konfiguration!$F$4)+1,0)),Konfiguration!$F$4+24,"") -> 46078 | B67: =IF($A67="","",CHOOSE(WEEKDAY($A67,2),"Mo","Di","Mi","Do","Fr","Sa","So")) -> Mi | C67: =IF($A67="","",_xludf.ISOWEEKNUM($A67)) -> #NAME? | D67: =IF($A67="","",IFERROR(VLOOKUP($A67,Konfiguration!$H$7:$I$106,2,FALSE),"")) | E67: 7.5 | F67: 0.5 | G67: 1.5 | H67: 1.5 | I67: 2.5 | J67: 1.5
A68: =IF(26<=DAY(DATE(YEAR(Konfiguration!$F$4),MONTH(Konfiguration!$F$4)+1,0)),Konfiguration!$F$4+25,"") -> 46079 | B68: =IF($A68="","",CHOOSE(WEEKDAY($A68,2),"Mo","Di","Mi","Do","Fr","Sa","So")) -> Do | C68: =IF($A68="","",_xludf.ISOWEEKNUM($A68)) -> #NAME? | D68: =IF($A68="","",IFERROR(VLOOKUP($A68,Konfiguration!$H$7:$I$106,2,FALSE),"")) | E68: 8 | F68: 0.5 | G68: 2.5 | H68: 1.5 | I68: 2.5 | J68: 1
A69: =IF(27<=DAY(DATE(YEAR(Konfiguration!$F$4),MONTH(Konfiguration!$F$4)+1,0)),Konfiguration!$F$4+26,"") -> 46080 | B69: =IF($A69="","",CHOOSE(WEEKDAY($A69,2),"Mo","Di","Mi","Do","Fr","Sa","So")) -> Fr | C69: =IF($A69="","",_xludf.ISOWEEKNUM($A69)) -> #NAME? | D69: =IF($A69="","",IFERROR(VLOOKUP($A69,Konfiguration!$H$7:$I$106,2,FALSE),"")) | E69: 6.5 | F69: 1 | G69: 2 | H69: 0.5 | I69: 2.5 | J69: 0.5
A70: =IF(28<=DAY(DATE(YEAR(Konfiguration!$F$4),MONTH(Konfiguration!$F$4)+1,0)),Konfiguration!$F$4+27,"") -> 46081 | B70: =IF($A70="","",CHOOSE(WEEKDAY($A70,2),"Mo","Di","Mi","Do","Fr","Sa","So")) -> Sa | C70: =IF($A70="","",_xludf.ISOWEEKNUM($A70)) -> #NAME? | D70: =IF($A70="","",IFERROR(VLOOKUP($A70,Konfiguration!$H$7:$I$106,2,FALSE),""))
A71: =IF(29<=DAY(DATE(YEAR(Konfiguration!$F$4),MONTH(Konfiguration!$F$4)+1,0)),Konfiguration!$F$4+28,"") | B71: =IF($A71="","",CHOOSE(WEEKDAY($A71,2),"Mo","Di","Mi","Do","Fr","Sa","So")) | C71: =IF($A71="","",_xludf.ISOWEEKNUM($A71)) | D71: =IF($A71="","",IFERROR(VLOOKUP($A71,Konfiguration!$H$7:$I$106,2,FALSE),""))
A72: =IF(30<=DAY(DATE(YEAR(Konfiguration!$F$4),MONTH(Konfiguration!$F$4)+1,0)),Konfiguration!$F$4+29,"") | B72: =IF($A72="","",CHOOSE(WEEKDAY($A72,2),"Mo","Di","Mi","Do","Fr","Sa","So")) | C72: =IF($A72="","",_xludf.ISOWEEKNUM($A72)) | D72: =IF($A72="","",IFERROR(VLOOKUP($A72,Konfiguration!$H$7:$I$106,2,FALSE),""))
A73: =IF(31<=DAY(DATE(YEAR(Konfiguration!$F$4),MONTH(Konfiguration!$F$4)+1,0)),Konfiguration!$F$4+30,"") | B73: =IF($A73="","",CHOOSE(WEEKDAY($A73,2),"Mo","Di","Mi","Do","Fr","Sa","So")) | C73: =IF($A73="","",_xludf.ISOWEEKNUM($A73)) | D73: =IF($A73="","",IFERROR(VLOOKUP($A73,Konfiguration!$H$7:$I$106,2,FALSE),""))
D74: Monatssumme | E74: =SUM(E43:E73) -> 156 | F74: =SUM(F43:F73) -> 20 | G74: =SUM(G43:G73) -> 40 | H74: =SUM(H43:H73) -> 21 | I74: =SUM(I43:I73) -> 55 | J74: =SUM(J43:J73) -> 20
A76: =Konfiguration!$G$5 -> März 2026
A77: Datum | B77: Tag | C77: KW | D77: Feiertag / Ereignis | E77: Gesamtstunden | F77: =Konfiguration!$B$8 -> E-Mails | G77: =Konfiguration!$B$9 -> Meetings | H77: =Konfiguration!$B$10 -> Telefonate | I77: =Konfiguration!$B$11 -> Vorbereitung | J77: =Konfiguration!$B$12 -> Sonstiges
A78: =IF(1<=DAY(DATE(YEAR(Konfiguration!$F$5),MONTH(Konfiguration!$F$5)+1,0)),Konfiguration!$F$5+0,"") -> 46082 | B78: =IF($A78="","",CHOOSE(WEEKDAY($A78,2),"Mo","Di","Mi","Do","Fr","Sa","So")) -> So | C78: =IF($A78="","",_xludf.ISOWEEKNUM($A78)) -> #NAME? | D78: =IF($A78="","",IFERROR(VLOOKUP($A78,Konfiguration!$H$7:$I$106,2,FALSE),""))
A79: =IF(2<=DAY(DATE(YEAR(Konfiguration!$F$5),MONTH(Konfiguration!$F$5)+1,0)),Konfiguration!$F$5+1,"") -> 46083 | B79: =IF($A79="","",CHOOSE(WEEKDAY($A79,2),"Mo","Di","Mi","Do","Fr","Sa","So")) -> Mo | C79: =IF($A79="","",_xludf.ISOWEEKNUM($A79)) -> #NAME? | D79: =IF($A79="","",IFERROR(VLOOKUP($A79,Konfiguration!$H$7:$I$106,2,FALSE),"")) | E79: 8 | F79: 1 | G79: 3 | H79: 1 | I79: 3 | J79: 0
A80: =IF(3<=DAY(DATE(YEAR(Konfiguration!$F$5),MONTH(Konfiguration!$F$5)+1,0)),Konfiguration!$F$5+2,"") -> 46084 | B80: =IF($A80="","",CHOOSE(WEEKDAY($A80,2),"Mo","Di","Mi","Do","Fr","Sa","So")) -> Di | C80: =IF($A80="","",_xludf.ISOWEEKNUM($A80)) -> #NAME? | D80: =IF($A80="","",IFERROR(VLOOKUP($A80,Konfiguration!$H$7:$I$106,2,FALSE),"")) | E80: 8 | F80: 1.5 | G80: 2 | H80: 0.5 | I80: 4 | J80: 0
A81: =IF(4<=DAY(DATE(YEAR(Konfiguration!$F$5),MONTH(Konfiguration!$F$5)+1,0)),Konfiguration!$F$5+3,"") -> 46085 | B81: =IF($A81="","",CHOOSE(WEEKDAY($A81,2),"Mo","Di","Mi","Do","Fr","Sa","So")) -> Mi | C81: =IF($A81="","",_xludf.ISOWEEKNUM($A81)) -> #NAME? | D81: =IF($A81="","",IFERROR(VLOOKUP($A81,Konfiguration!$H$7:$I$106,2,FALSE),"")) | E81: 7.5 | F81: 1.5 | G81: 1 | H81: 1 | I81: 4 | J81: 0
A82: =IF(5<=DAY(DATE(YEAR(Konfiguration!$F$5),MONTH(Konfiguration!$F$5)+1,0)),Konfiguration!$F$5+4,"") -> 46086 | B82: =IF($A82="","",CHOOSE(WEEKDAY($A82,2),"Mo","Di","Mi","Do","Fr","Sa","So")) -> Do | C82: =IF($A82="","",_xludf.ISOWEEKNUM($A82)) -> #NAME? | D82: =IF($A82="","",IFERROR(VLOOKUP($A82,Konfiguration!$H$7:$I$106,2,FALSE),"")) | E82: 8 | F82: 1 | G82: 2.5 | H82: 1 | I82: 3.5 | J82: 0
A83: =IF(6<=DAY(DATE(YEAR(Konfiguration!$F$5),MONTH(Konfiguration!$F$5)+1,0)),Konfiguration!$F$5+5,"") -> 46087 | B83: =IF($A83="","",CHOOSE(WEEKDAY($A83,2),"Mo","Di","Mi","Do","Fr","Sa","So")) -> Fr | C83: =IF($A83="","",_xludf.ISOWEEKNUM($A83)) -> #NAME? | D83: =IF($A83="","",IFERROR(VLOOKUP($A83,Konfiguration!$H$7:$I$106,2,FALSE),"")) | E83: 6.5 | F83: 0.5 | G83: 2.5 | H83: 1.5 | I83: 2 | J83: 0
A84: =IF(7<=DAY(DATE(YEAR(Konfiguration!$F$5),MONTH(Konfiguration!$F$5)+1,0)),Konfiguration!$F$5+6,"") -> 46088 | B84: =IF($A84="","",CHOOSE(WEEKDAY($A84,2),"Mo","Di","Mi","Do","Fr","Sa","So")) -> Sa | C84: =IF($A84="","",_xludf.ISOWEEKNUM($A84)) -> #NAME? | D84: =IF($A84="","",IFERROR(VLOOKUP($A84,Konfiguration!$H$7:$I$106,2,FALSE),"")) | E84: 2 | F84: 0.5 | G84: 0 | H84: 0 | I84: 1 | J84: 0.5
A85: =IF(8<=DAY(DATE(YEAR(Konfiguration!$F$5),MONTH(Konfiguration!$F$5)+1,0)),Konfiguration!$F$5+7,"") -> 46089 | B85: =IF($A85="","",CHOOSE(WEEKDAY($A85,2),"Mo","Di","Mi","Do","Fr","Sa","So")) -> So | C85: =IF($A85="","",_xludf.ISOWEEKNUM($A85)) -> #NAME? | D85: =IF($A85="","",IFERROR(VLOOKUP($A85,Konfiguration!$H$7:$I$106,2,FALSE),""))
A86: =IF(9<=DAY(DATE(YEAR(Konfiguration!$F$5),MONTH(Konfiguration!$F$5)+1,0)),Konfiguration!$F$5+8,"") -> 46090 | B86: =IF($A86="","",CHOOSE(WEEKDAY($A86,2),"Mo","Di","Mi","Do","Fr","Sa","So")) -> Mo | C86: =IF($A86="","",_xludf.ISOWEEKNUM($A86)) -> #NAME? | D86: =IF($A86="","",IFERROR(VLOOKUP($A86,Konfiguration!$H$7:$I$106,2,FALSE),"")) | E86: 8 | F86: 0.5 | G86: 1.5 | H86: 0.5 | I86: 2.5 | J86: 3
A87: =IF(10<=DAY(DATE(YEAR(Konfiguration!$F$5),MONTH(Konfiguration!$F$5)+1,0)),Konfiguration!$F$5+9,"") -> 46091 | B87: =IF($A87="","",CHOOSE(WEEKDAY($A87,2),"Mo","Di","Mi","Do","Fr","Sa","So")) -> Di | C87: =IF($A87="","",_xludf.ISOWEEKNUM($A87)) -> #NAME? | D87: =IF($A87="","",IFERROR(VLOOKUP($A87,Konfiguration!$H$7:$I$106,2,FALSE),"")) | E87: 8 | F87: 1 | G87: 1.5 | H87: 0.5 | I87: 3 | J87: 2
A88: =IF(11<=DAY(DATE(YEAR(Konfiguration!$F$5),MONTH(Konfiguration!$F$5)+1,0)),Konfiguration!$F$5+10,"") -> 46092 | B88: =IF($A88="","",CHOOSE(WEEKDAY($A88,2),"Mo","Di","Mi","Do","Fr","Sa","So")) -> Mi | C88: =IF($A88="","",_xludf.ISOWEEKNUM($A88)) -> #NAME? | D88: =IF($A88="","",IFERROR(VLOOKUP($A88,Konfiguration!$H$7:$I$106,2,FALSE),"")) | E88: 7.5 | F88: 1.5 | G88: 1 | H88: 0.5 | I88: 2 | J88: 2.5
A89: =IF(12<=DAY(DATE(YEAR(Konfiguration!$F$5),MONTH(Konfiguration!$F$5)+1,0)),Konfiguration!$F$5+11,"") -> 46093 | B89: =IF($A89="","",CHOOSE(WEEKDAY($A89,2),"Mo","Di","Mi","Do","Fr","Sa","So")) -> Do | C89: =IF($A89="","",_xludf.ISOWEEKNUM($A89)) -> #NAME? | D89: =IF($A89="","",IFERROR(VLOOKUP($A89,Konfiguration!$H$7:$I$106,2,FALSE),"")) | E89: 8 | F89: 1.5 | G89: 1.5 | H89: 1.5 | I89: 2 | J89: 1.5
A90: =IF(13<=DAY(DATE(YEAR(Konfiguration!$F$5),MONTH(Konfiguration!$F$5)+1,0)),Konfiguration!$F$5+12,"") -> 46094 | B90: =IF($A90="","",CHOOSE(WEEKDAY($A90,2),"Mo","Di","Mi","Do","Fr","Sa","So")) -> Fr | C90: =IF($A90="","",_xludf.ISOWEEKNUM($A90)) -> #NAME? | D90: =IF($A90="","",IFERROR(VLOOKUP($A90,Konfiguration!$H$7:$I$106,2,FALSE),"")) | E90: 6.5 | F90: 1 | G90: 3 | H90: 0.5 | I90: 2 | J90: 0
A91: =IF(14<=DAY(DATE(YEAR(Konfiguration!$F$5),MONTH(Konfiguration!$F$5)+1,0)),Konfiguration!$F$5+13,"") -> 46095 | B91: =IF($A91="","",CHOOSE(WEEKDAY($A91,2),"Mo","Di","Mi","Do","Fr","Sa","So")) -> Sa | C91: =IF($A91="","",_xludf.ISOWEEKNUM($A91)) -> #NAME? | D91: =IF($A91="","",IFERROR(VLOOKUP($A91,Konfiguration!$H$7:$I$106,2,FALSE),"")) | E91: 2 | F91: 0.5 | G91: 0 | H91: 0 | I91: 1 | J91: 0.5
A92: =IF(15<=DAY(DATE(YEAR(Konfiguration!$F$5),MONTH(Konfiguration!$F$5)+1,0)),Konfiguration!$F$5+14,"") -> 46096 | B92: =IF($A92="","",CHOOSE(WEEKDAY($A92,2),"Mo","Di","Mi","Do","Fr","Sa","So")) -> So | C92: =IF($A92="","",_xludf.ISOWEEKNUM($A92)) -> #NAME? | D92: =IF($A92="","",IFERROR(VLOOKUP($A92,Konfiguration!$H$7:$I$106,2,FALSE),""))
A93: =IF(16<=DAY(DATE(YEAR(Konfiguration!$F$5),MONTH(Konfiguration!$F$5)+1,0)),Konfiguration!$F$5+15,"") -> 46097 | B93: =IF($A93="","",CHOOSE(WEEKDAY($A93,2),"Mo","Di","Mi","Do","Fr","Sa","So")) -> Mo | C93: =IF($A93="","",_xludf.ISOWEEKNUM($A93)) -> #NAME? | D93: =IF($A93="","",IFERROR(VLOOKUP($A93,Konfiguration!$H$7:$I$106,2,FALSE),"")) | E93: 8 | F93: 0.5 | G93: 3 | H93: 1 | I93: 2.5 | J93: 1
A94: =IF(17<=DAY(DATE(YEAR(Konfiguration!$F$5),MONTH(Konfiguration!$F$5)+1,0)),Konfiguration!$F$5+16,"") -> 46098 | B94: =IF($A94="","",CHOOSE(WEEKDAY($A94,2),"Mo","Di","Mi","Do","Fr","Sa","So")) -> Di | C94: =IF($A94="","",_xludf.ISOWEEKNUM($A94)) -> #NAME? | D94: =IF($A94="","",IFERROR(VLOOKUP($A94,Konfiguration!$H$7:$I$106,2,FALSE),"")) | E94: 8 | F94: 1.5 | G94: 2 | H94: 1 | I94: 3.5 | J94: 0
A95: =IF(18<=DAY(DATE(YEAR(Konfiguration!$F$5),MONTH(Konfiguration!$F$5)+1,0)),Konfiguration!$F$5+17,"") -> 46099 | B95: =IF($A95="","",CHOOSE(WEEKDAY($A95,2),"Mo","Di","Mi","Do","Fr","Sa","So")) -> Mi | C95: =IF($A95="","",_xludf.ISOWEEKNUM($A95)) -> #NAME? | D95: =IF($A95="","",IFERROR(VLOOKUP($A95,Konfiguration!$H$7:$I$106,2,FALSE),"")) | E95: 7.5 | F95: 1 | G95: 2.5 | H95: 0.5 | I95: 2 | J95: 1.5
A96: =IF(19<=DAY(DATE(YEAR(Konfiguration!$F$5),MONTH(Konfiguration!$F$5)+1,0)),Konfiguration!$F$5+18,"") -> 46100 | B96: =IF($A96="","",CHOOSE(WEEKDAY($A96,2),"Mo","Di","Mi","Do","Fr","Sa","So")) -> Do | C96: =IF($A96="","",_xludf.ISOWEEKNUM($A96)) -> #NAME? | D96: =IF($A96="","",IFERROR(VLOOKUP($A96,Konfiguration!$H$7:$I$106,2,FALSE),"")) | E96: 8 | F96: 1 | G96: 2.5 | H96: 1 | I96: 3.5 | J96: 0
A97: =IF(20<=DAY(DATE(YEAR(Konfiguration!$F$5),MONTH(Konfiguration!$F$5)+1,0)),Konfiguration!$F$5+19,"") -> 46101 | B97: =IF($A97="","",CHOOSE(WEEKDAY($A97,2),"Mo","Di","Mi","Do","Fr","Sa","So")) -> Fr | C97: =IF($A97="","",_xludf.ISOWEEKNUM($A97)) -> #NAME? | D97: =IF($A97="","",IFERROR(VLOOKUP($A97,Konfiguration!$H$7:$I$106,2,FALSE),"")) | E97: 6.5 | F97: 1 | G97: 1 | H97: 0.5 | I97: 2 | J97: 2
A98: =IF(21<=DAY(DATE(YEAR(Konfiguration!$F$5),MONTH(Konfiguration!$F$5)+1,0)),Konfiguration!$F$5+20,"") -> 46102 | B98: =IF($A98="","",CHOOSE(WEEKDAY($A98,2),"Mo","Di","Mi","Do","Fr","Sa","So")) -> Sa | C98: =IF($A98="","",_xludf.ISOWEEKNUM($A98)) -> #NAME? | D98: =IF($A98="","",IFERROR(VLOOKUP($A98,Konfiguration!$H$7:$I$106,2,FALSE),""))
A99: =IF(22<=DAY(DATE(YEAR(Konfiguration!$F$5),MONTH(Konfiguration!$F$5)+1,0)),Konfiguration!$F$5+21,"") -> 46103 | B99: =IF($A99="","",CHOOSE(WEEKDAY($A99,2),"Mo","Di","Mi","Do","Fr","Sa","So")) -> So | C99: =IF($A99="","",_xludf.ISOWEEKNUM($A99)) -> #NAME? | D99: =IF($A99="","",IFERROR(VLOOKUP($A99,Konfiguration!$H$7:$I$106,2,FALSE),""))
A100: =IF(23<=DAY(DATE(YEAR(Konfiguration!$F$5),MONTH(Konfiguration!$F$5)+1,0)),Konfiguration!$F$5+22,"") -> 46104 | B100: =IF($A100="","",CHOOSE(WEEKDAY($A100,2),"Mo","Di","Mi","Do","Fr","Sa","So")) -> Mo | C100: =IF($A100="","",_xludf.ISOWEEKNUM($A100)) -> #NAME? | D100: =IF($A100="","",IFERROR(VLOOKUP($A100,Konfiguration!$H$7:$I$106,2,FALSE),"")) | E100: 8 | F100: 1.5 | G100: 2 | H100: 1.5 | I100: 3 | J100: 0
A101: =IF(24<=DAY(DATE(YEAR(Konfiguration!$F$5),MONTH(Konfiguration!$F$5)+1,0)),Konfiguration!$F$5+23,"") -> 46105 | B101: =IF($A101="","",CHOOSE(WEEKDAY($A101,2),"Mo","Di","Mi","Do","Fr","Sa","So")) -> Di | C101: =IF($A101="","",_xludf.ISOWEEKNUM($A101)) -> #NAME? | D101: =IF($A101="","",IFERROR(VLOOKUP($A101,Konfiguration!$H$7:$I$106,2,FALSE),"")) | E101: 8 | F101: 1 | G101: 1.5 | H101: 1.5 | I101: 2 | J101: 2
A102: =IF(25<=DAY(DATE(YEAR(Konfiguration!$F$5),MONTH(Konfiguration!$F$5)+1,0)),Konfiguration!$F$5+24,"") -> 46106 | B102: =IF($A102="","",CHOOSE(WEEKDAY($A102,2),"Mo","Di","Mi","Do","Fr","Sa","So")) -> Mi | C102: =IF($A102="","",_xludf.ISOWEEKNUM($A102)) -> #NAME? | D102: =IF($A102="","",IFERROR(VLOOKUP($A102,Konfiguration!$H$7:$I$106,2,FALSE),"")) | E102: 7.5 | F102: 0.5 | G102: 3 | H102: 1 | I102: 2.5 | J102: 0.5
A103: =IF(26<=DAY(DATE(YEAR(Konfiguration!$F$5),MONTH(Konfiguration!$F$5)+1,0)),Konfiguration!$F$5+25,"") -> 46107 | B103: =IF($A103="","",CHOOSE(WEEKDAY($A103,2),"Mo","Di","Mi","Do","Fr","Sa","So")) -> Do | C103: =IF($A103="","",_xludf.ISOWEEKNUM($A103)) -> #NAME? | D103: =IF($A103="","",IFERROR(VLOOKUP($A103,Konfiguration!$H$7:$I$106,2,FALSE),"")) | E103: 8 | F103: 1.5 | G103: 3 | H103: 0.5 | I103: 3 | J103: 0
...

Sheet Übersicht
A1: Jahresübersicht
A2: ="Zeitraum: " & Konfiguration!$B$5 -> Zeitraum: Januar 2026 bis Dezember 2026
A4: Gesamtstunden | B4: =SUM(B9:B20) -> 1951.5
A5: Stärkster Monat | B5: =INDEX(A9:A20,MATCH(MAX(B9:B20),B9:B20,0)) -> Juli 2026
A6: Meiste Aktivität | B6: =INDEX(C8:G8,1,MATCH(MAX(C21:G21),C21:G21,0)) -> Vorbereitung
A8: Monat | B8: Gesamtstunden | C8: =Konfiguration!$B$8 -> E-Mails | D8: =Konfiguration!$B$9 -> Meetings | E8: =Konfiguration!$B$10 -> Telefonate | F8: =Konfiguration!$B$11 -> Vorbereitung | G8: =Konfiguration!$B$12 -> Sonstiges
A9: =Konfiguration!$G$3 -> Januar 2026 | B9: =Kalender!E39 -> 152.5 | C9: =Kalender!F39 -> 19 | D9: =Kalender!G39 -> 41.5 | E9: =Kalender!H39 -> 20.5 | F9: =Kalender!I39 -> 54.5 | G9: =Kalender!J39 -> 17
A10: =Konfiguration!$G$4 -> Februar 2026 | B10: =Kalender!E74 -> 156 | C10: =Kalender!F74 -> 20 | D10: =Kalender!G74 -> 40 | E10: =Kalender!H74 -> 21 | F10: =Kalender!I74 -> 55 | G10: =Kalender!J74 -> 20
A11: =Konfiguration!$G$5 -> März 2026 | B11: =Kalender!E109 -> 172 | C11: =Kalender!F109 -> 24.5 | D11: =Kalender!G109 -> 46 | E11: =Kalender!H109 -> 20.5 | F11: =Kalender!I109 -> 63 | G11: =Kalender!J109 -> 18
A12: =Konfiguration!$G$6 -> April 2026 | B12: =Kalender!E144 -> 168.5 | C12: =Kalender!F144 -> 21.5 | D12: =Kalender!G144 -> 42.5 | E12: =Kalender!H144 -> 22 | F12: =Kalender!I144 -> 59.5 | G12: =Kalender!J144 -> 23
A13: =Konfiguration!$G$7 -> Mai 2026 | B13: =Kalender!E179 -> 135.5 | C13: =Kalender!F179 -> 20 | D13: =Kalender!G179 -> 39.5 | E13: =Kalender!H179 -> 16.5 | F13: =Kalender!I179 -> 48 | G13: =Kalender!J179 -> 11.5
A14: =Konfiguration!$G$8 -> Juni 2026 | B14: =Kalender!E214 -> 168 | C14: =Kalender!F214 -> 20 | D14: =Kalender!G214 -> 41.5 | E14: =Kalender!H214 -> 19.5 | F14: =Kalender!I214 -> 62 | G14: =Kalender!J214 -> 25
A15: =Konfiguration!$G$9 -> Juli 2026 | B15: =Kalender!E249 -> 174 | C15: =Kalender!F249 -> 22.5 | D15: =Kalender!G249 -> 42 | E15: =Kalender!H249 -> 22.5 | F15: =Kalender!I249 -> 62.5 | G15: =Kalender!J249 -> 24.5
A16: =Konfiguration!$G$10 -> August 2026 | B16: =Kalender!E284 -> 160 | C16: =Kalender!F284 -> 21.5 | D16: =Kalender!G284 -> 45.5 | E16: =Kalender!H284 -> 20.5 | F16: =Kalender!I284 -> 53.5 | G16: =Kalender!J284 -> 19
A17: =Konfiguration!$G$11 -> September 2026 | B17: =Kalender!E319 -> 169.5 | C17: =Kalender!F319 -> 19.5 | D17: =Kalender!G319 -> 48 | E17: =Kalender!H319 -> 23.5 | F17: =Kalender!I319 -> 61 | G17: =Kalender!J319 -> 17.5
A18: =Konfiguration!$G$12 -> Oktober 2026 | B18: =Kalender!E354 -> 168.5 | C18: =Kalender!F354 -> 21.5 | D18: =Kalender!G354 -> 46.5 | E18: =Kalender!H354 -> 20 | F18: =Kalender!I354 -> 63 | G18: =Kalender!J354 -> 17.5
A19: =Konfiguration!$G$13 -> November 2026 | B19: =Kalender!E389 -> 164 | C19: =Kalender!F389 -> 18.5 | D19: =Kalender!G389 -> 43.5 | E19: =Kalender!H389 -> 19.5 | F19: =Kalender!I389 -> 61 | G19: =Kalender!J389 -> 21.5
A20: =Konfiguration!$G$14 -> Dezember 2026 | B20: =Kalender!E424 -> 163 | C20: =Kalender!F424 -> 20 | D20: =Kalender!G424 -> 38 | E20: =Kalender!H424 -> 21 | F20: =Kalender!I424 -> 58.5 | G20: =Kalender!J424 -> 25.5
A21: Gesamtsumme | B21: =SUM(B9:B20) -> 1951.5 | C21: =SUM(C9:C20) -> 248.5 | D21: =SUM(D9:D20) -> 514.5 | E21: =SUM(E9:E20) -> 247 | F21: =SUM(F9:F20) -> 701.5 | G21: =SUM(G9:G20) -> 240
