Workbook
Name lstMitarbeiter: Stimmung!$F$5:$F$30

Sheet Stimmung
A1: Stimmungsbarometer
A2: Trage Datum, Mitarbeiter und Stimmung (1–10) ein. Optional: Kommentar.
A4: Datum | B4: Mitarbeiter | C4: Stimmung (1-10) | D4: Kommentar | F4: Mitarbeiter-Liste
A5: 46056 | B5: Anna | C5: 5 | F5: Anna
A6: 46056 | B6: Clara | C6: 4 | F6: Ben
A7: 46057 | B7: Anna | C7: 6 | F7: Clara
A8: 46058 | B8: Clara | C8: 8 | F8: Daniel
A9: 46058 | B9: Daniel | C9: 6 | D9: Normaler Tag | F9: Eva
A10: 46058 | B10: Daniel | C10: 4 | F10: Felix
A11: 46058 | B11: Eva | C11: 5
A12: 46059 | B12: Anna | C12: 3 | D12: Stressiger Tag
A13: 46059 | B13: Daniel | C13: 9 | D13: Sehr produktiv
A14: 46059 | B14: Felix | C14: 6
A15: 46059 | B15: Felix | C15: 3 | D15: Stressiger Tag
A16: 46060 | B16: Clara | C16: 6
A17: 46060 | B17: Daniel | C17: 4
A18: 46060 | B18: Eva | C18: 3 | D18: Schlechter Schlaf
A19: 46060 | B19: Eva | C19: 10 | D19: Sehr produktiv
A20: 46061 | B20: Anna | C20: 9 | D20: Erfolg im Projekt
A21: 46061 | B21: Anna | C21: 10 | D21: Gute Stimmung im Team
A22: 46061 | B22: Clara | C22: 8
A23: 46061 | B23: Daniel | C23: 5 | D23: Viele Meetings
A24: 46061 | B24: Felix | C24: 3 | D24: Stressiger Tag
A25: 46061 | B25: Felix | C25: 6 | D25: Normaler Tag
A26: 46062 | B26: Ben | C26: 3 | D26: Hohe Arbeitslast
A27: 46062 | B27: Eva | C27: 3 | D27: Schlechter Schlaf
A28: 46064 | B28: Daniel | C28: 4
A29: 46064 | B29: Felix | C29: 10 | D29: Gute Stimmung im Team
A30: 46064 | B30: Felix | C30: 6
A31: 46065 | B31: Ben | C31: 6
A32: 46065 | B32: Ben | C32: 5 | D32: Fokusarbeit
A33: 46065 | B33: Clara | C33: 4 | D33: Normaler Tag
A34: 46065 | B34: Eva | C34: 5
A35: 46065 | B35: Felix | C35: 2 | D35: Hohe Arbeitslast
A36: 46065 | B36: Felix | C36: 3 | D36: Schlechter Schlaf
A37: 46066 | B37: Ben | C37: 3 | D37: Hohe Arbeitslast
A38: 46066 | B38: Ben | C38: 3 | D38: Schlechter Schlaf
A39: 46067 | B39: Ben | C39: 9 | D39: Gute Stimmung im Team
A40: 46067 | B40: Daniel | C40: 4
A41: 46067 | B41: Felix | C41: 10 | D41: Gute Stimmung im Team
A42: 46067 | B42: Felix | C42: 3 | D42: Stressiger Tag
A43: 46068 | B43: Ben | C43: 7
A44: 46068 | B44: Daniel | C44: 5
A45: 46069 | B45: Anna | C45: 3 | D45: Stressiger Tag
A46: 46069 | B46: Ben | C46: 6 | D46: Viele Meetings
A47: 46069 | B47: Eva | C47: 9 | D47: Sehr produktiv
A48: 46070 | B48: Anna | C48: 9 | D48: Sehr produktiv
A49: 46070 | B49: Ben | C49: 6
A50: 46070 | B50: Daniel | C50: 9 | D50: Gute Stimmung im Team
A51: 46070 | B51: Eva | C51: 3 | D51: Stressiger Tag
A52: 46071 | B52: Ben | C52: 10 | D52: Erfolg im Projekt
A53: 46071 | B53: Clara | C53: 5
A54: 46071 | B54: Daniel | C54: 8 | D54: Fokusarbeit
A55: 46071 | B55: Eva | C55: 3 | D55: Hohe Arbeitslast
A56: 46072 | B56: Daniel | C56: 4
A57: 46072 | B57: Eva | C57: 10 | D57: Erfolg im Projekt
A58: 46072 | B58: Felix | C58: 8
A59: 46073 | B59: Ben | C59: 3 | D59: Stressiger Tag
A60: 46073 | B60: Daniel | C60: 6
A61: 46074 | B61: Anna | C61: 5
A62: 46074 | B62: Ben | C62: 6 | D62: Fokusarbeit
A63: 46075 | B63: Felix | C63: 10 | D63: Erfolg im Projekt
A64: 46076 | B64: Eva | C64: 4

Sheet Dashboard
A1: Dashboard – Stimmungsauswertung
H2: =IFERROR(MAX(Stimmung!$A$5:$A$204),TODAY()) -> 46076
A3: Ø Stimmung (gesamt) | C3: Ø letzte 7 Tage | E3: Einträge (gesamt) | G3: Trend 7T vs. vorherige 7T
A4: =IFERROR(AVERAGE(Stimmung!$C$5:$C$204),"-") -> 5.75 | C4: =IFERROR(AVERAGEIFS(Stimmung!$C$5:$C$204,Stimmung!$A$5:$A$204,">="&$H$2-6),"-") -> 6.4117647 | E4: =IFERROR(COUNT(Stimmung!$C$5:$C$204),0) -> 60 | G4: =IFERROR(AVERAGEIFS(Stimmung!$C$5:$C$204,Stimmung!$A$5:$A$204,">="&$H$2-6)-AVERAGEIFS(Stimmung!$C$5:$C$204,Stimmung!$A$5:$A$204,">="&$H$2-13,Stimmung!$A$5:$A$204,"<="&$H$2-7),"-") -> 1.0617647
A7: Datum | B7: Ø Stimmung | E7: Mitarbeiter | F7: Ø Stimmung
A8: =$H$2-13 -> 46063 | B8: =IFERROR(AVERAGEIFS(Stimmung!$C$5:$C$204,Stimmung!$A$5:$A$204,A8),NA()) -> #N/A | E8: =IF(Stimmung!F5="","",Stimmung!F5) -> Anna | F8: =IF(E8="","",IFERROR(AVERAGEIFS(Stimmung!$C$5:$C$204,Stimmung!$B$5:$B$204,E8),NA())) -> 6.25
A9: =A8+1 -> 46064 | B9: =IFERROR(AVERAGEIFS(Stimmung!$C$5:$C$204,Stimmung!$A$5:$A$204,A9),NA()) -> 6.6666667 | E9: =IF(Stimmung!F6="","",Stimmung!F6) -> Ben | F9: =IF(E9="","",IFERROR(AVERAGEIFS(Stimmung!$C$5:$C$204,Stimmung!$B$5:$B$204,E9),NA())) -> 5.5833333
A10: =A9+1 -> 46065 | B10: =IFERROR(AVERAGEIFS(Stimmung!$C$5:$C$204,Stimmung!$A$5:$A$204,A10),NA()) -> 4.1666667 | E10: =IF(Stimmung!F7="","",Stimmung!F7) -> Clara | F10: =IF(E10="","",IFERROR(AVERAGEIFS(Stimmung!$C$5:$C$204,Stimmung!$B$5:$B$204,E10),NA())) -> 5.8333333
A11: =A10+1 -> 46066 | B11: =IFERROR(AVERAGEIFS(Stimmung!$C$5:$C$204,Stimmung!$A$5:$A$204,A11),NA()) -> 3 | E11: =IF(Stimmung!F8="","",Stimmung!F8) -> Daniel | F11: =IF(E11="","",IFERROR(AVERAGEIFS(Stimmung!$C$5:$C$204,Stimmung!$B$5:$B$204,E11),NA())) -> 5.6666667
A12: =A11+1 -> 46067 | B12: =IFERROR(AVERAGEIFS(Stimmung!$C$5:$C$204,Stimmung!$A$5:$A$204,A12),NA()) -> 6.5 | E12: =IF(Stimmung!F9="","",Stimmung!F9) -> Eva | F12: =IF(E12="","",IFERROR(AVERAGEIFS(Stimmung!$C$5:$C$204,Stimmung!$B$5:$B$204,E12),NA())) -> 5.5
A13: =A12+1 -> 46068 | B13: =IFERROR(AVERAGEIFS(Stimmung!$C$5:$C$204,Stimmung!$A$5:$A$204,A13),NA()) -> 6 | E13: =IF(Stimmung!F10="","",Stimmung!F10) -> Felix | F13: =IF(E13="","",IFERROR(AVERAGEIFS(Stimmung!$C$5:$C$204,Stimmung!$B$5:$B$204,E13),NA())) -> 5.8333333
A14: =A13+1 -> 46069 | B14: =IFERROR(AVERAGEIFS(Stimmung!$C$5:$C$204,Stimmung!$A$5:$A$204,A14),NA()) -> 6 | E14: =IF(Stimmung!F11="","",Stimmung!F11) | F14: =IF(E14="","",IFERROR(AVERAGEIFS(Stimmung!$C$5:$C$204,Stimmung!$B$5:$B$204,E14),NA()))
A15: =A14+1 -> 46070 | B15: =IFERROR(AVERAGEIFS(Stimmung!$C$5:$C$204,Stimmung!$A$5:$A$204,A15),NA()) -> 6.75 | E15: =IF(Stimmung!F12="","",Stimmung!F12) | F15: =IF(E15="","",IFERROR(AVERAGEIFS(Stimmung!$C$5:$C$204,Stimmung!$B$5:$B$204,E15),NA()))
A16: =A15+1 -> 46071 | B16: =IFERROR(AVERAGEIFS(Stimmung!$C$5:$C$204,Stimmung!$A$5:$A$204,A16),NA()) -> 6.5 | E16: =IF(Stimmung!F13="","",Stimmung!F13) | F16: =IF(E16="","",IFERROR(AVERAGEIFS(Stimmung!$C$5:$C$204,Stimmung!$B$5:$B$204,E16),NA()))
A17: =A16+1 -> 46072 | B17: =IFERROR(AVERAGEIFS(Stimmung!$C$5:$C$204,Stimmung!$A$5:$A$204,A17),NA()) -> 7.3333333 | E17: =IF(Stimmung!F14="","",Stimmung!F14) | F17: =IF(E17="","",IFERROR(AVERAGEIFS(Stimmung!$C$5:$C$204,Stimmung!$B$5:$B$204,E17),NA()))
A18: =A17+1 -> 46073 | B18: =IFERROR(AVERAGEIFS(Stimmung!$C$5:$C$204,Stimmung!$A$5:$A$204,A18),NA()) -> 4.5 | E18: =IF(Stimmung!F15="","",Stimmung!F15) | F18: =IF(E18="","",IFERROR(AVERAGEIFS(Stimmung!$C$5:$C$204,Stimmung!$B$5:$B$204,E18),NA()))
A19: =A18+1 -> 46074 | B19: =IFERROR(AVERAGEIFS(Stimmung!$C$5:$C$204,Stimmung!$A$5:$A$204,A19),NA()) -> 5.5 | E19: =IF(Stimmung!F16="","",Stimmung!F16) | F19: =IF(E19="","",IFERROR(AVERAGEIFS(Stimmung!$C$5:$C$204,Stimmung!$B$5:$B$204,E19),NA()))
A20: =A19+1 -> 46075 | B20: =IFERROR(AVERAGEIFS(Stimmung!$C$5:$C$204,Stimmung!$A$5:$A$204,A20),NA()) -> 10
A21: =A20+1 -> 46076 | B21: =IFERROR(AVERAGEIFS(Stimmung!$C$5:$C$204,Stimmung!$A$5:$A$204,A21),NA()) -> 4
A22: Wert | B22: Anzahl
A23: 1 | B23: =COUNTIF(Stimmung!$C$5:$C$204,A23) -> 0
A24: 2 | B24: =COUNTIF(Stimmung!$C$5:$C$204,A24) -> 1
A25: 3 | B25: =COUNTIF(Stimmung!$C$5:$C$204,A25) -> 14
A26: 4 | B26: =COUNTIF(Stimmung!$C$5:$C$204,A26) -> 8
A27: 5 | B27: =COUNTIF(Stimmung!$C$5:$C$204,A27) -> 8
A28: 6 | B28: =COUNTIF(Stimmung!$C$5:$C$204,A28) -> 11
A29: 7 | B29: =COUNTIF(Stimmung!$C$5:$C$204,A29) -> 1
A30: 8 | B30: =COUNTIF(Stimmung!$C$5:$C$204,A30) -> 4
A31: 9 | B31: =COUNTIF(Stimmung!$C$5:$C$204,A31) -> 6
A32: 10 | B32: =COUNTIF(Stimmung!$C$5:$C$204,A32) -> 7
A40: Hinweis: Nach neuen Einträgen ggf. Daten > Alle aktualisieren (Diagramme/Tabellen).
