Workbook

Sheet Tilgungsplan
A2: Tilgungsplan
A4: Der Plan endet automatisch, sobald die Restschuld 0 € erreicht.
A6: Periode | B6: Zahlungsdatum | C6: Anfangssaldo (€) | D6: Regelrate (€) | E6: Zinsen (€) | F6: Tilgungsanteil (€) | G6: Sondertilgung (€) | H6: Gesamtzahlung (€) | I6: Restschuld (€)
A7: =IF(AND(Rechner!D7>0,Rechner!D9>0,Rechner!D10>0),1,"") -> 1 | B7: =IF(N(A7)=0,"",Rechner!D11) -> 45292 | C7: =IF(N(A7)=0,"",Rechner!D7) -> 250000 | D7: =IF(N(A7)=0,"",MIN(Rechner!D14,N(C7)+N(E7))) -> 1122.61 | E7: =IF(N(A7)=0,"",ROUND(N(C7)*(Rechner!D8/Rechner!D10),2)) -> 729.17 | F7: =IF(N(A7)=0,"",MAX(MIN(N(D7)-N(E7),N(C7)),0)) -> 393.44 | G7: =IF(N(A7)=0,"",MIN(IFERROR(Rechner!D12/Rechner!D10,0),MAX(N(C7)-N(F7),0))) -> 0 | H7: =IF(N(A7)=0,"",MIN(N(D7)+N(G7),N(C7)+N(E7))) -> 1122.61 | I7: =IF(N(A7)=0,"",MAX(N(C7)-N(F7)-N(G7),0)) -> 249606.56
A8: =IF(N(I7)>0,N(A7)+1,"") -> 2 | B8: =IF(N(A8)=0,"",EDATE(B7,ROUND(12/Rechner!D10,0))) -> 45323 | C8: =IF(N(A8)=0,"",N(I7)) -> 249606.56 | D8: =IF(N(A8)=0,"",MIN(Rechner!D14,N(C8)+N(E8))) -> 1122.61 | E8: =IF(N(A8)=0,"",ROUND(N(C8)*(Rechner!D8/Rechner!D10),2)) -> 728.02 | F8: =IF(N(A8)=0,"",MAX(MIN(N(D8)-N(E8),N(C8)),0)) -> 394.59 | G8: =IF(N(A8)=0,"",MIN(IFERROR(Rechner!D12/Rechner!D10,0),MAX(N(C8)-N(F8),0))) -> 0 | H8: =IF(N(A8)=0,"",MIN(N(D8)+N(G8),N(C8)+N(E8))) -> 1122.61 | I8: =IF(N(A8)=0,"",MAX(N(C8)-N(F8)-N(G8),0)) -> 249211.97
A9: =IF(N(I8)>0,N(A8)+1,"") -> 3 | B9: =IF(N(A9)=0,"",EDATE(B8,ROUND(12/Rechner!D10,0))) -> 45352 | C9: =IF(N(A9)=0,"",N(I8)) -> 249211.97 | D9: =IF(N(A9)=0,"",MIN(Rechner!D14,N(C9)+N(E9))) -> 1122.61 | E9: =IF(N(A9)=0,"",ROUND(N(C9)*(Rechner!D8/Rechner!D10),2)) -> 726.87 | F9: =IF(N(A9)=0,"",MAX(MIN(N(D9)-N(E9),N(C9)),0)) -> 395.74 | G9: =IF(N(A9)=0,"",MIN(IFERROR(Rechner!D12/Rechner!D10,0),MAX(N(C9)-N(F9),0))) -> 0 | H9: =IF(N(A9)=0,"",MIN(N(D9)+N(G9),N(C9)+N(E9))) -> 1122.61 | I9: =IF(N(A9)=0,"",MAX(N(C9)-N(F9)-N(G9),0)) -> 248816.23
A10: =IF(N(I9)>0,N(A9)+1,"") -> 4 | B10: =IF(N(A10)=0,"",EDATE(B9,ROUND(12/Rechner!D10,0))) -> 45383 | C10: =IF(N(A10)=0,"",N(I9)) -> 248816.23 | D10: =IF(N(A10)=0,"",MIN(Rechner!D14,N(C10)+N(E10))) -> 1122.61 | E10: =IF(N(A10)=0,"",ROUND(N(C10)*(Rechner!D8/Rechner!D10),2)) -> 725.71 | F10: =IF(N(A10)=0,"",MAX(MIN(N(D10)-N(E10),N(C10)),0)) -> 396.9 | G10: =IF(N(A10)=0,"",MIN(IFERROR(Rechner!D12/Rechner!D10,0),MAX(N(C10)-N(F10),0))) -> 0 | H10: =IF(N(A10)=0,"",MIN(N(D10)+N(G10),N(C10)+N(E10))) -> 1122.61 | I10: =IF(N(A10)=0,"",MAX(N(C10)-N(F10)-N(G10),0)) -> 248419.33
A11: =IF(N(I10)>0,N(A10)+1,"") -> 5 | B11: =IF(N(A11)=0,"",EDATE(B10,ROUND(12/Rechner!D10,0))) -> 45413 | C11: =IF(N(A11)=0,"",N(I10)) -> 248419.33 | D11: =IF(N(A11)=0,"",MIN(Rechner!D14,N(C11)+N(E11))) -> 1122.61 | E11: =IF(N(A11)=0,"",ROUND(N(C11)*(Rechner!D8/Rechner!D10),2)) -> 724.56 | F11: =IF(N(A11)=0,"",MAX(MIN(N(D11)-N(E11),N(C11)),0)) -> 398.05 | G11: =IF(N(A11)=0,"",MIN(IFERROR(Rechner!D12/Rechner!D10,0),MAX(N(C11)-N(F11),0))) -> 0 | H11: =IF(N(A11)=0,"",MIN(N(D11)+N(G11),N(C11)+N(E11))) -> 1122.61 | I11: =IF(N(A11)=0,"",MAX(N(C11)-N(F11)-N(G11),0)) -> 248021.28
A12: =IF(N(I11)>0,N(A11)+1,"") -> 6 | B12: =IF(N(A12)=0,"",EDATE(B11,ROUND(12/Rechner!D10,0))) -> 45444 | C12: =IF(N(A12)=0,"",N(I11)) -> 248021.28 | D12: =IF(N(A12)=0,"",MIN(Rechner!D14,N(C12)+N(E12))) -> 1122.61 | E12: =IF(N(A12)=0,"",ROUND(N(C12)*(Rechner!D8/Rechner!D10),2)) -> 723.4 | F12: =IF(N(A12)=0,"",MAX(MIN(N(D12)-N(E12),N(C12)),0)) -> 399.21 | G12: =IF(N(A12)=0,"",MIN(IFERROR(Rechner!D12/Rechner!D10,0),MAX(N(C12)-N(F12),0))) -> 0 | H12: =IF(N(A12)=0,"",MIN(N(D12)+N(G12),N(C12)+N(E12))) -> 1122.61 | I12: =IF(N(A12)=0,"",MAX(N(C12)-N(F12)-N(G12),0)) -> 247622.07
A13: =IF(N(I12)>0,N(A12)+1,"") -> 7 | B13: =IF(N(A13)=0,"",EDATE(B12,ROUND(12/Rechner!D10,0))) -> 45474 | C13: =IF(N(A13)=0,"",N(I12)) -> 247622.07 | D13: =IF(N(A13)=0,"",MIN(Rechner!D14,N(C13)+N(E13))) -> 1122.61 | E13: =IF(N(A13)=0,"",ROUND(N(C13)*(Rechner!D8/Rechner!D10),2)) -> 722.23 | F13: =IF(N(A13)=0,"",MAX(MIN(N(D13)-N(E13),N(C13)),0)) -> 400.38 | G13: =IF(N(A13)=0,"",MIN(IFERROR(Rechner!D12/Rechner!D10,0),MAX(N(C13)-N(F13),0))) -> 0 | H13: =IF(N(A13)=0,"",MIN(N(D13)+N(G13),N(C13)+N(E13))) -> 1122.61 | I13: =IF(N(A13)=0,"",MAX(N(C13)-N(F13)-N(G13),0)) -> 247221.69
A14: =IF(N(I13)>0,N(A13)+1,"") -> 8 | B14: =IF(N(A14)=0,"",EDATE(B13,ROUND(12/Rechner!D10,0))) -> 45505 | C14: =IF(N(A14)=0,"",N(I13)) -> 247221.69 | D14: =IF(N(A14)=0,"",MIN(Rechner!D14,N(C14)+N(E14))) -> 1122.61 | E14: =IF(N(A14)=0,"",ROUND(N(C14)*(Rechner!D8/Rechner!D10),2)) -> 721.06 | F14: =IF(N(A14)=0,"",MAX(MIN(N(D14)-N(E14),N(C14)),0)) -> 401.55 | G14: =IF(N(A14)=0,"",MIN(IFERROR(Rechner!D12/Rechner!D10,0),MAX(N(C14)-N(F14),0))) -> 0 | H14: =IF(N(A14)=0,"",MIN(N(D14)+N(G14),N(C14)+N(E14))) -> 1122.61 | I14: =IF(N(A14)=0,"",MAX(N(C14)-N(F14)-N(G14),0)) -> 246820.14
A15: =IF(N(I14)>0,N(A14)+1,"") -> 9 | B15: =IF(N(A15)=0,"",EDATE(B14,ROUND(12/Rechner!D10,0))) -> 45536 | C15: =IF(N(A15)=0,"",N(I14)) -> 246820.14 | D15: =IF(N(A15)=0,"",MIN(Rechner!D14,N(C15)+N(E15))) -> 1122.61 | E15: =IF(N(A15)=0,"",ROUND(N(C15)*(Rechner!D8/Rechner!D10),2)) -> 719.89 | F15: =IF(N(A15)=0,"",MAX(MIN(N(D15)-N(E15),N(C15)),0)) -> 402.72 | G15: =IF(N(A15)=0,"",MIN(IFERROR(Rechner!D12/Rechner!D10,0),MAX(N(C15)-N(F15),0))) -> 0 | H15: =IF(N(A15)=0,"",MIN(N(D15)+N(G15),N(C15)+N(E15))) -> 1122.61 | I15: =IF(N(A15)=0,"",MAX(N(C15)-N(F15)-N(G15),0)) -> 246417.42
A16: =IF(N(I15)>0,N(A15)+1,"") -> 10 | B16: =IF(N(A16)=0,"",EDATE(B15,ROUND(12/Rechner!D10,0))) -> 45566 | C16: =IF(N(A16)=0,"",N(I15)) -> 246417.42 | D16: =IF(N(A16)=0,"",MIN(Rechner!D14,N(C16)+N(E16))) -> 1122.61 | E16: =IF(N(A16)=0,"",ROUND(N(C16)*(Rechner!D8/Rechner!D10),2)) -> 718.72 | F16: =IF(N(A16)=0,"",MAX(MIN(N(D16)-N(E16),N(C16)),0)) -> 403.89 | G16: =IF(N(A16)=0,"",MIN(IFERROR(Rechner!D12/Rechner!D10,0),MAX(N(C16)-N(F16),0))) -> 0 | H16: =IF(N(A16)=0,"",MIN(N(D16)+N(G16),N(C16)+N(E16))) -> 1122.61 | I16: =IF(N(A16)=0,"",MAX(N(C16)-N(F16)-N(G16),0)) -> 246013.53
A17: =IF(N(I16)>0,N(A16)+1,"") -> 11 | B17: =IF(N(A17)=0,"",EDATE(B16,ROUND(12/Rechner!D10,0))) -> 45597 | C17: =IF(N(A17)=0,"",N(I16)) -> 246013.53 | D17: =IF(N(A17)=0,"",MIN(Rechner!D14,N(C17)+N(E17))) -> 1122.61 | E17: =IF(N(A17)=0,"",ROUND(N(C17)*(Rechner!D8/Rechner!D10),2)) -> 717.54 | F17: =IF(N(A17)=0,"",MAX(MIN(N(D17)-N(E17),N(C17)),0)) -> 405.07 | G17: =IF(N(A17)=0,"",MIN(IFERROR(Rechner!D12/Rechner!D10,0),MAX(N(C17)-N(F17),0))) -> 0 | H17: =IF(N(A17)=0,"",MIN(N(D17)+N(G17),N(C17)+N(E17))) -> 1122.61 | I17: =IF(N(A17)=0,"",MAX(N(C17)-N(F17)-N(G17),0)) -> 245608.46
A18: =IF(N(I17)>0,N(A17)+1,"") -> 12 | B18: =IF(N(A18)=0,"",EDATE(B17,ROUND(12/Rechner!D10,0))) -> 45627 | C18: =IF(N(A18)=0,"",N(I17)) -> 245608.46 | D18: =IF(N(A18)=0,"",MIN(Rechner!D14,N(C18)+N(E18))) -> 1122.61 | E18: =IF(N(A18)=0,"",ROUND(N(C18)*(Rechner!D8/Rechner!D10),2)) -> 716.36 | F18: =IF(N(A18)=0,"",MAX(MIN(N(D18)-N(E18),N(C18)),0)) -> 406.25 | G18: =IF(N(A18)=0,"",MIN(IFERROR(Rechner!D12/Rechner!D10,0),MAX(N(C18)-N(F18),0))) -> 0 | H18: =IF(N(A18)=0,"",MIN(N(D18)+N(G18),N(C18)+N(E18))) -> 1122.61 | I18: =IF(N(A18)=0,"",MAX(N(C18)-N(F18)-N(G18),0)) -> 245202.21
A19: =IF(N(I18)>0,N(A18)+1,"") -> 13 | B19: =IF(N(A19)=0,"",EDATE(B18,ROUND(12/Rechner!D10,0))) -> 45658 | C19: =IF(N(A19)=0,"",N(I18)) -> 245202.21 | D19: =IF(N(A19)=0,"",MIN(Rechner!D14,N(C19)+N(E19))) -> 1122.61 | E19: =IF(N(A19)=0,"",ROUND(N(C19)*(Rechner!D8/Rechner!D10),2)) -> 715.17 | F19: =IF(N(A19)=0,"",MAX(MIN(N(D19)-N(E19),N(C19)),0)) -> 407.44 | G19: =IF(N(A19)=0,"",MIN(IFERROR(Rechner!D12/Rechner!D10,0),MAX(N(C19)-N(F19),0))) -> 0 | H19: =IF(N(A19)=0,"",MIN(N(D19)+N(G19),N(C19)+N(E19))) -> 1122.61 | I19: =IF(N(A19)=0,"",MAX(N(C19)-N(F19)-N(G19),0)) -> 244794.77
A20: =IF(N(I19)>0,N(A19)+1,"") -> 14 | B20: =IF(N(A20)=0,"",EDATE(B19,ROUND(12/Rechner!D10,0))) -> 45689 | C20: =IF(N(A20)=0,"",N(I19)) -> 244794.77 | D20: =IF(N(A20)=0,"",MIN(Rechner!D14,N(C20)+N(E20))) -> 1122.61 | E20: =IF(N(A20)=0,"",ROUND(N(C20)*(Rechner!D8/Rechner!D10),2)) -> 713.98 | F20: =IF(N(A20)=0,"",MAX(MIN(N(D20)-N(E20),N(C20)),0)) -> 408.63 | G20: =IF(N(A20)=0,"",MIN(IFERROR(Rechner!D12/Rechner!D10,0),MAX(N(C20)-N(F20),0))) -> 0 | H20: =IF(N(A20)=0,"",MIN(N(D20)+N(G20),N(C20)+N(E20))) -> 1122.61 | I20: =IF(N(A20)=0,"",MAX(N(C20)-N(F20)-N(G20),0)) -> 244386.14
A21: =IF(N(I20)>0,N(A20)+1,"") -> 15 | B21: =IF(N(A21)=0,"",EDATE(B20,ROUND(12/Rechner!D10,0))) -> 45717 | C21: =IF(N(A21)=0,"",N(I20)) -> 244386.14 | D21: =IF(N(A21)=0,"",MIN(Rechner!D14,N(C21)+N(E21))) -> 1122.61 | E21: =IF(N(A21)=0,"",ROUND(N(C21)*(Rechner!D8/Rechner!D10),2)) -> 712.79 | F21: =IF(N(A21)=0,"",MAX(MIN(N(D21)-N(E21),N(C21)),0)) -> 409.82 | G21: =IF(N(A21)=0,"",MIN(IFERROR(Rechner!D12/Rechner!D10,0),MAX(N(C21)-N(F21),0))) -> 0 | H21: =IF(N(A21)=0,"",MIN(N(D21)+N(G21),N(C21)+N(E21))) -> 1122.61 | I21: =IF(N(A21)=0,"",MAX(N(C21)-N(F21)-N(G21),0)) -> 243976.32
A22: =IF(N(I21)>0,N(A21)+1,"") -> 16 | B22: =IF(N(A22)=0,"",EDATE(B21,ROUND(12/Rechner!D10,0))) -> 45748 | C22: =IF(N(A22)=0,"",N(I21)) -> 243976.32 | D22: =IF(N(A22)=0,"",MIN(Rechner!D14,N(C22)+N(E22))) -> 1122.61 | E22: =IF(N(A22)=0,"",ROUND(N(C22)*(Rechner!D8/Rechner!D10),2)) -> 711.6 | F22: =IF(N(A22)=0,"",MAX(MIN(N(D22)-N(E22),N(C22)),0)) -> 411.01 | G22: =IF(N(A22)=0,"",MIN(IFERROR(Rechner!D12/Rechner!D10,0),MAX(N(C22)-N(F22),0))) -> 0 | H22: =IF(N(A22)=0,"",MIN(N(D22)+N(G22),N(C22)+N(E22))) -> 1122.61 | I22: =IF(N(A22)=0,"",MAX(N(C22)-N(F22)-N(G22),0)) -> 243565.31
A23: =IF(N(I22)>0,N(A22)+1,"") -> 17 | B23: =IF(N(A23)=0,"",EDATE(B22,ROUND(12/Rechner!D10,0))) -> 45778 | C23: =IF(N(A23)=0,"",N(I22)) -> 243565.31 | D23: =IF(N(A23)=0,"",MIN(Rechner!D14,N(C23)+N(E23))) -> 1122.61 | E23: =IF(N(A23)=0,"",ROUND(N(C23)*(Rechner!D8/Rechner!D10),2)) -> 710.4 | F23: =IF(N(A23)=0,"",MAX(MIN(N(D23)-N(E23),N(C23)),0)) -> 412.21 | G23: =IF(N(A23)=0,"",MIN(IFERROR(Rechner!D12/Rechner!D10,0),MAX(N(C23)-N(F23),0))) -> 0 | H23: =IF(N(A23)=0,"",MIN(N(D23)+N(G23),N(C23)+N(E23))) -> 1122.61 | I23: =IF(N(A23)=0,"",MAX(N(C23)-N(F23)-N(G23),0)) -> 243153.1
A24: =IF(N(I23)>0,N(A23)+1,"") -> 18 | B24: =IF(N(A24)=0,"",EDATE(B23,ROUND(12/Rechner!D10,0))) -> 45809 | C24: =IF(N(A24)=0,"",N(I23)) -> 243153.1 | D24: =IF(N(A24)=0,"",MIN(Rechner!D14,N(C24)+N(E24))) -> 1122.61 | E24: =IF(N(A24)=0,"",ROUND(N(C24)*(Rechner!D8/Rechner!D10),2)) -> 709.2 | F24: =IF(N(A24)=0,"",MAX(MIN(N(D24)-N(E24),N(C24)),0)) -> 413.41 | G24: =IF(N(A24)=0,"",MIN(IFERROR(Rechner!D12/Rechner!D10,0),MAX(N(C24)-N(F24),0))) -> 0 | H24: =IF(N(A24)=0,"",MIN(N(D24)+N(G24),N(C24)+N(E24))) -> 1122.61 | I24: =IF(N(A24)=0,"",MAX(N(C24)-N(F24)-N(G24),0)) -> 242739.69
A25: =IF(N(I24)>0,N(A24)+1,"") -> 19 | B25: =IF(N(A25)=0,"",EDATE(B24,ROUND(12/Rechner!D10,0))) -> 45839 | C25: =IF(N(A25)=0,"",N(I24)) -> 242739.69 | D25: =IF(N(A25)=0,"",MIN(Rechner!D14,N(C25)+N(E25))) -> 1122.61 | E25: =IF(N(A25)=0,"",ROUND(N(C25)*(Rechner!D8/Rechner!D10),2)) -> 707.99 | F25: =IF(N(A25)=0,"",MAX(MIN(N(D25)-N(E25),N(C25)),0)) -> 414.62 | G25: =IF(N(A25)=0,"",MIN(IFERROR(Rechner!D12/Rechner!D10,0),MAX(N(C25)-N(F25),0))) -> 0 | H25: =IF(N(A25)=0,"",MIN(N(D25)+N(G25),N(C25)+N(E25))) -> 1122.61 | I25: =IF(N(A25)=0,"",MAX(N(C25)-N(F25)-N(G25),0)) -> 242325.07
A26: =IF(N(I25)>0,N(A25)+1,"") -> 20 | B26: =IF(N(A26)=0,"",EDATE(B25,ROUND(12/Rechner!D10,0))) -> 45870 | C26: =IF(N(A26)=0,"",N(I25)) -> 242325.07 | D26: =IF(N(A26)=0,"",MIN(Rechner!D14,N(C26)+N(E26))) -> 1122.61 | E26: =IF(N(A26)=0,"",ROUND(N(C26)*(Rechner!D8/Rechner!D10),2)) -> 706.78 | F26: =IF(N(A26)=0,"",MAX(MIN(N(D26)-N(E26),N(C26)),0)) -> 415.83 | G26: =IF(N(A26)=0,"",MIN(IFERROR(Rechner!D12/Rechner!D10,0),MAX(N(C26)-N(F26),0))) -> 0 | H26: =IF(N(A26)=0,"",MIN(N(D26)+N(G26),N(C26)+N(E26))) -> 1122.61 | I26: =IF(N(A26)=0,"",MAX(N(C26)-N(F26)-N(G26),0)) -> 241909.24
A27: =IF(N(I26)>0,N(A26)+1,"") -> 21 | B27: =IF(N(A27)=0,"",EDATE(B26,ROUND(12/Rechner!D10,0))) -> 45901 | C27: =IF(N(A27)=0,"",N(I26)) -> 241909.24 | D27: =IF(N(A27)=0,"",MIN(Rechner!D14,N(C27)+N(E27))) -> 1122.61 | E27: =IF(N(A27)=0,"",ROUND(N(C27)*(Rechner!D8/Rechner!D10),2)) -> 705.57 | F27: =IF(N(A27)=0,"",MAX(MIN(N(D27)-N(E27),N(C27)),0)) -> 417.04 | G27: =IF(N(A27)=0,"",MIN(IFERROR(Rechner!D12/Rechner!D10,0),MAX(N(C27)-N(F27),0))) -> 0 | H27: =IF(N(A27)=0,"",MIN(N(D27)+N(G27),N(C27)+N(E27))) -> 1122.61 | I27: =IF(N(A27)=0,"",MAX(N(C27)-N(F27)-N(G27),0)) -> 241492.2
A28: =IF(N(I27)>0,N(A27)+1,"") -> 22 | B28: =IF(N(A28)=0,"",EDATE(B27,ROUND(12/Rechner!D10,0))) -> 45931 | C28: =IF(N(A28)=0,"",N(I27)) -> 241492.2 | D28: =IF(N(A28)=0,"",MIN(Rechner!D14,N(C28)+N(E28))) -> 1122.61 | E28: =IF(N(A28)=0,"",ROUND(N(C28)*(Rechner!D8/Rechner!D10),2)) -> 704.35 | F28: =IF(N(A28)=0,"",MAX(MIN(N(D28)-N(E28),N(C28)),0)) -> 418.26 | G28: =IF(N(A28)=0,"",MIN(IFERROR(Rechner!D12/Rechner!D10,0),MAX(N(C28)-N(F28),0))) -> 0 | H28: =IF(N(A28)=0,"",MIN(N(D28)+N(G28),N(C28)+N(E28))) -> 1122.61 | I28: =IF(N(A28)=0,"",MAX(N(C28)-N(F28)-N(G28),0)) -> 241073.94
A29: =IF(N(I28)>0,N(A28)+1,"") -> 23 | B29: =IF(N(A29)=0,"",EDATE(B28,ROUND(12/Rechner!D10,0))) -> 45962 | C29: =IF(N(A29)=0,"",N(I28)) -> 241073.94 | D29: =IF(N(A29)=0,"",MIN(Rechner!D14,N(C29)+N(E29))) -> 1122.61 | E29: =IF(N(A29)=0,"",ROUND(N(C29)*(Rechner!D8/Rechner!D10),2)) -> 703.13 | F29: =IF(N(A29)=0,"",MAX(MIN(N(D29)-N(E29),N(C29)),0)) -> 419.48 | G29: =IF(N(A29)=0,"",MIN(IFERROR(Rechner!D12/Rechner!D10,0),MAX(N(C29)-N(F29),0))) -> 0 | H29: =IF(N(A29)=0,"",MIN(N(D29)+N(G29),N(C29)+N(E29))) -> 1122.61 | I29: =IF(N(A29)=0,"",MAX(N(C29)-N(F29)-N(G29),0)) -> 240654.46
A30: =IF(N(I29)>0,N(A29)+1,"") -> 24 | B30: =IF(N(A30)=0,"",EDATE(B29,ROUND(12/Rechner!D10,0))) -> 45992 | C30: =IF(N(A30)=0,"",N(I29)) -> 240654.46 | D30: =IF(N(A30)=0,"",MIN(Rechner!D14,N(C30)+N(E30))) -> 1122.61 | E30: =IF(N(A30)=0,"",ROUND(N(C30)*(Rechner!D8/Rechner!D10),2)) -> 701.91 | F30: =IF(N(A30)=0,"",MAX(MIN(N(D30)-N(E30),N(C30)),0)) -> 420.7 | G30: =IF(N(A30)=0,"",MIN(IFERROR(Rechner!D12/Rechner!D10,0),MAX(N(C30)-N(F30),0))) -> 0 | H30: =IF(N(A30)=0,"",MIN(N(D30)+N(G30),N(C30)+N(E30))) -> 1122.61 | I30: =IF(N(A30)=0,"",MAX(N(C30)-N(F30)-N(G30),0)) -> 240233.76
A31: =IF(N(I30)>0,N(A30)+1,"") -> 25 | B31: =IF(N(A31)=0,"",EDATE(B30,ROUND(12/Rechner!D10,0))) -> 46023 | C31: =IF(N(A31)=0,"",N(I30)) -> 240233.76 | D31: =IF(N(A31)=0,"",MIN(Rechner!D14,N(C31)+N(E31))) -> 1122.61 | E31: =IF(N(A31)=0,"",ROUND(N(C31)*(Rechner!D8/Rechner!D10),2)) -> 700.68 | F31: =IF(N(A31)=0,"",MAX(MIN(N(D31)-N(E31),N(C31)),0)) -> 421.93 | G31: =IF(N(A31)=0,"",MIN(IFERROR(Rechner!D12/Rechner!D10,0),MAX(N(C31)-N(F31),0))) -> 0 | H31: =IF(N(A31)=0,"",MIN(N(D31)+N(G31),N(C31)+N(E31))) -> 1122.61 | I31: =IF(N(A31)=0,"",MAX(N(C31)-N(F31)-N(G31),0)) -> 239811.83
A32: =IF(N(I31)>0,N(A31)+1,"") -> 26 | B32: =IF(N(A32)=0,"",EDATE(B31,ROUND(12/Rechner!D10,0))) -> 46054 | C32: =IF(N(A32)=0,"",N(I31)) -> 239811.83 | D32: =IF(N(A32)=0,"",MIN(Rechner!D14,N(C32)+N(E32))) -> 1122.61 | E32: =IF(N(A32)=0,"",ROUND(N(C32)*(Rechner!D8/Rechner!D10),2)) -> 699.45 | F32: =IF(N(A32)=0,"",MAX(MIN(N(D32)-N(E32),N(C32)),0)) -> 423.16 | G32: =IF(N(A32)=0,"",MIN(IFERROR(Rechner!D12/Rechner!D10,0),MAX(N(C32)-N(F32),0))) -> 0 | H32: =IF(N(A32)=0,"",MIN(N(D32)+N(G32),N(C32)+N(E32))) -> 1122.61 | I32: =IF(N(A32)=0,"",MAX(N(C32)-N(F32)-N(G32),0)) -> 239388.67
A33: =IF(N(I32)>0,N(A32)+1,"") -> 27 | B33: =IF(N(A33)=0,"",EDATE(B32,ROUND(12/Rechner!D10,0))) -> 46082 | C33: =IF(N(A33)=0,"",N(I32)) -> 239388.67 | D33: =IF(N(A33)=0,"",MIN(Rechner!D14,N(C33)+N(E33))) -> 1122.61 | E33: =IF(N(A33)=0,"",ROUND(N(C33)*(Rechner!D8/Rechner!D10),2)) -> 698.22 | F33: =IF(N(A33)=0,"",MAX(MIN(N(D33)-N(E33),N(C33)),0)) -> 424.39 | G33: =IF(N(A33)=0,"",MIN(IFERROR(Rechner!D12/Rechner!D10,0),MAX(N(C33)-N(F33),0))) -> 0 | H33: =IF(N(A33)=0,"",MIN(N(D33)+N(G33),N(C33)+N(E33))) -> 1122.61 | I33: =IF(N(A33)=0,"",MAX(N(C33)-N(F33)-N(G33),0)) -> 238964.28
A34: =IF(N(I33)>0,N(A33)+1,"") -> 28 | B34: =IF(N(A34)=0,"",EDATE(B33,ROUND(12/Rechner!D10,0))) -> 46113 | C34: =IF(N(A34)=0,"",N(I33)) -> 238964.28 | D34: =IF(N(A34)=0,"",MIN(Rechner!D14,N(C34)+N(E34))) -> 1122.61 | E34: =IF(N(A34)=0,"",ROUND(N(C34)*(Rechner!D8/Rechner!D10),2)) -> 696.98 | F34: =IF(N(A34)=0,"",MAX(MIN(N(D34)-N(E34),N(C34)),0)) -> 425.63 | G34: =IF(N(A34)=0,"",MIN(IFERROR(Rechner!D12/Rechner!D10,0),MAX(N(C34)-N(F34),0))) -> 0 | H34: =IF(N(A34)=0,"",MIN(N(D34)+N(G34),N(C34)+N(E34))) -> 1122.61 | I34: =IF(N(A34)=0,"",MAX(N(C34)-N(F34)-N(G34),0)) -> 238538.65
A35: =IF(N(I34)>0,N(A34)+1,"") -> 29 | B35: =IF(N(A35)=0,"",EDATE(B34,ROUND(12/Rechner!D10,0))) -> 46143 | C35: =IF(N(A35)=0,"",N(I34)) -> 238538.65 | D35: =IF(N(A35)=0,"",MIN(Rechner!D14,N(C35)+N(E35))) -> 1122.61 | E35: =IF(N(A35)=0,"",ROUND(N(C35)*(Rechner!D8/Rechner!D10),2)) -> 695.74 | F35: =IF(N(A35)=0,"",MAX(MIN(N(D35)-N(E35),N(C35)),0)) -> 426.87 | G35: =IF(N(A35)=0,"",MIN(IFERROR(Rechner!D12/Rechner!D10,0),MAX(N(C35)-N(F35),0))) -> 0 | H35: =IF(N(A35)=0,"",MIN(N(D35)+N(G35),N(C35)+N(E35))) -> 1122.61 | I35: =IF(N(A35)=0,"",MAX(N(C35)-N(F35)-N(G35),0)) -> 238111.78
A36: =IF(N(I35)>0,N(A35)+1,"") -> 30 | B36: =IF(N(A36)=0,"",EDATE(B35,ROUND(12/Rechner!D10,0))) -> 46174 | C36: =IF(N(A36)=0,"",N(I35)) -> 238111.78 | D36: =IF(N(A36)=0,"",MIN(Rechner!D14,N(C36)+N(E36))) -> 1122.61 | E36: =IF(N(A36)=0,"",ROUND(N(C36)*(Rechner!D8/Rechner!D10),2)) -> 694.49 | F36: =IF(N(A36)=0,"",MAX(MIN(N(D36)-N(E36),N(C36)),0)) -> 428.12 | G36: =IF(N(A36)=0,"",MIN(IFERROR(Rechner!D12/Rechner!D10,0),MAX(N(C36)-N(F36),0))) -> 0 | H36: =IF(N(A36)=0,"",MIN(N(D36)+N(G36),N(C36)+N(E36))) -> 1122.61 | I36: =IF(N(A36)=0,"",MAX(N(C36)-N(F36)-N(G36),0)) -> 237683.66
A37: =IF(N(I36)>0,N(A36)+1,"") -> 31 | B37: =IF(N(A37)=0,"",EDATE(B36,ROUND(12/Rechner!D10,0))) -> 46204 | C37: =IF(N(A37)=0,"",N(I36)) -> 237683.66 | D37: =IF(N(A37)=0,"",MIN(Rechner!D14,N(C37)+N(E37))) -> 1122.61 | E37: =IF(N(A37)=0,"",ROUND(N(C37)*(Rechner!D8/Rechner!D10),2)) -> 693.24 | F37: =IF(N(A37)=0,"",MAX(MIN(N(D37)-N(E37),N(C37)),0)) -> 429.37 | G37: =IF(N(A37)=0,"",MIN(IFERROR(Rechner!D12/Rechner!D10,0),MAX(N(C37)-N(F37),0))) -> 0 | H37: =IF(N(A37)=0,"",MIN(N(D37)+N(G37),N(C37)+N(E37))) -> 1122.61 | I37: =IF(N(A37)=0,"",MAX(N(C37)-N(F37)-N(G37),0)) -> 237254.29
A38: =IF(N(I37)>0,N(A37)+1,"") -> 32 | B38: =IF(N(A38)=0,"",EDATE(B37,ROUND(12/Rechner!D10,0))) -> 46235 | C38: =IF(N(A38)=0,"",N(I37)) -> 237254.29 | D38: =IF(N(A38)=0,"",MIN(Rechner!D14,N(C38)+N(E38))) -> 1122.61 | E38: =IF(N(A38)=0,"",ROUND(N(C38)*(Rechner!D8/Rechner!D10),2)) -> 691.99 | F38: =IF(N(A38)=0,"",MAX(MIN(N(D38)-N(E38),N(C38)),0)) -> 430.62 | G38: =IF(N(A38)=0,"",MIN(IFERROR(Rechner!D12/Rechner!D10,0),MAX(N(C38)-N(F38),0))) -> 0 | H38: =IF(N(A38)=0,"",MIN(N(D38)+N(G38),N(C38)+N(E38))) -> 1122.61 | I38: =IF(N(A38)=0,"",MAX(N(C38)-N(F38)-N(G38),0)) -> 236823.67
A39: =IF(N(I38)>0,N(A38)+1,"") -> 33 | B39: =IF(N(A39)=0,"",EDATE(B38,ROUND(12/Rechner!D10,0))) -> 46266 | C39: =IF(N(A39)=0,"",N(I38)) -> 236823.67 | D39: =IF(N(A39)=0,"",MIN(Rechner!D14,N(C39)+N(E39))) -> 1122.61 | E39: =IF(N(A39)=0,"",ROUND(N(C39)*(Rechner!D8/Rechner!D10),2)) -> 690.74 | F39: =IF(N(A39)=0,"",MAX(MIN(N(D39)-N(E39),N(C39)),0)) -> 431.87 | G39: =IF(N(A39)=0,"",MIN(IFERROR(Rechner!D12/Rechner!D10,0),MAX(N(C39)-N(F39),0))) -> 0 | H39: =IF(N(A39)=0,"",MIN(N(D39)+N(G39),N(C39)+N(E39))) -> 1122.61 | I39: =IF(N(A39)=0,"",MAX(N(C39)-N(F39)-N(G39),0)) -> 236391.8
A40: =IF(N(I39)>0,N(A39)+1,"") -> 34 | B40: =IF(N(A40)=0,"",EDATE(B39,ROUND(12/Rechner!D10,0))) -> 46296 | C40: =IF(N(A40)=0,"",N(I39)) -> 236391.8 | D40: =IF(N(A40)=0,"",MIN(Rechner!D14,N(C40)+N(E40))) -> 1122.61 | E40: =IF(N(A40)=0,"",ROUND(N(C40)*(Rechner!D8/Rechner!D10),2)) -> 689.48 | F40: =IF(N(A40)=0,"",MAX(MIN(N(D40)-N(E40),N(C40)),0)) -> 433.13 | G40: =IF(N(A40)=0,"",MIN(IFERROR(Rechner!D12/Rechner!D10,0),MAX(N(C40)-N(F40),0))) -> 0 | H40: =IF(N(A40)=0,"",MIN(N(D40)+N(G40),N(C40)+N(E40))) -> 1122.61 | I40: =IF(N(A40)=0,"",MAX(N(C40)-N(F40)-N(G40),0)) -> 235958.67
A41: =IF(N(I40)>0,N(A40)+1,"") -> 35 | B41: =IF(N(A41)=0,"",EDATE(B40,ROUND(12/Rechner!D10,0))) -> 46327 | C41: =IF(N(A41)=0,"",N(I40)) -> 235958.67 | D41: =IF(N(A41)=0,"",MIN(Rechner!D14,N(C41)+N(E41))) -> 1122.61 | E41: =IF(N(A41)=0,"",ROUND(N(C41)*(Rechner!D8/Rechner!D10),2)) -> 688.21 | F41: =IF(N(A41)=0,"",MAX(MIN(N(D41)-N(E41),N(C41)),0)) -> 434.4 | G41: =IF(N(A41)=0,"",MIN(IFERROR(Rechner!D12/Rechner!D10,0),MAX(N(C41)-N(F41),0))) -> 0 | H41: =IF(N(A41)=0,"",MIN(N(D41)+N(G41),N(C41)+N(E41))) -> 1122.61 | I41: =IF(N(A41)=0,"",MAX(N(C41)-N(F41)-N(G41),0)) -> 235524.27
A42: =IF(N(I41)>0,N(A41)+1,"") -> 36 | B42: =IF(N(A42)=0,"",EDATE(B41,ROUND(12/Rechner!D10,0))) -> 46357 | C42: =IF(N(A42)=0,"",N(I41)) -> 235524.27 | D42: =IF(N(A42)=0,"",MIN(Rechner!D14,N(C42)+N(E42))) -> 1122.61 | E42: =IF(N(A42)=0,"",ROUND(N(C42)*(Rechner!D8/Rechner!D10),2)) -> 686.95 | F42: =IF(N(A42)=0,"",MAX(MIN(N(D42)-N(E42),N(C42)),0)) -> 435.66 | G42: =IF(N(A42)=0,"",MIN(IFERROR(Rechner!D12/Rechner!D10,0),MAX(N(C42)-N(F42),0))) -> 0 | H42: =IF(N(A42)=0,"",MIN(N(D42)+N(G42),N(C42)+N(E42))) -> 1122.61 | I42: =IF(N(A42)=0,"",MAX(N(C42)-N(F42)-N(G42),0)) -> 235088.61
A43: =IF(N(I42)>0,N(A42)+1,"") -> 37 | B43: =IF(N(A43)=0,"",EDATE(B42,ROUND(12/Rechner!D10,0))) -> 46388 | C43: =IF(N(A43)=0,"",N(I42)) -> 235088.61 | D43: =IF(N(A43)=0,"",MIN(Rechner!D14,N(C43)+N(E43))) -> 1122.61 | E43: =IF(N(A43)=0,"",ROUND(N(C43)*(Rechner!D8/Rechner!D10),2)) -> 685.68 | F43: =IF(N(A43)=0,"",MAX(MIN(N(D43)-N(E43),N(C43)),0)) -> 436.93 | G43: =IF(N(A43)=0,"",MIN(IFERROR(Rechner!D12/Rechner!D10,0),MAX(N(C43)-N(F43),0))) -> 0 | H43: =IF(N(A43)=0,"",MIN(N(D43)+N(G43),N(C43)+N(E43))) -> 1122.61 | I43: =IF(N(A43)=0,"",MAX(N(C43)-N(F43)-N(G43),0)) -> 234651.68
A44: =IF(N(I43)>0,N(A43)+1,"") -> 38 | B44: =IF(N(A44)=0,"",EDATE(B43,ROUND(12/Rechner!D10,0))) -> 46419 | C44: =IF(N(A44)=0,"",N(I43)) -> 234651.68 | D44: =IF(N(A44)=0,"",MIN(Rechner!D14,N(C44)+N(E44))) -> 1122.61 | E44: =IF(N(A44)=0,"",ROUND(N(C44)*(Rechner!D8/Rechner!D10),2)) -> 684.4 | F44: =IF(N(A44)=0,"",MAX(MIN(N(D44)-N(E44),N(C44)),0)) -> 438.21 | G44: =IF(N(A44)=0,"",MIN(IFERROR(Rechner!D12/Rechner!D10,0),MAX(N(C44)-N(F44),0))) -> 0 | H44: =IF(N(A44)=0,"",MIN(N(D44)+N(G44),N(C44)+N(E44))) -> 1122.61 | I44: =IF(N(A44)=0,"",MAX(N(C44)-N(F44)-N(G44),0)) -> 234213.47
A45: =IF(N(I44)>0,N(A44)+1,"") -> 39 | B45: =IF(N(A45)=0,"",EDATE(B44,ROUND(12/Rechner!D10,0))) -> 46447 | C45: =IF(N(A45)=0,"",N(I44)) -> 234213.47 | D45: =IF(N(A45)=0,"",MIN(Rechner!D14,N(C45)+N(E45))) -> 1122.61 | E45: =IF(N(A45)=0,"",ROUND(N(C45)*(Rechner!D8/Rechner!D10),2)) -> 683.12 | F45: =IF(N(A45)=0,"",MAX(MIN(N(D45)-N(E45),N(C45)),0)) -> 439.49 | G45: =IF(N(A45)=0,"",MIN(IFERROR(Rechner!D12/Rechner!D10,0),MAX(N(C45)-N(F45),0))) -> 0 | H45: =IF(N(A45)=0,"",MIN(N(D45)+N(G45),N(C45)+N(E45))) -> 1122.61 | I45: =IF(N(A45)=0,"",MAX(N(C45)-N(F45)-N(G45),0)) -> 233773.98
A46: =IF(N(I45)>0,N(A45)+1,"") -> 40 | B46: =IF(N(A46)=0,"",EDATE(B45,ROUND(12/Rechner!D10,0))) -> 46478 | C46: =IF(N(A46)=0,"",N(I45)) -> 233773.98 | D46: =IF(N(A46)=0,"",MIN(Rechner!D14,N(C46)+N(E46))) -> 1122.61 | E46: =IF(N(A46)=0,"",ROUND(N(C46)*(Rechner!D8/Rechner!D10),2)) -> 681.84 | F46: =IF(N(A46)=0,"",MAX(MIN(N(D46)-N(E46),N(C46)),0)) -> 440.77 | G46: =IF(N(A46)=0,"",MIN(IFERROR(Rechner!D12/Rechner!D10,0),MAX(N(C46)-N(F46),0))) -> 0 | H46: =IF(N(A46)=0,"",MIN(N(D46)+N(G46),N(C46)+N(E46))) -> 1122.61 | I46: =IF(N(A46)=0,"",MAX(N(C46)-N(F46)-N(G46),0)) -> 233333.21
A47: =IF(N(I46)>0,N(A46)+1,"") -> 41 | B47: =IF(N(A47)=0,"",EDATE(B46,ROUND(12/Rechner!D10,0))) -> 46508 | C47: =IF(N(A47)=0,"",N(I46)) -> 233333.21 | D47: =IF(N(A47)=0,"",MIN(Rechner!D14,N(C47)+N(E47))) -> 1122.61 | E47: =IF(N(A47)=0,"",ROUND(N(C47)*(Rechner!D8/Rechner!D10),2)) -> 680.56 | F47: =IF(N(A47)=0,"",MAX(MIN(N(D47)-N(E47),N(C47)),0)) -> 442.05 | G47: =IF(N(A47)=0,"",MIN(IFERROR(Rechner!D12/Rechner!D10,0),MAX(N(C47)-N(F47),0))) -> 0 | H47: =IF(N(A47)=0,"",MIN(N(D47)+N(G47),N(C47)+N(E47))) -> 1122.61 | I47: =IF(N(A47)=0,"",MAX(N(C47)-N(F47)-N(G47),0)) -> 232891.16
A48: =IF(N(I47)>0,N(A47)+1,"") -> 42 | B48: =IF(N(A48)=0,"",EDATE(B47,ROUND(12/Rechner!D10,0))) -> 46539 | C48: =IF(N(A48)=0,"",N(I47)) -> 232891.16 | D48: =IF(N(A48)=0,"",MIN(Rechner!D14,N(C48)+N(E48))) -> 1122.61 | E48: =IF(N(A48)=0,"",ROUND(N(C48)*(Rechner!D8/Rechner!D10),2)) -> 679.27 | F48: =IF(N(A48)=0,"",MAX(MIN(N(D48)-N(E48),N(C48)),0)) -> 443.34 | G48: =IF(N(A48)=0,"",MIN(IFERROR(Rechner!D12/Rechner!D10,0),MAX(N(C48)-N(F48),0))) -> 0 | H48: =IF(N(A48)=0,"",MIN(N(D48)+N(G48),N(C48)+N(E48))) -> 1122.61 | I48: =IF(N(A48)=0,"",MAX(N(C48)-N(F48)-N(G48),0)) -> 232447.82
A49: =IF(N(I48)>0,N(A48)+1,"") -> 43 | B49: =IF(N(A49)=0,"",EDATE(B48,ROUND(12/Rechner!D10,0))) -> 46569 | C49: =IF(N(A49)=0,"",N(I48)) -> 232447.82 | D49: =IF(N(A49)=0,"",MIN(Rechner!D14,N(C49)+N(E49))) -> 1122.61 | E49: =IF(N(A49)=0,"",ROUND(N(C49)*(Rechner!D8/Rechner!D10),2)) -> 677.97 | F49: =IF(N(A49)=0,"",MAX(MIN(N(D49)-N(E49),N(C49)),0)) -> 444.64 | G49: =IF(N(A49)=0,"",MIN(IFERROR(Rechner!D12/Rechner!D10,0),MAX(N(C49)-N(F49),0))) -> 0 | H49: =IF(N(A49)=0,"",MIN(N(D49)+N(G49),N(C49)+N(E49))) -> 1122.61 | I49: =IF(N(A49)=0,"",MAX(N(C49)-N(F49)-N(G49),0)) -> 232003.18
A50: =IF(N(I49)>0,N(A49)+1,"") -> 44 | B50: =IF(N(A50)=0,"",EDATE(B49,ROUND(12/Rechner!D10,0))) -> 46600 | C50: =IF(N(A50)=0,"",N(I49)) -> 232003.18 | D50: =IF(N(A50)=0,"",MIN(Rechner!D14,N(C50)+N(E50))) -> 1122.61 | E50: =IF(N(A50)=0,"",ROUND(N(C50)*(Rechner!D8/Rechner!D10),2)) -> 676.68 | F50: =IF(N(A50)=0,"",MAX(MIN(N(D50)-N(E50),N(C50)),0)) -> 445.93 | G50: =IF(N(A50)=0,"",MIN(IFERROR(Rechner!D12/Rechner!D10,0),MAX(N(C50)-N(F50),0))) -> 0 | H50: =IF(N(A50)=0,"",MIN(N(D50)+N(G50),N(C50)+N(E50))) -> 1122.61 | I50: =IF(N(A50)=0,"",MAX(N(C50)-N(F50)-N(G50),0)) -> 231557.25
A51: =IF(N(I50)>0,N(A50)+1,"") -> 45 | B51: =IF(N(A51)=0,"",EDATE(B50,ROUND(12/Rechner!D10,0))) -> 46631 | C51: =IF(N(A51)=0,"",N(I50)) -> 231557.25 | D51: =IF(N(A51)=0,"",MIN(Rechner!D14,N(C51)+N(E51))) -> 1122.61 | E51: =IF(N(A51)=0,"",ROUND(N(C51)*(Rechner!D8/Rechner!D10),2)) -> 675.38 | F51: =IF(N(A51)=0,"",MAX(MIN(N(D51)-N(E51),N(C51)),0)) -> 447.23 | G51: =IF(N(A51)=0,"",MIN(IFERROR(Rechner!D12/Rechner!D10,0),MAX(N(C51)-N(F51),0))) -> 0 | H51: =IF(N(A51)=0,"",MIN(N(D51)+N(G51),N(C51)+N(E51))) -> 1122.61 | I51: =IF(N(A51)=0,"",MAX(N(C51)-N(F51)-N(G51),0)) -> 231110.02
A52: =IF(N(I51)>0,N(A51)+1,"") -> 46 | B52: =IF(N(A52)=0,"",EDATE(B51,ROUND(12/Rechner!D10,0))) -> 46661 | C52: =IF(N(A52)=0,"",N(I51)) -> 231110.02 | D52: =IF(N(A52)=0,"",MIN(Rechner!D14,N(C52)+N(E52))) -> 1122.61 | E52: =IF(N(A52)=0,"",ROUND(N(C52)*(Rechner!D8/Rechner!D10),2)) -> 674.07 | F52: =IF(N(A52)=0,"",MAX(MIN(N(D52)-N(E52),N(C52)),0)) -> 448.54 | G52: =IF(N(A52)=0,"",MIN(IFERROR(Rechner!D12/Rechner!D10,0),MAX(N(C52)-N(F52),0))) -> 0 | H52: =IF(N(A52)=0,"",MIN(N(D52)+N(G52),N(C52)+N(E52))) -> 1122.61 | I52: =IF(N(A52)=0,"",MAX(N(C52)-N(F52)-N(G52),0)) -> 230661.48
A53: =IF(N(I52)>0,N(A52)+1,"") -> 47 | B53: =IF(N(A53)=0,"",EDATE(B52,ROUND(12/Rechner!D10,0))) -> 46692 | C53: =IF(N(A53)=0,"",N(I52)) -> 230661.48 | D53: =IF(N(A53)=0,"",MIN(Rechner!D14,N(C53)+N(E53))) -> 1122.61 | E53: =IF(N(A53)=0,"",ROUND(N(C53)*(Rechner!D8/Rechner!D10),2)) -> 672.76 | F53: =IF(N(A53)=0,"",MAX(MIN(N(D53)-N(E53),N(C53)),0)) -> 449.85 | G53: =IF(N(A53)=0,"",MIN(IFERROR(Rechner!D12/Rechner!D10,0),MAX(N(C53)-N(F53),0))) -> 0 | H53: =IF(N(A53)=0,"",MIN(N(D53)+N(G53),N(C53)+N(E53))) -> 1122.61 | I53: =IF(N(A53)=0,"",MAX(N(C53)-N(F53)-N(G53),0)) -> 230211.63
A54: =IF(N(I53)>0,N(A53)+1,"") -> 48 | B54: =IF(N(A54)=0,"",EDATE(B53,ROUND(12/Rechner!D10,0))) -> 46722 | C54: =IF(N(A54)=0,"",N(I53)) -> 230211.63 | D54: =IF(N(A54)=0,"",MIN(Rechner!D14,N(C54)+N(E54))) -> 1122.61 | E54: =IF(N(A54)=0,"",ROUND(N(C54)*(Rechner!D8/Rechner!D10),2)) -> 671.45 | F54: =IF(N(A54)=0,"",MAX(MIN(N(D54)-N(E54),N(C54)),0)) -> 451.16 | G54: =IF(N(A54)=0,"",MIN(IFERROR(Rechner!D12/Rechner!D10,0),MAX(N(C54)-N(F54),0))) -> 0 | H54: =IF(N(A54)=0,"",MIN(N(D54)+N(G54),N(C54)+N(E54))) -> 1122.61 | I54: =IF(N(A54)=0,"",MAX(N(C54)-N(F54)-N(G54),0)) -> 229760.47
A55: =IF(N(I54)>0,N(A54)+1,"") -> 49 | B55: =IF(N(A55)=0,"",EDATE(B54,ROUND(12/Rechner!D10,0))) -> 46753 | C55: =IF(N(A55)=0,"",N(I54)) -> 229760.47 | D55: =IF(N(A55)=0,"",MIN(Rechner!D14,N(C55)+N(E55))) -> 1122.61 | E55: =IF(N(A55)=0,"",ROUND(N(C55)*(Rechner!D8/Rechner!D10),2)) -> 670.13 | F55: =IF(N(A55)=0,"",MAX(MIN(N(D55)-N(E55),N(C55)),0)) -> 452.48 | G55: =IF(N(A55)=0,"",MIN(IFERROR(Rechner!D12/Rechner!D10,0),MAX(N(C55)-N(F55),0))) -> 0 | H55: =IF(N(A55)=0,"",MIN(N(D55)+N(G55),N(C55)+N(E55))) -> 1122.61 | I55: =IF(N(A55)=0,"",MAX(N(C55)-N(F55)-N(G55),0)) -> 229307.99
A56: =IF(N(I55)>0,N(A55)+1,"") -> 50 | B56: =IF(N(A56)=0,"",EDATE(B55,ROUND(12/Rechner!D10,0))) -> 46784 | C56: =IF(N(A56)=0,"",N(I55)) -> 229307.99 | D56: =IF(N(A56)=0,"",MIN(Rechner!D14,N(C56)+N(E56))) -> 1122.61 | E56: =IF(N(A56)=0,"",ROUND(N(C56)*(Rechner!D8/Rechner!D10),2)) -> 668.81 | F56: =IF(N(A56)=0,"",MAX(MIN(N(D56)-N(E56),N(C56)),0)) -> 453.8 | G56: =IF(N(A56)=0,"",MIN(IFERROR(Rechner!D12/Rechner!D10,0),MAX(N(C56)-N(F56),0))) -> 0 | H56: =IF(N(A56)=0,"",MIN(N(D56)+N(G56),N(C56)+N(E56))) -> 1122.61 | I56: =IF(N(A56)=0,"",MAX(N(C56)-N(F56)-N(G56),0)) -> 228854.19
A57: =IF(N(I56)>0,N(A56)+1,"") -> 51 | B57: =IF(N(A57)=0,"",EDATE(B56,ROUND(12/Rechner!D10,0))) -> 46813 | C57: =IF(N(A57)=0,"",N(I56)) -> 228854.19 | D57: =IF(N(A57)=0,"",MIN(Rechner!D14,N(C57)+N(E57))) -> 1122.61 | E57: =IF(N(A57)=0,"",ROUND(N(C57)*(Rechner!D8/Rechner!D10),2)) -> 667.49 | F57: =IF(N(A57)=0,"",MAX(MIN(N(D57)-N(E57),N(C57)),0)) -> 455.12 | G57: =IF(N(A57)=0,"",MIN(IFERROR(Rechner!D12/Rechner!D10,0),MAX(N(C57)-N(F57),0))) -> 0 | H57: =IF(N(A57)=0,"",MIN(N(D57)+N(G57),N(C57)+N(E57))) -> 1122.61 | I57: =IF(N(A57)=0,"",MAX(N(C57)-N(F57)-N(G57),0)) -> 228399.07
A58: =IF(N(I57)>0,N(A57)+1,"") -> 52 | B58: =IF(N(A58)=0,"",EDATE(B57,ROUND(12/Rechner!D10,0))) -> 46844 | C58: =IF(N(A58)=0,"",N(I57)) -> 228399.07 | D58: =IF(N(A58)=0,"",MIN(Rechner!D14,N(C58)+N(E58))) -> 1122.61 | E58: =IF(N(A58)=0,"",ROUND(N(C58)*(Rechner!D8/Rechner!D10),2)) -> 666.16 | F58: =IF(N(A58)=0,"",MAX(MIN(N(D58)-N(E58),N(C58)),0)) -> 456.45 | G58: =IF(N(A58)=0,"",MIN(IFERROR(Rechner!D12/Rechner!D10,0),MAX(N(C58)-N(F58),0))) -> 0 | H58: =IF(N(A58)=0,"",MIN(N(D58)+N(G58),N(C58)+N(E58))) -> 1122.61 | I58: =IF(N(A58)=0,"",MAX(N(C58)-N(F58)-N(G58),0)) -> 227942.62
A59: =IF(N(I58)>0,N(A58)+1,"") -> 53 | B59: =IF(N(A59)=0,"",EDATE(B58,ROUND(12/Rechner!D10,0))) -> 46874 | C59: =IF(N(A59)=0,"",N(I58)) -> 227942.62 | D59: =IF(N(A59)=0,"",MIN(Rechner!D14,N(C59)+N(E59))) -> 1122.61 | E59: =IF(N(A59)=0,"",ROUND(N(C59)*(Rechner!D8/Rechner!D10),2)) -> 664.83 | F59: =IF(N(A59)=0,"",MAX(MIN(N(D59)-N(E59),N(C59)),0)) -> 457.78 | G59: =IF(N(A59)=0,"",MIN(IFERROR(Rechner!D12/Rechner!D10,0),MAX(N(C59)-N(F59),0))) -> 0 | H59: =IF(N(A59)=0,"",MIN(N(D59)+N(G59),N(C59)+N(E59))) -> 1122.61 | I59: =IF(N(A59)=0,"",MAX(N(C59)-N(F59)-N(G59),0)) -> 227484.84
A60: =IF(N(I59)>0,N(A59)+1,"") -> 54 | B60: =IF(N(A60)=0,"",EDATE(B59,ROUND(12/Rechner!D10,0))) -> 46905 | C60: =IF(N(A60)=0,"",N(I59)) -> 227484.84 | D60: =IF(N(A60)=0,"",MIN(Rechner!D14,N(C60)+N(E60))) -> 1122.61 | E60: =IF(N(A60)=0,"",ROUND(N(C60)*(Rechner!D8/Rechner!D10),2)) -> 663.5 | F60: =IF(N(A60)=0,"",MAX(MIN(N(D60)-N(E60),N(C60)),0)) -> 459.11 | G60: =IF(N(A60)=0,"",MIN(IFERROR(Rechner!D12/Rechner!D10,0),MAX(N(C60)-N(F60),0))) -> 0 | H60: =IF(N(A60)=0,"",MIN(N(D60)+N(G60),N(C60)+N(E60))) -> 1122.61 | I60: =IF(N(A60)=0,"",MAX(N(C60)-N(F60)-N(G60),0)) -> 227025.73
A61: =IF(N(I60)>0,N(A60)+1,"") -> 55 | B61: =IF(N(A61)=0,"",EDATE(B60,ROUND(12/Rechner!D10,0))) -> 46935 | C61: =IF(N(A61)=0,"",N(I60)) -> 227025.73 | D61: =IF(N(A61)=0,"",MIN(Rechner!D14,N(C61)+N(E61))) -> 1122.61 | E61: =IF(N(A61)=0,"",ROUND(N(C61)*(Rechner!D8/Rechner!D10),2)) -> 662.16 | F61: =IF(N(A61)=0,"",MAX(MIN(N(D61)-N(E61),N(C61)),0)) -> 460.45 | G61: =IF(N(A61)=0,"",MIN(IFERROR(Rechner!D12/Rechner!D10,0),MAX(N(C61)-N(F61),0))) -> 0 | H61: =IF(N(A61)=0,"",MIN(N(D61)+N(G61),N(C61)+N(E61))) -> 1122.61 | I61: =IF(N(A61)=0,"",MAX(N(C61)-N(F61)-N(G61),0)) -> 226565.28
A62: =IF(N(I61)>0,N(A61)+1,"") -> 56 | B62: =IF(N(A62)=0,"",EDATE(B61,ROUND(12/Rechner!D10,0))) -> 46966 | C62: =IF(N(A62)=0,"",N(I61)) -> 226565.28 | D62: =IF(N(A62)=0,"",MIN(Rechner!D14,N(C62)+N(E62))) -> 1122.61 | E62: =IF(N(A62)=0,"",ROUND(N(C62)*(Rechner!D8/Rechner!D10),2)) -> 660.82 | F62: =IF(N(A62)=0,"",MAX(MIN(N(D62)-N(E62),N(C62)),0)) -> 461.79 | G62: =IF(N(A62)=0,"",MIN(IFERROR(Rechner!D12/Rechner!D10,0),MAX(N(C62)-N(F62),0))) -> 0 | H62: =IF(N(A62)=0,"",MIN(N(D62)+N(G62),N(C62)+N(E62))) -> 1122.61 | I62: =IF(N(A62)=0,"",MAX(N(C62)-N(F62)-N(G62),0)) -> 226103.49
A63: =IF(N(I62)>0,N(A62)+1,"") -> 57 | B63: =IF(N(A63)=0,"",EDATE(B62,ROUND(12/Rechner!D10,0))) -> 46997 | C63: =IF(N(A63)=0,"",N(I62)) -> 226103.49 | D63: =IF(N(A63)=0,"",MIN(Rechner!D14,N(C63)+N(E63))) -> 1122.61 | E63: =IF(N(A63)=0,"",ROUND(N(C63)*(Rechner!D8/Rechner!D10),2)) -> 659.47 | F63: =IF(N(A63)=0,"",MAX(MIN(N(D63)-N(E63),N(C63)),0)) -> 463.14 | G63: =IF(N(A63)=0,"",MIN(IFERROR(Rechner!D12/Rechner!D10,0),MAX(N(C63)-N(F63),0))) -> 0 | H63: =IF(N(A63)=0,"",MIN(N(D63)+N(G63),N(C63)+N(E63))) -> 1122.61 | I63: =IF(N(A63)=0,"",MAX(N(C63)-N(F63)-N(G63),0)) -> 225640.35
A64: =IF(N(I63)>0,N(A63)+1,"") -> 58 | B64: =IF(N(A64)=0,"",EDATE(B63,ROUND(12/Rechner!D10,0))) -> 47027 | C64: =IF(N(A64)=0,"",N(I63)) -> 225640.35 | D64: =IF(N(A64)=0,"",MIN(Rechner!D14,N(C64)+N(E64))) -> 1122.61 | E64: =IF(N(A64)=0,"",ROUND(N(C64)*(Rechner!D8/Rechner!D10),2)) -> 658.12 | F64: =IF(N(A64)=0,"",MAX(MIN(N(D64)-N(E64),N(C64)),0)) -> 464.49 | G64: =IF(N(A64)=0,"",MIN(IFERROR(Rechner!D12/Rechner!D10,0),MAX(N(C64)-N(F64),0))) -> 0 | H64: =IF(N(A64)=0,"",MIN(N(D64)+N(G64),N(C64)+N(E64))) -> 1122.61 | I64: =IF(N(A64)=0,"",MAX(N(C64)-N(F64)-N(G64),0)) -> 225175.86
A65: =IF(N(I64)>0,N(A64)+1,"") -> 59 | B65: =IF(N(A65)=0,"",EDATE(B64,ROUND(12/Rechner!D10,0))) -> 47058 | C65: =IF(N(A65)=0,"",N(I64)) -> 225175.86 | D65: =IF(N(A65)=0,"",MIN(Rechner!D14,N(C65)+N(E65))) -> 1122.61 | E65: =IF(N(A65)=0,"",ROUND(N(C65)*(Rechner!D8/Rechner!D10),2)) -> 656.76 | F65: =IF(N(A65)=0,"",MAX(MIN(N(D65)-N(E65),N(C65)),0)) -> 465.85 | G65: =IF(N(A65)=0,"",MIN(IFERROR(Rechner!D12/Rechner!D10,0),MAX(N(C65)-N(F65),0))) -> 0 | H65: =IF(N(A65)=0,"",MIN(N(D65)+N(G65),N(C65)+N(E65))) -> 1122.61 | I65: =IF(N(A65)=0,"",MAX(N(C65)-N(F65)-N(G65),0)) -> 224710.01
A66: =IF(N(I65)>0,N(A65)+1,"") -> 60 | B66: =IF(N(A66)=0,"",EDATE(B65,ROUND(12/Rechner!D10,0))) -> 47088 | C66: =IF(N(A66)=0,"",N(I65)) -> 224710.01 | D66: =IF(N(A66)=0,"",MIN(Rechner!D14,N(C66)+N(E66))) -> 1122.61 | E66: =IF(N(A66)=0,"",ROUND(N(C66)*(Rechner!D8/Rechner!D10),2)) -> 655.4 | F66: =IF(N(A66)=0,"",MAX(MIN(N(D66)-N(E66),N(C66)),0)) -> 467.21 | G66: =IF(N(A66)=0,"",MIN(IFERROR(Rechner!D12/Rechner!D10,0),MAX(N(C66)-N(F66),0))) -> 0 | H66: =IF(N(A66)=0,"",MIN(N(D66)+N(G66),N(C66)+N(E66))) -> 1122.61 | I66: =IF(N(A66)=0,"",MAX(N(C66)-N(F66)-N(G66),0)) -> 224242.8
A67: =IF(N(I66)>0,N(A66)+1,"") -> 61 | B67: =IF(N(A67)=0,"",EDATE(B66,ROUND(12/Rechner!D10,0))) -> 47119 | C67: =IF(N(A67)=0,"",N(I66)) -> 224242.8 | D67: =IF(N(A67)=0,"",MIN(Rechner!D14,N(C67)+N(E67))) -> 1122.61 | E67: =IF(N(A67)=0,"",ROUND(N(C67)*(Rechner!D8/Rechner!D10),2)) -> 654.04 | F67: =IF(N(A67)=0,"",MAX(MIN(N(D67)-N(E67),N(C67)),0)) -> 468.57 | G67: =IF(N(A67)=0,"",MIN(IFERROR(Rechner!D12/Rechner!D10,0),MAX(N(C67)-N(F67),0))) -> 0 | H67: =IF(N(A67)=0,"",MIN(N(D67)+N(G67),N(C67)+N(E67))) -> 1122.61 | I67: =IF(N(A67)=0,"",MAX(N(C67)-N(F67)-N(G67),0)) -> 223774.23
A68: =IF(N(I67)>0,N(A67)+1,"") -> 62 | B68: =IF(N(A68)=0,"",EDATE(B67,ROUND(12/Rechner!D10,0))) -> 47150 | C68: =IF(N(A68)=0,"",N(I67)) -> 223774.23 | D68: =IF(N(A68)=0,"",MIN(Rechner!D14,N(C68)+N(E68))) -> 1122.61 | E68: =IF(N(A68)=0,"",ROUND(N(C68)*(Rechner!D8/Rechner!D10),2)) -> 652.67 | F68: =IF(N(A68)=0,"",MAX(MIN(N(D68)-N(E68),N(C68)),0)) -> 469.94 | G68: =IF(N(A68)=0,"",MIN(IFERROR(Rechner!D12/Rechner!D10,0),MAX(N(C68)-N(F68),0))) -> 0 | H68: =IF(N(A68)=0,"",MIN(N(D68)+N(G68),N(C68)+N(E68))) -> 1122.61 | I68: =IF(N(A68)=0,"",MAX(N(C68)-N(F68)-N(G68),0)) -> 223304.29
A69: =IF(N(I68)>0,N(A68)+1,"") -> 63 | B69: =IF(N(A69)=0,"",EDATE(B68,ROUND(12/Rechner!D10,0))) -> 47178 | C69: =IF(N(A69)=0,"",N(I68)) -> 223304.29 | D69: =IF(N(A69)=0,"",MIN(Rechner!D14,N(C69)+N(E69))) -> 1122.61 | E69: =IF(N(A69)=0,"",ROUND(N(C69)*(Rechner!D8/Rechner!D10),2)) -> 651.3 | F69: =IF(N(A69)=0,"",MAX(MIN(N(D69)-N(E69),N(C69)),0)) -> 471.31 | G69: =IF(N(A69)=0,"",MIN(IFERROR(Rechner!D12/Rechner!D10,0),MAX(N(C69)-N(F69),0))) -> 0 | H69: =IF(N(A69)=0,"",MIN(N(D69)+N(G69),N(C69)+N(E69))) -> 1122.61 | I69: =IF(N(A69)=0,"",MAX(N(C69)-N(F69)-N(G69),0)) -> 222832.98
A70: =IF(N(I69)>0,N(A69)+1,"") -> 64 | B70: =IF(N(A70)=0,"",EDATE(B69,ROUND(12/Rechner!D10,0))) -> 47209 | C70: =IF(N(A70)=0,"",N(I69)) -> 222832.98 | D70: =IF(N(A70)=0,"",MIN(Rechner!D14,N(C70)+N(E70))) -> 1122.61 | E70: =IF(N(A70)=0,"",ROUND(N(C70)*(Rechner!D8/Rechner!D10),2)) -> 649.93 | F70: =IF(N(A70)=0,"",MAX(MIN(N(D70)-N(E70),N(C70)),0)) -> 472.68 | G70: =IF(N(A70)=0,"",MIN(IFERROR(Rechner!D12/Rechner!D10,0),MAX(N(C70)-N(F70),0))) -> 0 | H70: =IF(N(A70)=0,"",MIN(N(D70)+N(G70),N(C70)+N(E70))) -> 1122.61 | I70: =IF(N(A70)=0,"",MAX(N(C70)-N(F70)-N(G70),0)) -> 222360.3
A71: =IF(N(I70)>0,N(A70)+1,"") -> 65 | B71: =IF(N(A71)=0,"",EDATE(B70,ROUND(12/Rechner!D10,0))) -> 47239 | C71: =IF(N(A71)=0,"",N(I70)) -> 222360.3 | D71: =IF(N(A71)=0,"",MIN(Rechner!D14,N(C71)+N(E71))) -> 1122.61 | E71: =IF(N(A71)=0,"",ROUND(N(C71)*(Rechner!D8/Rechner!D10),2)) -> 648.55 | F71: =IF(N(A71)=0,"",MAX(MIN(N(D71)-N(E71),N(C71)),0)) -> 474.06 | G71: =IF(N(A71)=0,"",MIN(IFERROR(Rechner!D12/Rechner!D10,0),MAX(N(C71)-N(F71),0))) -> 0 | H71: =IF(N(A71)=0,"",MIN(N(D71)+N(G71),N(C71)+N(E71))) -> 1122.61 | I71: =IF(N(A71)=0,"",MAX(N(C71)-N(F71)-N(G71),0)) -> 221886.24
A72: =IF(N(I71)>0,N(A71)+1,"") -> 66 | B72: =IF(N(A72)=0,"",EDATE(B71,ROUND(12/Rechner!D10,0))) -> 47270 | C72: =IF(N(A72)=0,"",N(I71)) -> 221886.24 | D72: =IF(N(A72)=0,"",MIN(Rechner!D14,N(C72)+N(E72))) -> 1122.61 | E72: =IF(N(A72)=0,"",ROUND(N(C72)*(Rechner!D8/Rechner!D10),2)) -> 647.17 | F72: =IF(N(A72)=0,"",MAX(MIN(N(D72)-N(E72),N(C72)),0)) -> 475.44 | G72: =IF(N(A72)=0,"",MIN(IFERROR(Rechner!D12/Rechner!D10,0),MAX(N(C72)-N(F72),0))) -> 0 | H72: =IF(N(A72)=0,"",MIN(N(D72)+N(G72),N(C72)+N(E72))) -> 1122.61 | I72: =IF(N(A72)=0,"",MAX(N(C72)-N(F72)-N(G72),0)) -> 221410.8
A73: =IF(N(I72)>0,N(A72)+1,"") -> 67 | B73: =IF(N(A73)=0,"",EDATE(B72,ROUND(12/Rechner!D10,0))) -> 47300 | C73: =IF(N(A73)=0,"",N(I72)) -> 221410.8 | D73: =IF(N(A73)=0,"",MIN(Rechner!D14,N(C73)+N(E73))) -> 1122.61 | E73: =IF(N(A73)=0,"",ROUND(N(C73)*(Rechner!D8/Rechner!D10),2)) -> 645.78 | F73: =IF(N(A73)=0,"",MAX(MIN(N(D73)-N(E73),N(C73)),0)) -> 476.83 | G73: =IF(N(A73)=0,"",MIN(IFERROR(Rechner!D12/Rechner!D10,0),MAX(N(C73)-N(F73),0))) -> 0 | H73: =IF(N(A73)=0,"",MIN(N(D73)+N(G73),N(C73)+N(E73))) -> 1122.61 | I73: =IF(N(A73)=0,"",MAX(N(C73)-N(F73)-N(G73),0)) -> 220933.97
A74: =IF(N(I73)>0,N(A73)+1,"") -> 68 | B74: =IF(N(A74)=0,"",EDATE(B73,ROUND(12/Rechner!D10,0))) -> 47331 | C74: =IF(N(A74)=0,"",N(I73)) -> 220933.97 | D74: =IF(N(A74)=0,"",MIN(Rechner!D14,N(C74)+N(E74))) -> 1122.61 | E74: =IF(N(A74)=0,"",ROUND(N(C74)*(Rechner!D8/Rechner!D10),2)) -> 644.39 | F74: =IF(N(A74)=0,"",MAX(MIN(N(D74)-N(E74),N(C74)),0)) -> 478.22 | G74: =IF(N(A74)=0,"",MIN(IFERROR(Rechner!D12/Rechner!D10,0),MAX(N(C74)-N(F74),0))) -> 0 | H74: =IF(N(A74)=0,"",MIN(N(D74)+N(G74),N(C74)+N(E74))) -> 1122.61 | I74: =IF(N(A74)=0,"",MAX(N(C74)-N(F74)-N(G74),0)) -> 220455.75
A75: =IF(N(I74)>0,N(A74)+1,"") -> 69 | B75: =IF(N(A75)=0,"",EDATE(B74,ROUND(12/Rechner!D10,0))) -> 47362 | C75: =IF(N(A75)=0,"",N(I74)) -> 220455.75 | D75: =IF(N(A75)=0,"",MIN(Rechner!D14,N(C75)+N(E75))) -> 1122.61 | E75: =IF(N(A75)=0,"",ROUND(N(C75)*(Rechner!D8/Rechner!D10),2)) -> 643 | F75: =IF(N(A75)=0,"",MAX(MIN(N(D75)-N(E75),N(C75)),0)) -> 479.61 | G75: =IF(N(A75)=0,"",MIN(IFERROR(Rechner!D12/Rechner!D10,0),MAX(N(C75)-N(F75),0))) -> 0 | H75: =IF(N(A75)=0,"",MIN(N(D75)+N(G75),N(C75)+N(E75))) -> 1122.61 | I75: =IF(N(A75)=0,"",MAX(N(C75)-N(F75)-N(G75),0)) -> 219976.14
A76: =IF(N(I75)>0,N(A75)+1,"") -> 70 | B76: =IF(N(A76)=0,"",EDATE(B75,ROUND(12/Rechner!D10,0))) -> 47392 | C76: =IF(N(A76)=0,"",N(I75)) -> 219976.14 | D76: =IF(N(A76)=0,"",MIN(Rechner!D14,N(C76)+N(E76))) -> 1122.61 | E76: =IF(N(A76)=0,"",ROUND(N(C76)*(Rechner!D8/Rechner!D10),2)) -> 641.6 | F76: =IF(N(A76)=0,"",MAX(MIN(N(D76)-N(E76),N(C76)),0)) -> 481.01 | G76: =IF(N(A76)=0,"",MIN(IFERROR(Rechner!D12/Rechner!D10,0),MAX(N(C76)-N(F76),0))) -> 0 | H76: =IF(N(A76)=0,"",MIN(N(D76)+N(G76),N(C76)+N(E76))) -> 1122.61 | I76: =IF(N(A76)=0,"",MAX(N(C76)-N(F76)-N(G76),0)) -> 219495.13
A77: =IF(N(I76)>0,N(A76)+1,"") -> 71 | B77: =IF(N(A77)=0,"",EDATE(B76,ROUND(12/Rechner!D10,0))) -> 47423 | C77: =IF(N(A77)=0,"",N(I76)) -> 219495.13 | D77: =IF(N(A77)=0,"",MIN(Rechner!D14,N(C77)+N(E77))) -> 1122.61 | E77: =IF(N(A77)=0,"",ROUND(N(C77)*(Rechner!D8/Rechner!D10),2)) -> 640.19 | F77: =IF(N(A77)=0,"",MAX(MIN(N(D77)-N(E77),N(C77)),0)) -> 482.42 | G77: =IF(N(A77)=0,"",MIN(IFERROR(Rechner!D12/Rechner!D10,0),MAX(N(C77)-N(F77),0))) -> 0 | H77: =IF(N(A77)=0,"",MIN(N(D77)+N(G77),N(C77)+N(E77))) -> 1122.61 | I77: =IF(N(A77)=0,"",MAX(N(C77)-N(F77)-N(G77),0)) -> 219012.71
A78: =IF(N(I77)>0,N(A77)+1,"") -> 72 | B78: =IF(N(A78)=0,"",EDATE(B77,ROUND(12/Rechner!D10,0))) -> 47453 | C78: =IF(N(A78)=0,"",N(I77)) -> 219012.71 | D78: =IF(N(A78)=0,"",MIN(Rechner!D14,N(C78)+N(E78))) -> 1122.61 | E78: =IF(N(A78)=0,"",ROUND(N(C78)*(Rechner!D8/Rechner!D10),2)) -> 638.79 | F78: =IF(N(A78)=0,"",MAX(MIN(N(D78)-N(E78),N(C78)),0)) -> 483.82 | G78: =IF(N(A78)=0,"",MIN(IFERROR(Rechner!D12/Rechner!D10,0),MAX(N(C78)-N(F78),0))) -> 0 | H78: =IF(N(A78)=0,"",MIN(N(D78)+N(G78),N(C78)+N(E78))) -> 1122.61 | I78: =IF(N(A78)=0,"",MAX(N(C78)-N(F78)-N(G78),0)) -> 218528.89
A79: =IF(N(I78)>0,N(A78)+1,"") -> 73 | B79: =IF(N(A79)=0,"",EDATE(B78,ROUND(12/Rechner!D10,0))) -> 47484 | C79: =IF(N(A79)=0,"",N(I78)) -> 218528.89 | D79: =IF(N(A79)=0,"",MIN(Rechner!D14,N(C79)+N(E79))) -> 1122.61 | E79: =IF(N(A79)=0,"",ROUND(N(C79)*(Rechner!D8/Rechner!D10),2)) -> 637.38 | F79: =IF(N(A79)=0,"",MAX(MIN(N(D79)-N(E79),N(C79)),0)) -> 485.23 | G79: =IF(N(A79)=0,"",MIN(IFERROR(Rechner!D12/Rechner!D10,0),MAX(N(C79)-N(F79),0))) -> 0 | H79: =IF(N(A79)=0,"",MIN(N(D79)+N(G79),N(C79)+N(E79))) -> 1122.61 | I79: =IF(N(A79)=0,"",MAX(N(C79)-N(F79)-N(G79),0)) -> 218043.66
A80: =IF(N(I79)>0,N(A79)+1,"") -> 74 | B80: =IF(N(A80)=0,"",EDATE(B79,ROUND(12/Rechner!D10,0))) -> 47515 | C80: =IF(N(A80)=0,"",N(I79)) -> 218043.66 | D80: =IF(N(A80)=0,"",MIN(Rechner!D14,N(C80)+N(E80))) -> 1122.61 | E80: =IF(N(A80)=0,"",ROUND(N(C80)*(Rechner!D8/Rechner!D10),2)) -> 635.96 | F80: =IF(N(A80)=0,"",MAX(MIN(N(D80)-N(E80),N(C80)),0)) -> 486.65 | G80: =IF(N(A80)=0,"",MIN(IFERROR(Rechner!D12/Rechner!D10,0),MAX(N(C80)-N(F80),0))) -> 0 | H80: =IF(N(A80)=0,"",MIN(N(D80)+N(G80),N(C80)+N(E80))) -> 1122.61 | I80: =IF(N(A80)=0,"",MAX(N(C80)-N(F80)-N(G80),0)) -> 217557.01
A81: =IF(N(I80)>0,N(A80)+1,"") -> 75 | B81: =IF(N(A81)=0,"",EDATE(B80,ROUND(12/Rechner!D10,0))) -> 47543 | C81: =IF(N(A81)=0,"",N(I80)) -> 217557.01 | D81: =IF(N(A81)=0,"",MIN(Rechner!D14,N(C81)+N(E81))) -> 1122.61 | E81: =IF(N(A81)=0,"",ROUND(N(C81)*(Rechner!D8/Rechner!D10),2)) -> 634.54 | F81: =IF(N(A81)=0,"",MAX(MIN(N(D81)-N(E81),N(C81)),0)) -> 488.07 | G81: =IF(N(A81)=0,"",MIN(IFERROR(Rechner!D12/Rechner!D10,0),MAX(N(C81)-N(F81),0))) -> 0 | H81: =IF(N(A81)=0,"",MIN(N(D81)+N(G81),N(C81)+N(E81))) -> 1122.61 | I81: =IF(N(A81)=0,"",MAX(N(C81)-N(F81)-N(G81),0)) -> 217068.94
A82: =IF(N(I81)>0,N(A81)+1,"") -> 76 | B82: =IF(N(A82)=0,"",EDATE(B81,ROUND(12/Rechner!D10,0))) -> 47574 | C82: =IF(N(A82)=0,"",N(I81)) -> 217068.94 | D82: =IF(N(A82)=0,"",MIN(Rechner!D14,N(C82)+N(E82))) -> 1122.61 | E82: =IF(N(A82)=0,"",ROUND(N(C82)*(Rechner!D8/Rechner!D10),2)) -> 633.12 | F82: =IF(N(A82)=0,"",MAX(MIN(N(D82)-N(E82),N(C82)),0)) -> 489.49 | G82: =IF(N(A82)=0,"",MIN(IFERROR(Rechner!D12/Rechner!D10,0),MAX(N(C82)-N(F82),0))) -> 0 | H82: =IF(N(A82)=0,"",MIN(N(D82)+N(G82),N(C82)+N(E82))) -> 1122.61 | I82: =IF(N(A82)=0,"",MAX(N(C82)-N(F82)-N(G82),0)) -> 216579.45
A83: =IF(N(I82)>0,N(A82)+1,"") -> 77 | B83: =IF(N(A83)=0,"",EDATE(B82,ROUND(12/Rechner!D10,0))) -> 47604 | C83: =IF(N(A83)=0,"",N(I82)) -> 216579.45 | D83: =IF(N(A83)=0,"",MIN(Rechner!D14,N(C83)+N(E83))) -> 1122.61 | E83: =IF(N(A83)=0,"",ROUND(N(C83)*(Rechner!D8/Rechner!D10),2)) -> 631.69 | F83: =IF(N(A83)=0,"",MAX(MIN(N(D83)-N(E83),N(C83)),0)) -> 490.92 | G83: =IF(N(A83)=0,"",MIN(IFERROR(Rechner!D12/Rechner!D10,0),MAX(N(C83)-N(F83),0))) -> 0 | H83: =IF(N(A83)=0,"",MIN(N(D83)+N(G83),N(C83)+N(E83))) -> 1122.61 | I83: =IF(N(A83)=0,"",MAX(N(C83)-N(F83)-N(G83),0)) -> 216088.53
A84: =IF(N(I83)>0,N(A83)+1,"") -> 78 | B84: =IF(N(A84)=0,"",EDATE(B83,ROUND(12/Rechner!D10,0))) -> 47635 | C84: =IF(N(A84)=0,"",N(I83)) -> 216088.53 | D84: =IF(N(A84)=0,"",MIN(Rechner!D14,N(C84)+N(E84))) -> 1122.61 | E84: =IF(N(A84)=0,"",ROUND(N(C84)*(Rechner!D8/Rechner!D10),2)) -> 630.26 | F84: =IF(N(A84)=0,"",MAX(MIN(N(D84)-N(E84),N(C84)),0)) -> 492.35 | G84: =IF(N(A84)=0,"",MIN(IFERROR(Rechner!D12/Rechner!D10,0),MAX(N(C84)-N(F84),0))) -> 0 | H84: =IF(N(A84)=0,"",MIN(N(D84)+N(G84),N(C84)+N(E84))) -> 1122.61 | I84: =IF(N(A84)=0,"",MAX(N(C84)-N(F84)-N(G84),0)) -> 215596.18
A85: =IF(N(I84)>0,N(A84)+1,"") -> 79 | B85: =IF(N(A85)=0,"",EDATE(B84,ROUND(12/Rechner!D10,0))) -> 47665 | C85: =IF(N(A85)=0,"",N(I84)) -> 215596.18 | D85: =IF(N(A85)=0,"",MIN(Rechner!D14,N(C85)+N(E85))) -> 1122.61 | E85: =IF(N(A85)=0,"",ROUND(N(C85)*(Rechner!D8/Rechner!D10),2)) -> 628.82 | F85: =IF(N(A85)=0,"",MAX(MIN(N(D85)-N(E85),N(C85)),0)) -> 493.79 | G85: =IF(N(A85)=0,"",MIN(IFERROR(Rechner!D12/Rechner!D10,0),MAX(N(C85)-N(F85),0))) -> 0 | H85: =IF(N(A85)=0,"",MIN(N(D85)+N(G85),N(C85)+N(E85))) -> 1122.61 | I85: =IF(N(A85)=0,"",MAX(N(C85)-N(F85)-N(G85),0)) -> 215102.39
A86: =IF(N(I85)>0,N(A85)+1,"") -> 80 | B86: =IF(N(A86)=0,"",EDATE(B85,ROUND(12/Rechner!D10,0))) -> 47696 | C86: =IF(N(A86)=0,"",N(I85)) -> 215102.39 | D86: =IF(N(A86)=0,"",MIN(Rechner!D14,N(C86)+N(E86))) -> 1122.61 | E86: =IF(N(A86)=0,"",ROUND(N(C86)*(Rechner!D8/Rechner!D10),2)) -> 627.38 | F86: =IF(N(A86)=0,"",MAX(MIN(N(D86)-N(E86),N(C86)),0)) -> 495.23 | G86: =IF(N(A86)=0,"",MIN(IFERROR(Rechner!D12/Rechner!D10,0),MAX(N(C86)-N(F86),0))) -> 0 | H86: =IF(N(A86)=0,"",MIN(N(D86)+N(G86),N(C86)+N(E86))) -> 1122.61 | I86: =IF(N(A86)=0,"",MAX(N(C86)-N(F86)-N(G86),0)) -> 214607.16
A87: =IF(N(I86)>0,N(A86)+1,"") -> 81 | B87: =IF(N(A87)=0,"",EDATE(B86,ROUND(12/Rechner!D10,0))) -> 47727 | C87: =IF(N(A87)=0,"",N(I86)) -> 214607.16 | D87: =IF(N(A87)=0,"",MIN(Rechner!D14,N(C87)+N(E87))) -> 1122.61 | E87: =IF(N(A87)=0,"",ROUND(N(C87)*(Rechner!D8/Rechner!D10),2)) -> 625.94 | F87: =IF(N(A87)=0,"",MAX(MIN(N(D87)-N(E87),N(C87)),0)) -> 496.67 | G87: =IF(N(A87)=0,"",MIN(IFERROR(Rechner!D12/Rechner!D10,0),MAX(N(C87)-N(F87),0))) -> 0 | H87: =IF(N(A87)=0,"",MIN(N(D87)+N(G87),N(C87)+N(E87))) -> 1122.61 | I87: =IF(N(A87)=0,"",MAX(N(C87)-N(F87)-N(G87),0)) -> 214110.49
A88: =IF(N(I87)>0,N(A87)+1,"") -> 82 | B88: =IF(N(A88)=0,"",EDATE(B87,ROUND(12/Rechner!D10,0))) -> 47757 | C88: =IF(N(A88)=0,"",N(I87)) -> 214110.49 | D88: =IF(N(A88)=0,"",MIN(Rechner!D14,N(C88)+N(E88))) -> 1122.61 | E88: =IF(N(A88)=0,"",ROUND(N(C88)*(Rechner!D8/Rechner!D10),2)) -> 624.49 | F88: =IF(N(A88)=0,"",MAX(MIN(N(D88)-N(E88),N(C88)),0)) -> 498.12 | G88: =IF(N(A88)=0,"",MIN(IFERROR(Rechner!D12/Rechner!D10,0),MAX(N(C88)-N(F88),0))) -> 0 | H88: =IF(N(A88)=0,"",MIN(N(D88)+N(G88),N(C88)+N(E88))) -> 1122.61 | I88: =IF(N(A88)=0,"",MAX(N(C88)-N(F88)-N(G88),0)) -> 213612.37
A89: =IF(N(I88)>0,N(A88)+1,"") -> 83 | B89: =IF(N(A89)=0,"",EDATE(B88,ROUND(12/Rechner!D10,0))) -> 47788 | C89: =IF(N(A89)=0,"",N(I88)) -> 213612.37 | D89: =IF(N(A89)=0,"",MIN(Rechner!D14,N(C89)+N(E89))) -> 1122.61 | E89: =IF(N(A89)=0,"",ROUND(N(C89)*(Rechner!D8/Rechner!D10),2)) -> 623.04 | F89: =IF(N(A89)=0,"",MAX(MIN(N(D89)-N(E89),N(C89)),0)) -> 499.57 | G89: =IF(N(A89)=0,"",MIN(IFERROR(Rechner!D12/Rechner!D10,0),MAX(N(C89)-N(F89),0))) -> 0 | H89: =IF(N(A89)=0,"",MIN(N(D89)+N(G89),N(C89)+N(E89))) -> 1122.61 | I89: =IF(N(A89)=0,"",MAX(N(C89)-N(F89)-N(G89),0)) -> 213112.8
A90: =IF(N(I89)>0,N(A89)+1,"") -> 84 | B90: =IF(N(A90)=0,"",EDATE(B89,ROUND(12/Rechner!D10,0))) -> 47818 | C90: =IF(N(A90)=0,"",N(I89)) -> 213112.8 | D90: =IF(N(A90)=0,"",MIN(Rechner!D14,N(C90)+N(E90))) -> 1122.61 | E90: =IF(N(A90)=0,"",ROUND(N(C90)*(Rechner!D8/Rechner!D10),2)) -> 621.58 | F90: =IF(N(A90)=0,"",MAX(MIN(N(D90)-N(E90),N(C90)),0)) -> 501.03 | G90: =IF(N(A90)=0,"",MIN(IFERROR(Rechner!D12/Rechner!D10,0),MAX(N(C90)-N(F90),0))) -> 0 | H90: =IF(N(A90)=0,"",MIN(N(D90)+N(G90),N(C90)+N(E90))) -> 1122.61 | I90: =IF(N(A90)=0,"",MAX(N(C90)-N(F90)-N(G90),0)) -> 212611.77
A91: =IF(N(I90)>0,N(A90)+1,"") -> 85 | B91: =IF(N(A91)=0,"",EDATE(B90,ROUND(12/Rechner!D10,0))) -> 47849 | C91: =IF(N(A91)=0,"",N(I90)) -> 212611.77 | D91: =IF(N(A91)=0,"",MIN(Rechner!D14,N(C91)+N(E91))) -> 1122.61 | E91: =IF(N(A91)=0,"",ROUND(N(C91)*(Rechner!D8/Rechner!D10),2)) -> 620.12 | F91: =IF(N(A91)=0,"",MAX(MIN(N(D91)-N(E91),N(C91)),0)) -> 502.49 | G91: =IF(N(A91)=0,"",MIN(IFERROR(Rechner!D12/Rechner!D10,0),MAX(N(C91)-N(F91),0))) -> 0 | H91: =IF(N(A91)=0,"",MIN(N(D91)+N(G91),N(C91)+N(E91))) -> 1122.61 | I91: =IF(N(A91)=0,"",MAX(N(C91)-N(F91)-N(G91),0)) -> 212109.28
A92: =IF(N(I91)>0,N(A91)+1,"") -> 86 | B92: =IF(N(A92)=0,"",EDATE(B91,ROUND(12/Rechner!D10,0))) -> 47880 | C92: =IF(N(A92)=0,"",N(I91)) -> 212109.28 | D92: =IF(N(A92)=0,"",MIN(Rechner!D14,N(C92)+N(E92))) -> 1122.61 | E92: =IF(N(A92)=0,"",ROUND(N(C92)*(Rechner!D8/Rechner!D10),2)) -> 618.65 | F92: =IF(N(A92)=0,"",MAX(MIN(N(D92)-N(E92),N(C92)),0)) -> 503.96 | G92: =IF(N(A92)=0,"",MIN(IFERROR(Rechner!D12/Rechner!D10,0),MAX(N(C92)-N(F92),0))) -> 0 | H92: =IF(N(A92)=0,"",MIN(N(D92)+N(G92),N(C92)+N(E92))) -> 1122.61 | I92: =IF(N(A92)=0,"",MAX(N(C92)-N(F92)-N(G92),0)) -> 211605.32
A93: =IF(N(I92)>0,N(A92)+1,"") -> 87 | B93: =IF(N(A93)=0,"",EDATE(B92,ROUND(12/Rechner!D10,0))) -> 47908 | C93: =IF(N(A93)=0,"",N(I92)) -> 211605.32 | D93: =IF(N(A93)=0,"",MIN(Rechner!D14,N(C93)+N(E93))) -> 1122.61 | E93: =IF(N(A93)=0,"",ROUND(N(C93)*(Rechner!D8/Rechner!D10),2)) -> 617.18 | F93: =IF(N(A93)=0,"",MAX(MIN(N(D93)-N(E93),N(C93)),0)) -> 505.43 | G93: =IF(N(A93)=0,"",MIN(IFERROR(Rechner!D12/Rechner!D10,0),MAX(N(C93)-N(F93),0))) -> 0 | H93: =IF(N(A93)=0,"",MIN(N(D93)+N(G93),N(C93)+N(E93))) -> 1122.61 | I93: =IF(N(A93)=0,"",MAX(N(C93)-N(F93)-N(G93),0)) -> 211099.89
A94: =IF(N(I93)>0,N(A93)+1,"") -> 88 | B94: =IF(N(A94)=0,"",EDATE(B93,ROUND(12/Rechner!D10,0))) -> 47939 | C94: =IF(N(A94)=0,"",N(I93)) -> 211099.89 | D94: =IF(N(A94)=0,"",MIN(Rechner!D14,N(C94)+N(E94))) -> 1122.61 | E94: =IF(N(A94)=0,"",ROUND(N(C94)*(Rechner!D8/Rechner!D10),2)) -> 615.71 | F94: =IF(N(A94)=0,"",MAX(MIN(N(D94)-N(E94),N(C94)),0)) -> 506.9 | G94: =IF(N(A94)=0,"",MIN(IFERROR(Rechner!D12/Rechner!D10,0),MAX(N(C94)-N(F94),0))) -> 0 | H94: =IF(N(A94)=0,"",MIN(N(D94)+N(G94),N(C94)+N(E94))) -> 1122.61 | I94: =IF(N(A94)=0,"",MAX(N(C94)-N(F94)-N(G94),0)) -> 210592.99
A95: =IF(N(I94)>0,N(A94)+1,"") -> 89 | B95: =IF(N(A95)=0,"",EDATE(B94,ROUND(12/Rechner!D10,0))) -> 47969 | C95: =IF(N(A95)=0,"",N(I94)) -> 210592.99 | D95: =IF(N(A95)=0,"",MIN(Rechner!D14,N(C95)+N(E95))) -> 1122.61 | E95: =IF(N(A95)=0,"",ROUND(N(C95)*(Rechner!D8/Rechner!D10),2)) -> 614.23 | F95: =IF(N(A95)=0,"",MAX(MIN(N(D95)-N(E95),N(C95)),0)) -> 508.38 | G95: =IF(N(A95)=0,"",MIN(IFERROR(Rechner!D12/Rechner!D10,0),MAX(N(C95)-N(F95),0))) -> 0 | H95: =IF(N(A95)=0,"",MIN(N(D95)+N(G95),N(C95)+N(E95))) -> 1122.61 | I95: =IF(N(A95)=0,"",MAX(N(C95)-N(F95)-N(G95),0)) -> 210084.61
A96: =IF(N(I95)>0,N(A95)+1,"") -> 90 | B96: =IF(N(A96)=0,"",EDATE(B95,ROUND(12/Rechner!D10,0))) -> 48000 | C96: =IF(N(A96)=0,"",N(I95)) -> 210084.61 | D96: =IF(N(A96)=0,"",MIN(Rechner!D14,N(C96)+N(E96))) -> 1122.61 | E96: =IF(N(A96)=0,"",ROUND(N(C96)*(Rechner!D8/Rechner!D10),2)) -> 612.75 | F96: =IF(N(A96)=0,"",MAX(MIN(N(D96)-N(E96),N(C96)),0)) -> 509.86 | G96: =IF(N(A96)=0,"",MIN(IFERROR(Rechner!D12/Rechner!D10,0),MAX(N(C96)-N(F96),0))) -> 0 | H96: =IF(N(A96)=0,"",MIN(N(D96)+N(G96),N(C96)+N(E96))) -> 1122.61 | I96: =IF(N(A96)=0,"",MAX(N(C96)-N(F96)-N(G96),0)) -> 209574.75
A97: =IF(N(I96)>0,N(A96)+1,"") -> 91 | B97: =IF(N(A97)=0,"",EDATE(B96,ROUND(12/Rechner!D10,0))) -> 48030 | C97: =IF(N(A97)=0,"",N(I96)) -> 209574.75 | D97: =IF(N(A97)=0,"",MIN(Rechner!D14,N(C97)+N(E97))) -> 1122.61 | E97: =IF(N(A97)=0,"",ROUND(N(C97)*(Rechner!D8/Rechner!D10),2)) -> 611.26 | F97: =IF(N(A97)=0,"",MAX(MIN(N(D97)-N(E97),N(C97)),0)) -> 511.35 | G97: =IF(N(A97)=0,"",MIN(IFERROR(Rechner!D12/Rechner!D10,0),MAX(N(C97)-N(F97),0))) -> 0 | H97: =IF(N(A97)=0,"",MIN(N(D97)+N(G97),N(C97)+N(E97))) -> 1122.61 | I97: =IF(N(A97)=0,"",MAX(N(C97)-N(F97)-N(G97),0)) -> 209063.4
A98: =IF(N(I97)>0,N(A97)+1,"") -> 92 | B98: =IF(N(A98)=0,"",EDATE(B97,ROUND(12/Rechner!D10,0))) -> 48061 | C98: =IF(N(A98)=0,"",N(I97)) -> 209063.4 | D98: =IF(N(A98)=0,"",MIN(Rechner!D14,N(C98)+N(E98))) -> 1122.61 | E98: =IF(N(A98)=0,"",ROUND(N(C98)*(Rechner!D8/Rechner!D10),2)) -> 609.77 | F98: =IF(N(A98)=0,"",MAX(MIN(N(D98)-N(E98),N(C98)),0)) -> 512.84 | G98: =IF(N(A98)=0,"",MIN(IFERROR(Rechner!D12/Rechner!D10,0),MAX(N(C98)-N(F98),0))) -> 0 | H98: =IF(N(A98)=0,"",MIN(N(D98)+N(G98),N(C98)+N(E98))) -> 1122.61 | I98: =IF(N(A98)=0,"",MAX(N(C98)-N(F98)-N(G98),0)) -> 208550.56
A99: =IF(N(I98)>0,N(A98)+1,"") -> 93 | B99: =IF(N(A99)=0,"",EDATE(B98,ROUND(12/Rechner!D10,0))) -> 48092 | C99: =IF(N(A99)=0,"",N(I98)) -> 208550.56 | D99: =IF(N(A99)=0,"",MIN(Rechner!D14,N(C99)+N(E99))) -> 1122.61 | E99: =IF(N(A99)=0,"",ROUND(N(C99)*(Rechner!D8/Rechner!D10),2)) -> 608.27 | F99: =IF(N(A99)=0,"",MAX(MIN(N(D99)-N(E99),N(C99)),0)) -> 514.34 | G99: =IF(N(A99)=0,"",MIN(IFERROR(Rechner!D12/Rechner!D10,0),MAX(N(C99)-N(F99),0))) -> 0 | H99: =IF(N(A99)=0,"",MIN(N(D99)+N(G99),N(C99)+N(E99))) -> 1122.61 | I99: =IF(N(A99)=0,"",MAX(N(C99)-N(F99)-N(G99),0)) -> 208036.22
A100: =IF(N(I99)>0,N(A99)+1,"") -> 94 | B100: =IF(N(A100)=0,"",EDATE(B99,ROUND(12/Rechner!D10,0))) -> 48122 | C100: =IF(N(A100)=0,"",N(I99)) -> 208036.22 | D100: =IF(N(A100)=0,"",MIN(Rechner!D14,N(C100)+N(E100))) -> 1122.61 | E100: =IF(N(A100)=0,"",ROUND(N(C100)*(Rechner!D8/Rechner!D10),2)) -> 606.77 | F100: =IF(N(A100)=0,"",MAX(MIN(N(D100)-N(E100),N(C100)),0)) -> 515.84 | G100: =IF(N(A100)=0,"",MIN(IFERROR(Rechner!D12/Rechner!D10,0),MAX(N(C100)-N(F100),0))) -> 0 | H100: =IF(N(A100)=0,"",MIN(N(D100)+N(G100),N(C100)+N(E100))) -> 1122.61 | I100: =IF(N(A100)=0,"",MAX(N(C100)-N(F100)-N(G100),0)) -> 207520.38
A101: =IF(N(I100)>0,N(A100)+1,"") -> 95 | B101: =IF(N(A101)=0,"",EDATE(B100,ROUND(12/Rechner!D10,0))) -> 48153 | C101: =IF(N(A101)=0,"",N(I100)) -> 207520.38 | D101: =IF(N(A101)=0,"",MIN(Rechner!D14,N(C101)+N(E101))) -> 1122.61 | E101: =IF(N(A101)=0,"",ROUND(N(C101)*(Rechner!D8/Rechner!D10),2)) -> 605.27 | F101: =IF(N(A101)=0,"",MAX(MIN(N(D101)-N(E101),N(C101)),0)) -> 517.34 | G101: =IF(N(A101)=0,"",MIN(IFERROR(Rechner!D12/Rechner!D10,0),MAX(N(C101)-N(F101),0))) -> 0 | H101: =IF(N(A101)=0,"",MIN(N(D101)+N(G101),N(C101)+N(E101))) -> 1122.61 | I101: =IF(N(A101)=0,"",MAX(N(C101)-N(F101)-N(G101),0)) -> 207003.04
A102: =IF(N(I101)>0,N(A101)+1,"") -> 96 | B102: =IF(N(A102)=0,"",EDATE(B101,ROUND(12/Rechner!D10,0))) -> 48183 | C102: =IF(N(A102)=0,"",N(I101)) -> 207003.04 | D102: =IF(N(A102)=0,"",MIN(Rechner!D14,N(C102)+N(E102))) -> 1122.61 | E102: =IF(N(A102)=0,"",ROUND(N(C102)*(Rechner!D8/Rechner!D10),2)) -> 603.76 | F102: =IF(N(A102)=0,"",MAX(MIN(N(D102)-N(E102),N(C102)),0)) -> 518.85 | G102: =IF(N(A102)=0,"",MIN(IFERROR(Rechner!D12/Rechner!D10,0),MAX(N(C102)-N(F102),0))) -> 0 | H102: =IF(N(A102)=0,"",MIN(N(D102)+N(G102),N(C102)+N(E102))) -> 1122.61 | I102: =IF(N(A102)=0,"",MAX(N(C102)-N(F102)-N(G102),0)) -> 206484.19
A103: =IF(N(I102)>0,N(A102)+1,"") -> 97 | B103: =IF(N(A103)=0,"",EDATE(B102,ROUND(12/Rechner!D10,0))) -> 48214 | C103: =IF(N(A103)=0,"",N(I102)) -> 206484.19 | D103: =IF(N(A103)=0,"",MIN(Rechner!D14,N(C103)+N(E103))) -> 1122.61 | E103: =IF(N(A103)=0,"",ROUND(N(C103)*(Rechner!D8/Rechner!D10),2)) -> 602.25 | F103: =IF(N(A103)=0,"",MAX(MIN(N(D103)-N(E103),N(C103)),0)) -> 520.36 | G103: =IF(N(A103)=0,"",MIN(IFERROR(Rechner!D12/Rechner!D10,0),MAX(N(C103)-N(F103),0))) -> 0 | H103: =IF(N(A103)=0,"",MIN(N(D103)+N(G103),N(C103)+N(E103))) -> 1122.61 | I103: =IF(N(A103)=0,"",MAX(N(C103)-N(F103)-N(G103),0)) -> 205963.83
...

Sheet Rechner
C2: Tilgungsplan Rechner
C4: Parameter anpassen. Der Tilgungsplan und die Grafik aktualisieren sich automatisch.
C6: Eingaben | G6: Übersicht
C7: Darlehensbetrag | D7: 250000 | G7: Voraussichtliches Enddatum | H7: =IF(COUNT(Tilgungsplan!A7:A606)=0,"",INDEX(Tilgungsplan!B7:B606,COUNT(Tilgungsplan!A7:A606))) -> 56250
C8: Jährlicher Zinssatz | D8: 0.035 | G8: Anzahl Zahlungen | H8: =COUNT(Tilgungsplan!A7:A606) -> 361
C9: Laufzeit (Jahre) | D9: 30 | G9: Gesamtzinsen | H9: =SUM(Tilgungsplan!E7:E606) -> 154140.78
C10: Zahlungen pro Jahr | D10: 12 | G10: Gesamttilgung | H10: =SUM(Tilgungsplan!F7:F606)+SUM(Tilgungsplan!G7:G606) -> 250000
C11: Startdatum der ersten Zahlung | D11: 45292 | G11: Gesamtzahlung | H11: =SUM(Tilgungsplan!H7:H606) -> 404140.78
C12: Sondertilgung pro Jahr | D12: 0 | G12: Restschuld am Ende | H12: =IF(COUNT(Tilgungsplan!A7:A606)=0,"",INDEX(Tilgungsplan!I7:I606,COUNT(Tilgungsplan!A7:A606))) -> 0
C14: Monatliche / periodische Rate | D14: =IF(OR(D7<=0,D8<0,D9<=0,D10<=0),"",ROUND(-PMT(D8/D10,D9*D10,D7),2)) -> 1122.61
C15: Effektive Zahlung inkl. Sondertilgung | D15: =IF(D14="","",D14+IFERROR(D12/D10,0)) -> 1122.61
C17: Hinweis: Die Sondertilgung wird gleichmäßig auf die Perioden des Jahres verteilt. Die letzte Rate wird automatisch reduziert, damit keine negative Restschuld entsteht.
