Workbook

Sheet Tilgungsplan
A2: Tilgungsplan
A4: Der Plan endet automatisch, sobald die Restschuld 0 € erreicht.
A6: Periode | B6: Zahlungsdatum | C6: Anfangssaldo (€) | D6: Regelrate (€) | E6: Zinsen (€) | F6: Tilgungsanteil (€) | G6: Sondertilgung (€) | H6: Gesamtzahlung (€) | I6: Restschuld (€)
A7: =IF(AND(Rechner!D7>0,Rechner!D9>0,Rechner!D10>0),1,"") -> 1 | B7: =IF(N(A7)=0,"",Rechner!D11) -> 45292 | C7: =IF(N(A7)=0,"",Rechner!D7) -> 250000 | D7: =IF(N(A7)=0,"",MIN(Rechner!D14,N(C7)+N(E7))) -> 1122.61 | E7: =IF(N(A7)=0,"",ROUND(N(C7)*(Rechner!D8/Rechner!D10),2)) -> 729.17 | F7: =IF(N(A7)=0,"",MAX(MIN(N(D7)-N(E7),N(C7)),0)) -> 393.44 | G7: =IF(N(A7)=0,"",MIN(IFERROR(Rechner!D12/Rechner!D10,0),MAX(N(C7)-N(F7),0))) -> 0 | H7: =IF(N(A7)=0,"",MIN(N(D7)+N(G7),N(C7)+N(E7))) -> 1122.61 | I7: =IF(N(A7)=0,"",MAX(N(C7)-N(F7)-N(G7),0)) -> 249606.56
A8: =IF(N(I7)>0,N(A7)+1,"") -> 2 | B8: =IF(N(A8)=0,"",EDATE(B7,ROUND(12/Rechner!D10,0))) -> 45323 | C8: =IF(N(A8)=0,"",N(I7)) -> 249606.56 | D8: =IF(N(A8)=0,"",MIN(Rechner!D14,N(C8)+N(E8))) -> 1122.61 | E8: =IF(N(A8)=0,"",ROUND(N(C8)*(Rechner!D8/Rechner!D10),2)) -> 728.02 | F8: =IF(N(A8)=0,"",MAX(MIN(N(D8)-N(E8),N(C8)),0)) -> 394.59 | G8: =IF(N(A8)=0,"",MIN(IFERROR(Rechner!D12/Rechner!D10,0),MAX(N(C8)-N(F8),0))) -> 0 | H8: =IF(N(A8)=0,"",MIN(N(D8)+N(G8),N(C8)+N(E8))) -> 1122.61 | I8: =IF(N(A8)=0,"",MAX(N(C8)-N(F8)-N(G8),0)) -> 249211.97
A9: =IF(N(I8)>0,N(A8)+1,"") -> 3 | B9: =IF(N(A9)=0,"",EDATE(B8,ROUND(12/Rechner!D10,0))) -> 45352 | C9: =IF(N(A9)=0,"",N(I8)) -> 249211.97 | D9: =IF(N(A9)=0,"",MIN(Rechner!D14,N(C9)+N(E9))) -> 1122.61 | E9: =IF(N(A9)=0,"",ROUND(N(C9)*(Rechner!D8/Rechner!D10),2)) -> 726.87 | F9: =IF(N(A9)=0,"",MAX(MIN(N(D9)-N(E9),N(C9)),0)) -> 395.74 | G9: =IF(N(A9)=0,"",MIN(IFERROR(Rechner!D12/Rechner!D10,0),MAX(N(C9)-N(F9),0))) -> 0 | H9: =IF(N(A9)=0,"",MIN(N(D9)+N(G9),N(C9)+N(E9))) -> 1122.61 | I9: =IF(N(A9)=0,"",MAX(N(C9)-N(F9)-N(G9),0)) -> 248816.23
A10: =IF(N(I9)>0,N(A9)+1,"") -> 4 | B10: =IF(N(A10)=0,"",EDATE(B9,ROUND(12/Rechner!D10,0))) -> 45383 | C10: =IF(N(A10)=0,"",N(I9)) -> 248816.23 | D10: =IF(N(A10)=0,"",MIN(Rechner!D14,N(C10)+N(E10))) -> 1122.61 | E10: =IF(N(A10)=0,"",ROUND(N(C10)*(Rechner!D8/Rechner!D10),2)) -> 725.71 | F10: =IF(N(A10)=0,"",MAX(MIN(N(D10)-N(E10),N(C10)),0)) -> 396.9 | G10: =IF(N(A10)=0,"",MIN(IFERROR(Rechner!D12/Rechner!D10,0),MAX(N(C10)-N(F10),0))) -> 0 | H10: =IF(N(A10)=0,"",MIN(N(D10)+N(G10),N(C10)+N(E10))) -> 1122.61 | I10: =IF(N(A10)=0,"",MAX(N(C10)-N(F10)-N(G10),0)) -> 248419.33
A11: =IF(N(I10)>0,N(A10)+1,"") -> 5 | B11: =IF(N(A11)=0,"",EDATE(B10,ROUND(12/Rechner!D10,0))) -> 45413 | C11: =IF(N(A11)=0,"",N(I10)) -> 248419.33 | D11: =IF(N(A11)=0,"",MIN(Rechner!D14,N(C11)+N(E11))) -> 1122.61 | E11: =IF(N(A11)=0,"",ROUND(N(C11)*(Rechner!D8/Rechner!D10),2)) -> 724.56 | F11: =IF(N(A11)=0,"",MAX(MIN(N(D11)-N(E11),N(C11)),0)) -> 398.05 | G11: =IF(N(A11)=0,"",MIN(IFERROR(Rechner!D12/Rechner!D10,0),MAX(N(C11)-N(F11),0))) -> 0 | H11: =IF(N(A11)=0,"",MIN(N(D11)+N(G11),N(C11)+N(E11))) -> 1122.61 | I11: =IF(N(A11)=0,"",MAX(N(C11)-N(F11)-N(G11),0)) -> 248021.28
A12: =IF(N(I11)>0,N(A11)+1,"") -> 6 | B12: =IF(N(A12)=0,"",EDATE(B11,ROUND(12/Rechner!D10,0))) -> 45444 | C12: =IF(N(A12)=0,"",N(I11)) -> 248021.28 | D12: =IF(N(A12)=0,"",MIN(Rechner!D14,N(C12)+N(E12))) -> 1122.61 | E12: =IF(N(A12)=0,"",ROUND(N(C12)*(Rechner!D8/Rechner!D10),2)) -> 723.4 | F12: =IF(N(A12)=0,"",MAX(MIN(N(D12)-N(E12),N(C12)),0)) -> 399.21 | G12: =IF(N(A12)=0,"",MIN(IFERROR(Rechner!D12/Rechner!D10,0),MAX(N(C12)-N(F12),0))) -> 0 | H12: =IF(N(A12)=0,"",MIN(N(D12)+N(G12),N(C12)+N(E12))) -> 1122.61 | I12: =IF(N(A12)=0,"",MAX(N(C12)-N(F12)-N(G12),0)) -> 247622.07
A13: =IF(N(I12)>0,N(A12)+1,"") -> 7 | B13: =IF(N(A13)=0,"",EDATE(B12,ROUND(12/Rechner!D10,0))) -> 45474 | C13: =IF(N(A13)=0,"",N(I12)) -> 247622.07 | D13: =IF(N(A13)=0,"",MIN(Rechner!D14,N(C13)+N(E13))) -> 1122.61 | E13: =IF(N(A13)=0,"",ROUND(N(C13)*(Rechner!D8/Rechner!D10),2)) -> 722.23 | F13: =IF(N(A13)=0,"",MAX(MIN(N(D13)-N(E13),N(C13)),0)) -> 400.38 | G13: =IF(N(A13)=0,"",MIN(IFERROR(Rechner!D12/Rechner!D10,0),MAX(N(C13)-N(F13),0))) -> 0 | H13: =IF(N(A13)=0,"",MIN(N(D13)+N(G13),N(C13)+N(E13))) -> 1122.61 | I13: =IF(N(A13)=0,"",MAX(N(C13)-N(F13)-N(G13),0)) -> 247221.69
A14: =IF(N(I13)>0,N(A13)+1,"") -> 8 | B14: =IF(N(A14)=0,"",EDATE(B13,ROUND(12/Rechner!D10,0))) -> 45505 | C14: =IF(N(A14)=0,"",N(I13)) -> 247221.69 | D14: =IF(N(A14)=0,"",MIN(Rechner!D14,N(C14)+N(E14))) -> 1122.61 | E14: =IF(N(A14)=0,"",ROUND(N(C14)*(Rechner!D8/Rechner!D10),2)) -> 721.06 | F14: =IF(N(A14)=0,"",MAX(MIN(N(D14)-N(E14),N(C14)),0)) -> 401.55 | G14: =IF(N(A14)=0,"",MIN(IFERROR(Rechner!D12/Rechner!D10,0),MAX(N(C14)-N(F14),0))) -> 0 | H14: =IF(N(A14)=0,"",MIN(N(D14)+N(G14),N(C14)+N(E14))) -> 1122.61 | I14: =IF(N(A14)=0,"",MAX(N(C14)-N(F14)-N(G14),0)) -> 246820.14
A15: =IF(N(I14)>0,N(A14)+1,"") -> 9 | B15: =IF(N(A15)=0,"",EDATE(B14,ROUND(12/Rechner!D10,0))) -> 45536 | C15: =IF(N(A15)=0,"",N(I14)) -> 246820.14 | D15: =IF(N(A15)=0,"",MIN(Rechner!D14,N(C15)+N(E15))) -> 1122.61 | E15: =IF(N(A15)=0,"",ROUND(N(C15)*(Rechner!D8/Rechner!D10),2)) -> 719.89 | F15: =IF(N(A15)=0,"",MAX(MIN(N(D15)-N(E15),N(C15)),0)) -> 402.72 | G15: =IF(N(A15)=0,"",MIN(IFERROR(Rechner!D12/Rechner!D10,0),MAX(N(C15)-N(F15),0))) -> 0 | H15: =IF(N(A15)=0,"",MIN(N(D15)+N(G15),N(C15)+N(E15))) -> 1122.61 | I15: =IF(N(A15)=0,"",MAX(N(C15)-N(F15)-N(G15),0)) -> 246417.42
A16: =IF(N(I15)>0,N(A15)+1,"") -> 10 | B16: =IF(N(A16)=0,"",EDATE(B15,ROUND(12/Rechner!D10,0))) -> 45566 | C16: =IF(N(A16)=0,"",N(I15)) -> 246417.42 | D16: =IF(N(A16)=0,"",MIN(Rechner!D14,N(C16)+N(E16))) -> 1122.61 | E16: =IF(N(A16)=0,"",ROUND(N(C16)*(Rechner!D8/Rechner!D10),2)) -> 718.72 | F16: =IF(N(A16)=0,"",MAX(MIN(N(D16)-N(E16),N(C16)),0)) -> 403.89 | G16: =IF(N(A16)=0,"",MIN(IFERROR(Rechner!D12/Rechner!D10,0),MAX(N(C16)-N(F16),0))) -> 0 | H16: =IF(N(A16)=0,"",MIN(N(D16)+N(G16),N(C16)+N(E16))) -> 1122.61 | I16: =IF(N(A16)=0,"",MAX(N(C16)-N(F16)-N(G16),0)) -> 246013.53
A17: =IF(N(I16)>0,N(A16)+1,"") -> 11 | B17: =IF(N(A17)=0,"",EDATE(B16,ROUND(12/Rechner!D10,0))) -> 45597 | C17: =IF(N(A17)=0,"",N(I16)) -> 246013.53 | D17: =IF(N(A17)=0,"",MIN(Rechner!D14,N(C17)+N(E17))) -> 1122.61 | E17: =IF(N(A17)=0,"",ROUND(N(C17)*(Rechner!D8/Rechner!D10),2)) -> 717.54 | F17: =IF(N(A17)=0,"",MAX(MIN(N(D17)-N(E17),N(C17)),0)) -> 405.07 | G17: =IF(N(A17)=0,"",MIN(IFERROR(Rechner!D12/Rechner!D10,0),MAX(N(C17)-N(F17),0))) -> 0 | H17: =IF(N(A17)=0,"",MIN(N(D17)+N(G17),N(C17)+N(E17))) -> 1122.61 | I17: =IF(N(A17)=0,"",MAX(N(C17)-N(F17)-N(G17),0)) -> 245608.46
A18: =IF(N(I17)>0,N(A17)+1,"") -> 12 | B18: =IF(N(A18)=0,"",EDATE(B17,ROUND(12/Rechner!D10,0))) -> 45627 | C18: =IF(N(A18)=0,"",N(I17)) -> 245608.46 | D18: =IF(N(A18)=0,"",MIN(Rechner!D14,N(C18)+N(E18))) -> 1122.61 | E18: =IF(N(A18)=0,"",ROUND(N(C18)*(Rechner!D8/Rechner!D10),2)) -> 716.36 | F18: =IF(N(A18)=0,"",MAX(MIN(N(D18)-N(E18),N(C18)),0)) -> 406.25 | G18: =IF(N(A18)=0,"",MIN(IFERROR(Rechner!D12/Rechner!D10,0),MAX(N(C18)-N(F18),0))) -> 0 | H18: =IF(N(A18)=0,"",MIN(N(D18)+N(G18),N(C18)+N(E18))) -> 1122.61 | I18: =IF(N(A18)=0,"",MAX(N(C18)-N(F18)-N(G18),0)) -> 245202.21
A19: =IF(N(I18)>0,N(A18)+1,"") -> 13 | B19: =IF(N(A19)=0,"",EDATE(B18,ROUND(12/Rechner!D10,0))) -> 45658 | C19: =IF(N(A19)=0,"",N(I18)) -> 245202.21 | D19: =IF(N(A19)=0,"",MIN(Rechner!D14,N(C19)+N(E19))) -> 1122.61 | E19: =IF(N(A19)=0,"",ROUND(N(C19)*(Rechner!D8/Rechner!D10),2)) -> 715.17 | F19: =IF(N(A19)=0,"",MAX(MIN(N(D19)-N(E19),N(C19)),0)) -> 407.44 | G19: =IF(N(A19)=0,"",MIN(IFERROR(Rechner!D12/Rechner!D10,0),MAX(N(C19)-N(F19),0))) -> 0 | H19: =IF(N(A19)=0,"",MIN(N(D19)+N(G19),N(C19)+N(E19))) -> 1122.61 | I19: =IF(N(A19)=0,"",MAX(N(C19)-N(F19)-N(G19),0)) -> 244794.77
A20: =IF(N(I19)>0,N(A19)+1,"") -> 14 | B20: =IF(N(A20)=0,"",EDATE(B19,ROUND(12/Rechner!D10,0))) -> 45689 | C20: =IF(N(A20)=0,"",N(I19)) -> 244794.77 | D20: =IF(N(A20)=0,"",MIN(Rechner!D14,N(C20)+N(E20))) -> 1122.61 | E20: =IF(N(A20)=0,"",ROUND(N(C20)*(Rechner!D8/Rechner!D10),2)) -> 713.98 | F20: =IF(N(A20)=0,"",MAX(MIN(N(D20)-N(E20),N(C20)),0)) -> 408.63 | G20: =IF(N(A20)=0,"",MIN(IFERROR(Rechner!D12/Rechner!D10,0),MAX(N(C20)-N(F20),0))) -> 0 | H20: =IF(N(A20)=0,"",MIN(N(D20)+N(G20),N(C20)+N(E20))) -> 1122.61 | I20: =IF(N(A20)=0,"",MAX(N(C20)-N(F20)-N(G20),0)) -> 244386.14
A21: =IF(N(I20)>0,N(A20)+1,"") -> 15 | B21: =IF(N(A21)=0,"",EDATE(B20,ROUND(12/Rechner!D10,0))) -> 45717 | C21: =IF(N(A21)=0,"",N(I20)) -> 244386.14 | D21: =IF(N(A21)=0,"",MIN(Rechner!D14,N(C21)+N(E21))) -> 1122.61 | E21: =IF(N(A21)=0,"",ROUND(N(C21)*(Rechner!D8/Rechner!D10),2)) -> 712.79 | F21: =IF(N(A21)=0,"",MAX(MIN(N(D21)-N(E21),N(C21)),0)) -> 409.82 | G21: =IF(N(A21)=0,"",MIN(IFERROR(Rechner!D12/Rechner!D10,0),MAX(N(C21)-N(F21),0))) -> 0 | H21: =IF(N(A21)=0,"",MIN(N(D21)+N(G21),N(C21)+N(E21))) -> 1122.61 | I21: =IF(N(A21)=0,"",MAX(N(C21)-N(F21)-N(G21),0)) -> 243976.32
A22: =IF(N(I21)>0,N(A21)+1,"") -> 16 | B22: =IF(N(A22)=0,"",EDATE(B21,ROUND(12/Rechner!D10,0))) -> 45748 | C22: =IF(N(A22)=0,"",N(I21)) -> 243976.32 | D22: =IF(N(A22)=0,"",MIN(Rechner!D14,N(C22)+N(E22))) -> 1122.61 | E22: =IF(N(A22)=0,"",ROUND(N(C22)*(Rechner!D8/Rechner!D10),2)) -> 711.6 | F22: =IF(N(A22)=0,"",MAX(MIN(N(D22)-N(E22),N(C22)),0)) -> 411.01 | G22: =IF(N(A22)=0,"",MIN(IFERROR(Rechner!D12/Rechner!D10,0),MAX(N(C22)-N(F22),0))) -> 0 | H22: =IF(N(A22)=0,"",MIN(N(D22)+N(G22),N(C22)+N(E22))) -> 1122.61 | I22: =IF(N(A22)=0,"",MAX(N(C22)-N(F22)-N(G22),0)) -> 243565.31
A23: =IF(N(I22)>0,N(A22)+1,"") -> 17 | B23: =IF(N(A23)=0,"",EDATE(B22,ROUND(12/Rechner!D10,0))) -> 45778 | C23: =IF(N(A23)=0,"",N(I22)) -> 243565.31 | D23: =IF(N(A23)=0,"",MIN(Rechner!D14,N(C23)+N(E23))) -> 1122.61 | E23: =IF(N(A23)=0,"",ROUND(N(C23)*(Rechner!D8/Rechner!D10),2)) -> 710.4 | F23: =IF(N(A23)=0,"",MAX(MIN(N(D23)-N(E23),N(C23)),0)) -> 412.21 | G23: =IF(N(A23)=0,"",MIN(IFERROR(Rechner!D12/Rechner!D10,0),MAX(N(C23)-N(F23),0))) -> 0 | H23: =IF(N(A23)=0,"",MIN(N(D23)+N(G23),N(C23)+N(E23))) -> 1122.61 | I23: =IF(N(A23)=0,"",MAX(N(C23)-N(F23)-N(G23),0)) -> 243153.1
A24: =IF(N(I23)>0,N(A23)+1,"") -> 18 | B24: =IF(N(A24)=0,"",EDATE(B23,ROUND(12/Rechner!D10,0))) -> 45809 | C24: =IF(N(A24)=0,"",N(I23)) -> 243153.1 | D24: =IF(N(A24)=0,"",MIN(Rechner!D14,N(C24)+N(E24))) -> 1122.61 | E24: =IF(N(A24)=0,"",ROUND(N(C24)*(Rechner!D8/Rechner!D10),2)) -> 709.2 | F24: =IF(N(A24)=0,"",MAX(MIN(N(D24)-N(E24),N(C24)),0)) -> 413.41 | G24: =IF(N(A24)=0,"",MIN(IFERROR(Rechner!D12/Rechner!D10,0),MAX(N(C24)-N(F24),0))) -> 0 | H24: =IF(N(A24)=0,"",MIN(N(D24)+N(G24),N(C24)+N(E24))) -> 1122.61 | I24: =IF(N(A24)=0,"",MAX(N(C24)-N(F24)-N(G24),0)) -> 242739.69
A25: =IF(N(I24)>0,N(A24)+1,"") -> 19 | B25: =IF(N(A25)=0,"",EDATE(B24,ROUND(12/Rechner!D10,0))) -> 45839 | C25: =IF(N(A25)=0,"",N(I24)) -> 242739.69 | D25: =IF(N(A25)=0,"",MIN(Rechner!D14,N(C25)+N(E25))) -> 1122.61 | E25: =IF(N(A25)=0,"",ROUND(N(C25)*(Rechner!D8/Rechner!D10),2)) -> 707.99 | F25: =IF(N(A25)=0,"",MAX(MIN(N(D25)-N(E25),N(C25)),0)) -> 414.62 | G25: =IF(N(A25)=0,"",MIN(IFERROR(Rechner!D12/Rechner!D10,0),MAX(N(C25)-N(F25),0))) -> 0 | H25: =IF(N(A25)=0,"",MIN(N(D25)+N(G25),N(C25)+N(E25))) -> 1122.61 | I25: =IF(N(A25)=0,"",MAX(N(C25)-N(F25)-N(G25),0)) -> 242325.07
A26: =IF(N(I25)>0,N(A25)+1,"") -> 20 | B26: =IF(N(A26)=0,"",EDATE(B25,ROUND(12/Rechner!D10,0))) -> 45870 | C26: =IF(N(A26)=0,"",N(I25)) -> 242325.07 | D26: =IF(N(A26)=0,"",MIN(Rechner!D14,N(C26)+N(E26))) -> 1122.61 | E26: =IF(N(A26)=0,"",ROUND(N(C26)*(Rechner!D8/Rechner!D10),2)) -> 706.78 | F26: =IF(N(A26)=0,"",MAX(MIN(N(D26)-N(E26),N(C26)),0)) -> 415.83 | G26: =IF(N(A26)=0,"",MIN(IFERROR(Rechner!D12/Rechner!D10,0),MAX(N(C26)-N(F26),0))) -> 0 | H26: =IF(N(A26)=0,"",MIN(N(D26)+N(G26),N(C26)+N(E26))) -> 1122.61 | I26: =IF(N(A26)=0,"",MAX(N(C26)-N(F26)-N(G26),0)) -> 241909.24
A27: =IF(N(I26)>0,N(A26)+1,"") -> 21 | B27: =IF(N(A27)=0,"",EDATE(B26,ROUND(12/Rechner!D10,0))) -> 45901 | C27: =IF(N(A27)=0,"",N(I26)) -> 241909.24 | D27: =IF(N(A27)=0,"",MIN(Rechner!D14,N(C27)+N(E27))) -> 1122.61 | E27: =IF(N(A27)=0,"",ROUND(N(C27)*(Rechner!D8/Rechner!D10),2)) -> 705.57 | F27: =IF(N(A27)=0,"",MAX(MIN(N(D27)-N(E27),N(C27)),0)) -> 417.04 | G27: =IF(N(A27)=0,"",MIN(IFERROR(Rechner!D12/Rechner!D10,0),MAX(N(C27)-N(F27),0))) -> 0 | H27: =IF(N(A27)=0,"",MIN(N(D27)+N(G27),N(C27)+N(E27))) -> 1122.61 | I27: =IF(N(A27)=0,"",MAX(N(C27)-N(F27)-N(G27),0)) -> 241492.2
A28: =IF(N(I27)>0,N(A27)+1,"") -> 22 | B28: =IF(N(A28)=0,"",EDATE(B27,ROUND(12/Rechner!D10,0))) -> 45931 | C28: =IF(N(A28)=0,"",N(I27)) -> 241492.2 | D28: =IF(N(A28)=0,"",MIN(Rechner!D14,N(C28)+N(E28))) -> 1122.61 | E28: =IF(N(A28)=0,"",ROUND(N(C28)*(Rechner!D8/Rechner!D10),2)) -> 704.35 | F28: =IF(N(A28)=0,"",MAX(MIN(N(D28)-N(E28),N(C28)),0)) -> 418.26 | G28: =IF(N(A28)=0,"",MIN(IFERROR(Rechner!D12/Rechner!D10,0),MAX(N(C28)-N(F28),0))) -> 0 | H28: =IF(N(A28)=0,"",MIN(N(D28)+N(G28),N(C28)+N(E28))) -> 1122.61 | I28: =IF(N(A28)=0,"",MAX(N(C28)-N(F28)-N(G28),0)) -> 241073.94
A29: =IF(N(I28)>0,N(A28)+1,"") -> 23 | B29: =IF(N(A29)=0,"",EDATE(B28,ROUND(12/Rechner!D10,0))) -> 45962 | C29: =IF(N(A29)=0,"",N(I28)) -> 241073.94 | D29: =IF(N(A29)=0,"",MIN(Rechner!D14,N(C29)+N(E29))) -> 1122.61 | E29: =IF(N(A29)=0,"",ROUND(N(C29)*(Rechner!D8/Rechner!D10),2)) -> 703.13 | F29: =IF(N(A29)=0,"",MAX(MIN(N(D29)-N(E29),N(C29)),0)) -> 419.48 | G29: =IF(N(A29)=0,"",MIN(IFERROR(Rechner!D12/Rechner!D10,0),MAX(N(C29)-N(F29),0))) -> 0 | H29: =IF(N(A29)=0,"",MIN(N(D29)+N(G29),N(C29)+N(E29))) -> 1122.61 | I29: =IF(N(A29)=0,"",MAX(N(C29)-N(F29)-N(G29),0)) -> 240654.46
A30: =IF(N(I29)>0,N(A29)+1,"") -> 24 | B30: =IF(N(A30)=0,"",EDATE(B29,ROUND(12/Rechner!D10,0))) -> 45992 | C30: =IF(N(A30)=0,"",N(I29)) -> 240654.46 | D30: =IF(N(A30)=0,"",MIN(Rechner!D14,N(C30)+N(E30))) -> 1122.61 | E30: =IF(N(A30)=0,"",ROUND(N(C30)*(Rechner!D8/Rechner!D10),2)) -> 701.91 | F30: =IF(N(A30)=0,"",MAX(MIN(N(D30)-N(E30),N(C30)),0)) -> 420.7 | G30: =IF(N(A30)=0,"",MIN(IFERROR(Rechner!D12/Rechner!D10,0),MAX(N(C30)-N(F30),0))) -> 0 | H30: =IF(N(A30)=0,"",MIN(N(D30)+N(G30),N(C30)+N(E30))) -> 1122.61 | I30: =IF(N(A30)=0,"",MAX(N(C30)-N(F30)-N(G30),0)) -> 240233.76
A31: =IF(N(I30)>0,N(A30)+1,"") -> 25 | B31: =IF(N(A31)=0,"",EDATE(B30,ROUND(12/Rechner!D10,0))) -> 46023 | C31: =IF(N(A31)=0,"",N(I30)) -> 240233.76 | D31: =IF(N(A31)=0,"",MIN(Rechner!D14,N(C31)+N(E31))) -> 1122.61 | E31: =IF(N(A31)=0,"",ROUND(N(C31)*(Rechner!D8/Rechner!D10),2)) -> 700.68 | F31: =IF(N(A31)=0,"",MAX(MIN(N(D31)-N(E31),N(C31)),0)) -> 421.93 | G31: =IF(N(A31)=0,"",MIN(IFERROR(Rechner!D12/Rechner!D10,0),MAX(N(C31)-N(F31),0))) -> 0 | H31: =IF(N(A31)=0,"",MIN(N(D31)+N(G31),N(C31)+N(E31))) -> 1122.61 | I31: =IF(N(A31)=0,"",MAX(N(C31)-N(F31)-N(G31),0)) -> 239811.83
A32: =IF(N(I31)>0,N(A31)+1,"") -> 26 | B32: =IF(N(A32)=0,"",EDATE(B31,ROUND(12/Rechner!D10,0))) -> 46054 | C32: =IF(N(A32)=0,"",N(I31)) -> 239811.83 | D32: =IF(N(A32)=0,"",MIN(Rechner!D14,N(C32)+N(E32))) -> 1122.61 | E32: =IF(N(A32)=0,"",ROUND(N(C32)*(Rechner!D8/Rechner!D10),2)) -> 699.45 | F32: =IF(N(A32)=0,"",MAX(MIN(N(D32)-N(E32),N(C32)),0)) -> 423.16 | G32: =IF(N(A32)=0,"",MIN(IFERROR(Rechner!D12/Rechner!D10,0),MAX(N(C32)-N(F32),0))) -> 0 | H32: =IF(N(A32)=0,"",MIN(N(D32)+N(G32),N(C32)+N(E32))) -> 1122.61 | I32: =IF(N(A32)=0,"",MAX(N(C32)-N(F32)-N(G32),0)) -> 239388.67
A33: =IF(N(I32)>0,N(A32)+1,"") -> 27 | B33: =IF(N(A33)=0,"",EDATE(B32,ROUND(12/Rechner!D10,0))) -> 46082 | C33: =IF(N(A33)=0,"",N(I32)) -> 239388.67 | D33: =IF(N(A33)=0,"",MIN(Rechner!D14,N(C33)+N(E33))) -> 1122.61 | E33: =IF(N(A33)=0,"",ROUND(N(C33)*(Rechner!D8/Rechner!D10),2)) -> 698.22 | F33: =IF(N(A33)=0,"",MAX(MIN(N(D33)-N(E33),N(C33)),0)) -> 424.39 | G33: =IF(N(A33)=0,"",MIN(IFERROR(Rechner!D12/Rechner!D10,0),MAX(N(C33)-N(F33),0))) -> 0 | H33: =IF(N(A33)=0,"",MIN(N(D33)+N(G33),N(C33)+N(E33))) -> 1122.61 | I33: =IF(N(A33)=0,"",MAX(N(C33)-N(F33)-N(G33),0)) -> 238964.28
A34: =IF(N(I33)>0,N(A33)+1,"") -> 28 | B34: =IF(N(A34)=0,"",EDATE(B33,ROUND(12/Rechner!D10,0))) -> 46113 | C34: =IF(N(A34)=0,"",N(I33)) -> 238964.28 | D34: =IF(N(A34)=0,"",MIN(Rechner!D14,N(C34)+N(E34))) -> 1122.61 | E34: =IF(N(A34)=0,"",ROUND(N(C34)*(Rechner!D8/Rechner!D10),2)) -> 696.98 | F34: =IF(N(A34)=0,"",MAX(MIN(N(D34)-N(E34),N(C34)),0)) -> 425.63 | G34: =IF(N(A34)=0,"",MIN(IFERROR(Rechner!D12/Rechner!D10,0),MAX(N(C34)-N(F34),0))) -> 0 | H34: =IF(N(A34)=0,"",MIN(N(D34)+N(G34),N(C34)+N(E34))) -> 1122.61 | I34: =IF(N(A34)=0,"",MAX(N(C34)-N(F34)-N(G34),0)) -> 238538.65
A35: =IF(N(I34)>0,N(A34)+1,"") -> 29 | B35: =IF(N(A35)=0,"",EDATE(B34,ROUND(12/Rechner!D10,0))) -> 46143 | C35: =IF(N(A35)=0,"",N(I34)) -> 238538.65 | D35: =IF(N(A35)=0,"",MIN(Rechner!D14,N(C35)+N(E35))) -> 1122.61 | E35: =IF(N(A35)=0,"",ROUND(N(C35)*(Rechner!D8/Rechner!D10),2)) -> 695.74 | F35: =IF(N(A35)=0,"",MAX(MIN(N(D35)-N(E35),N(C35)),0)) -> 426.87 | G35: =IF(N(A35)=0,"",MIN(IFERROR(Rechner!D12/Rechner!D10,0),MAX(N(C35)-N(F35),0))) -> 0 | H35: =IF(N(A35)=0,"",MIN(N(D35)+N(G35),N(C35)+N(E35))) -> 1122.61 | I35: =IF(N(A35)=0,"",MAX(N(C35)-N(F35)-N(G35),0)) -> 238111.78
A36: =IF(N(I35)>0,N(A35)+1,"") -> 30 | B36: =IF(N(A36)=0,"",EDATE(B35,ROUND(12/Rechner!D10,0))) -> 46174 | C36: =IF(N(A36)=0,"",N(I35)) -> 238111.78 | D36: =IF(N(A36)=0,"",MIN(Rechner!D14,N(C36)+N(E36))) -> 1122.61 | E36: =IF(N(A36)=0,"",ROUND(N(C36)*(Rechner!D8/Rechner!D10),2)) -> 694.49 | F36: =IF(N(A36)=0,"",MAX(MIN(N(D36)-N(E36),N(C36)),0)) -> 428.12 | G36: =IF(N(A36)=0,"",MIN(IFERROR(Rechner!D12/Rechner!D10,0),MAX(N(C36)-N(F36),0))) -> 0 | H36: =IF(N(A36)=0,"",MIN(N(D36)+N(G36),N(C36)+N(E36))) -> 1122.61 | I36: =IF(N(A36)=0,"",MAX(N(C36)-N(F36)-N(G36),0)) -> 237683.66
A37: =IF(N(I36)>0,N(A36)+1,"") -> 31 | B37: =IF(N(A37)=0,"",EDATE(B36,ROUND(12/Rechner!D10,0))) -> 46204 | C37: =IF(N(A37)=0,"",N(I36)) -> 237683.66 | D37: =IF(N(A37)=0,"",MIN(Rechner!D14,N(C37)+N(E37))) -> 1122.61 | E37: =IF(N(A37)=0,"",ROUND(N(C37)*(Rechner!D8/Rechner!D10),2)) -> 693.24 | F37: =IF(N(A37)=0,"",MAX(MIN(N(D37)-N(E37),N(C37)),0)) -> 429.37 | G37: =IF(N(A37)=0,"",MIN(IFERROR(Rechner!D12/Rechner!D10,0),MAX(N(C37)-N(F37),0))) -> 0 | H37: =IF(N(A37)=0,"",MIN(N(D37)+N(G37),N(C37)+N(E37))) -> 1122.61 | I37: =IF(N(A37)=0,"",MAX(N(C37)-N(F37)-N(G37),0)) -> 237254.29
A38: =IF(N(I37)>0,N(A37)+1,"") -> 32 | B38: =IF(N(A38)=0,"",EDATE(B37,ROUND(12/Rechner!D10,0))) -> 46235 | C38: =IF(N(A38)=0,"",N(I37)) -> 237254.29 | D38: =IF(N(A38)=0,"",MIN(Rechner!D14,N(C38)+N(E38))) -> 1122.61 | E38: =IF(N(A38)=0,"",ROUND(N(C38)*(Rechner!D8/Rechner!D10),2)) -> 691.99 | F38: =IF(N(A38)=0,"",MAX(MIN(N(D38)-N(E38),N(C38)),0)) -> 430.62 | G38: =IF(N(A38)=0,"",MIN(IFERROR(Rechner!D12/Rechner!D10,0),MAX(N(C38)-N(F38),0))) -> 0 | H38: =IF(N(A38)=0,"",MIN(N(D38)+N(G38),N(C38)+N(E38))) -> 1122.61 | I38: =IF(N(A38)=0,"",MAX(N(C38)-N(F38)-N(G38),0)) -> 236823.67
A39: =IF(N(I38)>0,N(A38)+1,"") -> 33 | B39: =IF(N(A39)=0,"",EDATE(B38,ROUND(12/Rechner!D10,0))) -> 46266 | C39: =IF(N(A39)=0,"",N(I38)) -> 236823.67 | D39: =IF(N(A39)=0,"",MIN(Rechner!D14,N(C39)+N(E39))) -> 1122.61 | E39: =IF(N(A39)=0,"",ROUND(N(C39)*(Rechner!D8/Rechner!D10),2)) -> 690.74 | F39: =IF(N(A39)=0,"",MAX(MIN(N(D39)-N(E39),N(C39)),0)) -> 431.87 | G39: =IF(N(A39)=0,"",MIN(IFERROR(Rechner!D12/Rechner!D10,0),MAX(N(C39)-N(F39),0))) -> 0 | H39: =IF(N(A39)=0,"",MIN(N(D39)+N(G39),N(C39)+N(E39))) -> 1122.61 | I39: =IF(N(A39)=0,"",MAX(N(C39)-N(F39)-N(G39),0)) -> 236391.8
A40: =IF(N(I39)>0,N(A39)+1,"") -> 34 | B40: =IF(N(A40)=0,"",EDATE(B39,ROUND(12/Rechner!D10,0))) -> 46296 | C40: =IF(N(A40)=0,"",N(I39)) -> 236391.8 | D40: =IF(N(A40)=0,"",MIN(Rechner!D14,N(C40)+N(E40))) -> 1122.61 | E40: =IF(N(A40)=0,"",ROUND(N(C40)*(Rechner!D8/Rechner!D10),2)) -> 689.48 | F40: =IF(N(A40)=0,"",MAX(MIN(N(D40)-N(E40),N(C40)),0)) -> 433.13 | G40: =IF(N(A40)=0,"",MIN(IFERROR(Rechner!D12/Rechner!D10,0),MAX(N(C40)-N(F40),0))) -> 0 | H40: =IF(N(A40)=0,"",MIN(N(D40)+N(G40),N(C40)+N(E40))) -> 1122.61 | I40: =IF(N(A40)=0,"",MAX(N(C40)-N(F40)-N(G40),0)) -> 235958.67
A41: =IF(N(I40)>0,N(A40)+1,"") -> 35 | B41: =IF(N(A41)=0,"",EDATE(B40,ROUND(12/Rechner!D10,0))) -> 46327 | C41: =IF(N(A41)=0,"",N(I40)) -> 235958.67 | D41: =IF(N(A41)=0,"",MIN(Rechner!D14,N(C41)+N(E41))) -> 1122.61 | E41: =IF(N(A41)=0,"",ROUND(N(C41)*(Rechner!D8/Rechner!D10),2)) -> 688.21 | F41: =IF(N(A41)=0,"",MAX(MIN(N(D41)-N(E41),N(C41)),0)) -> 434.4 | G41: =IF(N(A41)=0,"",MIN(IFERROR(Rechner!D12/Rechner!D10,0),MAX(N(C41)-N(F41),0))) -> 0 | H41: =IF(N(A41)=0,"",MIN(N(D41)+N(G41),N(C41)+N(E41))) -> 1122.61 | I41: =IF(N(A41)=0,"",MAX(N(C41)-N(F41)-N(G41),0)) -> 235524.27
A42: =IF(N(I41)>0,N(A41)+1,"") -> 36 | B42: =IF(N(A42)=0,"",EDATE(B41,ROUND(12/Rechner!D10,0))) -> 46357 | C42: =IF(N(A42)=0,"",N(I41)) -> 235524.27 | D42: =IF(N(A42)=0,"",MIN(Rechner!D14,N(C42)+N(E42))) -> 1122.61 | E42: =IF(N(A42)=0,"",ROUND(N(C42)*(Rechner!D8/Rechner!D10),2)) -> 686.95 | F42: =IF(N(A42)=0,"",MAX(MIN(N(D42)-N(E42),N(C42)),0)) -> 435.66 | G42: =IF(N(A42)=0,"",MIN(IFERROR(Rechner!D12/Rechner!D10,0),MAX(N(C42)-N(F42),0))) -> 0 | H42: =IF(N(A42)=0,"",MIN(N(D42)+N(G42),N(C42)+N(E42))) -> 1122.61 | I42: =IF(N(A42)=0,"",MAX(N(C42)-N(F42)-N(G42),0)) -> 235088.61
A43: =IF(N(I42)>0,N(A42)+1,"") -> 37 | B43: =IF(N(A43)=0,"",EDATE(B42,ROUND(12/Rechner!D10,0))) -> 46388 | C43: =IF(N(A43)=0,"",N(I42)) -> 235088.61 | D43: =IF(N(A43)=0,"",MIN(Rechner!D14,N(C43)+N(E43))) -> 1122.61 | E43: =IF(N(A43)=0,"",ROUND(N(C43)*(Rechner!D8/Rechner!D10),2)) -> 685.68 | F43: =IF(N(A43)=0,"",MAX(MIN(N(D43)-N(E43),N(C43)),0)) -> 436.93 | G43: =IF(N(A43)=0,"",MIN(IFERROR(Rechner!D12/Rechner!D10,0),MAX(N(C43)-N(F43),0))) -> 0 | H43: =IF(N(A43)=0,"",MIN(N(D43)+N(G43),N(C43)+N(E43))) -> 1122.61 | I43: =IF(N(A43)=0,"",MAX(N(C43)-N(F43)-N(G43),0)) -> 234651.68
...

Sheet Rechner
C2: Tilgungsplan Rechner
C4: Parameter anpassen. Der Tilgungsplan und die Grafik aktualisieren sich automatisch.
C6: Eingaben | G6: Übersicht
C7: Darlehensbetrag | D7: 250000 | G7: Voraussichtliches Enddatum | H7: =IF(COUNT(Tilgungsplan!A7:A606)=0,"",INDEX(Tilgungsplan!B7:B606,COUNT(Tilgungsplan!A7:A606))) -> 56250
C8: Jährlicher Zinssatz | D8: 0.035 | G8: Anzahl Zahlungen | H8: =COUNT(Tilgungsplan!A7:A606) -> 361
C9: Laufzeit (Jahre) | D9: 30 | G9: Gesamtzinsen | H9: =SUM(Tilgungsplan!E7:E606) -> 154140.78
C10: Zahlungen pro Jahr | D10: 12 | G10: Gesamttilgung | H10: =SUM(Tilgungsplan!F7:F606)+SUM(Tilgungsplan!G7:G606) -> 250000
C11: Startdatum der ersten Zahlung | D11: 45292 | G11: Gesamtzahlung | H11: =SUM(Tilgungsplan!H7:H606) -> 404140.78
C12: Sondertilgung pro Jahr | D12: 0 | G12: Restschuld am Ende | H12: =IF(COUNT(Tilgungsplan!A7:A606)=0,"",INDEX(Tilgungsplan!I7:I606,COUNT(Tilgungsplan!A7:A606))) -> 0
C14: Monatliche / periodische Rate | D14: =IF(OR(D7<=0,D8<0,D9<=0,D10<=0),"",ROUND(-PMT(D8/D10,D9*D10,D7),2)) -> 1122.61
C15: Effektive Zahlung inkl. Sondertilgung | D15: =IF(D14="","",D14+IFERROR(D12/D10,0)) -> 1122.61
C17: Hinweis: Die Sondertilgung wird gleichmäßig auf die Perioden des Jahres verteilt. Die letzte Rate wird automatisch reduziert, damit keine negative Restschuld entsteht.
