Workbook

Sheet Übersicht
A1: Urlaubsplaner 2026 – Übersicht
A3: Nr. | B3: Mitarbeiter | C3: Urlaubsanspruch (Tage) | D3: Genommener Urlaub 2026 | E3: Resturlaub 2026
A4: 1 | B4: Anna Müller | C4: 50 | D4: =SUM('01_Januar'!$AI4,'02_Februar'!$AF4,'03_März'!$AI4,'04_April'!$AH4,'05_Mai'!$AI4,'06_Juni'!$AH4,'07_Juli'!$AI4,'08_August'!$AI4,'09_September'!$AH4,'10_Oktober'!$AI4,'11_November'!$AH4,'12_Dezember'!$AI4) -> 48 | E4: =C4-D4 -> 2
A5: 2 | B5: Ben Schmitt | C5: 52 | D5: =SUM('01_Januar'!$AI5,'02_Februar'!$AF5,'03_März'!$AI5,'04_April'!$AH5,'05_Mai'!$AI5,'06_Juni'!$AH5,'07_Juli'!$AI5,'08_August'!$AI5,'09_September'!$AH5,'10_Oktober'!$AI5,'11_November'!$AH5,'12_Dezember'!$AI5) -> 48 | E5: =C5-D5 -> 4
A6: 3 | B6: Carla Hofmann | C6: 28 | D6: =SUM('01_Januar'!$AI6,'02_Februar'!$AF6,'03_März'!$AI6,'04_April'!$AH6,'05_Mai'!$AI6,'06_Juni'!$AH6,'07_Juli'!$AI6,'08_August'!$AI6,'09_September'!$AH6,'10_Oktober'!$AI6,'11_November'!$AH6,'12_Dezember'!$AI6) -> 24 | E6: =C6-D6 -> 4
A7: 4 | B7: David Klein | C7: 30 | D7: =SUM('01_Januar'!$AI7,'02_Februar'!$AF7,'03_März'!$AI7,'04_April'!$AH7,'05_Mai'!$AI7,'06_Juni'!$AH7,'07_Juli'!$AI7,'08_August'!$AI7,'09_September'!$AH7,'10_Oktober'!$AI7,'11_November'!$AH7,'12_Dezember'!$AI7) -> 0 | E7: =C7-D7 -> 30
A8: 5 | B8: Eva Schneider | C8: 28 | D8: =SUM('01_Januar'!$AI8,'02_Februar'!$AF8,'03_März'!$AI8,'04_April'!$AH8,'05_Mai'!$AI8,'06_Juni'!$AH8,'07_Juli'!$AI8,'08_August'!$AI8,'09_September'!$AH8,'10_Oktober'!$AI8,'11_November'!$AH8,'12_Dezember'!$AI8) -> 0 | E8: =C8-D8 -> 28
A9: 6 | B9: Felix Wagner | C9: 28 | D9: =SUM('01_Januar'!$AI9,'02_Februar'!$AF9,'03_März'!$AI9,'04_April'!$AH9,'05_Mai'!$AI9,'06_Juni'!$AH9,'07_Juli'!$AI9,'08_August'!$AI9,'09_September'!$AH9,'10_Oktober'!$AI9,'11_November'!$AH9,'12_Dezember'!$AI9) -> 0 | E9: =C9-D9 -> 28
A10: 7 | B10: Greta Fischer | C10: 30 | D10: =SUM('01_Januar'!$AI10,'02_Februar'!$AF10,'03_März'!$AI10,'04_April'!$AH10,'05_Mai'!$AI10,'06_Juni'!$AH10,'07_Juli'!$AI10,'08_August'!$AI10,'09_September'!$AH10,'10_Oktober'!$AI10,'11_November'!$AH10,'12_Dezember'!$AI10) -> 0 | E10: =C10-D10 -> 30
A11: 8 | B11: Hans Bauer | C11: 28 | D11: =SUM('01_Januar'!$AI11,'02_Februar'!$AF11,'03_März'!$AI11,'04_April'!$AH11,'05_Mai'!$AI11,'06_Juni'!$AH11,'07_Juli'!$AI11,'08_August'!$AI11,'09_September'!$AH11,'10_Oktober'!$AI11,'11_November'!$AH11,'12_Dezember'!$AI11) -> 0 | E11: =C11-D11 -> 28
A12: 9 | B12: Irene Vogel | C12: 30 | D12: =SUM('01_Januar'!$AI12,'02_Februar'!$AF12,'03_März'!$AI12,'04_April'!$AH12,'05_Mai'!$AI12,'06_Juni'!$AH12,'07_Juli'!$AI12,'08_August'!$AI12,'09_September'!$AH12,'10_Oktober'!$AI12,'11_November'!$AH12,'12_Dezember'!$AI12) -> 0 | E12: =C12-D12 -> 30
A13: 10 | B13: Jonas Weber | C13: 28 | D13: =SUM('01_Januar'!$AI13,'02_Februar'!$AF13,'03_März'!$AI13,'04_April'!$AH13,'05_Mai'!$AI13,'06_Juni'!$AH13,'07_Juli'!$AI13,'08_August'!$AI13,'09_September'!$AH13,'10_Oktober'!$AI13,'11_November'!$AH13,'12_Dezember'!$AI13) -> 0 | E13: =C13-D13 -> 28

Sheet 01_Januar
A1: Urlaubsplaner 2026 – Januar
A3: Nr. | B3: Mitarbeiter | C3: Abteilung | D3: 46023 | E3: 46024 | F3: 46025 | G3: 46026 | H3: 46027 | I3: 46028 | J3: 46029 | K3: 46030 | L3: 46031 | M3: 46032 | N3: 46033 | O3: 46034 | P3: 46035 | Q3: 46036 | R3: 46037 | S3: 46038 | T3: 46039 | U3: 46040 | V3: 46041 | W3: 46042 | X3: 46043 | Y3: 46044 | Z3: 46045 | AA3: 46046 | AB3: 46047 | AC3: 46048 | AD3: 46049 | AE3: 46050 | AF3: 46051 | AG3: 46052 | AH3: 46053 | AI3: Summe Urlaubstage Monat
A4: 1 | B4: Anna Müller | C4: Vertrieb | E4: 1 | F4: 1 | M4: 1 | N4: 1 | AI4: =SUM(D4:AH4) -> 4
A5: 2 | B5: Ben Schmitt | C5: Vertrieb | E5: 1 | F5: 1 | M5: 1 | N5: 1 | AI5: =SUM(D5:AH5) -> 4
A6: 3 | B6: Carla Hofmann | C6: Marketing | E6: 0.5 | F6: 0.5 | M6: 0.5 | N6: 0.5 | AI6: =SUM(D6:AH6) -> 2
A7: 4 | B7: David Klein | C7: IT | AI7: =SUM(D7:AH7) -> 0
A8: 5 | B8: Eva Schneider | C8: IT | AI8: =SUM(D8:AH8) -> 0
A9: 6 | B9: Felix Wagner | C9: HR | AI9: =SUM(D9:AH9) -> 0
A10: 7 | B10: Greta Fischer | C10: HR | AI10: =SUM(D10:AH10) -> 0
A11: 8 | B11: Hans Bauer | C11: Logistik | AI11: =SUM(D11:AH11) -> 0
A12: 9 | B12: Irene Vogel | C12: Einkauf | AI12: =SUM(D12:AH12) -> 0
A13: 10 | B13: Jonas Weber | C13: Finanzen | AI13: =SUM(D13:AH13) -> 0

Sheet 02_Februar
A1: Urlaubsplaner 2026 – Februar
A3: Nr. | B3: Mitarbeiter | C3: Abteilung | D3: 46054 | E3: 46055 | F3: 46056 | G3: 46057 | H3: 46058 | I3: 46059 | J3: 46060 | K3: 46061 | L3: 46062 | M3: 46063 | N3: 46064 | O3: 46065 | P3: 46066 | Q3: 46067 | R3: 46068 | S3: 46069 | T3: 46070 | U3: 46071 | V3: 46072 | W3: 46073 | X3: 46074 | Y3: 46075 | Z3: 46076 | AA3: 46077 | AB3: 46078 | AC3: 46079 | AD3: 46080 | AE3: 46081 | AF3: Summe Urlaubstage Monat
A4: 1 | B4: Anna Müller | C4: Vertrieb | E4: 1 | F4: 1 | M4: 1 | N4: 1 | AF4: =SUM(D4:AE4) -> 4
A5: 2 | B5: Ben Schmitt | C5: Vertrieb | E5: 1 | F5: 1 | M5: 1 | N5: 1 | AF5: =SUM(D5:AE5) -> 4
A6: 3 | B6: Carla Hofmann | C6: Marketing | E6: 0.5 | F6: 0.5 | M6: 0.5 | N6: 0.5 | AF6: =SUM(D6:AE6) -> 2
A7: 4 | B7: David Klein | C7: IT | AF7: =SUM(D7:AE7) -> 0
A8: 5 | B8: Eva Schneider | C8: IT | AF8: =SUM(D8:AE8) -> 0
A9: 6 | B9: Felix Wagner | C9: HR | AF9: =SUM(D9:AE9) -> 0
A10: 7 | B10: Greta Fischer | C10: HR | AF10: =SUM(D10:AE10) -> 0
A11: 8 | B11: Hans Bauer | C11: Logistik | AF11: =SUM(D11:AE11) -> 0
A12: 9 | B12: Irene Vogel | C12: Einkauf | AF12: =SUM(D12:AE12) -> 0
A13: 10 | B13: Jonas Weber | C13: Finanzen | AF13: =SUM(D13:AE13) -> 0

Sheet 03_März
A1: Urlaubsplaner 2026 – März
A3: Nr. | B3: Mitarbeiter | C3: Abteilung | D3: 46082 | E3: 46083 | F3: 46084 | G3: 46085 | H3: 46086 | I3: 46087 | J3: 46088 | K3: 46089 | L3: 46090 | M3: 46091 | N3: 46092 | O3: 46093 | P3: 46094 | Q3: 46095 | R3: 46096 | S3: 46097 | T3: 46098 | U3: 46099 | V3: 46100 | W3: 46101 | X3: 46102 | Y3: 46103 | Z3: 46104 | AA3: 46105 | AB3: 46106 | AC3: 46107 | AD3: 46108 | AE3: 46109 | AF3: 46110 | AG3: 46111 | AH3: 46112 | AI3: Summe Urlaubstage Monat
A4: 1 | B4: Anna Müller | C4: Vertrieb | E4: 1 | F4: 1 | M4: 1 | N4: 1 | AI4: =SUM(D4:AH4) -> 4
A5: 2 | B5: Ben Schmitt | C5: Vertrieb | E5: 1 | F5: 1 | M5: 1 | N5: 1 | AI5: =SUM(D5:AH5) -> 4
A6: 3 | B6: Carla Hofmann | C6: Marketing | E6: 0.5 | F6: 0.5 | M6: 0.5 | N6: 0.5 | AI6: =SUM(D6:AH6) -> 2
A7: 4 | B7: David Klein | C7: IT | AI7: =SUM(D7:AH7) -> 0
A8: 5 | B8: Eva Schneider | C8: IT | AI8: =SUM(D8:AH8) -> 0
A9: 6 | B9: Felix Wagner | C9: HR | AI9: =SUM(D9:AH9) -> 0
A10: 7 | B10: Greta Fischer | C10: HR | AI10: =SUM(D10:AH10) -> 0
A11: 8 | B11: Hans Bauer | C11: Logistik | AI11: =SUM(D11:AH11) -> 0
A12: 9 | B12: Irene Vogel | C12: Einkauf | AI12: =SUM(D12:AH12) -> 0
A13: 10 | B13: Jonas Weber | C13: Finanzen | AI13: =SUM(D13:AH13) -> 0

Sheet 04_April
A1: Urlaubsplaner 2026 – April
A3: Nr. | B3: Mitarbeiter | C3: Abteilung | D3: 46113 | E3: 46114 | F3: 46115 | G3: 46116 | H3: 46117 | I3: 46118 | J3: 46119 | K3: 46120 | L3: 46121 | M3: 46122 | N3: 46123 | O3: 46124 | P3: 46125 | Q3: 46126 | R3: 46127 | S3: 46128 | T3: 46129 | U3: 46130 | V3: 46131 | W3: 46132 | X3: 46133 | Y3: 46134 | Z3: 46135 | AA3: 46136 | AB3: 46137 | AC3: 46138 | AD3: 46139 | AE3: 46140 | AF3: 46141 | AG3: 46142 | AH3: Summe Urlaubstage Monat
A4: 1 | B4: Anna Müller | C4: Vertrieb | E4: 1 | F4: 1 | M4: 1 | N4: 1 | AH4: =SUM(D4:AG4) -> 4
A5: 2 | B5: Ben Schmitt | C5: Vertrieb | E5: 1 | F5: 1 | M5: 1 | N5: 1 | AH5: =SUM(D5:AG5) -> 4
A6: 3 | B6: Carla Hofmann | C6: Marketing | E6: 0.5 | F6: 0.5 | M6: 0.5 | N6: 0.5 | AH6: =SUM(D6:AG6) -> 2
A7: 4 | B7: David Klein | C7: IT | AH7: =SUM(D7:AG7) -> 0
A8: 5 | B8: Eva Schneider | C8: IT | AH8: =SUM(D8:AG8) -> 0
A9: 6 | B9: Felix Wagner | C9: HR | AH9: =SUM(D9:AG9) -> 0
A10: 7 | B10: Greta Fischer | C10: HR | AH10: =SUM(D10:AG10) -> 0
A11: 8 | B11: Hans Bauer | C11: Logistik | AH11: =SUM(D11:AG11) -> 0
A12: 9 | B12: Irene Vogel | C12: Einkauf | AH12: =SUM(D12:AG12) -> 0
A13: 10 | B13: Jonas Weber | C13: Finanzen | AH13: =SUM(D13:AG13) -> 0

Sheet 05_Mai
A1: Urlaubsplaner 2026 – Mai
A3: Nr. | B3: Mitarbeiter | C3: Abteilung | D3: 46143 | E3: 46144 | F3: 46145 | G3: 46146 | H3: 46147 | I3: 46148 | J3: 46149 | K3: 46150 | L3: 46151 | M3: 46152 | N3: 46153 | O3: 46154 | P3: 46155 | Q3: 46156 | R3: 46157 | S3: 46158 | T3: 46159 | U3: 46160 | V3: 46161 | W3: 46162 | X3: 46163 | Y3: 46164 | Z3: 46165 | AA3: 46166 | AB3: 46167 | AC3: 46168 | AD3: 46169 | AE3: 46170 | AF3: 46171 | AG3: 46172 | AH3: 46173 | AI3: Summe Urlaubstage Monat
A4: 1 | B4: Anna Müller | C4: Vertrieb | E4: 1 | F4: 1 | M4: 1 | N4: 1 | AI4: =SUM(D4:AH4) -> 4
A5: 2 | B5: Ben Schmitt | C5: Vertrieb | E5: 1 | F5: 1 | M5: 1 | N5: 1 | AI5: =SUM(D5:AH5) -> 4
A6: 3 | B6: Carla Hofmann | C6: Marketing | E6: 0.5 | F6: 0.5 | M6: 0.5 | N6: 0.5 | AI6: =SUM(D6:AH6) -> 2
A7: 4 | B7: David Klein | C7: IT | AI7: =SUM(D7:AH7) -> 0
A8: 5 | B8: Eva Schneider | C8: IT | AI8: =SUM(D8:AH8) -> 0
A9: 6 | B9: Felix Wagner | C9: HR | AI9: =SUM(D9:AH9) -> 0
A10: 7 | B10: Greta Fischer | C10: HR | AI10: =SUM(D10:AH10) -> 0
A11: 8 | B11: Hans Bauer | C11: Logistik | AI11: =SUM(D11:AH11) -> 0
A12: 9 | B12: Irene Vogel | C12: Einkauf | AI12: =SUM(D12:AH12) -> 0
A13: 10 | B13: Jonas Weber | C13: Finanzen | AI13: =SUM(D13:AH13) -> 0

Sheet 06_Juni
A1: Urlaubsplaner 2026 – Juni
A3: Nr. | B3: Mitarbeiter | C3: Abteilung | D3: 46174 | E3: 46175 | F3: 46176 | G3: 46177 | H3: 46178 | I3: 46179 | J3: 46180 | K3: 46181 | L3: 46182 | M3: 46183 | N3: 46184 | O3: 46185 | P3: 46186 | Q3: 46187 | R3: 46188 | S3: 46189 | T3: 46190 | U3: 46191 | V3: 46192 | W3: 46193 | X3: 46194 | Y3: 46195 | Z3: 46196 | AA3: 46197 | AB3: 46198 | AC3: 46199 | AD3: 46200 | AE3: 46201 | AF3: 46202 | AG3: 46203 | AH3: Summe Urlaubstage Monat
A4: 1 | B4: Anna Müller | C4: Vertrieb | E4: 1 | F4: 1 | M4: 1 | N4: 1 | AH4: =SUM(D4:AG4) -> 4
A5: 2 | B5: Ben Schmitt | C5: Vertrieb | E5: 1 | F5: 1 | M5: 1 | N5: 1 | AH5: =SUM(D5:AG5) -> 4
A6: 3 | B6: Carla Hofmann | C6: Marketing | E6: 0.5 | F6: 0.5 | M6: 0.5 | N6: 0.5 | AH6: =SUM(D6:AG6) -> 2
A7: 4 | B7: David Klein | C7: IT | AH7: =SUM(D7:AG7) -> 0
A8: 5 | B8: Eva Schneider | C8: IT | AH8: =SUM(D8:AG8) -> 0
A9: 6 | B9: Felix Wagner | C9: HR | AH9: =SUM(D9:AG9) -> 0
A10: 7 | B10: Greta Fischer | C10: HR | AH10: =SUM(D10:AG10) -> 0
A11: 8 | B11: Hans Bauer | C11: Logistik | AH11: =SUM(D11:AG11) -> 0
A12: 9 | B12: Irene Vogel | C12: Einkauf | AH12: =SUM(D12:AG12) -> 0
A13: 10 | B13: Jonas Weber | C13: Finanzen | AH13: =SUM(D13:AG13) -> 0

Sheet 07_Juli
A1: Urlaubsplaner 2026 – Juli
A3: Nr. | B3: Mitarbeiter | C3: Abteilung | D3: 46204 | E3: 46205 | F3: 46206 | G3: 46207 | H3: 46208 | I3: 46209 | J3: 46210 | K3: 46211 | L3: 46212 | M3: 46213 | N3: 46214 | O3: 46215 | P3: 46216 | Q3: 46217 | R3: 46218 | S3: 46219 | T3: 46220 | U3: 46221 | V3: 46222 | W3: 46223 | X3: 46224 | Y3: 46225 | Z3: 46226 | AA3: 46227 | AB3: 46228 | AC3: 46229 | AD3: 46230 | AE3: 46231 | AF3: 46232 | AG3: 46233 | AH3: 46234 | AI3: Summe Urlaubstage Monat
A4: 1 | B4: Anna Müller | C4: Vertrieb | E4: 1 | F4: 1 | M4: 1 | N4: 1 | AI4: =SUM(D4:AH4) -> 4
A5: 2 | B5: Ben Schmitt | C5: Vertrieb | E5: 1 | F5: 1 | M5: 1 | N5: 1 | AI5: =SUM(D5:AH5) -> 4
A6: 3 | B6: Carla Hofmann | C6: Marketing | E6: 0.5 | F6: 0.5 | M6: 0.5 | N6: 0.5 | AI6: =SUM(D6:AH6) -> 2
A7: 4 | B7: David Klein | C7: IT | AI7: =SUM(D7:AH7) -> 0
A8: 5 | B8: Eva Schneider | C8: IT | AI8: =SUM(D8:AH8) -> 0
A9: 6 | B9: Felix Wagner | C9: HR | AI9: =SUM(D9:AH9) -> 0
A10: 7 | B10: Greta Fischer | C10: HR | AI10: =SUM(D10:AH10) -> 0
A11: 8 | B11: Hans Bauer | C11: Logistik | AI11: =SUM(D11:AH11) -> 0
A12: 9 | B12: Irene Vogel | C12: Einkauf | AI12: =SUM(D12:AH12) -> 0
A13: 10 | B13: Jonas Weber | C13: Finanzen | AI13: =SUM(D13:AH13) -> 0

Sheet 08_August
A1: Urlaubsplaner 2026 – August
A3: Nr. | B3: Mitarbeiter | C3: Abteilung | D3: 46235 | E3: 46236 | F3: 46237 | G3: 46238 | H3: 46239 | I3: 46240 | J3: 46241 | K3: 46242 | L3: 46243 | M3: 46244 | N3: 46245 | O3: 46246 | P3: 46247 | Q3: 46248 | R3: 46249 | S3: 46250 | T3: 46251 | U3: 46252 | V3: 46253 | W3: 46254 | X3: 46255 | Y3: 46256 | Z3: 46257 | AA3: 46258 | AB3: 46259 | AC3: 46260 | AD3: 46261 | AE3: 46262 | AF3: 46263 | AG3: 46264 | AH3: 46265 | AI3: Summe Urlaubstage Monat
A4: 1 | B4: Anna Müller | C4: Vertrieb | E4: 1 | F4: 1 | M4: 1 | N4: 1 | AI4: =SUM(D4:AH4) -> 4
A5: 2 | B5: Ben Schmitt | C5: Vertrieb | E5: 1 | F5: 1 | M5: 1 | N5: 1 | AI5: =SUM(D5:AH5) -> 4
A6: 3 | B6: Carla Hofmann | C6: Marketing | E6: 0.5 | F6: 0.5 | M6: 0.5 | N6: 0.5 | AI6: =SUM(D6:AH6) -> 2
A7: 4 | B7: David Klein | C7: IT | AI7: =SUM(D7:AH7) -> 0
A8: 5 | B8: Eva Schneider | C8: IT | AI8: =SUM(D8:AH8) -> 0
A9: 6 | B9: Felix Wagner | C9: HR | AI9: =SUM(D9:AH9) -> 0
A10: 7 | B10: Greta Fischer | C10: HR | AI10: =SUM(D10:AH10) -> 0
A11: 8 | B11: Hans Bauer | C11: Logistik | AI11: =SUM(D11:AH11) -> 0
A12: 9 | B12: Irene Vogel | C12: Einkauf | AI12: =SUM(D12:AH12) -> 0
A13: 10 | B13: Jonas Weber | C13: Finanzen | AI13: =SUM(D13:AH13) -> 0

Sheet 09_September
A1: Urlaubsplaner 2026 – September
A3: Nr. | B3: Mitarbeiter | C3: Abteilung | D3: 46266 | E3: 46267 | F3: 46268 | G3: 46269 | H3: 46270 | I3: 46271 | J3: 46272 | K3: 46273 | L3: 46274 | M3: 46275 | N3: 46276 | O3: 46277 | P3: 46278 | Q3: 46279 | R3: 46280 | S3: 46281 | T3: 46282 | U3: 46283 | V3: 46284 | W3: 46285 | X3: 46286 | Y3: 46287 | Z3: 46288 | AA3: 46289 | AB3: 46290 | AC3: 46291 | AD3: 46292 | AE3: 46293 | AF3: 46294 | AG3: 46295 | AH3: Summe Urlaubstage Monat
A4: 1 | B4: Anna Müller | C4: Vertrieb | E4: 1 | F4: 1 | M4: 1 | N4: 1 | AH4: =SUM(D4:AG4) -> 4
A5: 2 | B5: Ben Schmitt | C5: Vertrieb | E5: 1 | F5: 1 | M5: 1 | N5: 1 | AH5: =SUM(D5:AG5) -> 4
A6: 3 | B6: Carla Hofmann | C6: Marketing | E6: 0.5 | F6: 0.5 | M6: 0.5 | N6: 0.5 | AH6: =SUM(D6:AG6) -> 2
A7: 4 | B7: David Klein | C7: IT | AH7: =SUM(D7:AG7) -> 0
A8: 5 | B8: Eva Schneider | C8: IT | AH8: =SUM(D8:AG8) -> 0
A9: 6 | B9: Felix Wagner | C9: HR | AH9: =SUM(D9:AG9) -> 0
A10: 7 | B10: Greta Fischer | C10: HR | AH10: =SUM(D10:AG10) -> 0
A11: 8 | B11: Hans Bauer | C11: Logistik | AH11: =SUM(D11:AG11) -> 0
A12: 9 | B12: Irene Vogel | C12: Einkauf | AH12: =SUM(D12:AG12) -> 0
A13: 10 | B13: Jonas Weber | C13: Finanzen | AH13: =SUM(D13:AG13) -> 0

Sheet 10_Oktober
A1: Urlaubsplaner 2026 – Oktober
A3: Nr. | B3: Mitarbeiter | C3: Abteilung | D3: 46296 | E3: 46297 | F3: 46298 | G3: 46299 | H3: 46300 | I3: 46301 | J3: 46302 | K3: 46303 | L3: 46304 | M3: 46305 | N3: 46306 | O3: 46307 | P3: 46308 | Q3: 46309 | R3: 46310 | S3: 46311 | T3: 46312 | U3: 46313 | V3: 46314 | W3: 46315 | X3: 46316 | Y3: 46317 | Z3: 46318 | AA3: 46319 | AB3: 46320 | AC3: 46321 | AD3: 46322 | AE3: 46323 | AF3: 46324 | AG3: 46325 | AH3: 46326 | AI3: Summe Urlaubstage Monat
A4: 1 | B4: Anna Müller | C4: Vertrieb | E4: 1 | F4: 1 | M4: 1 | N4: 1 | AI4: =SUM(D4:AH4) -> 4
A5: 2 | B5: Ben Schmitt | C5: Vertrieb | E5: 1 | F5: 1 | M5: 1 | N5: 1 | AI5: =SUM(D5:AH5) -> 4
A6: 3 | B6: Carla Hofmann | C6: Marketing | E6: 0.5 | F6: 0.5 | M6: 0.5 | N6: 0.5 | AI6: =SUM(D6:AH6) -> 2
A7: 4 | B7: David Klein | C7: IT | AI7: =SUM(D7:AH7) -> 0
A8: 5 | B8: Eva Schneider | C8: IT | AI8: =SUM(D8:AH8) -> 0
A9: 6 | B9: Felix Wagner | C9: HR | AI9: =SUM(D9:AH9) -> 0
A10: 7 | B10: Greta Fischer | C10: HR | AI10: =SUM(D10:AH10) -> 0
A11: 8 | B11: Hans Bauer | C11: Logistik | AI11: =SUM(D11:AH11) -> 0
A12: 9 | B12: Irene Vogel | C12: Einkauf | AI12: =SUM(D12:AH12) -> 0
A13: 10 | B13: Jonas Weber | C13: Finanzen | AI13: =SUM(D13:AH13) -> 0

Sheet 11_November
A1: Urlaubsplaner 2026 – November
A3: Nr. | B3: Mitarbeiter | C3: Abteilung | D3: 46327 | E3: 46328 | F3: 46329 | G3: 46330 | H3: 46331 | I3: 46332 | J3: 46333 | K3: 46334 | L3: 46335 | M3: 46336 | N3: 46337 | O3: 46338 | P3: 46339 | Q3: 46340 | R3: 46341 | S3: 46342 | T3: 46343 | U3: 46344 | V3: 46345 | W3: 46346 | X3: 46347 | Y3: 46348 | Z3: 46349 | AA3: 46350 | AB3: 46351 | AC3: 46352 | AD3: 46353 | AE3: 46354 | AF3: 46355 | AG3: 46356 | AH3: Summe Urlaubstage Monat
A4: 1 | B4: Anna Müller | C4: Vertrieb | E4: 1 | F4: 1 | M4: 1 | N4: 1 | AH4: =SUM(D4:AG4) -> 4
A5: 2 | B5: Ben Schmitt | C5: Vertrieb | E5: 1 | F5: 1 | M5: 1 | N5: 1 | AH5: =SUM(D5:AG5) -> 4
A6: 3 | B6: Carla Hofmann | C6: Marketing | E6: 0.5 | F6: 0.5 | M6: 0.5 | N6: 0.5 | AH6: =SUM(D6:AG6) -> 2
A7: 4 | B7: David Klein | C7: IT | AH7: =SUM(D7:AG7) -> 0
A8: 5 | B8: Eva Schneider | C8: IT | AH8: =SUM(D8:AG8) -> 0
A9: 6 | B9: Felix Wagner | C9: HR | AH9: =SUM(D9:AG9) -> 0
A10: 7 | B10: Greta Fischer | C10: HR | AH10: =SUM(D10:AG10) -> 0
A11: 8 | B11: Hans Bauer | C11: Logistik | AH11: =SUM(D11:AG11) -> 0
A12: 9 | B12: Irene Vogel | C12: Einkauf | AH12: =SUM(D12:AG12) -> 0
A13: 10 | B13: Jonas Weber | C13: Finanzen | AH13: =SUM(D13:AG13) -> 0

Sheet 12_Dezember
A1: Urlaubsplaner 2026 – Dezember
A3: Nr. | B3: Mitarbeiter | C3: Abteilung | D3: 46357 | E3: 46358 | F3: 46359 | G3: 46360 | H3: 46361 | I3: 46362 | J3: 46363 | K3: 46364 | L3: 46365 | M3: 46366 | N3: 46367 | O3: 46368 | P3: 46369 | Q3: 46370 | R3: 46371 | S3: 46372 | T3: 46373 | U3: 46374 | V3: 46375 | W3: 46376 | X3: 46377 | Y3: 46378 | Z3: 46379 | AA3: 46380 | AB3: 46381 | AC3: 46382 | AD3: 46383 | AE3: 46384 | AF3: 46385 | AG3: 46386 | AH3: 46387 | AI3: Summe Urlaubstage Monat
A4: 1 | B4: Anna Müller | C4: Vertrieb | E4: 1 | F4: 1 | M4: 1 | N4: 1 | AI4: =SUM(D4:AH4) -> 4
A5: 2 | B5: Ben Schmitt | C5: Vertrieb | E5: 1 | F5: 1 | M5: 1 | N5: 1 | AI5: =SUM(D5:AH5) -> 4
A6: 3 | B6: Carla Hofmann | C6: Marketing | E6: 0.5 | F6: 0.5 | M6: 0.5 | N6: 0.5 | AI6: =SUM(D6:AH6) -> 2
A7: 4 | B7: David Klein | C7: IT | AI7: =SUM(D7:AH7) -> 0
A8: 5 | B8: Eva Schneider | C8: IT | AI8: =SUM(D8:AH8) -> 0
A9: 6 | B9: Felix Wagner | C9: HR | AI9: =SUM(D9:AH9) -> 0
A10: 7 | B10: Greta Fischer | C10: HR | AI10: =SUM(D10:AH10) -> 0
A11: 8 | B11: Hans Bauer | C11: Logistik | AI11: =SUM(D11:AH11) -> 0
A12: 9 | B12: Irene Vogel | C12: Einkauf | AI12: =SUM(D12:AH12) -> 0
A13: 10 | B13: Jonas Weber | C13: Finanzen | AI13: =SUM(D13:AH13) -> 0
