Workbook

Sheet Urlaubsplaner
B1: ="Urlaubsplaner " & B2 -> Urlaubsplaner 2026
A2: Jahr | B2: 2026 | D2: Jahr in B2 ändern. Namen im Blatt 'Einstellungen' pflegen.
DN3: U | DO3: Urlaub | DQ3: H | DR3: Homeoffice | DT3: K | DU3: Krank | DW3: S | DX3: Schulung
B5: Januar – April
A6: Nr. | B6: Mitarbeiter | C6: Januar | AI6: Februar | BO6: März | CU6: April
C7: =IF(1<=DAY(EOMONTH(DATE($B$2,1,1),0)),1,"") -> 1 | D7: =IF(2<=DAY(EOMONTH(DATE($B$2,1,1),0)),2,"") -> 2 | E7: =IF(3<=DAY(EOMONTH(DATE($B$2,1,1),0)),3,"") -> 3 | F7: =IF(4<=DAY(EOMONTH(DATE($B$2,1,1),0)),4,"") -> 4 | G7: =IF(5<=DAY(EOMONTH(DATE($B$2,1,1),0)),5,"") -> 5 | H7: =IF(6<=DAY(EOMONTH(DATE($B$2,1,1),0)),6,"") -> 6 | I7: =IF(7<=DAY(EOMONTH(DATE($B$2,1,1),0)),7,"") -> 7 | J7: =IF(8<=DAY(EOMONTH(DATE($B$2,1,1),0)),8,"") -> 8 | K7: =IF(9<=DAY(EOMONTH(DATE($B$2,1,1),0)),9,"") -> 9 | L7: =IF(10<=DAY(EOMONTH(DATE($B$2,1,1),0)),10,"") -> 10 | M7: =IF(11<=DAY(EOMONTH(DATE($B$2,1,1),0)),11,"") -> 11 | N7: =IF(12<=DAY(EOMONTH(DATE($B$2,1,1),0)),12,"") -> 12 | O7: =IF(13<=DAY(EOMONTH(DATE($B$2,1,1),0)),13,"") -> 13 | P7: =IF(14<=DAY(EOMONTH(DATE($B$2,1,1),0)),14,"") -> 14 | Q7: =IF(15<=DAY(EOMONTH(DATE($B$2,1,1),0)),15,"") -> 15 | R7: =IF(16<=DAY(EOMONTH(DATE($B$2,1,1),0)),16,"") -> 16 | S7: =IF(17<=DAY(EOMONTH(DATE($B$2,1,1),0)),17,"") -> 17 | T7: =IF(18<=DAY(EOMONTH(DATE($B$2,1,1),0)),18,"") -> 18 | U7: =IF(19<=DAY(EOMONTH(DATE($B$2,1,1),0)),19,"") -> 19 | V7: =IF(20<=DAY(EOMONTH(DATE($B$2,1,1),0)),20,"") -> 20 | W7: =IF(21<=DAY(EOMONTH(DATE($B$2,1,1),0)),21,"") -> 21 | X7: =IF(22<=DAY(EOMONTH(DATE($B$2,1,1),0)),22,"") -> 22 | Y7: =IF(23<=DAY(EOMONTH(DATE($B$2,1,1),0)),23,"") -> 23 | Z7: =IF(24<=DAY(EOMONTH(DATE($B$2,1,1),0)),24,"") -> 24 | AA7: =IF(25<=DAY(EOMONTH(DATE($B$2,1,1),0)),25,"") -> 25 | AB7: =IF(26<=DAY(EOMONTH(DATE($B$2,1,1),0)),26,"") -> 26 | AC7: =IF(27<=DAY(EOMONTH(DATE($B$2,1,1),0)),27,"") -> 27 | AD7: =IF(28<=DAY(EOMONTH(DATE($B$2,1,1),0)),28,"") -> 28 | AE7: =IF(29<=DAY(EOMONTH(DATE($B$2,1,1),0)),29,"") -> 29 | AF7: =IF(30<=DAY(EOMONTH(DATE($B$2,1,1),0)),30,"") -> 30 | AG7: =IF(31<=DAY(EOMONTH(DATE($B$2,1,1),0)),31,"") -> 31 | AI7: =IF(1<=DAY(EOMONTH(DATE($B$2,2,1),0)),1,"") -> 1 | AJ7: =IF(2<=DAY(EOMONTH(DATE($B$2,2,1),0)),2,"") -> 2 | AK7: =IF(3<=DAY(EOMONTH(DATE($B$2,2,1),0)),3,"") -> 3 | AL7: =IF(4<=DAY(EOMONTH(DATE($B$2,2,1),0)),4,"") -> 4 | AM7: =IF(5<=DAY(EOMONTH(DATE($B$2,2,1),0)),5,"") -> 5 | AN7: =IF(6<=DAY(EOMONTH(DATE($B$2,2,1),0)),6,"") -> 6 | AO7: =IF(7<=DAY(EOMONTH(DATE($B$2,2,1),0)),7,"") -> 7 | AP7: =IF(8<=DAY(EOMONTH(DATE($B$2,2,1),0)),8,"") -> 8 | AQ7: =IF(9<=DAY(EOMONTH(DATE($B$2,2,1),0)),9,"") -> 9 | AR7: =IF(10<=DAY(EOMONTH(DATE($B$2,2,1),0)),10,"") -> 10 | AS7: =IF(11<=DAY(EOMONTH(DATE($B$2,2,1),0)),11,"") -> 11 | AT7: =IF(12<=DAY(EOMONTH(DATE($B$2,2,1),0)),12,"") -> 12 | AU7: =IF(13<=DAY(EOMONTH(DATE($B$2,2,1),0)),13,"") -> 13 | AV7: =IF(14<=DAY(EOMONTH(DATE($B$2,2,1),0)),14,"") -> 14 | AW7: =IF(15<=DAY(EOMONTH(DATE($B$2,2,1),0)),15,"") -> 15 | AX7: =IF(16<=DAY(EOMONTH(DATE($B$2,2,1),0)),16,"") -> 16 | AY7: =IF(17<=DAY(EOMONTH(DATE($B$2,2,1),0)),17,"") -> 17 | AZ7: =IF(18<=DAY(EOMONTH(DATE($B$2,2,1),0)),18,"") -> 18 | BA7: =IF(19<=DAY(EOMONTH(DATE($B$2,2,1),0)),19,"") -> 19 | BB7: =IF(20<=DAY(EOMONTH(DATE($B$2,2,1),0)),20,"") -> 20 | BC7: =IF(21<=DAY(EOMONTH(DATE($B$2,2,1),0)),21,"") -> 21 | BD7: =IF(22<=DAY(EOMONTH(DATE($B$2,2,1),0)),22,"") -> 22 | BE7: =IF(23<=DAY(EOMONTH(DATE($B$2,2,1),0)),23,"") -> 23 | BF7: =IF(24<=DAY(EOMONTH(DATE($B$2,2,1),0)),24,"") -> 24 | BG7: =IF(25<=DAY(EOMONTH(DATE($B$2,2,1),0)),25,"") -> 25 | BH7: =IF(26<=DAY(EOMONTH(DATE($B$2,2,1),0)),26,"") -> 26 | BI7: =IF(27<=DAY(EOMONTH(DATE($B$2,2,1),0)),27,"") -> 27 | BJ7: =IF(28<=DAY(EOMONTH(DATE($B$2,2,1),0)),28,"") -> 28 | BK7: =IF(29<=DAY(EOMONTH(DATE($B$2,2,1),0)),29,"") | BL7: =IF(30<=DAY(EOMONTH(DATE($B$2,2,1),0)),30,"") | BM7: =IF(31<=DAY(EOMONTH(DATE($B$2,2,1),0)),31,"") | BO7: =IF(1<=DAY(EOMONTH(DATE($B$2,3,1),0)),1,"") -> 1 | BP7: =IF(2<=DAY(EOMONTH(DATE($B$2,3,1),0)),2,"") -> 2 | BQ7: =IF(3<=DAY(EOMONTH(DATE($B$2,3,1),0)),3,"") -> 3 | BR7: =IF(4<=DAY(EOMONTH(DATE($B$2,3,1),0)),4,"") -> 4 | BS7: =IF(5<=DAY(EOMONTH(DATE($B$2,3,1),0)),5,"") -> 5 | BT7: =IF(6<=DAY(EOMONTH(DATE($B$2,3,1),0)),6,"") -> 6 | BU7: =IF(7<=DAY(EOMONTH(DATE($B$2,3,1),0)),7,"") -> 7 | BV7: =IF(8<=DAY(EOMONTH(DATE($B$2,3,1),0)),8,"") -> 8 | BW7: =IF(9<=DAY(EOMONTH(DATE($B$2,3,1),0)),9,"") -> 9 | BX7: =IF(10<=DAY(EOMONTH(DATE($B$2,3,1),0)),10,"") -> 10 | BY7: =IF(11<=DAY(EOMONTH(DATE($B$2,3,1),0)),11,"") -> 11 | BZ7: =IF(12<=DAY(EOMONTH(DATE($B$2,3,1),0)),12,"") -> 12 | CA7: =IF(13<=DAY(EOMONTH(DATE($B$2,3,1),0)),13,"") -> 13 | CB7: =IF(14<=DAY(EOMONTH(DATE($B$2,3,1),0)),14,"") -> 14 | CC7: =IF(15<=DAY(EOMONTH(DATE($B$2,3,1),0)),15,"") -> 15 | CD7: =IF(16<=DAY(EOMONTH(DATE($B$2,3,1),0)),16,"") -> 16 | CE7: =IF(17<=DAY(EOMONTH(DATE($B$2,3,1),0)),17,"") -> 17 | CF7: =IF(18<=DAY(EOMONTH(DATE($B$2,3,1),0)),18,"") -> 18 | CG7: =IF(19<=DAY(EOMONTH(DATE($B$2,3,1),0)),19,"") -> 19 | CH7: =IF(20<=DAY(EOMONTH(DATE($B$2,3,1),0)),20,"") -> 20 | CI7: =IF(21<=DAY(EOMONTH(DATE($B$2,3,1),0)),21,"") -> 21 | CJ7: =IF(22<=DAY(EOMONTH(DATE($B$2,3,1),0)),22,"") -> 22 | CK7: =IF(23<=DAY(EOMONTH(DATE($B$2,3,1),0)),23,"") -> 23 | CL7: =IF(24<=DAY(EOMONTH(DATE($B$2,3,1),0)),24,"") -> 24 | CM7: =IF(25<=DAY(EOMONTH(DATE($B$2,3,1),0)),25,"") -> 25 | CN7: =IF(26<=DAY(EOMONTH(DATE($B$2,3,1),0)),26,"") -> 26 | CO7: =IF(27<=DAY(EOMONTH(DATE($B$2,3,1),0)),27,"") -> 27 | CP7: =IF(28<=DAY(EOMONTH(DATE($B$2,3,1),0)),28,"") -> 28 | CQ7: =IF(29<=DAY(EOMONTH(DATE($B$2,3,1),0)),29,"") -> 29 | CR7: =IF(30<=DAY(EOMONTH(DATE($B$2,3,1),0)),30,"") -> 30 | CS7: =IF(31<=DAY(EOMONTH(DATE($B$2,3,1),0)),31,"") -> 31 | CU7: =IF(1<=DAY(EOMONTH(DATE($B$2,4,1),0)),1,"") -> 1 | CV7: =IF(2<=DAY(EOMONTH(DATE($B$2,4,1),0)),2,"") -> 2 | CW7: =IF(3<=DAY(EOMONTH(DATE($B$2,4,1),0)),3,"") -> 3 | CX7: =IF(4<=DAY(EOMONTH(DATE($B$2,4,1),0)),4,"") -> 4 | CY7: =IF(5<=DAY(EOMONTH(DATE($B$2,4,1),0)),5,"") -> 5 | CZ7: =IF(6<=DAY(EOMONTH(DATE($B$2,4,1),0)),6,"") -> 6 | DA7: =IF(7<=DAY(EOMONTH(DATE($B$2,4,1),0)),7,"") -> 7 | DB7: =IF(8<=DAY(EOMONTH(DATE($B$2,4,1),0)),8,"") -> 8 | DC7: =IF(9<=DAY(EOMONTH(DATE($B$2,4,1),0)),9,"") -> 9 | DD7: =IF(10<=DAY(EOMONTH(DATE($B$2,4,1),0)),10,"") -> 10 | DE7: =IF(11<=DAY(EOMONTH(DATE($B$2,4,1),0)),11,"") -> 11 | DF7: =IF(12<=DAY(EOMONTH(DATE($B$2,4,1),0)),12,"") -> 12 | DG7: =IF(13<=DAY(EOMONTH(DATE($B$2,4,1),0)),13,"") -> 13 | DH7: =IF(14<=DAY(EOMONTH(DATE($B$2,4,1),0)),14,"") -> 14 | DI7: =IF(15<=DAY(EOMONTH(DATE($B$2,4,1),0)),15,"") -> 15 | DJ7: =IF(16<=DAY(EOMONTH(DATE($B$2,4,1),0)),16,"") -> 16 | DK7: =IF(17<=DAY(EOMONTH(DATE($B$2,4,1),0)),17,"") -> 17 | DL7: =IF(18<=DAY(EOMONTH(DATE($B$2,4,1),0)),18,"") -> 18 | DM7: =IF(19<=DAY(EOMONTH(DATE($B$2,4,1),0)),19,"") -> 19 | DN7: =IF(20<=DAY(EOMONTH(DATE($B$2,4,1),0)),20,"") -> 20 | DO7: =IF(21<=DAY(EOMONTH(DATE($B$2,4,1),0)),21,"") -> 21 | DP7: =IF(22<=DAY(EOMONTH(DATE($B$2,4,1),0)),22,"") -> 22 | DQ7: =IF(23<=DAY(EOMONTH(DATE($B$2,4,1),0)),23,"") -> 23 | DR7: =IF(24<=DAY(EOMONTH(DATE($B$2,4,1),0)),24,"") -> 24 | DS7: =IF(25<=DAY(EOMONTH(DATE($B$2,4,1),0)),25,"") -> 25 | DT7: =IF(26<=DAY(EOMONTH(DATE($B$2,4,1),0)),26,"") -> 26 | DU7: =IF(27<=DAY(EOMONTH(DATE($B$2,4,1),0)),27,"") -> 27 | DV7: =IF(28<=DAY(EOMONTH(DATE($B$2,4,1),0)),28,"") -> 28 | DW7: =IF(29<=DAY(EOMONTH(DATE($B$2,4,1),0)),29,"") -> 29 | DX7: =IF(30<=DAY(EOMONTH(DATE($B$2,4,1),0)),30,"") -> 30 | DY7: =IF(31<=DAY(EOMONTH(DATE($B$2,4,1),0)),31,"")
C8: =IF(C27="","",CHOOSE(WEEKDAY(C27,2),"Mo","Di","Mi","Do","Fr","Sa","So")) -> Do | D8: =IF(D27="","",CHOOSE(WEEKDAY(D27,2),"Mo","Di","Mi","Do","Fr","Sa","So")) -> Fr | E8: =IF(E27="","",CHOOSE(WEEKDAY(E27,2),"Mo","Di","Mi","Do","Fr","Sa","So")) -> Sa | F8: =IF(F27="","",CHOOSE(WEEKDAY(F27,2),"Mo","Di","Mi","Do","Fr","Sa","So")) -> So | G8: =IF(G27="","",CHOOSE(WEEKDAY(G27,2),"Mo","Di","Mi","Do","Fr","Sa","So")) -> Mo | H8: =IF(H27="","",CHOOSE(WEEKDAY(H27,2),"Mo","Di","Mi","Do","Fr","Sa","So")) -> Di | I8: =IF(I27="","",CHOOSE(WEEKDAY(I27,2),"Mo","Di","Mi","Do","Fr","Sa","So")) -> Mi | J8: =IF(J27="","",CHOOSE(WEEKDAY(J27,2),"Mo","Di","Mi","Do","Fr","Sa","So")) -> Do | ... AG8: =IF(AG27="","",CHOOSE(WEEKDAY(AG27,2),"Mo","Di","Mi","Do","Fr","Sa","So")) -> Sa | AI8: =IF(AI27="","",CHOOSE(WEEKDAY(AI27,2),"Mo","Di","Mi","Do","Fr","Sa","So")) -> So | AJ8: =IF(AJ27="","",CHOOSE(WEEKDAY(AJ27,2),"Mo","Di","Mi","Do","Fr","Sa","So")) -> Mo | AK8: =IF(AK27="","",CHOOSE(WEEKDAY(AK27,2),"Mo","Di","Mi","Do","Fr","Sa","So")) -> Di | AL8: =IF(AL27="","",CHOOSE(WEEKDAY(AL27,2),"Mo","Di","Mi","Do","Fr","Sa","So")) -> Mi | AM8: =IF(AM27="","",CHOOSE(WEEKDAY(AM27,2),"Mo","Di","Mi","Do","Fr","Sa","So")) -> Do | AN8: =IF(AN27="","",CHOOSE(WEEKDAY(AN27,2),"Mo","Di","Mi","Do","Fr","Sa","So")) -> Fr | AO8: =IF(AO27="","",CHOOSE(WEEKDAY(AO27,2),"Mo","Di","Mi","Do","Fr","Sa","So")) -> Sa | AP8: =IF(AP27="","",CHOOSE(WEEKDAY(AP27,2),"Mo","Di","Mi","Do","Fr","Sa","So")) -> So | ... BM8: =IF(BM27="","",CHOOSE(WEEKDAY(BM27,2),"Mo","Di","Mi","Do","Fr","Sa","So")) | BO8: =IF(BO27="","",CHOOSE(WEEKDAY(BO27,2),"Mo","Di","Mi","Do","Fr","Sa","So")) -> So | BP8: =IF(BP27="","",CHOOSE(WEEKDAY(BP27,2),"Mo","Di","Mi","Do","Fr","Sa","So")) -> Mo | BQ8: =IF(BQ27="","",CHOOSE(WEEKDAY(BQ27,2),"Mo","Di","Mi","Do","Fr","Sa","So")) -> Di | BR8: =IF(BR27="","",CHOOSE(WEEKDAY(BR27,2),"Mo","Di","Mi","Do","Fr","Sa","So")) -> Mi | BS8: =IF(BS27="","",CHOOSE(WEEKDAY(BS27,2),"Mo","Di","Mi","Do","Fr","Sa","So")) -> Do | BT8: =IF(BT27="","",CHOOSE(WEEKDAY(BT27,2),"Mo","Di","Mi","Do","Fr","Sa","So")) -> Fr | BU8: =IF(BU27="","",CHOOSE(WEEKDAY(BU27,2),"Mo","Di","Mi","Do","Fr","Sa","So")) -> Sa | BV8: =IF(BV27="","",CHOOSE(WEEKDAY(BV27,2),"Mo","Di","Mi","Do","Fr","Sa","So")) -> So | ... CS8: =IF(CS27="","",CHOOSE(WEEKDAY(CS27,2),"Mo","Di","Mi","Do","Fr","Sa","So")) -> Di | CU8: =IF(CU27="","",CHOOSE(WEEKDAY(CU27,2),"Mo","Di","Mi","Do","Fr","Sa","So")) -> Mi | CV8: =IF(CV27="","",CHOOSE(WEEKDAY(CV27,2),"Mo","Di","Mi","Do","Fr","Sa","So")) -> Do | CW8: =IF(CW27="","",CHOOSE(WEEKDAY(CW27,2),"Mo","Di","Mi","Do","Fr","Sa","So")) -> Fr | CX8: =IF(CX27="","",CHOOSE(WEEKDAY(CX27,2),"Mo","Di","Mi","Do","Fr","Sa","So")) -> Sa | CY8: =IF(CY27="","",CHOOSE(WEEKDAY(CY27,2),"Mo","Di","Mi","Do","Fr","Sa","So")) -> So | CZ8: =IF(CZ27="","",CHOOSE(WEEKDAY(CZ27,2),"Mo","Di","Mi","Do","Fr","Sa","So")) -> Mo | DA8: =IF(DA27="","",CHOOSE(WEEKDAY(DA27,2),"Mo","Di","Mi","Do","Fr","Sa","So")) -> Di | DB8: =IF(DB27="","",CHOOSE(WEEKDAY(DB27,2),"Mo","Di","Mi","Do","Fr","Sa","So")) -> Mi | ... DY8: =IF(DY27="","",CHOOSE(WEEKDAY(DY27,2),"Mo","Di","Mi","Do","Fr","Sa","So"))
A9: 1 | B9: =IF(Einstellungen!$B$6="","Mitarbeiter 1",Einstellungen!$B$6) -> Mitarbeiter 1
A10: 2 | B10: =IF(Einstellungen!$B$7="","Mitarbeiter 2",Einstellungen!$B$7) -> Mitarbeiter 2
A11: 3 | B11: =IF(Einstellungen!$B$8="","Mitarbeiter 3",Einstellungen!$B$8) -> Mitarbeiter 3
A12: 4 | B12: =IF(Einstellungen!$B$9="","Mitarbeiter 4",Einstellungen!$B$9) -> Mitarbeiter 4
A13: 5 | B13: =IF(Einstellungen!$B$10="","Mitarbeiter 5",Einstellungen!$B$10) -> Mitarbeiter 5
A14: 6 | B14: =IF(Einstellungen!$B$11="","Mitarbeiter 6",Einstellungen!$B$11) -> Mitarbeiter 6
A15: 7 | B15: =IF(Einstellungen!$B$12="","Mitarbeiter 7",Einstellungen!$B$12) -> Mitarbeiter 7
A16: 8 | B16: =IF(Einstellungen!$B$13="","Mitarbeiter 8",Einstellungen!$B$13) -> Mitarbeiter 8
A17: 9 | B17: =IF(Einstellungen!$B$14="","Mitarbeiter 9",Einstellungen!$B$14) -> Mitarbeiter 9
A18: 10 | B18: =IF(Einstellungen!$B$15="","Mitarbeiter 10",Einstellungen!$B$15) -> Mitarbeiter 10
A19: 11 | B19: =IF(Einstellungen!$B$16="","Mitarbeiter 11",Einstellungen!$B$16) -> Mitarbeiter 11
A20: 12 | B20: =IF(Einstellungen!$B$17="","Mitarbeiter 12",Einstellungen!$B$17) -> Mitarbeiter 12
A21: 13 | B21: =IF(Einstellungen!$B$18="","Mitarbeiter 13",Einstellungen!$B$18) -> Mitarbeiter 13
A22: 14 | B22: =IF(Einstellungen!$B$19="","Mitarbeiter 14",Einstellungen!$B$19) -> Mitarbeiter 14
A23: 15 | B23: =IF(Einstellungen!$B$20="","Mitarbeiter 15",Einstellungen!$B$20) -> Mitarbeiter 15
A24: 16 | B24: =IF(Einstellungen!$B$21="","Mitarbeiter 16",Einstellungen!$B$21) -> Mitarbeiter 16
A25: 17 | B25: =IF(Einstellungen!$B$22="","Mitarbeiter 17",Einstellungen!$B$22) -> Mitarbeiter 17
A26: 18 | B26: =IF(Einstellungen!$B$23="","Mitarbeiter 18",Einstellungen!$B$23) -> Mitarbeiter 18
C27: =IF(C7="","",DATE($B$2,1,C7)) -> 46023 | D27: =IF(D7="","",DATE($B$2,1,D7)) -> 46024 | E27: =IF(E7="","",DATE($B$2,1,E7)) -> 46025 | F27: =IF(F7="","",DATE($B$2,1,F7)) -> 46026 | G27: =IF(G7="","",DATE($B$2,1,G7)) -> 46027 | H27: =IF(H7="","",DATE($B$2,1,H7)) -> 46028 | I27: =IF(I7="","",DATE($B$2,1,I7)) -> 46029 | J27: =IF(J7="","",DATE($B$2,1,J7)) -> 46030 | ... AG27: =IF(AG7="","",DATE($B$2,1,AG7)) -> 46053 | AI27: =IF(AI7="","",DATE($B$2,2,AI7)) -> 46054 | AJ27: =IF(AJ7="","",DATE($B$2,2,AJ7)) -> 46055 | AK27: =IF(AK7="","",DATE($B$2,2,AK7)) -> 46056 | AL27: =IF(AL7="","",DATE($B$2,2,AL7)) -> 46057 | AM27: =IF(AM7="","",DATE($B$2,2,AM7)) -> 46058 | AN27: =IF(AN7="","",DATE($B$2,2,AN7)) -> 46059 | AO27: =IF(AO7="","",DATE($B$2,2,AO7)) -> 46060 | AP27: =IF(AP7="","",DATE($B$2,2,AP7)) -> 46061 | ... BM27: =IF(BM7="","",DATE($B$2,2,BM7)) | BO27: =IF(BO7="","",DATE($B$2,3,BO7)) -> 46082 | BP27: =IF(BP7="","",DATE($B$2,3,BP7)) -> 46083 | BQ27: =IF(BQ7="","",DATE($B$2,3,BQ7)) -> 46084 | BR27: =IF(BR7="","",DATE($B$2,3,BR7)) -> 46085 | BS27: =IF(BS7="","",DATE($B$2,3,BS7)) -> 46086 | BT27: =IF(BT7="","",DATE($B$2,3,BT7)) -> 46087 | BU27: =IF(BU7="","",DATE($B$2,3,BU7)) -> 46088 | BV27: =IF(BV7="","",DATE($B$2,3,BV7)) -> 46089 | ... CS27: =IF(CS7="","",DATE($B$2,3,CS7)) -> 46112 | CU27: =IF(CU7="","",DATE($B$2,4,CU7)) -> 46113 | CV27: =IF(CV7="","",DATE($B$2,4,CV7)) -> 46114 | CW27: =IF(CW7="","",DATE($B$2,4,CW7)) -> 46115 | CX27: =IF(CX7="","",DATE($B$2,4,CX7)) -> 46116 | CY27: =IF(CY7="","",DATE($B$2,4,CY7)) -> 46117 | CZ27: =IF(CZ7="","",DATE($B$2,4,CZ7)) -> 46118 | DA27: =IF(DA7="","",DATE($B$2,4,DA7)) -> 46119 | DB27: =IF(DB7="","",DATE($B$2,4,DB7)) -> 46120 | ... DY27: =IF(DY7="","",DATE($B$2,4,DY7))
B31: Mai – August
A32: Nr. | B32: Mitarbeiter | C32: Mai | AI32: Juni | BO32: Juli | CU32: August
C33: =IF(1<=DAY(EOMONTH(DATE($B$2,5,1),0)),1,"") -> 1 | D33: =IF(2<=DAY(EOMONTH(DATE($B$2,5,1),0)),2,"") -> 2 | E33: =IF(3<=DAY(EOMONTH(DATE($B$2,5,1),0)),3,"") -> 3 | F33: =IF(4<=DAY(EOMONTH(DATE($B$2,5,1),0)),4,"") -> 4 | G33: =IF(5<=DAY(EOMONTH(DATE($B$2,5,1),0)),5,"") -> 5 | H33: =IF(6<=DAY(EOMONTH(DATE($B$2,5,1),0)),6,"") -> 6 | I33: =IF(7<=DAY(EOMONTH(DATE($B$2,5,1),0)),7,"") -> 7 | J33: =IF(8<=DAY(EOMONTH(DATE($B$2,5,1),0)),8,"") -> 8 | K33: =IF(9<=DAY(EOMONTH(DATE($B$2,5,1),0)),9,"") -> 9 | L33: =IF(10<=DAY(EOMONTH(DATE($B$2,5,1),0)),10,"") -> 10 | M33: =IF(11<=DAY(EOMONTH(DATE($B$2,5,1),0)),11,"") -> 11 | N33: =IF(12<=DAY(EOMONTH(DATE($B$2,5,1),0)),12,"") -> 12 | O33: =IF(13<=DAY(EOMONTH(DATE($B$2,5,1),0)),13,"") -> 13 | P33: =IF(14<=DAY(EOMONTH(DATE($B$2,5,1),0)),14,"") -> 14 | Q33: =IF(15<=DAY(EOMONTH(DATE($B$2,5,1),0)),15,"") -> 15 | R33: =IF(16<=DAY(EOMONTH(DATE($B$2,5,1),0)),16,"") -> 16 | S33: =IF(17<=DAY(EOMONTH(DATE($B$2,5,1),0)),17,"") -> 17 | T33: =IF(18<=DAY(EOMONTH(DATE($B$2,5,1),0)),18,"") -> 18 | U33: =IF(19<=DAY(EOMONTH(DATE($B$2,5,1),0)),19,"") -> 19 | V33: =IF(20<=DAY(EOMONTH(DATE($B$2,5,1),0)),20,"") -> 20 | W33: =IF(21<=DAY(EOMONTH(DATE($B$2,5,1),0)),21,"") -> 21 | X33: =IF(22<=DAY(EOMONTH(DATE($B$2,5,1),0)),22,"") -> 22 | Y33: =IF(23<=DAY(EOMONTH(DATE($B$2,5,1),0)),23,"") -> 23 | Z33: =IF(24<=DAY(EOMONTH(DATE($B$2,5,1),0)),24,"") -> 24 | AA33: =IF(25<=DAY(EOMONTH(DATE($B$2,5,1),0)),25,"") -> 25 | AB33: =IF(26<=DAY(EOMONTH(DATE($B$2,5,1),0)),26,"") -> 26 | AC33: =IF(27<=DAY(EOMONTH(DATE($B$2,5,1),0)),27,"") -> 27 | AD33: =IF(28<=DAY(EOMONTH(DATE($B$2,5,1),0)),28,"") -> 28 | AE33: =IF(29<=DAY(EOMONTH(DATE($B$2,5,1),0)),29,"") -> 29 | AF33: =IF(30<=DAY(EOMONTH(DATE($B$2,5,1),0)),30,"") -> 30 | AG33: =IF(31<=DAY(EOMONTH(DATE($B$2,5,1),0)),31,"") -> 31 | AI33: =IF(1<=DAY(EOMONTH(DATE($B$2,6,1),0)),1,"") -> 1 | AJ33: =IF(2<=DAY(EOMONTH(DATE($B$2,6,1),0)),2,"") -> 2 | AK33: =IF(3<=DAY(EOMONTH(DATE($B$2,6,1),0)),3,"") -> 3 | AL33: =IF(4<=DAY(EOMONTH(DATE($B$2,6,1),0)),4,"") -> 4 | AM33: =IF(5<=DAY(EOMONTH(DATE($B$2,6,1),0)),5,"") -> 5 | AN33: =IF(6<=DAY(EOMONTH(DATE($B$2,6,1),0)),6,"") -> 6 | AO33: =IF(7<=DAY(EOMONTH(DATE($B$2,6,1),0)),7,"") -> 7 | AP33: =IF(8<=DAY(EOMONTH(DATE($B$2,6,1),0)),8,"") -> 8 | AQ33: =IF(9<=DAY(EOMONTH(DATE($B$2,6,1),0)),9,"") -> 9 | AR33: =IF(10<=DAY(EOMONTH(DATE($B$2,6,1),0)),10,"") -> 10 | AS33: =IF(11<=DAY(EOMONTH(DATE($B$2,6,1),0)),11,"") -> 11 | AT33: =IF(12<=DAY(EOMONTH(DATE($B$2,6,1),0)),12,"") -> 12 | AU33: =IF(13<=DAY(EOMONTH(DATE($B$2,6,1),0)),13,"") -> 13 | AV33: =IF(14<=DAY(EOMONTH(DATE($B$2,6,1),0)),14,"") -> 14 | AW33: =IF(15<=DAY(EOMONTH(DATE($B$2,6,1),0)),15,"") -> 15 | AX33: =IF(16<=DAY(EOMONTH(DATE($B$2,6,1),0)),16,"") -> 16 | AY33: =IF(17<=DAY(EOMONTH(DATE($B$2,6,1),0)),17,"") -> 17 | AZ33: =IF(18<=DAY(EOMONTH(DATE($B$2,6,1),0)),18,"") -> 18 | BA33: =IF(19<=DAY(EOMONTH(DATE($B$2,6,1),0)),19,"") -> 19 | BB33: =IF(20<=DAY(EOMONTH(DATE($B$2,6,1),0)),20,"") -> 20 | BC33: =IF(21<=DAY(EOMONTH(DATE($B$2,6,1),0)),21,"") -> 21 | BD33: =IF(22<=DAY(EOMONTH(DATE($B$2,6,1),0)),22,"") -> 22 | BE33: =IF(23<=DAY(EOMONTH(DATE($B$2,6,1),0)),23,"") -> 23 | BF33: =IF(24<=DAY(EOMONTH(DATE($B$2,6,1),0)),24,"") -> 24 | BG33: =IF(25<=DAY(EOMONTH(DATE($B$2,6,1),0)),25,"") -> 25 | BH33: =IF(26<=DAY(EOMONTH(DATE($B$2,6,1),0)),26,"") -> 26 | BI33: =IF(27<=DAY(EOMONTH(DATE($B$2,6,1),0)),27,"") -> 27 | BJ33: =IF(28<=DAY(EOMONTH(DATE($B$2,6,1),0)),28,"") -> 28 | BK33: =IF(29<=DAY(EOMONTH(DATE($B$2,6,1),0)),29,"") -> 29 | BL33: =IF(30<=DAY(EOMONTH(DATE($B$2,6,1),0)),30,"") -> 30 | BM33: =IF(31<=DAY(EOMONTH(DATE($B$2,6,1),0)),31,"") | BO33: =IF(1<=DAY(EOMONTH(DATE($B$2,7,1),0)),1,"") -> 1 | BP33: =IF(2<=DAY(EOMONTH(DATE($B$2,7,1),0)),2,"") -> 2 | BQ33: =IF(3<=DAY(EOMONTH(DATE($B$2,7,1),0)),3,"") -> 3 | BR33: =IF(4<=DAY(EOMONTH(DATE($B$2,7,1),0)),4,"") -> 4 | BS33: =IF(5<=DAY(EOMONTH(DATE($B$2,7,1),0)),5,"") -> 5 | BT33: =IF(6<=DAY(EOMONTH(DATE($B$2,7,1),0)),6,"") -> 6 | BU33: =IF(7<=DAY(EOMONTH(DATE($B$2,7,1),0)),7,"") -> 7 | BV33: =IF(8<=DAY(EOMONTH(DATE($B$2,7,1),0)),8,"") -> 8 | BW33: =IF(9<=DAY(EOMONTH(DATE($B$2,7,1),0)),9,"") -> 9 | BX33: =IF(10<=DAY(EOMONTH(DATE($B$2,7,1),0)),10,"") -> 10 | BY33: =IF(11<=DAY(EOMONTH(DATE($B$2,7,1),0)),11,"") -> 11 | BZ33: =IF(12<=DAY(EOMONTH(DATE($B$2,7,1),0)),12,"") -> 12 | CA33: =IF(13<=DAY(EOMONTH(DATE($B$2,7,1),0)),13,"") -> 13 | CB33: =IF(14<=DAY(EOMONTH(DATE($B$2,7,1),0)),14,"") -> 14 | CC33: =IF(15<=DAY(EOMONTH(DATE($B$2,7,1),0)),15,"") -> 15 | CD33: =IF(16<=DAY(EOMONTH(DATE($B$2,7,1),0)),16,"") -> 16 | CE33: =IF(17<=DAY(EOMONTH(DATE($B$2,7,1),0)),17,"") -> 17 | CF33: =IF(18<=DAY(EOMONTH(DATE($B$2,7,1),0)),18,"") -> 18 | CG33: =IF(19<=DAY(EOMONTH(DATE($B$2,7,1),0)),19,"") -> 19 | CH33: =IF(20<=DAY(EOMONTH(DATE($B$2,7,1),0)),20,"") -> 20 | CI33: =IF(21<=DAY(EOMONTH(DATE($B$2,7,1),0)),21,"") -> 21 | CJ33: =IF(22<=DAY(EOMONTH(DATE($B$2,7,1),0)),22,"") -> 22 | CK33: =IF(23<=DAY(EOMONTH(DATE($B$2,7,1),0)),23,"") -> 23 | CL33: =IF(24<=DAY(EOMONTH(DATE($B$2,7,1),0)),24,"") -> 24 | CM33: =IF(25<=DAY(EOMONTH(DATE($B$2,7,1),0)),25,"") -> 25 | CN33: =IF(26<=DAY(EOMONTH(DATE($B$2,7,1),0)),26,"") -> 26 | CO33: =IF(27<=DAY(EOMONTH(DATE($B$2,7,1),0)),27,"") -> 27 | CP33: =IF(28<=DAY(EOMONTH(DATE($B$2,7,1),0)),28,"") -> 28 | CQ33: =IF(29<=DAY(EOMONTH(DATE($B$2,7,1),0)),29,"") -> 29 | CR33: =IF(30<=DAY(EOMONTH(DATE($B$2,7,1),0)),30,"") -> 30 | CS33: =IF(31<=DAY(EOMONTH(DATE($B$2,7,1),0)),31,"") -> 31 | CU33: =IF(1<=DAY(EOMONTH(DATE($B$2,8,1),0)),1,"") -> 1 | CV33: =IF(2<=DAY(EOMONTH(DATE($B$2,8,1),0)),2,"") -> 2 | CW33: =IF(3<=DAY(EOMONTH(DATE($B$2,8,1),0)),3,"") -> 3 | CX33: =IF(4<=DAY(EOMONTH(DATE($B$2,8,1),0)),4,"") -> 4 | CY33: =IF(5<=DAY(EOMONTH(DATE($B$2,8,1),0)),5,"") -> 5 | CZ33: =IF(6<=DAY(EOMONTH(DATE($B$2,8,1),0)),6,"") -> 6 | DA33: =IF(7<=DAY(EOMONTH(DATE($B$2,8,1),0)),7,"") -> 7 | DB33: =IF(8<=DAY(EOMONTH(DATE($B$2,8,1),0)),8,"") -> 8 | DC33: =IF(9<=DAY(EOMONTH(DATE($B$2,8,1),0)),9,"") -> 9 | DD33: =IF(10<=DAY(EOMONTH(DATE($B$2,8,1),0)),10,"") -> 10 | DE33: =IF(11<=DAY(EOMONTH(DATE($B$2,8,1),0)),11,"") -> 11 | DF33: =IF(12<=DAY(EOMONTH(DATE($B$2,8,1),0)),12,"") -> 12 | DG33: =IF(13<=DAY(EOMONTH(DATE($B$2,8,1),0)),13,"") -> 13 | DH33: =IF(14<=DAY(EOMONTH(DATE($B$2,8,1),0)),14,"") -> 14 | DI33: =IF(15<=DAY(EOMONTH(DATE($B$2,8,1),0)),15,"") -> 15 | DJ33: =IF(16<=DAY(EOMONTH(DATE($B$2,8,1),0)),16,"") -> 16 | DK33: =IF(17<=DAY(EOMONTH(DATE($B$2,8,1),0)),17,"") -> 17 | DL33: =IF(18<=DAY(EOMONTH(DATE($B$2,8,1),0)),18,"") -> 18 | DM33: =IF(19<=DAY(EOMONTH(DATE($B$2,8,1),0)),19,"") -> 19 | DN33: =IF(20<=DAY(EOMONTH(DATE($B$2,8,1),0)),20,"") -> 20 | DO33: =IF(21<=DAY(EOMONTH(DATE($B$2,8,1),0)),21,"") -> 21 | DP33: =IF(22<=DAY(EOMONTH(DATE($B$2,8,1),0)),22,"") -> 22 | DQ33: =IF(23<=DAY(EOMONTH(DATE($B$2,8,1),0)),23,"") -> 23 | DR33: =IF(24<=DAY(EOMONTH(DATE($B$2,8,1),0)),24,"") -> 24 | DS33: =IF(25<=DAY(EOMONTH(DATE($B$2,8,1),0)),25,"") -> 25 | DT33: =IF(26<=DAY(EOMONTH(DATE($B$2,8,1),0)),26,"") -> 26 | DU33: =IF(27<=DAY(EOMONTH(DATE($B$2,8,1),0)),27,"") -> 27 | DV33: =IF(28<=DAY(EOMONTH(DATE($B$2,8,1),0)),28,"") -> 28 | DW33: =IF(29<=DAY(EOMONTH(DATE($B$2,8,1),0)),29,"") -> 29 | DX33: =IF(30<=DAY(EOMONTH(DATE($B$2,8,1),0)),30,"") -> 30 | DY33: =IF(31<=DAY(EOMONTH(DATE($B$2,8,1),0)),31,"") -> 31
C34: =IF(C53="","",CHOOSE(WEEKDAY(C53,2),"Mo","Di","Mi","Do","Fr","Sa","So")) -> Fr | D34: =IF(D53="","",CHOOSE(WEEKDAY(D53,2),"Mo","Di","Mi","Do","Fr","Sa","So")) -> Sa | E34: =IF(E53="","",CHOOSE(WEEKDAY(E53,2),"Mo","Di","Mi","Do","Fr","Sa","So")) -> So | F34: =IF(F53="","",CHOOSE(WEEKDAY(F53,2),"Mo","Di","Mi","Do","Fr","Sa","So")) -> Mo | G34: =IF(G53="","",CHOOSE(WEEKDAY(G53,2),"Mo","Di","Mi","Do","Fr","Sa","So")) -> Di | H34: =IF(H53="","",CHOOSE(WEEKDAY(H53,2),"Mo","Di","Mi","Do","Fr","Sa","So")) -> Mi | I34: =IF(I53="","",CHOOSE(WEEKDAY(I53,2),"Mo","Di","Mi","Do","Fr","Sa","So")) -> Do | J34: =IF(J53="","",CHOOSE(WEEKDAY(J53,2),"Mo","Di","Mi","Do","Fr","Sa","So")) -> Fr | ... AG34: =IF(AG53="","",CHOOSE(WEEKDAY(AG53,2),"Mo","Di","Mi","Do","Fr","Sa","So")) -> So | AI34: =IF(AI53="","",CHOOSE(WEEKDAY(AI53,2),"Mo","Di","Mi","Do","Fr","Sa","So")) -> Mo | AJ34: =IF(AJ53="","",CHOOSE(WEEKDAY(AJ53,2),"Mo","Di","Mi","Do","Fr","Sa","So")) -> Di | AK34: =IF(AK53="","",CHOOSE(WEEKDAY(AK53,2),"Mo","Di","Mi","Do","Fr","Sa","So")) -> Mi | AL34: =IF(AL53="","",CHOOSE(WEEKDAY(AL53,2),"Mo","Di","Mi","Do","Fr","Sa","So")) -> Do | AM34: =IF(AM53="","",CHOOSE(WEEKDAY(AM53,2),"Mo","Di","Mi","Do","Fr","Sa","So")) -> Fr | AN34: =IF(AN53="","",CHOOSE(WEEKDAY(AN53,2),"Mo","Di","Mi","Do","Fr","Sa","So")) -> Sa | AO34: =IF(AO53="","",CHOOSE(WEEKDAY(AO53,2),"Mo","Di","Mi","Do","Fr","Sa","So")) -> So | AP34: =IF(AP53="","",CHOOSE(WEEKDAY(AP53,2),"Mo","Di","Mi","Do","Fr","Sa","So")) -> Mo | ... BM34: =IF(BM53="","",CHOOSE(WEEKDAY(BM53,2),"Mo","Di","Mi","Do","Fr","Sa","So")) | BO34: =IF(BO53="","",CHOOSE(WEEKDAY(BO53,2),"Mo","Di","Mi","Do","Fr","Sa","So")) -> Mi | BP34: =IF(BP53="","",CHOOSE(WEEKDAY(BP53,2),"Mo","Di","Mi","Do","Fr","Sa","So")) -> Do | BQ34: =IF(BQ53="","",CHOOSE(WEEKDAY(BQ53,2),"Mo","Di","Mi","Do","Fr","Sa","So")) -> Fr | BR34: =IF(BR53="","",CHOOSE(WEEKDAY(BR53,2),"Mo","Di","Mi","Do","Fr","Sa","So")) -> Sa | BS34: =IF(BS53="","",CHOOSE(WEEKDAY(BS53,2),"Mo","Di","Mi","Do","Fr","Sa","So")) -> So | BT34: =IF(BT53="","",CHOOSE(WEEKDAY(BT53,2),"Mo","Di","Mi","Do","Fr","Sa","So")) -> Mo | BU34: =IF(BU53="","",CHOOSE(WEEKDAY(BU53,2),"Mo","Di","Mi","Do","Fr","Sa","So")) -> Di | BV34: =IF(BV53="","",CHOOSE(WEEKDAY(BV53,2),"Mo","Di","Mi","Do","Fr","Sa","So")) -> Mi | ... CS34: =IF(CS53="","",CHOOSE(WEEKDAY(CS53,2),"Mo","Di","Mi","Do","Fr","Sa","So")) -> Fr | CU34: =IF(CU53="","",CHOOSE(WEEKDAY(CU53,2),"Mo","Di","Mi","Do","Fr","Sa","So")) -> Sa | CV34: =IF(CV53="","",CHOOSE(WEEKDAY(CV53,2),"Mo","Di","Mi","Do","Fr","Sa","So")) -> So | CW34: =IF(CW53="","",CHOOSE(WEEKDAY(CW53,2),"Mo","Di","Mi","Do","Fr","Sa","So")) -> Mo | CX34: =IF(CX53="","",CHOOSE(WEEKDAY(CX53,2),"Mo","Di","Mi","Do","Fr","Sa","So")) -> Di | CY34: =IF(CY53="","",CHOOSE(WEEKDAY(CY53,2),"Mo","Di","Mi","Do","Fr","Sa","So")) -> Mi | CZ34: =IF(CZ53="","",CHOOSE(WEEKDAY(CZ53,2),"Mo","Di","Mi","Do","Fr","Sa","So")) -> Do | DA34: =IF(DA53="","",CHOOSE(WEEKDAY(DA53,2),"Mo","Di","Mi","Do","Fr","Sa","So")) -> Fr | DB34: =IF(DB53="","",CHOOSE(WEEKDAY(DB53,2),"Mo","Di","Mi","Do","Fr","Sa","So")) -> Sa | ... DY34: =IF(DY53="","",CHOOSE(WEEKDAY(DY53,2),"Mo","Di","Mi","Do","Fr","Sa","So")) -> Mo
A35: 1 | B35: =IF(Einstellungen!$B$6="","Mitarbeiter 1",Einstellungen!$B$6) -> Mitarbeiter 1
A36: 2 | B36: =IF(Einstellungen!$B$7="","Mitarbeiter 2",Einstellungen!$B$7) -> Mitarbeiter 2
A37: 3 | B37: =IF(Einstellungen!$B$8="","Mitarbeiter 3",Einstellungen!$B$8) -> Mitarbeiter 3
A38: 4 | B38: =IF(Einstellungen!$B$9="","Mitarbeiter 4",Einstellungen!$B$9) -> Mitarbeiter 4
A39: 5 | B39: =IF(Einstellungen!$B$10="","Mitarbeiter 5",Einstellungen!$B$10) -> Mitarbeiter 5
A40: 6 | B40: =IF(Einstellungen!$B$11="","Mitarbeiter 6",Einstellungen!$B$11) -> Mitarbeiter 6
A41: 7 | B41: =IF(Einstellungen!$B$12="","Mitarbeiter 7",Einstellungen!$B$12) -> Mitarbeiter 7
A42: 8 | B42: =IF(Einstellungen!$B$13="","Mitarbeiter 8",Einstellungen!$B$13) -> Mitarbeiter 8
A43: 9 | B43: =IF(Einstellungen!$B$14="","Mitarbeiter 9",Einstellungen!$B$14) -> Mitarbeiter 9
A44: 10 | B44: =IF(Einstellungen!$B$15="","Mitarbeiter 10",Einstellungen!$B$15) -> Mitarbeiter 10
...

Sheet Einstellungen
A1: Einstellungen
A2: Planjahr | B2: =Urlaubsplaner!$B$2 -> 2026
A4: Namen hier anpassen. Der Planer übernimmt sie automatisch in alle drei Blöcke.
A5: Nr. | B5: Mitarbeitername | D5: Code | E5: Bedeutung
A6: 1 | B6: Mitarbeiter 1 | D6: U | E6: Urlaub
A7: 2 | B7: Mitarbeiter 2 | D7: H | E7: Homeoffice
A8: 3 | B8: Mitarbeiter 3 | D8: K | E8: Krank
A9: 4 | B9: Mitarbeiter 4 | D9: S | E9: Schulung
A10: 5 | B10: Mitarbeiter 5
A11: 6 | B11: Mitarbeiter 6
A12: 7 | B12: Mitarbeiter 7
A13: 8 | B13: Mitarbeiter 8
A14: 9 | B14: Mitarbeiter 9
A15: 10 | B15: Mitarbeiter 10
A16: 11 | B16: Mitarbeiter 11
A17: 12 | B17: Mitarbeiter 12
A18: 13 | B18: Mitarbeiter 13
A19: 14 | B19: Mitarbeiter 14
A20: 15 | B20: Mitarbeiter 15
A21: 16 | B21: Mitarbeiter 16
... A23: 18 | B23: Mitarbeiter 18

Sheet Feiertage
A1: Feiertage
A2: Datum | B2: Feiertag | C2: Hinweis | F2: =Urlaubsplaner!$B$2 -> 2026
A3: =DATE(Urlaubsplaner!$B$2,1,1) -> 46023 | B3: Neujahr | C3: bundesweit | F3: =MOD(F2,19) -> 12
A4: =F17-2 -> 46115 | B4: Karfreitag | C4: bundesweit | F4: =INT(F2/100) -> 20
A5: =F17+1 -> 46118 | B5: Ostermontag | C5: bundesweit | F5: =MOD(F2,100) -> 26
A6: =DATE(Urlaubsplaner!$B$2,5,1) -> 46143 | B6: Tag der Arbeit | C6: bundesweit | F6: =INT(F4/4) -> 5
A7: =F17+39 -> 46156 | B7: Christi Himmelfahrt | C7: bundesweit | F7: =MOD(F4,4) -> 0
A8: =F17+50 -> 46167 | B8: Pfingstmontag | C8: bundesweit | F8: =INT((F4+8)/25) -> 1
A9: =DATE(Urlaubsplaner!$B$2,10,3) -> 46298 | B9: Tag der Deutschen Einheit | C9: bundesweit | F9: =INT((F4-F8+1)/3) -> 6
A10: =DATE(Urlaubsplaner!$B$2,12,25) -> 46381 | B10: 1. Weihnachtstag | C10: bundesweit | F10: =MOD(19*F3+F4-F6-F9+15,30) -> 12
A11: =DATE(Urlaubsplaner!$B$2,12,26) -> 46382 | B11: 2. Weihnachtstag | C11: bundesweit | F11: =INT(F5/4) -> 6
F12: =MOD(F5,4) -> 2
F13: =MOD(32+2*F7+2*F11-F10-F12,7) -> 2
F14: =INT((F3+11*F10+22*F13)/451) -> 0
F15: =INT((F10+F13-7*F14+114)/31) -> 4
F16: =MOD(F10+F13-7*F14+114,31)+1 -> 5
F17: =DATE(F2,F15,F16) -> 46117
