Workbook

Sheet Planer
A1: =UPPER("Urlaubsplaner " & $B$3) -> URLAUBSPLANER 2026
A2: Vorlage für Urlaubs- und Krankheitsplanung – Jahr in B3 ändern
A3: Jahr | B3: 2026 | D3: Mitarbeiter | F3: =COUNTIF($A$10:$A$34,"<>") -> 1 | I3: Nutzung: 1) Jahr in B3 ändern 2) Mitarbeiter links eintragen 3) In der Kalenderzeile U oder K setzen
A4: Hinweis | B4: B3 ändern und der Kalender aktualisiert sich. | D4: Geplante Urlaubstage | F4: =SUM($D$10:$D$34) -> 0
A5: Codes | B5: U = Urlaub | K = Krank | D5: Kranktage | F5: =SUM($E$10:$E$34) -> 0
H6: =IF(COLUMN()-COLUMN($H$6)+1<=DATE($B$3,12,31)-DATE($B$3,1,1)+1,DATE($B$3,1,1)+COLUMN()-COLUMN($H$6),"") -> 46023 | I6: =IF(COLUMN()-COLUMN($H$6)+1<=DATE($B$3,12,31)-DATE($B$3,1,1)+1,DATE($B$3,1,1)+COLUMN()-COLUMN($H$6),"") -> 46024 | J6: =IF(COLUMN()-COLUMN($H$6)+1<=DATE($B$3,12,31)-DATE($B$3,1,1)+1,DATE($B$3,1,1)+COLUMN()-COLUMN($H$6),"") -> 46025 | K6: =IF(COLUMN()-COLUMN($H$6)+1<=DATE($B$3,12,31)-DATE($B$3,1,1)+1,DATE($B$3,1,1)+COLUMN()-COLUMN($H$6),"") -> 46026 | L6: =IF(COLUMN()-COLUMN($H$6)+1<=DATE($B$3,12,31)-DATE($B$3,1,1)+1,DATE($B$3,1,1)+COLUMN()-COLUMN($H$6),"") -> 46027 | M6: =IF(COLUMN()-COLUMN($H$6)+1<=DATE($B$3,12,31)-DATE($B$3,1,1)+1,DATE($B$3,1,1)+COLUMN()-COLUMN($H$6),"") -> 46028 | N6: =IF(COLUMN()-COLUMN($H$6)+1<=DATE($B$3,12,31)-DATE($B$3,1,1)+1,DATE($B$3,1,1)+COLUMN()-COLUMN($H$6),"") -> 46029 | O6: =IF(COLUMN()-COLUMN($H$6)+1<=DATE($B$3,12,31)-DATE($B$3,1,1)+1,DATE($B$3,1,1)+COLUMN()-COLUMN($H$6),"") -> 46030 | ... NI6: =IF(COLUMN()-COLUMN($H$6)+1<=DATE($B$3,12,31)-DATE($B$3,1,1)+1,DATE($B$3,1,1)+COLUMN()-COLUMN($H$6),"")
H7: =IF(H$6="","",IF(DAY(H$6)=1,H$6,"")) -> 46023 | I7: =IF(I$6="","",IF(DAY(I$6)=1,I$6,"")) | J7: =IF(J$6="","",IF(DAY(J$6)=1,J$6,"")) | K7: =IF(K$6="","",IF(DAY(K$6)=1,K$6,"")) | L7: =IF(L$6="","",IF(DAY(L$6)=1,L$6,"")) | M7: =IF(M$6="","",IF(DAY(M$6)=1,M$6,"")) | N7: =IF(N$6="","",IF(DAY(N$6)=1,N$6,"")) | O7: =IF(O$6="","",IF(DAY(O$6)=1,O$6,"")) | ... NI7: =IF(NI$6="","",IF(DAY(NI$6)=1,NI$6,""))
A8: Mitarbeiter | B8: Abteilung | C8: Jahresurlaub | D8: Urlaub genommen | E8: Kranktage | F8: Resturlaub | G8: Notiz | H8: =IF(H$6="","",H$6) -> 46023 | I8: =IF(I$6="","",I$6) -> 46024 | J8: =IF(J$6="","",J$6) -> 46025 | K8: =IF(K$6="","",K$6) -> 46026 | L8: =IF(L$6="","",L$6) -> 46027 | M8: =IF(M$6="","",M$6) -> 46028 | N8: =IF(N$6="","",N$6) -> 46029 | O8: =IF(O$6="","",O$6) -> 46030 | ... NI8: =IF(NI$6="","",NI$6)
H9: =IF(H$6="","",H$6) -> 46023 | I9: =IF(I$6="","",I$6) -> 46024 | J9: =IF(J$6="","",J$6) -> 46025 | K9: =IF(K$6="","",K$6) -> 46026 | L9: =IF(L$6="","",L$6) -> 46027 | M9: =IF(M$6="","",M$6) -> 46028 | N9: =IF(N$6="","",N$6) -> 46029 | O9: =IF(O$6="","",O$6) -> 46030 | ... NI9: =IF(NI$6="","",NI$6)
A10: Max Beispiel | B10: Marketing | C10: 30 | D10: =SUMPRODUCT(--(H10:NI10="U"),H$35:NI$35) -> 0 | E10: =COUNTIF(H10:NI10,"K") -> 0 | F10: =IF($A10="","",$C10-$D10) -> 30 | G10: Beispielzeile – kann gelöscht werden
C11: 30 | D11: =SUMPRODUCT(--(H11:NI11="U"),H$35:NI$35) -> 0 | E11: =COUNTIF(H11:NI11,"K") -> 0 | F11: =IF($A11="","",$C11-$D11)
C12: 30 | D12: =SUMPRODUCT(--(H12:NI12="U"),H$35:NI$35) -> 0 | E12: =COUNTIF(H12:NI12,"K") -> 0 | F12: =IF($A12="","",$C12-$D12)
C13: 30 | D13: =SUMPRODUCT(--(H13:NI13="U"),H$35:NI$35) -> 0 | E13: =COUNTIF(H13:NI13,"K") -> 0 | F13: =IF($A13="","",$C13-$D13)
C14: 30 | D14: =SUMPRODUCT(--(H14:NI14="U"),H$35:NI$35) -> 0 | E14: =COUNTIF(H14:NI14,"K") -> 0 | F14: =IF($A14="","",$C14-$D14)
C15: 30 | D15: =SUMPRODUCT(--(H15:NI15="U"),H$35:NI$35) -> 0 | E15: =COUNTIF(H15:NI15,"K") -> 0 | F15: =IF($A15="","",$C15-$D15)
C16: 30 | D16: =SUMPRODUCT(--(H16:NI16="U"),H$35:NI$35) -> 0 | E16: =COUNTIF(H16:NI16,"K") -> 0 | F16: =IF($A16="","",$C16-$D16)
C17: 30 | D17: =SUMPRODUCT(--(H17:NI17="U"),H$35:NI$35) -> 0 | E17: =COUNTIF(H17:NI17,"K") -> 0 | F17: =IF($A17="","",$C17-$D17)
D18: =SUMPRODUCT(--(H18:NI18="U"),H$35:NI$35) -> 0 | E18: =COUNTIF(H18:NI18,"K") -> 0 | F18: =IF($A18="","",$C18-$D18)
D19: =SUMPRODUCT(--(H19:NI19="U"),H$35:NI$35) -> 0 | E19: =COUNTIF(H19:NI19,"K") -> 0 | F19: =IF($A19="","",$C19-$D19)
D20: =SUMPRODUCT(--(H20:NI20="U"),H$35:NI$35) -> 0 | E20: =COUNTIF(H20:NI20,"K") -> 0 | F20: =IF($A20="","",$C20-$D20)
D21: =SUMPRODUCT(--(H21:NI21="U"),H$35:NI$35) -> 0 | E21: =COUNTIF(H21:NI21,"K") -> 0 | F21: =IF($A21="","",$C21-$D21)
D22: =SUMPRODUCT(--(H22:NI22="U"),H$35:NI$35) -> 0 | E22: =COUNTIF(H22:NI22,"K") -> 0 | F22: =IF($A22="","",$C22-$D22)
D23: =SUMPRODUCT(--(H23:NI23="U"),H$35:NI$35) -> 0 | E23: =COUNTIF(H23:NI23,"K") -> 0 | F23: =IF($A23="","",$C23-$D23)
D24: =SUMPRODUCT(--(H24:NI24="U"),H$35:NI$35) -> 0 | E24: =COUNTIF(H24:NI24,"K") -> 0 | F24: =IF($A24="","",$C24-$D24)
D25: =SUMPRODUCT(--(H25:NI25="U"),H$35:NI$35) -> 0 | E25: =COUNTIF(H25:NI25,"K") -> 0 | F25: =IF($A25="","",$C25-$D25)
D26: =SUMPRODUCT(--(H26:NI26="U"),H$35:NI$35) -> 0 | E26: =COUNTIF(H26:NI26,"K") -> 0 | F26: =IF($A26="","",$C26-$D26)
D27: =SUMPRODUCT(--(H27:NI27="U"),H$35:NI$35) -> 0 | E27: =COUNTIF(H27:NI27,"K") -> 0 | F27: =IF($A27="","",$C27-$D27)
D28: =SUMPRODUCT(--(H28:NI28="U"),H$35:NI$35) -> 0 | E28: =COUNTIF(H28:NI28,"K") -> 0 | F28: =IF($A28="","",$C28-$D28)
D29: =SUMPRODUCT(--(H29:NI29="U"),H$35:NI$35) -> 0 | E29: =COUNTIF(H29:NI29,"K") -> 0 | F29: =IF($A29="","",$C29-$D29)
... D34: =SUMPRODUCT(--(H34:NI34="U"),H$35:NI$35) -> 0 | E34: =COUNTIF(H34:NI34,"K") -> 0 | F34: =IF($A34="","",$C34-$D34)
H35: =IF(H$6="","",IF(AND(WEEKDAY(H$6,2)<6,COUNTIF(Feiertage!$B$4:$B$12,H$6)+COUNTIF(Feiertage!$E$4:$E$14,H$6)=0),1,0)) -> 0 | I35: =IF(I$6="","",IF(AND(WEEKDAY(I$6,2)<6,COUNTIF(Feiertage!$B$4:$B$12,I$6)+COUNTIF(Feiertage!$E$4:$E$14,I$6)=0),1,0)) -> 1 | J35: =IF(J$6="","",IF(AND(WEEKDAY(J$6,2)<6,COUNTIF(Feiertage!$B$4:$B$12,J$6)+COUNTIF(Feiertage!$E$4:$E$14,J$6)=0),1,0)) -> 0 | K35: =IF(K$6="","",IF(AND(WEEKDAY(K$6,2)<6,COUNTIF(Feiertage!$B$4:$B$12,K$6)+COUNTIF(Feiertage!$E$4:$E$14,K$6)=0),1,0)) -> 0 | L35: =IF(L$6="","",IF(AND(WEEKDAY(L$6,2)<6,COUNTIF(Feiertage!$B$4:$B$12,L$6)+COUNTIF(Feiertage!$E$4:$E$14,L$6)=0),1,0)) -> 1 | M35: =IF(M$6="","",IF(AND(WEEKDAY(M$6,2)<6,COUNTIF(Feiertage!$B$4:$B$12,M$6)+COUNTIF(Feiertage!$E$4:$E$14,M$6)=0),1,0)) -> 1 | N35: =IF(N$6="","",IF(AND(WEEKDAY(N$6,2)<6,COUNTIF(Feiertage!$B$4:$B$12,N$6)+COUNTIF(Feiertage!$E$4:$E$14,N$6)=0),1,0)) -> 1 | O35: =IF(O$6="","",IF(AND(WEEKDAY(O$6,2)<6,COUNTIF(Feiertage!$B$4:$B$12,O$6)+COUNTIF(Feiertage!$E$4:$E$14,O$6)=0),1,0)) -> 1 | ... NI35: =IF(NI$6="","",IF(AND(WEEKDAY(NI$6,2)<6,COUNTIF(Feiertage!$B$4:$B$12,NI$6)+COUNTIF(Feiertage!$E$4:$E$14,NI$6)=0),1,0))

Sheet Feiertage
A1: Feiertage – automatisch + optional manuell
H2: =Planer!$B$3 -> 2026
A3: Bundesweite Feiertage | C3: Jahr | D3: Zusätzliche Feiertage (optional) | H3: =MOD(H2,19) -> 12
A4: Neujahr | B4: =DATE($C$4,1,1) -> 46023 | C4: =Planer!$B$3 -> 2026 | D4: Maria Himmelfahrt | F4: Optional: regionale Feiertage als Datum ergänzen. | H4: =INT(H2/100) -> 20
A5: Karfreitag | B5: =$H$17-2 -> 46115 | D5: Allerheiligen | H5: =MOD(H2,100) -> 26
A6: Ostermontag | B6: =$H$17+1 -> 46118 | D6: Fronleichnam | H6: =INT(H4/4) -> 5
A7: Tag der Arbeit | B7: =DATE($C$4,5,1) -> 46143 | D7: Reformationstag | H7: =MOD(H4,4) -> 0
A8: Christi Himmelfahrt | B8: =$H$17+39 -> 46156 | H8: =INT((H4+8)/25) -> 1
A9: Pfingstmontag | B9: =$H$17+50 -> 46167 | H9: =INT((H4-H8+1)/3) -> 6
A10: Tag der Deutschen Einheit | B10: =DATE($C$4,10,3) -> 46298 | H10: =MOD(19*H3+H4-H6-H9+15,30) -> 12
A11: 1. Weihnachtstag | B11: =DATE($C$4,12,25) -> 46381 | H11: =INT(H5/4) -> 6
A12: 2. Weihnachtstag | B12: =DATE($C$4,12,26) -> 46382 | H12: =MOD(H5,4) -> 2
H13: =MOD(32+2*H7+2*H11-H10-H12,7) -> 2
H14: =INT((H3+11*H10+22*H13)/451) -> 0
H15: =INT((H10+H13-7*H14+114)/31) -> 4
H16: =MOD(H10+H13-7*H14+114,31)+1 -> 5
H17: =DATE(H2,H15,H16) -> 46117

Sheet Listen
A1: Code
A2: U
A3: K
