Workbook

Sheet Druckbogen
A1: Druckbogen
A3: Zur Dateneingabe → | C3: Tipp: Auf A4 mit 100 % Skalierung drucken.
B5: =Daten!C7&" "&Daten!C8 -> Laura König | I5: =Daten!C7&" "&Daten!C8 -> Laura König
B7: =Daten!C9 -> Projektmanagerin | I7: =Daten!C9 -> Projektmanagerin
B8: =Daten!C10 -> Nordlicht Studio GmbH | I8: =Daten!C10 -> Nordlicht Studio GmbH
B9: =Daten!C11 -> Hafenweg 12 | I9: =Daten!C11 -> Hafenweg 12
B10: =Daten!C12 -> 20457 Hamburg | I10: =Daten!C12 -> 20457 Hamburg
B11: =IF(Daten!C13<>"","Tel. "&Daten!C13,"") -> Tel. +49 40 1234 5678 | I11: =IF(Daten!C13<>"","Tel. "&Daten!C13,"") -> Tel. +49 40 1234 5678
B12: =IF(Daten!C14<>"","E-Mail: "&Daten!C14,"") -> E-Mail: hallo@nordlicht-studio.de | I12: =IF(Daten!C14<>"","E-Mail: "&Daten!C14,"") -> E-Mail: hallo@nordlicht-studio.de
B13: =IF(Daten!C15<>"",Daten!C15,"") -> www.nordlicht-studio.de | I13: =IF(Daten!C15<>"",Daten!C15,"") -> www.nordlicht-studio.de
B14: =Daten!C7&" "&Daten!C8 -> Laura König | I14: =Daten!C7&" "&Daten!C8 -> Laura König
B16: =Daten!C9 -> Projektmanagerin | I16: =Daten!C9 -> Projektmanagerin
B17: =Daten!C10 -> Nordlicht Studio GmbH | I17: =Daten!C10 -> Nordlicht Studio GmbH
B18: =Daten!C11 -> Hafenweg 12 | I18: =Daten!C11 -> Hafenweg 12
B19: =Daten!C12 -> 20457 Hamburg | I19: =Daten!C12 -> 20457 Hamburg
B20: =IF(Daten!C13<>"","Tel. "&Daten!C13,"") -> Tel. +49 40 1234 5678 | I20: =IF(Daten!C13<>"","Tel. "&Daten!C13,"") -> Tel. +49 40 1234 5678
B21: =IF(Daten!C14<>"","E-Mail: "&Daten!C14,"") -> E-Mail: hallo@nordlicht-studio.de | I21: =IF(Daten!C14<>"","E-Mail: "&Daten!C14,"") -> E-Mail: hallo@nordlicht-studio.de
B22: =IF(Daten!C15<>"",Daten!C15,"") -> www.nordlicht-studio.de | I22: =IF(Daten!C15<>"",Daten!C15,"") -> www.nordlicht-studio.de
B23: =Daten!C7&" "&Daten!C8 -> Laura König | I23: =Daten!C7&" "&Daten!C8 -> Laura König
B25: =Daten!C9 -> Projektmanagerin | I25: =Daten!C9 -> Projektmanagerin
B26: =Daten!C10 -> Nordlicht Studio GmbH | I26: =Daten!C10 -> Nordlicht Studio GmbH
B27: =Daten!C11 -> Hafenweg 12 | I27: =Daten!C11 -> Hafenweg 12
B28: =Daten!C12 -> 20457 Hamburg | I28: =Daten!C12 -> 20457 Hamburg
B29: =IF(Daten!C13<>"","Tel. "&Daten!C13,"") -> Tel. +49 40 1234 5678 | I29: =IF(Daten!C13<>"","Tel. "&Daten!C13,"") -> Tel. +49 40 1234 5678
B30: =IF(Daten!C14<>"","E-Mail: "&Daten!C14,"") -> E-Mail: hallo@nordlicht-studio.de | I30: =IF(Daten!C14<>"","E-Mail: "&Daten!C14,"") -> E-Mail: hallo@nordlicht-studio.de
B31: =IF(Daten!C15<>"",Daten!C15,"") -> www.nordlicht-studio.de | I31: =IF(Daten!C15<>"",Daten!C15,"") -> www.nordlicht-studio.de
B32: =Daten!C7&" "&Daten!C8 -> Laura König | I32: =Daten!C7&" "&Daten!C8 -> Laura König
B34: =Daten!C9 -> Projektmanagerin | I34: =Daten!C9 -> Projektmanagerin
B35: =Daten!C10 -> Nordlicht Studio GmbH | I35: =Daten!C10 -> Nordlicht Studio GmbH
B36: =Daten!C11 -> Hafenweg 12 | I36: =Daten!C11 -> Hafenweg 12
B37: =Daten!C12 -> 20457 Hamburg | I37: =Daten!C12 -> 20457 Hamburg
B38: =IF(Daten!C13<>"","Tel. "&Daten!C13,"") -> Tel. +49 40 1234 5678 | I38: =IF(Daten!C13<>"","Tel. "&Daten!C13,"") -> Tel. +49 40 1234 5678
B39: =IF(Daten!C14<>"","E-Mail: "&Daten!C14,"") -> E-Mail: hallo@nordlicht-studio.de | I39: =IF(Daten!C14<>"","E-Mail: "&Daten!C14,"") -> E-Mail: hallo@nordlicht-studio.de
B40: =IF(Daten!C15<>"",Daten!C15,"") -> www.nordlicht-studio.de | I40: =IF(Daten!C15<>"",Daten!C15,"") -> www.nordlicht-studio.de
B41: =Daten!C7&" "&Daten!C8 -> Laura König | I41: =Daten!C7&" "&Daten!C8 -> Laura König
B43: =Daten!C9 -> Projektmanagerin | I43: =Daten!C9 -> Projektmanagerin
B44: =Daten!C10 -> Nordlicht Studio GmbH | I44: =Daten!C10 -> Nordlicht Studio GmbH
B45: =Daten!C11 -> Hafenweg 12 | I45: =Daten!C11 -> Hafenweg 12
B46: =Daten!C12 -> 20457 Hamburg | I46: =Daten!C12 -> 20457 Hamburg
B47: =IF(Daten!C13<>"","Tel. "&Daten!C13,"") -> Tel. +49 40 1234 5678 | I47: =IF(Daten!C13<>"","Tel. "&Daten!C13,"") -> Tel. +49 40 1234 5678
B48: =IF(Daten!C14<>"","E-Mail: "&Daten!C14,"") -> E-Mail: hallo@nordlicht-studio.de | I48: =IF(Daten!C14<>"","E-Mail: "&Daten!C14,"") -> E-Mail: hallo@nordlicht-studio.de
B49: =IF(Daten!C15<>"",Daten!C15,"") -> www.nordlicht-studio.de | I49: =IF(Daten!C15<>"",Daten!C15,"") -> www.nordlicht-studio.de

Sheet Daten
A1: Visitenkarten Vorlage
A4: Trage deine Daten einmal ein. Der Druckbogen aktualisiert sich automatisch.
H5: Live-Vorschau
B6: Eingabedaten
B7: Vorname | C7: Laura | H7: =TRIM(C7&" "&C8) -> Laura König
B8: Nachname | C8: König
B9: Position | C9: Projektmanagerin | H9: =C9 -> Projektmanagerin
B10: Firma | C10: Nordlicht Studio GmbH
B11: Straße / Nr. | C11: Hafenweg 12 | H11: =C10 -> Nordlicht Studio GmbH
B12: PLZ / Ort | C12: 20457 Hamburg | H12: =C11 -> Hafenweg 12
B13: Telefon | C13: +49 40 1234 5678 | H13: =C12 -> 20457 Hamburg
B14: E-Mail | C14: hallo@nordlicht-studio.de | H14: =IF(C13<>"","Tel. "&C13,"") -> Tel. +49 40 1234 5678
B15: Website (optional) | C15: www.nordlicht-studio.de | H15: =IF(C14<>"","E-Mail: "&C14,"") -> E-Mail: hallo@nordlicht-studio.de
H16: =IF(C15<>"",C15,"") -> www.nordlicht-studio.de
B19: Hinweise
B20: • Nur die hellblauen Felder anpassen. • Der Druckbogen ist für A4 angelegt. • Für sauberen Ausdruck in Excel mit 100 % Skalierung drucken.
B26: Zum Druckbogen →
