Workbook

Sheet Übersicht
A1: Bautagebuch – Tagesübersicht
M2: Anwesende Firmen
A3: Bauvorhaben | C3: Neubau Wohnanlage Lindenhof | H3: Datum | J3: 46098 | M3: =COUNTA(Bautagesbericht!A10:A21) -> 5
A4: Baustelle / Adresse | C4: Musterstraße 18, 80331 München | H4: Wochentag | J4: =CHOOSE(WEEKDAY(J3,2),"Montag","Dienstag","Mittwoch","Donnerstag","Freitag","Samstag","Sonntag") -> Dienstag
A5: Bauherr / Auftraggeber | C5: Lindenhof Projekt GmbH | H5: KW | J5: =WEEKNUM(J3,21) -> 12 | M5: Anzahl Lieferungen
A6: Bauleiter | C6: Thomas Berger | H6: Wetter | J6: bewölkt, trocken | M6: =COUNTA(Lieferungen!A8:A27) -> 4
H7: Temperatur | J7: 8–14 °C
H8: Wind | J8: schwach | M8: Offene Mängel
H9: Niederschlag | J9: 0 mm | M9: =COUNTIF(Mängelliste!I12:I31,"neu")+COUNTIF(Mängelliste!I12:I31,"in Bearbeitung") -> 3
M11: Besprechungen / Anweisungen
A12: Allgemeiner Baufortschritt | M12: =COUNTA('Besprechungen & Anweisungen'!A8:A19)+COUNTA('Besprechungen & Anweisungen'!A24:A33) -> 6
A13: Rohbau im Bauteil A planmäßig fortgeführt. Schalungsarbeiten im 2. Obergeschoss abgeschlossen, Bewehrung für die Decke Südseite zu 80 % eingebaut. Keine witterungsbedingten Unterbrechungen. Elektro-Rohinstallation im EG wurde parallel vorbereitet. | J13: Status des Tages | L13: planmäßig
J15: Kurzbewertung | L15: Die Arbeiten lagen im Tagesziel. Zwei kleinere Materialabweichungen wurden dokumentiert und an den Lieferanten gemeldet.
A20: Baustellenbesetzung | H20: Ausgeführte Leistungen
A21: Gewerk / Firma | B21: Personen | C21: von | D21: bis | E21: Bemerkungen | H21: Bereich / Bauteil | I21: Geplante Leistung | J21: Tatsächlich ausgeführt | K21: Status | L21: Firma | M21: Bemerkung
A22: Rohbau Müller GmbH | B22: 12 | C22: 07:00 | D22: 16:30 | E22: volle Besetzung | H22: Bauteil A / 2. OG | I22: Deckenbewehrung Süd | J22: 80 % abgeschlossen | K22: in Arbeit | L22: Rohbau Müller GmbH | M22: Rest am Folgetag
A23: Elektro Kamm | B23: 4 | C23: 07:30 | D23: 15:30 | E23: EG Leitungswege | H23: EG Technikraum | I23: Kabeltrassen vorbereiten | J23: komplett erledigt | K23: erledigt | L23: Elektro Kamm | M23: für Prüfung bereit
A24: Sanitär Süd | B24: 3 | C24: 08:00 | D24: 15:00 | E24: Materialmaßaufnahme | H24: Anlieferzone | I24: Betonstahl entladen | J24: ordnungsgemäß eingelagert | K24: erledigt | L24: Rohbau Müller GmbH
A25: Kranservice Alpina | B25: 2 | C25: 07:00 | D25: 12:00 | E25: Wartung Turmdrehkran | H25: Turmdrehkran | I25: Wartung | J25: Wartung durchgeführt | K25: erledigt | L25: Kranservice Alpina | M25: Dokumentation liegt vor
A32: Lieferungen & Geräte | H32: Besprechungen / Anweisungen
A33: Artikel / Gerät | B33: Menge | C33: Einheit | D33: Lieferant | E33: Zustand | F33: Kommentar | H33: Uhrzeit | I33: Thema / Anweisung | J33: Teilnehmer / Anweiser | K33: Ergebnis / Kurznotiz
A34: Betonstahl B500 | B34: 12.5 | C34: t | D34: Stahlhandel Weiss | E34: i.O. | F34: vollständig | H34: 08:15 | I34: Tagesanlauf | J34: Bauleiter, Poliere | K34: Betonage auf Mittwoch bestätigt
A35: Schalungsplatten | B35: 40 | C35: Stk. | D35: FormTec | E35: unvollständig | F35: 2 Stück fehlen | H35: 11:30 | I35: Lieferabweichung Schalung | J35: Bauleiter, FormTec | K35: Nachlieferung bis 18.03. zugesagt
A36: Kranersatzteile | B36: 1 | C36: Set | D36: Alpina Service | E36: i.O. | H36: 15:45 | I36: Sicherheitsrundgang | J36: SiGeKo, Bauleiter | K36: keine kritischen Feststellungen
A41: Mängelüberblick | H41: Fotos / Nachweise
A42: Bauteil / Ort | B42: Mangel | C42: Priorität | D42: Status | E42: Verantwortlich | H42: Fotos erstellt? | J42: Ja
A43: Treppenhaus A | B43: Kantenschutz fehlt an Podest | C43: hoch | D43: neu | E43: Rohbau Müller GmbH | H43: Anzahl Fotos | J43: 18
A44: Lagerfläche Nord | B44: 2 Schalungsplatten fehlen | C44: mittel | D44: in Bearbeitung | E44: FormTec | H44: Speicherort / Ordner / Link | J44: Projektserver / Bautagebuch / 2026-03-17
A45: Technikraum EG | B45: Leerrohrkennzeichnung unvollständig | C45: niedrig | D45: behoben | E45: Elektro Kamm | H45: Bemerkung | J45: Fotos dokumentieren Deckenbewehrung, Anlieferung Betonstahl und Sicherungsmaßnahmen im Treppenhaus.

Sheet Bautagesbericht
A1: Bautagesbericht
A3: Bauvorhaben | C3: =Übersicht!C3 -> Neubau Wohnanlage Lindenhof | H3: Datum | J3: =Übersicht!J3 -> 46098 | M3: Wind | N3: =Übersicht!J8 -> schwach
A4: Baustelle / Adresse | C4: =Übersicht!C4 -> Musterstraße 18, 80331 München | H4: Wochentag | J4: =Übersicht!J4 -> Dienstag | M4: Niederschlag | N4: =Übersicht!J9 -> 0 mm
H5: Wetter | J5: =Übersicht!J6 -> bewölkt, trocken
H6: Temperatur | J6: =Übersicht!J7 -> 8–14 °C
A8: Baustellenbesetzung
A9: Gewerk / Firma | B9: Personen gesamt | C9: Fachkräfte | D9: Helfer | E9: Sonstige | F9: Krank / Abwesend | G9: von | H9: bis | I9: Bemerkungen
A10: Rohbau Müller GmbH | B10: 12 | C10: 7 | D10: 4 | E10: 1 | F10: 0 | G10: 07:00 | H10: 16:30 | I10: 2. OG / Decke Süd
A11: Elektro Kamm | B11: 4 | C11: 3 | D11: 1 | E11: 0 | F11: 0 | G11: 07:30 | H11: 15:30 | I11: EG / Leitungsführung
A12: Sanitär Süd | B12: 3 | C12: 2 | D12: 1 | E12: 0 | F12: 0 | G12: 08:00 | H12: 15:00 | I12: Vorbereitung Installationsschächte
A13: Kranservice Alpina | B13: 2 | C13: 2 | D13: 0 | E13: 0 | F13: 0 | G13: 07:00 | H13: 12:00 | I13: Wartung Turmdrehkran
A14: Betonprüfung LaborTec | B14: 1 | C14: 1 | D14: 0 | E14: 0 | F14: 0 | G14: 10:30 | H14: 12:00 | I14: Probenahme / Bewehrungskontrolle
A24: Tagewerk / Arbeitsleistungen
A25: Bereich / Bauteil | B25: Geplante Arbeit | C25: Ausgeführte Arbeit | D25: Stand Tagesende | E25: Behinderung / Abweichung | F25: Verantwortliche Firma | G25: Status | H25: Bemerkung
A26: Bauteil A / 2. OG | B26: Deckenbewehrung Süd fertigstellen | C26: Bewehrung zu 80 % eingebaut | D26: Rest 20 % offen | E26: zusätzliche Abstandhalter erforderlich | F26: Rohbau Müller GmbH | G26: in Arbeit | H26: Fortsetzung am 18.03.
A27: Bauteil A / 2. OG | B27: Aussparungen prüfen | C27: vollständig geprüft | D27: abgeschlossen | F27: Bauleitung | G27: erledigt | H27: Freigabe zur Betonage vorbereitet
A28: EG Technikraum | B28: Kabeltrassen vorbereiten | C28: Montage beendet | D28: abgeschlossen | F28: Elektro Kamm | G28: erledigt | H28: Prüfung durch Bauleitung erfolgt
A29: Anlieferzone | B29: Betonstahl entladen und lagern | C29: ordnungsgemäß eingelagert | D29: abgeschlossen | F29: Rohbau Müller GmbH | G29: erledigt | H29: mit Lieferschein geprüft
A30: Turmdrehkran | B30: Wartung gem. Plan | C30: Wartung durchgeführt | D30: abgeschlossen | F30: Kranservice Alpina | G30: erledigt | H30: Wartungsbericht abgelegt
A31: Treppenhaus A | B31: Kantenschutz ergänzen | C31: noch nicht begonnen | D31: offen | E31: Material fehlte | F31: Rohbau Müller GmbH | G31: behindert | H31: Mangel in Liste erfasst
A43: Besondere Vorkommnisse
A44: Eine Lieferung von Schalungsplatten war unvollständig (2 Stück fehlend). Der Lieferant sagte Nachlieferung für den Folgetag zu. Im Treppenhaus A wurde fehlender Kantenschutz festgestellt und sofort zur Nacharbeit angewiesen. Ansonsten verlief der Bautag ohne Unfall oder größere Störung.
A50: Fotos / Dokumentation
A51: Foto-Nr. | B51: Uhrzeit | C51: Beschreibung | D51: Speicherort / Link | E51: Verantwortlich | F51: Bemerkung
A52: 1 | B52: 09:10 | C52: Deckenbewehrung Südseite | D52: Projektserver / Fotos / 2026-03-17 | E52: Thomas Berger | F52: Übersicht 2. OG
A53: 2 | B53: 10:45 | C53: Anlieferung Betonstahl | D53: Projektserver / Fotos / 2026-03-17 | E53: Lisa Hartmann | F53: Lieferschein sichtbar
A54: 3 | B54: 14:20 | C54: Treppenhaus A – fehlender Kantenschutz | D54: Projektserver / Fotos / 2026-03-17 | E54: Thomas Berger | F54: Mangelaufnahme
A63: Unterschrift Bauleitung | I63: Unterschrift Auftragnehmer / Vorarbeiter

Sheet Lieferungen
A1: Lieferungen
A3: Bauvorhaben | C3: =Übersicht!C3 -> Neubau Wohnanlage Lindenhof | G3: Datum | H3: =Übersicht!J3 -> 46098
A4: Baustelle / Adresse | C4: =Übersicht!C4 -> Musterstraße 18, 80331 München
A6: Lieferübersicht
A7: Lieferschein-Nr. | B7: Uhrzeit | C7: Artikel / Material / Bauteil | D7: Menge | E7: Einheit | F7: Lieferant | G7: Zustand | H7: Verwendungsort / Bauteil | I7: Geprüft von | J7: Kommentar
A8: LS-260317-01 | B8: 07:20 | C8: Betonstahl B500 | D8: 12,5 | E8: t | F8: Stahlhandel Weiss | G8: i.O. | H8: Bauteil A / 2. OG | I8: Thomas Berger | J8: vollständig angeliefert
A9: LS-260317-02 | B9: 09:40 | C9: Schalungsplatten | D9: 40 | E9: Stk. | F9: FormTec | G9: unvollständig | H9: Lagerfläche Nord | I9: Markus Stein | J9: 2 Stück fehlen
A10: LS-260317-03 | B10: 11:15 | C10: Kranersatzteile | D10: 1 | E10: Set | F10: Alpina Service | G10: i.O. | H10: Turmdrehkran | I10: Jan Ebert | J10: direkt montiert
A11: LS-260317-04 | B11: 13:05 | C11: Leerrohre M25 | D11: 120 | E11: m | F11: Elektro Depot Süd | G11: i.O. | H11: EG Technikraum | I11: Lisa Hartmann | J11: für Elektro-Rohbau
A30: Zusammenfassung
A31: Anzahl Lieferungen | C31: =COUNTA(A8:A27) -> 4 | F31: Beanstandete Lieferungen | H31: =COUNTIF(G8:G27,"unvollständig")+COUNTIF(G8:G27,"beschädigt")+COUNTIF(G8:G27,"falsch geliefert") -> 1
A34: Hinweis: | B34: Lieferungen mit Abweichungen sind im Kommentar oder in der Mängelliste zu dokumentieren.

Sheet Mängelliste
A1: Mängelliste
A3: Bauvorhaben | C3: =Übersicht!C3 -> Neubau Wohnanlage Lindenhof | G3: Datum | H3: =Übersicht!J3 -> 46098
A4: Baustelle / Adresse | C4: =Übersicht!C4 -> Musterstraße 18, 80331 München
A6: Neu heute | E6: Behoben heute | I6: Offen gesamt
A7: =COUNTIF(I12:I31,"neu") -> 1 | E7: =COUNTIF(I12:I31,"behoben") -> 1 | I7: =COUNTIF(I12:I31,"neu")+COUNTIF(I12:I31,"in Bearbeitung") -> 3
A10: Mangelregister
A11: Mangel-ID | B11: Datum festgestellt | C11: Bauteil / Ort | D11: Beschreibung | E11: Kategorie | F11: Priorität | G11: Verantwortlich | H11: Frist | I11: Status | J11: Datum behoben | K11: Bemerkung / Nachverfolgung
A12: M-001 | B12: 46098 | C12: Treppenhaus A | D12: Kantenschutz fehlt an Podest | E12: Sicherheit | F12: hoch | G12: Rohbau Müller GmbH | H12: 46099 | I12: neu | K12: Nachrüstung angewiesen
A13: M-002 | B13: 46098 | C13: Lagerfläche Nord | D13: 2 Schalungsplatten fehlen | E13: Material | F13: mittel | G13: FormTec | H13: 46099 | I13: in Bearbeitung | K13: Nachlieferung zugesagt
A14: M-003 | B14: 46098 | C14: Technikraum EG | D14: Leerrohrkennzeichnung unvollständig | E14: Ausführung | F14: niedrig | G14: Elektro Kamm | H14: 46098 | I14: behoben | J14: 46098 | K14: Kennzeichnung ergänzt
A15: M-004 | B15: 46097 | C15: Bauteil A / 1. OG | D15: Aussparung Achse 3 leicht versetzt | E15: Ausführung | F15: mittel | G15: Rohbau Müller GmbH | H15: 46100 | I15: in Bearbeitung | K15: Korrekturmaß abgestimmt

Sheet Besprechungen & Anweisungen
A1: Besprechungen & Anweisungen
A3: Bauvorhaben | C3: =Übersicht!C3 -> Neubau Wohnanlage Lindenhof | G3: Datum | H3: =Übersicht!J3 -> 46098
A4: Baustelle / Adresse | C4: =Übersicht!C4 -> Musterstraße 18, 80331 München
A6: Besprechungen
A7: Uhrzeit von | B7: Uhrzeit bis | C7: Art | D7: Teilnehmer | E7: Thema | F7: Beschlüsse / Ergebnisse | G7: Verantwortlich | H7: Frist | I7: Status
A8: 08:15 | B8: 08:30 | C8: Baubesprechung | D8: Bauleiter, Poliere | E8: Tagesanlauf | F8: Betonage auf Mittwoch bestätigt | G8: Thomas Berger | H8: 18.03.2026 | I8: erledigt
A9: 11:30 | B9: 11:45 | C9: Telefonat | D9: Bauleiter, FormTec | E9: Lieferabweichung Schalung | F9: Nachlieferung bis Folgetag zugesagt | G9: FormTec | H9: 18.03.2026 | I9: in Arbeit
A10: 15:45 | B10: 16:00 | C10: Begehung | D10: SiGeKo, Bauleiter | E10: Sicherheitsrundgang | F10: keine kritischen Feststellungen | G10: SiGeKo | H10: 17.03.2026 | I10: erledigt
A22: Anweisungen
A23: Uhrzeit | B23: Anweiser | C23: Angewiesener | D23: Bereich / Bauteil | E23: Anweisung | F23: Termin / Frist | G23: Status | H23: Bemerkung
A24: 09:50 | B24: Thomas Berger | C24: Rohbau Müller GmbH | D24: Treppenhaus A | E24: Kantenschutz sofort ergänzen | F24: 18.03.2026 | G24: offen | H24: Mangel M-001
A25: 12:10 | B25: Thomas Berger | C25: FormTec | D25: Lagerfläche Nord | E25: fehlende Schalungsplatten nachliefern | F25: 18.03.2026 | G25: bestätigt | H25: Bezug auf LS-260317-02
A26: 14:30 | B26: Lisa Hartmann | C26: Elektro Kamm | D26: EG Technikraum | E26: Leerrohrkennzeichnung vervollständigen | F26: 17.03.2026 | G26: erledigt | H26: Nachkontrolle erfolgt
A36: Unterschrift Bauleitung | F36: Unterschrift Empfänger / Firma
