Workbook
Name Kategorien: Übersicht!$A$10:$A$17

Sheet Übersicht
A1: Monatliche Ausgaben · Jahresübersicht
A2: Automatische Auswertung – alle Werte stammen aus dem Blatt »Buchungen«. Nur die Spalte »Budget/Monat« hier unten ist von Hand anzupassen.
A4: AUSGABEN GESAMT | E4: Ø AUSGABEN / MONAT | I4: BUDGET GESAMT (JAHR) | M4: ABWEICHUNG (BUDGET−IST)
A5: =SUM(O10:O17) -> 17164.92 | E5: =SUM(O10:O17)/12 -> 1430.41 | I5: =SUM(B10:B17)*12 -> 19740 | M5: =I5-A5 -> 2575.08
C8: 1 | D8: 2 | E8: 3 | F8: 4 | G8: 5 | H8: 6 | I8: 7 | J8: 8 | K8: 9 | L8: 10 | M8: 11 | N8: 12
A9: Kategorie | B9: Budget/Monat | C9: Jan | D9: Feb | E9: Mär | F9: Apr | G9: Mai | H9: Jun | I9: Jul | J9: Aug | K9: Sep | L9: Okt | M9: Nov | N9: Dez | O9: Gesamt 2026 | P9: Ø/Monat | Q9: Anteil
A10: Wohnen & Nebenkosten | B10: 970 | C10: =SUMIFS(Buchungen!$F$4:$F$300,Buchungen!$C$4:$C$300,$A10,Buchungen!$B$4:$B$300,C$8) -> 961.9 | D10: =SUMIFS(Buchungen!$F$4:$F$300,Buchungen!$C$4:$C$300,$A10,Buchungen!$B$4:$B$300,D$8) -> 961.9 | E10: =SUMIFS(Buchungen!$F$4:$F$300,Buchungen!$C$4:$C$300,$A10,Buchungen!$B$4:$B$300,E$8) -> 961.9 | F10: =SUMIFS(Buchungen!$F$4:$F$300,Buchungen!$C$4:$C$300,$A10,Buchungen!$B$4:$B$300,F$8) -> 961.9 | G10: =SUMIFS(Buchungen!$F$4:$F$300,Buchungen!$C$4:$C$300,$A10,Buchungen!$B$4:$B$300,G$8) -> 961.9 | H10: =SUMIFS(Buchungen!$F$4:$F$300,Buchungen!$C$4:$C$300,$A10,Buchungen!$B$4:$B$300,H$8) -> 961.9 | I10: =SUMIFS(Buchungen!$F$4:$F$300,Buchungen!$C$4:$C$300,$A10,Buchungen!$B$4:$B$300,I$8) -> 961.9 | J10: =SUMIFS(Buchungen!$F$4:$F$300,Buchungen!$C$4:$C$300,$A10,Buchungen!$B$4:$B$300,J$8) -> 961.9 | ... N10: =SUMIFS(Buchungen!$F$4:$F$300,Buchungen!$C$4:$C$300,$A10,Buchungen!$B$4:$B$300,N$8) -> 961.9 | O10: =SUM(C10:N10) -> 11542.8 | P10: =O10/12 -> 961.9 | Q10: =IF($O$18=0,0,O10/$O$18) -> 0.67246454
A11: Lebensmittel & Drogerie | B11: 210 | C11: =SUMIFS(Buchungen!$F$4:$F$300,Buchungen!$C$4:$C$300,$A11,Buchungen!$B$4:$B$300,C$8) -> 179.87 | D11: =SUMIFS(Buchungen!$F$4:$F$300,Buchungen!$C$4:$C$300,$A11,Buchungen!$B$4:$B$300,D$8) -> 189.93 | E11: =SUMIFS(Buchungen!$F$4:$F$300,Buchungen!$C$4:$C$300,$A11,Buchungen!$B$4:$B$300,E$8) -> 139.17 | F11: =SUMIFS(Buchungen!$F$4:$F$300,Buchungen!$C$4:$C$300,$A11,Buchungen!$B$4:$B$300,F$8) -> 128.2 | G11: =SUMIFS(Buchungen!$F$4:$F$300,Buchungen!$C$4:$C$300,$A11,Buchungen!$B$4:$B$300,G$8) -> 203.55 | H11: =SUMIFS(Buchungen!$F$4:$F$300,Buchungen!$C$4:$C$300,$A11,Buchungen!$B$4:$B$300,H$8) -> 100.5 | I11: =SUMIFS(Buchungen!$F$4:$F$300,Buchungen!$C$4:$C$300,$A11,Buchungen!$B$4:$B$300,I$8) -> 236 | J11: =SUMIFS(Buchungen!$F$4:$F$300,Buchungen!$C$4:$C$300,$A11,Buchungen!$B$4:$B$300,J$8) -> 121.24 | ... N11: =SUMIFS(Buchungen!$F$4:$F$300,Buchungen!$C$4:$C$300,$A11,Buchungen!$B$4:$B$300,N$8) -> 156.72 | O11: =SUM(C11:N11) -> 1949.93 | P11: =O11/12 -> 162.49417 | Q11: =IF($O$18=0,0,O11/$O$18) -> 0.11359971
A12: Mobilität & Verkehr | B12: 110 | C12: =SUMIFS(Buchungen!$F$4:$F$300,Buchungen!$C$4:$C$300,$A12,Buchungen!$B$4:$B$300,C$8) -> 58 | D12: =SUMIFS(Buchungen!$F$4:$F$300,Buchungen!$C$4:$C$300,$A12,Buchungen!$B$4:$B$300,D$8) -> 140.3 | E12: =SUMIFS(Buchungen!$F$4:$F$300,Buchungen!$C$4:$C$300,$A12,Buchungen!$B$4:$B$300,E$8) -> 72.5 | F12: =SUMIFS(Buchungen!$F$4:$F$300,Buchungen!$C$4:$C$300,$A12,Buchungen!$B$4:$B$300,F$8) -> 58 | G12: =SUMIFS(Buchungen!$F$4:$F$300,Buchungen!$C$4:$C$300,$A12,Buchungen!$B$4:$B$300,G$8) -> 226 | H12: =SUMIFS(Buchungen!$F$4:$F$300,Buchungen!$C$4:$C$300,$A12,Buchungen!$B$4:$B$300,H$8) -> 58 | I12: =SUMIFS(Buchungen!$F$4:$F$300,Buchungen!$C$4:$C$300,$A12,Buchungen!$B$4:$B$300,I$8) -> 137.6 | J12: =SUMIFS(Buchungen!$F$4:$F$300,Buchungen!$C$4:$C$300,$A12,Buchungen!$B$4:$B$300,J$8) -> 58 | ... N12: =SUMIFS(Buchungen!$F$4:$F$300,Buchungen!$C$4:$C$300,$A12,Buchungen!$B$4:$B$300,N$8) -> 58 | O12: =SUM(C12:N12) -> 1159.8 | P12: =O12/12 -> 96.65 | Q12: =IF($O$18=0,0,O12/$O$18) -> 0.06756804
A13: Freizeit & Hobbys | B13: 80 | C13: =SUMIFS(Buchungen!$F$4:$F$300,Buchungen!$C$4:$C$300,$A13,Buchungen!$B$4:$B$300,C$8) -> 46.8 | D13: =SUMIFS(Buchungen!$F$4:$F$300,Buchungen!$C$4:$C$300,$A13,Buchungen!$B$4:$B$300,D$8) -> 29.5 | E13: =SUMIFS(Buchungen!$F$4:$F$300,Buchungen!$C$4:$C$300,$A13,Buchungen!$B$4:$B$300,E$8) -> 34.9 | F13: =SUMIFS(Buchungen!$F$4:$F$300,Buchungen!$C$4:$C$300,$A13,Buchungen!$B$4:$B$300,F$8) -> 68 | G13: =SUMIFS(Buchungen!$F$4:$F$300,Buchungen!$C$4:$C$300,$A13,Buchungen!$B$4:$B$300,G$8) -> 41.2 | H13: =SUMIFS(Buchungen!$F$4:$F$300,Buchungen!$C$4:$C$300,$A13,Buchungen!$B$4:$B$300,H$8) -> 57.3 | I13: =SUMIFS(Buchungen!$F$4:$F$300,Buchungen!$C$4:$C$300,$A13,Buchungen!$B$4:$B$300,I$8) -> 19.8 | J13: =SUMIFS(Buchungen!$F$4:$F$300,Buchungen!$C$4:$C$300,$A13,Buchungen!$B$4:$B$300,J$8) -> 88.4 | ... N13: =SUMIFS(Buchungen!$F$4:$F$300,Buchungen!$C$4:$C$300,$A13,Buchungen!$B$4:$B$300,N$8) -> 38.7 | O13: =SUM(C13:N13) -> 558.1 | P13: =O13/12 -> 46.508333 | Q13: =IF($O$18=0,0,O13/$O$18) -> 0.032513988
A14: Gesundheit & Pflege | B14: 45 | C14: =SUMIFS(Buchungen!$F$4:$F$300,Buchungen!$C$4:$C$300,$A14,Buchungen!$B$4:$B$300,C$8) -> 23.4 | D14: =SUMIFS(Buchungen!$F$4:$F$300,Buchungen!$C$4:$C$300,$A14,Buchungen!$B$4:$B$300,D$8) -> 32 | E14: =SUMIFS(Buchungen!$F$4:$F$300,Buchungen!$C$4:$C$300,$A14,Buchungen!$B$4:$B$300,E$8) -> 0 | F14: =SUMIFS(Buchungen!$F$4:$F$300,Buchungen!$C$4:$C$300,$A14,Buchungen!$B$4:$B$300,F$8) -> 45 | G14: =SUMIFS(Buchungen!$F$4:$F$300,Buchungen!$C$4:$C$300,$A14,Buchungen!$B$4:$B$300,G$8) -> 16.9 | H14: =SUMIFS(Buchungen!$F$4:$F$300,Buchungen!$C$4:$C$300,$A14,Buchungen!$B$4:$B$300,H$8) -> 0 | I14: =SUMIFS(Buchungen!$F$4:$F$300,Buchungen!$C$4:$C$300,$A14,Buchungen!$B$4:$B$300,I$8) -> 34 | J14: =SUMIFS(Buchungen!$F$4:$F$300,Buchungen!$C$4:$C$300,$A14,Buchungen!$B$4:$B$300,J$8) -> 0 | ... N14: =SUMIFS(Buchungen!$F$4:$F$300,Buchungen!$C$4:$C$300,$A14,Buchungen!$B$4:$B$300,N$8) -> 0 | O14: =SUM(C14:N14) -> 270.55 | P14: =O14/12 -> 22.545833 | Q14: =IF($O$18=0,0,O14/$O$18) -> 0.015761798
A15: Abos & Digitales | B15: 35 | C15: =SUMIFS(Buchungen!$F$4:$F$300,Buchungen!$C$4:$C$300,$A15,Buchungen!$B$4:$B$300,C$8) -> 26.97 | D15: =SUMIFS(Buchungen!$F$4:$F$300,Buchungen!$C$4:$C$300,$A15,Buchungen!$B$4:$B$300,D$8) -> 26.97 | E15: =SUMIFS(Buchungen!$F$4:$F$300,Buchungen!$C$4:$C$300,$A15,Buchungen!$B$4:$B$300,E$8) -> 26.97 | F15: =SUMIFS(Buchungen!$F$4:$F$300,Buchungen!$C$4:$C$300,$A15,Buchungen!$B$4:$B$300,F$8) -> 26.97 | G15: =SUMIFS(Buchungen!$F$4:$F$300,Buchungen!$C$4:$C$300,$A15,Buchungen!$B$4:$B$300,G$8) -> 26.97 | H15: =SUMIFS(Buchungen!$F$4:$F$300,Buchungen!$C$4:$C$300,$A15,Buchungen!$B$4:$B$300,H$8) -> 26.97 | I15: =SUMIFS(Buchungen!$F$4:$F$300,Buchungen!$C$4:$C$300,$A15,Buchungen!$B$4:$B$300,I$8) -> 26.97 | J15: =SUMIFS(Buchungen!$F$4:$F$300,Buchungen!$C$4:$C$300,$A15,Buchungen!$B$4:$B$300,J$8) -> 26.97 | ... N15: =SUMIFS(Buchungen!$F$4:$F$300,Buchungen!$C$4:$C$300,$A15,Buchungen!$B$4:$B$300,N$8) -> 26.97 | O15: =SUM(C15:N15) -> 323.64 | P15: =O15/12 -> 26.97 | Q15: =IF($O$18=0,0,O15/$O$18) -> 0.018854734
A16: Versicherungen & Beiträge | B16: 130 | C16: =SUMIFS(Buchungen!$F$4:$F$300,Buchungen!$C$4:$C$300,$A16,Buchungen!$B$4:$B$300,C$8) -> 202.7 | D16: =SUMIFS(Buchungen!$F$4:$F$300,Buchungen!$C$4:$C$300,$A16,Buchungen!$B$4:$B$300,D$8) -> 19.7 | E16: =SUMIFS(Buchungen!$F$4:$F$300,Buchungen!$C$4:$C$300,$A16,Buchungen!$B$4:$B$300,E$8) -> 19.7 | F16: =SUMIFS(Buchungen!$F$4:$F$300,Buchungen!$C$4:$C$300,$A16,Buchungen!$B$4:$B$300,F$8) -> 157.7 | G16: =SUMIFS(Buchungen!$F$4:$F$300,Buchungen!$C$4:$C$300,$A16,Buchungen!$B$4:$B$300,G$8) -> 19.7 | H16: =SUMIFS(Buchungen!$F$4:$F$300,Buchungen!$C$4:$C$300,$A16,Buchungen!$B$4:$B$300,H$8) -> 19.7 | I16: =SUMIFS(Buchungen!$F$4:$F$300,Buchungen!$C$4:$C$300,$A16,Buchungen!$B$4:$B$300,I$8) -> 202.7 | J16: =SUMIFS(Buchungen!$F$4:$F$300,Buchungen!$C$4:$C$300,$A16,Buchungen!$B$4:$B$300,J$8) -> 19.7 | ... N16: =SUMIFS(Buchungen!$F$4:$F$300,Buchungen!$C$4:$C$300,$A16,Buchungen!$B$4:$B$300,N$8) -> 19.7 | O16: =SUM(C16:N16) -> 878.4 | P16: =O16/12 -> 73.2 | Q16: =IF($O$18=0,0,O16/$O$18) -> 0.051174139
A17: Sonstiges | B17: 65 | C17: =SUMIFS(Buchungen!$F$4:$F$300,Buchungen!$C$4:$C$300,$A17,Buchungen!$B$4:$B$300,C$8) -> 74.9 | D17: =SUMIFS(Buchungen!$F$4:$F$300,Buchungen!$C$4:$C$300,$A17,Buchungen!$B$4:$B$300,D$8) -> 0 | E17: =SUMIFS(Buchungen!$F$4:$F$300,Buchungen!$C$4:$C$300,$A17,Buchungen!$B$4:$B$300,E$8) -> 39 | F17: =SUMIFS(Buchungen!$F$4:$F$300,Buchungen!$C$4:$C$300,$A17,Buchungen!$B$4:$B$300,F$8) -> 52.3 | G17: =SUMIFS(Buchungen!$F$4:$F$300,Buchungen!$C$4:$C$300,$A17,Buchungen!$B$4:$B$300,G$8) -> 0 | H17: =SUMIFS(Buchungen!$F$4:$F$300,Buchungen!$C$4:$C$300,$A17,Buchungen!$B$4:$B$300,H$8) -> 21.6 | I17: =SUMIFS(Buchungen!$F$4:$F$300,Buchungen!$C$4:$C$300,$A17,Buchungen!$B$4:$B$300,I$8) -> 0 | J17: =SUMIFS(Buchungen!$F$4:$F$300,Buchungen!$C$4:$C$300,$A17,Buchungen!$B$4:$B$300,J$8) -> 63.4 | ... N17: =SUMIFS(Buchungen!$F$4:$F$300,Buchungen!$C$4:$C$300,$A17,Buchungen!$B$4:$B$300,N$8) -> 128.5 | O17: =SUM(C17:N17) -> 481.7 | P17: =O17/12 -> 40.141667 | Q17: =IF($O$18=0,0,O17/$O$18) -> 0.02806305
A18: Monatssumme | B18: =SUM(B10:B17) -> 1645 | C18: =SUM(C10:C17) -> 1574.54 | D18: =SUM(D10:D17) -> 1400.3 | E18: =SUM(E10:E17) -> 1294.14 | F18: =SUM(F10:F17) -> 1498.07 | G18: =SUM(G10:G17) -> 1496.22 | H18: =SUM(H10:H17) -> 1245.97 | I18: =SUM(I10:I17) -> 1618.97 | ... O18: =SUM(O10:O17) -> 17164.92 | P18: =O18/12 -> 1430.41 | Q18: =IF($O$18=0,0,O18/$O$18) -> 1
A20: Farbcodierung: rot markierte Monatszelle = über dem Monatsbudget der Kategorie · die Balken in »Anteil« zeigen den Anteil an den Gesamtausgaben · blaue Zahlen in »Budget/Monat« sind Eingabewerte.

Sheet Buchungen
A1: Buchungen 2026 · Ausgaben erfassen
A2: So geht's: Trage jede Ausgabe in eine neue Zeile ein – Datum, Kategorie (Auswahlliste), Beschreibung, Zahlungsart und Betrag. Die Spalte »Monat« und das Blatt »Übersicht« berechnen sich automatisch. Nur die farbig markierten Spalten ausfüllen.
A3: Datum | B3: Monat | C3: Kategorie | D3: Beschreibung | E3: Zahlungsart | F3: Betrag (€)
A4: 46023 | B4: =IF($A4="","",MONTH($A4)) -> 1 | C4: Wohnen & Nebenkosten | D4: Kaltmiete Wohnung | E4: Lastschrift | F4: 720
A5: 46023 | B5: =IF($A5="","",MONTH($A5)) -> 1 | C5: Wohnen & Nebenkosten | D5: Betriebs- & Nebenkosten | E5: Lastschrift | F5: 135
A6: 46024 | B6: =IF($A6="","",MONTH($A6)) -> 1 | C6: Mobilität & Verkehr | D6: Nahverkehr-Monatsticket | E6: Lastschrift | F6: 58
A7: 46025 | B7: =IF($A7="","",MONTH($A7)) -> 1 | C7: Versicherungen & Beiträge | D7: Privathaftpflicht | E7: Lastschrift | F7: 8.5
A8: 46025 | B8: =IF($A8="","",MONTH($A8)) -> 1 | C8: Versicherungen & Beiträge | D8: Hausratversicherung | E8: Lastschrift | F8: 11.2
A9: 46026 | B9: =IF($A9="","",MONTH($A9)) -> 1 | C9: Versicherungen & Beiträge | D9: KFZ-Versicherung (Quartal) | E9: Lastschrift | F9: 138
A10: 46027 | B10: =IF($A10="","",MONTH($A10)) -> 1 | C10: Wohnen & Nebenkosten | D10: Stromabschlag | E10: Lastschrift | F10: 62
A11: 46028 | B11: =IF($A11="","",MONTH($A11)) -> 1 | C11: Lebensmittel & Drogerie | D11: Einkauf Discounter | E11: Girokarte | F11: 86.4
A12: 46029 | B12: =IF($A12="","",MONTH($A12)) -> 1 | C12: Versicherungen & Beiträge | D12: Vereinsbeitrag | E12: Überweisung | F12: 45
A13: 46030 | B13: =IF($A13="","",MONTH($A13)) -> 1 | C13: Wohnen & Nebenkosten | D13: Internet & Telefon | E13: Lastschrift | F13: 44.9
A14: 46032 | B14: =IF($A14="","",MONTH($A14)) -> 1 | C14: Gesundheit & Pflege | D14: Apotheke Medikamente | E14: Bargeld | F14: 23.4
A15: 46034 | B15: =IF($A15="","",MONTH($A15)) -> 1 | C15: Abos & Digitales | D15: Video-Streaming | E15: Kreditkarte | F15: 12.99
... A193: 46376 | B193: =IF($A193="","",MONTH($A193)) -> 12 | C193: Lebensmittel & Drogerie | D193: Bäckerei & Frische | E193: Bargeld | F193: 64.92
B194: =IF($A194="","",MONTH($A194))
B195: =IF($A195="","",MONTH($A195))
B196: =IF($A196="","",MONTH($A196))
B197: =IF($A197="","",MONTH($A197))
B198: =IF($A198="","",MONTH($A198))
B199: =IF($A199="","",MONTH($A199))
B200: =IF($A200="","",MONTH($A200))
B201: =IF($A201="","",MONTH($A201))
B202: =IF($A202="","",MONTH($A202))
B203: =IF($A203="","",MONTH($A203))
B204: =IF($A204="","",MONTH($A204))
B205: =IF($A205="","",MONTH($A205))
... B300: =IF($A300="","",MONTH($A300))
