Workbook

Sheet Übersicht
B2: ADRESSBUCH · ÜBERSICHT
B3: Kontaktverwaltung · Kennzahlen, Schnellsuche & Geburtstage · 2026
B6: KENNZAHLEN
B7: KONTAKTE GESAMT | D7: AKTIVE KONTAKTE | F7: GESCHÄFTLICH
B8: =SUMPRODUCT(--(LEN(Kontakte!$F$4:$F$153)>0)) -> 16 | D8: =COUNTIF(Kontakte!$R$4:$R$153,"Aktiv") -> 15 | F8: =COUNTIF(Kontakte!$C$4:$C$153,"Geschäftlich") -> 8
B9: PRIVAT | D9: GEBURTSTAGE (30 TAGE) | F9: UNVOLLSTÄNDIGE DATEN
B10: =COUNTIF(Kontakte!$C$4:$C$153,"Privat") -> 8 | D10: =COUNTIFS(Kontakte!$V$4:$V$153,">=0",Kontakte!$V$4:$V$153,"<=30") -> 6 | F10: =COUNTIF(Kontakte!$T$4:$T$153,"Nein") -> 2
B12: SCHNELLSUCHE
B13: Suchbegriff | C13: Berger
B14: Name | D14: Firma | E14: Ort | F14: Telefon | G14: E-Mail
B15: =IF($J15>=10000000,"",INDEX(Kontakte!$E:$E,$J15)&" "&INDEX(Kontakte!$F:$F,$J15)) -> Thomas Berger | D15: =IF($J15>=10000000,"",INDEX(Kontakte!$G:$G,$J15)) -> Nordlicht Design GmbH | E15: =IF($J15>=10000000,"",INDEX(Kontakte!$L:$L,$J15)) -> Hamburg | F15: =IF($J15>=10000000,"",INDEX(Kontakte!$N:$N,$J15)) -> +49 40 1234567 | G15: =IF($J15>=10000000,"",INDEX(Kontakte!$P:$P,$J15)) -> t.berger@nordlicht-muster.de | J15: =SMALL(Kontakte!$W$4:$W$153,1) -> 4
B16: =IF($J16>=10000000,"",INDEX(Kontakte!$E:$E,$J16)&" "&INDEX(Kontakte!$F:$F,$J16)) | D16: =IF($J16>=10000000,"",INDEX(Kontakte!$G:$G,$J16)) | E16: =IF($J16>=10000000,"",INDEX(Kontakte!$L:$L,$J16)) | F16: =IF($J16>=10000000,"",INDEX(Kontakte!$N:$N,$J16)) | G16: =IF($J16>=10000000,"",INDEX(Kontakte!$P:$P,$J16)) | J16: =SMALL(Kontakte!$W$4:$W$153,2) -> 10000000
B17: =IF($J17>=10000000,"",INDEX(Kontakte!$E:$E,$J17)&" "&INDEX(Kontakte!$F:$F,$J17)) | D17: =IF($J17>=10000000,"",INDEX(Kontakte!$G:$G,$J17)) | E17: =IF($J17>=10000000,"",INDEX(Kontakte!$L:$L,$J17)) | F17: =IF($J17>=10000000,"",INDEX(Kontakte!$N:$N,$J17)) | G17: =IF($J17>=10000000,"",INDEX(Kontakte!$P:$P,$J17)) | J17: =SMALL(Kontakte!$W$4:$W$153,3) -> 10000000
B18: =IF($J18>=10000000,"",INDEX(Kontakte!$E:$E,$J18)&" "&INDEX(Kontakte!$F:$F,$J18)) | D18: =IF($J18>=10000000,"",INDEX(Kontakte!$G:$G,$J18)) | E18: =IF($J18>=10000000,"",INDEX(Kontakte!$L:$L,$J18)) | F18: =IF($J18>=10000000,"",INDEX(Kontakte!$N:$N,$J18)) | G18: =IF($J18>=10000000,"",INDEX(Kontakte!$P:$P,$J18)) | J18: =SMALL(Kontakte!$W$4:$W$153,4) -> 10000000
B19: =IF($J19>=10000000,"",INDEX(Kontakte!$E:$E,$J19)&" "&INDEX(Kontakte!$F:$F,$J19)) | D19: =IF($J19>=10000000,"",INDEX(Kontakte!$G:$G,$J19)) | E19: =IF($J19>=10000000,"",INDEX(Kontakte!$L:$L,$J19)) | F19: =IF($J19>=10000000,"",INDEX(Kontakte!$N:$N,$J19)) | G19: =IF($J19>=10000000,"",INDEX(Kontakte!$P:$P,$J19)) | J19: =SMALL(Kontakte!$W$4:$W$153,5) -> 10000000
B20: =IF($J20>=10000000,"",INDEX(Kontakte!$E:$E,$J20)&" "&INDEX(Kontakte!$F:$F,$J20)) | D20: =IF($J20>=10000000,"",INDEX(Kontakte!$G:$G,$J20)) | E20: =IF($J20>=10000000,"",INDEX(Kontakte!$L:$L,$J20)) | F20: =IF($J20>=10000000,"",INDEX(Kontakte!$N:$N,$J20)) | G20: =IF($J20>=10000000,"",INDEX(Kontakte!$P:$P,$J20)) | J20: =SMALL(Kontakte!$W$4:$W$153,6) -> 10000000
B21: =IF($J21>=10000000,"",INDEX(Kontakte!$E:$E,$J21)&" "&INDEX(Kontakte!$F:$F,$J21)) | D21: =IF($J21>=10000000,"",INDEX(Kontakte!$G:$G,$J21)) | E21: =IF($J21>=10000000,"",INDEX(Kontakte!$L:$L,$J21)) | F21: =IF($J21>=10000000,"",INDEX(Kontakte!$N:$N,$J21)) | G21: =IF($J21>=10000000,"",INDEX(Kontakte!$P:$P,$J21)) | J21: =SMALL(Kontakte!$W$4:$W$153,7) -> 10000000
B22: =IF($J22>=10000000,"",INDEX(Kontakte!$E:$E,$J22)&" "&INDEX(Kontakte!$F:$F,$J22)) | D22: =IF($J22>=10000000,"",INDEX(Kontakte!$G:$G,$J22)) | E22: =IF($J22>=10000000,"",INDEX(Kontakte!$L:$L,$J22)) | F22: =IF($J22>=10000000,"",INDEX(Kontakte!$N:$N,$J22)) | G22: =IF($J22>=10000000,"",INDEX(Kontakte!$P:$P,$J22)) | J22: =SMALL(Kontakte!$W$4:$W$153,8) -> 10000000
B23: Tipp: Suchbegriff oben eingeben – die Liste zeigt Treffer aus Name, Firma, Ort, E-Mail und Telefon.
B25: NÄCHSTE GEBURTSTAGE
B26: Name | D26: Datum | E26: in Tagen
B27: =IF($K27>=100000000,"",INDEX(Kontakte!$E:$E,MOD($K27,10000))&" "&INDEX(Kontakte!$F:$F,MOD($K27,10000))) -> Thomas Berger | D27: =IF($K27>=100000000,"",INDEX(Kontakte!$U:$U,MOD($K27,10000))) -> 46277 | E27: =IF($K27>=100000000,"",INT($K27/10000)) -> 7 | K27: =SMALL(Kontakte!$X$4:$X$153,1) -> 70004
B28: =IF($K28>=100000000,"",INDEX(Kontakte!$E:$E,MOD($K28,10000))&" "&INDEX(Kontakte!$F:$F,MOD($K28,10000))) -> Andreas Braun | D28: =IF($K28>=100000000,"",INDEX(Kontakte!$U:$U,MOD($K28,10000))) -> 46285 | E28: =IF($K28>=100000000,"",INT($K28/10000)) -> 15 | K28: =SMALL(Kontakte!$X$4:$X$153,2) -> 150012
B29: =IF($K29>=100000000,"",INDEX(Kontakte!$E:$E,MOD($K29,10000))&" "&INDEX(Kontakte!$F:$F,MOD($K29,10000))) -> Julia Wagner | D29: =IF($K29>=100000000,"",INDEX(Kontakte!$U:$U,MOD($K29,10000))) -> 46293 | E29: =IF($K29>=100000000,"",INT($K29/10000)) -> 23 | K29: =SMALL(Kontakte!$X$4:$X$153,3) -> 230006
B30: =IF($K30>=100000000,"",INDEX(Kontakte!$E:$E,MOD($K30,10000))&" "&INDEX(Kontakte!$F:$F,MOD($K30,10000))) -> Melanie Krause | D30: =IF($K30>=100000000,"",INDEX(Kontakte!$U:$U,MOD($K30,10000))) -> 46294 | E30: =IF($K30>=100000000,"",INT($K30/10000)) -> 24 | K30: =SMALL(Kontakte!$X$4:$X$153,4) -> 240018
B31: =IF($K31>=100000000,"",INDEX(Kontakte!$E:$E,MOD($K31,10000))&" "&INDEX(Kontakte!$F:$F,MOD($K31,10000))) -> Sabine Fischer | D31: =IF($K31>=100000000,"",INDEX(Kontakte!$U:$U,MOD($K31,10000))) -> 46297 | E31: =IF($K31>=100000000,"",INT($K31/10000)) -> 27 | K31: =SMALL(Kontakte!$X$4:$X$153,5) -> 270009
B32: =IF($K32>=100000000,"",INDEX(Kontakte!$E:$E,MOD($K32,10000))&" "&INDEX(Kontakte!$F:$F,MOD($K32,10000))) -> Daniel Schäfer | D32: =IF($K32>=100000000,"",INDEX(Kontakte!$U:$U,MOD($K32,10000))) -> 46300 | E32: =IF($K32>=100000000,"",INT($K32/10000)) -> 30 | K32: =SMALL(Kontakte!$X$4:$X$153,6) -> 300019
B34: Hinweis: Beispieldaten dienen nur zur Veranschaulichung. Kennzahlen, Schnellsuche und Geburtstage aktualisieren sich automatisch beim Erfassen neuer Kontakte.

Sheet Listen
B2: STAMMLISTEN · DROPDOWN-WERTE
B4: Kontaktart | D4: Anrede | F4: Kategorie | H4: Status | J4: Land
B5: Privat | D5: Herr | F5: Familie | H5: Aktiv | J5: DE
B6: Geschäftlich | D6: Frau | F6: Freund | H6: Inaktiv | J6: AT
D7: Divers | F7: Kunde | J7: CH
F8: Lieferant | J8: LU
F9: Partner | J9: NL
F10: Kollege | J10: FR
F11: Sonstige | J11: IT
J12: ES
J13: PL
J14: Sonstige
B17: HINWEISE ZUR NUTZUNG
B18: • Erfassen Sie jeden Kontakt in einer eigenen Zeile im Tabellenblatt „Kontakte“. Die Kontakt-ID wird automatisch vergeben.
B19: • Die farbig hinterlegten Spalten „Vollständig?“, „Nächster Geburtstag“ und „Tage bis Geburtstag“ berechnen sich automatisch – bitte nicht überschreiben.
B20: • Ein Datensatz gilt als vollständig, wenn Vorname, Nachname, Ort, E-Mail sowie mindestens eine Telefon- oder Mobilnummer erfasst sind.
B21: • Nutzen Sie die Filterpfeile in der Kopfzeile der Kontaktliste zum Sortieren und Filtern (z. B. nach Kategorie, Ort oder Status).
B22: • Im Tabellenblatt „Übersicht“ finden Sie Kennzahlen, eine Live-Schnellsuche und die nächsten anstehenden Geburtstage.
B23: • Vergeben Sie einheitliche Schreibweisen und archivieren Sie nicht mehr benötigte Kontakte über den Status „Inaktiv“, statt sie zu löschen.
B24: • Diese Stammlisten speisen die Dropdown-Felder. Passen Sie die Werte hier an – die Auswahl in „Kontakte“ übernimmt Änderungen automatisch.

Sheet Kontakte
B1: ADRESSBUCH · KONTAKTVERWALTUNG 2026
B2: Zentrale Kontaktliste · sortier- und filterbar über die Kopfzeile
B3: Kontakt-ID | C3: Kontaktart | D3: Anrede | E3: Vorname | F3: Nachname | G3: Firma | H3: Funktion | I3: Kategorie | J3: Straße & Nr. | K3: PLZ | L3: Ort | M3: Land | N3: Telefon | O3: Mobil | P3: E-Mail | Q3: Geburtstag | R3: Status | S3: Notizen | T3: Vollständig? | U3: Nächster Geburtstag | V3: Tage bis Geburtstag
B4: =IF(F4="","","K-"&TEXT(ROW()-3,"000")) -> K-001 | C4: Geschäftlich | D4: Herr | E4: Thomas | F4: Berger | G4: Nordlicht Design GmbH | H4: Geschäftsführer | I4: Kunde | J4: Lindenweg 14 | K4: 20095 | L4: Hamburg | M4: DE | N4: +49 40 1234567 | O4: +49 151 2345678 | P4: t.berger@nordlicht-muster.de | Q4: 29110 | R4: Aktiv | S4: Ansprechpartner Großprojekt | T4: =IF(F4="","",IF(AND(E4<>"",F4<>"",L4<>"",P4<>"",OR(N4<>"",O4<>"")),"Ja","Nein")) -> Ja | U4: =IF(Q4="","",DATE(YEAR(TODAY())+IF(DATE(YEAR(TODAY()),MONTH(Q4),DAY(Q4))<TODAY(),1,0),MONTH(Q4),DAY(Q4))) -> 46277 | V4: =IF(Q4="","",U4-TODAY()) -> 7 | W4: =IF(AND(Übersicht!$C$13<>"",ISNUMBER(SEARCH(Übersicht!$C$13,E4&" "&F4&" "&G4&" "&L4&" "&P4&" "&N4&" "&O4))),ROW(),10000000) -> 4 | X4: =IF(V4="",100000000,V4*10000+ROW()) -> 70004
B5: =IF(F5="","","K-"&TEXT(ROW()-3,"000")) -> K-002 | C5: Privat | D5: Frau | E5: Anna | F5: Hoffmann | I5: Freund | J5: Rosenstraße 8 | K5: 50667 | L5: Köln | M5: DE | N5: +49 221 9876543 | O5: +49 160 1112233 | P5: anna.hoffmann@example.de | Q5: 32954 | R5: Aktiv | T5: =IF(F5="","",IF(AND(E5<>"",F5<>"",L5<>"",P5<>"",OR(N5<>"",O5<>"")),"Ja","Nein")) -> Ja | U5: =IF(Q5="","",DATE(YEAR(TODAY())+IF(DATE(YEAR(TODAY()),MONTH(Q5),DAY(Q5))<TODAY(),1,0),MONTH(Q5),DAY(Q5))) -> 46468 | V5: =IF(Q5="","",U5-TODAY()) -> 198 | W5: =IF(AND(Übersicht!$C$13<>"",ISNUMBER(SEARCH(Übersicht!$C$13,E5&" "&F5&" "&G5&" "&L5&" "&P5&" "&N5&" "&O5))),ROW(),10000000) -> 10000000 | X5: =IF(V5="",100000000,V5*10000+ROW()) -> 1980005
B6: =IF(F6="","","K-"&TEXT(ROW()-3,"000")) -> K-003 | C6: Geschäftlich | D6: Frau | E6: Julia | F6: Wagner | G6: Wagner Consulting | H6: Beraterin | I6: Partner | J6: Marktplatz 3 | K6: 80331 | L6: München | M6: DE | N6: +49 89 5551234 | P6: j.wagner@wagner-muster.de | Q6: 31318 | R6: Aktiv | S6: Kooperationspartnerin | T6: =IF(F6="","",IF(AND(E6<>"",F6<>"",L6<>"",P6<>"",OR(N6<>"",O6<>"")),"Ja","Nein")) -> Ja | U6: =IF(Q6="","",DATE(YEAR(TODAY())+IF(DATE(YEAR(TODAY()),MONTH(Q6),DAY(Q6))<TODAY(),1,0),MONTH(Q6),DAY(Q6))) -> 46293 | V6: =IF(Q6="","",U6-TODAY()) -> 23 | W6: =IF(AND(Übersicht!$C$13<>"",ISNUMBER(SEARCH(Übersicht!$C$13,E6&" "&F6&" "&G6&" "&L6&" "&P6&" "&N6&" "&O6))),ROW(),10000000) -> 10000000 | X6: =IF(V6="",100000000,V6*10000+ROW()) -> 230006
B7: =IF(F7="","","K-"&TEXT(ROW()-3,"000")) -> K-004 | C7: Privat | D7: Herr | E7: Michael | F7: Schmidt | I7: Familie | J7: Am Hang 22 | K7: 04109 | L7: Leipzig | M7: DE | O7: +49 152 3344556 | P7: m.schmidt@example.de | Q7: 26608 | R7: Aktiv | S7: Cousin | T7: =IF(F7="","",IF(AND(E7<>"",F7<>"",L7<>"",P7<>"",OR(N7<>"",O7<>"")),"Ja","Nein")) -> Ja | U7: =IF(Q7="","",DATE(YEAR(TODAY())+IF(DATE(YEAR(TODAY()),MONTH(Q7),DAY(Q7))<TODAY(),1,0),MONTH(Q7),DAY(Q7))) -> 46331 | V7: =IF(Q7="","",U7-TODAY()) -> 61 | W7: =IF(AND(Übersicht!$C$13<>"",ISNUMBER(SEARCH(Übersicht!$C$13,E7&" "&F7&" "&G7&" "&L7&" "&P7&" "&N7&" "&O7))),ROW(),10000000) -> 10000000 | X7: =IF(V7="",100000000,V7*10000+ROW()) -> 610007
B8: =IF(F8="","","K-"&TEXT(ROW()-3,"000")) -> K-005 | C8: Geschäftlich | D8: Herr | E8: Stefan | F8: Kluge | G8: Bürobedarf Nord e.K. | H8: Vertrieb | I8: Lieferant | J8: Hafenstraße 45 | K8: 28195 | L8: Bremen | M8: DE | N8: +49 421 7778899 | P8: s.kluge@buerobedarf-muster.de | Q8: 25003 | R8: Aktiv | S8: Liefert Büromaterial | T8: =IF(F8="","",IF(AND(E8<>"",F8<>"",L8<>"",P8<>"",OR(N8<>"",O8<>"")),"Ja","Nein")) -> Ja | U8: =IF(Q8="","",DATE(YEAR(TODAY())+IF(DATE(YEAR(TODAY()),MONTH(Q8),DAY(Q8))<TODAY(),1,0),MONTH(Q8),DAY(Q8))) -> 46552 | V8: =IF(Q8="","",U8-TODAY()) -> 282 | W8: =IF(AND(Übersicht!$C$13<>"",ISNUMBER(SEARCH(Übersicht!$C$13,E8&" "&F8&" "&G8&" "&L8&" "&P8&" "&N8&" "&O8))),ROW(),10000000) -> 10000000 | X8: =IF(V8="",100000000,V8*10000+ROW()) -> 2820008
B9: =IF(F9="","","K-"&TEXT(ROW()-3,"000")) -> K-006 | C9: Privat | D9: Frau | E9: Sabine | F9: Fischer | I9: Freund | J9: Gartenweg 5 | K9: 70173 | L9: Stuttgart | M9: DE | N9: +49 711 2223344 | O9: +49 176 5566778 | Q9: 34974 | R9: Aktiv | S9: E-Mail fehlt noch | T9: =IF(F9="","",IF(AND(E9<>"",F9<>"",L9<>"",P9<>"",OR(N9<>"",O9<>"")),"Ja","Nein")) -> Nein | U9: =IF(Q9="","",DATE(YEAR(TODAY())+IF(DATE(YEAR(TODAY()),MONTH(Q9),DAY(Q9))<TODAY(),1,0),MONTH(Q9),DAY(Q9))) -> 46297 | V9: =IF(Q9="","",U9-TODAY()) -> 27 | W9: =IF(AND(Übersicht!$C$13<>"",ISNUMBER(SEARCH(Übersicht!$C$13,E9&" "&F9&" "&G9&" "&L9&" "&P9&" "&N9&" "&O9))),ROW(),10000000) -> 10000000 | X9: =IF(V9="",100000000,V9*10000+ROW()) -> 270009
B10: =IF(F10="","","K-"&TEXT(ROW()-3,"000")) -> K-007 | C10: Geschäftlich | D10: Frau | E10: Petra | F10: Neumann | G10: Sonnenschein Marketing | H10: Marketingleiterin | I10: Kunde | J10: Bahnhofstr. 11 | K10: 90402 | L10: Nürnberg | M10: DE | N10: +49 911 4445566 | O10: +49 171 8899001 | P10: p.neumann@sonnenschein-muster.de | Q10: 29970 | R10: Inaktiv | S10: Vertrag ausgelaufen | T10: =IF(F10="","",IF(AND(E10<>"",F10<>"",L10<>"",P10<>"",OR(N10<>"",O10<>"")),"Ja","Nein")) -> Ja | U10: =IF(Q10="","",DATE(YEAR(TODAY())+IF(DATE(YEAR(TODAY()),MONTH(Q10),DAY(Q10))<TODAY(),1,0),MONTH(Q10),DAY(Q10))) -> 46406 | V10: =IF(Q10="","",U10-TODAY()) -> 136 | W10: =IF(AND(Übersicht!$C$13<>"",ISNUMBER(SEARCH(Übersicht!$C$13,E10&" "&F10&" "&G10&" "&L10&" "&P10&" "&N10&" "&O10))),ROW(),10000000) -> 10000000 | X10: =IF(V10="",100000000,V10*10000+ROW()) -> 1360010
B11: =IF(F11="","","K-"&TEXT(ROW()-3,"000")) -> K-008 | C11: Privat | D11: Herr | E11: Lukas | F11: Weber | I11: Freund | J11: Feldstraße 9 | K11: 40213 | L11: Düsseldorf | M11: DE | N11: +49 211 6667788 | P11: lukas.weber@example.de | Q11: 36006 | R11: Aktiv | T11: =IF(F11="","",IF(AND(E11<>"",F11<>"",L11<>"",P11<>"",OR(N11<>"",O11<>"")),"Ja","Nein")) -> Ja | U11: =IF(Q11="","",DATE(YEAR(TODAY())+IF(DATE(YEAR(TODAY()),MONTH(Q11),DAY(Q11))<TODAY(),1,0),MONTH(Q11),DAY(Q11))) -> 46598 | V11: =IF(Q11="","",U11-TODAY()) -> 328 | W11: =IF(AND(Übersicht!$C$13<>"",ISNUMBER(SEARCH(Übersicht!$C$13,E11&" "&F11&" "&G11&" "&L11&" "&P11&" "&N11&" "&O11))),ROW(),10000000) -> 10000000 | X11: =IF(V11="",100000000,V11*10000+ROW()) -> 3280011
B12: =IF(F12="","","K-"&TEXT(ROW()-3,"000")) -> K-009 | C12: Geschäftlich | D12: Herr | E12: Andreas | F12: Braun | G12: Braun & Partner | H12: Rechtsanwalt | I12: Partner | J12: Königsallee 2 | K12: 40212 | L12: Düsseldorf | M12: DE | N12: +49 211 1119999 | O12: +49 151 7778889 | P12: a.braun@braun-muster.de | Q12: 27657 | R12: Aktiv | T12: =IF(F12="","",IF(AND(E12<>"",F12<>"",L12<>"",P12<>"",OR(N12<>"",O12<>"")),"Ja","Nein")) -> Ja | U12: =IF(Q12="","",DATE(YEAR(TODAY())+IF(DATE(YEAR(TODAY()),MONTH(Q12),DAY(Q12))<TODAY(),1,0),MONTH(Q12),DAY(Q12))) -> 46285 | V12: =IF(Q12="","",U12-TODAY()) -> 15 | W12: =IF(AND(Übersicht!$C$13<>"",ISNUMBER(SEARCH(Übersicht!$C$13,E12&" "&F12&" "&G12&" "&L12&" "&P12&" "&N12&" "&O12))),ROW(),10000000) -> 10000000 | X12: =IF(V12="",100000000,V12*10000+ROW()) -> 150012
B13: =IF(F13="","","K-"&TEXT(ROW()-3,"000")) -> K-010 | C13: Privat | D13: Frau | E13: Laura | F13: Klein | I13: Familie | J13: Seestraße 30 | K13: 18055 | L13: Rostock | M13: DE | N13: +49 381 3332211 | O13: +49 160 4455667 | P13: laura.klein@example.de | Q13: 34070 | R13: Aktiv | S13: Schwester | T13: =IF(F13="","",IF(AND(E13<>"",F13<>"",L13<>"",P13<>"",OR(N13<>"",O13<>"")),"Ja","Nein")) -> Ja | U13: =IF(Q13="","",DATE(YEAR(TODAY())+IF(DATE(YEAR(TODAY()),MONTH(Q13),DAY(Q13))<TODAY(),1,0),MONTH(Q13),DAY(Q13))) -> 46488 | V13: =IF(Q13="","",U13-TODAY()) -> 218 | W13: =IF(AND(Übersicht!$C$13<>"",ISNUMBER(SEARCH(Übersicht!$C$13,E13&" "&F13&" "&G13&" "&L13&" "&P13&" "&N13&" "&O13))),ROW(),10000000) -> 10000000 | X13: =IF(V13="",100000000,V13*10000+ROW()) -> 2180013
B14: =IF(F14="","","K-"&TEXT(ROW()-3,"000")) -> K-011 | C14: Geschäftlich | D14: Herr | E14: Markus | F14: Schulz | G14: Cloud Systeme UG | H14: IT-Leiter | I14: Lieferant | J14: Technologiepark 7 | K14: 44227 | L14: Dortmund | M14: DE | N14: +49 231 9998877 | P14: m.schulz@cloud-muster.de | Q14: 32480 | R14: Aktiv | S14: IT-Dienstleister | T14: =IF(F14="","",IF(AND(E14<>"",F14<>"",L14<>"",P14<>"",OR(N14<>"",O14<>"")),"Ja","Nein")) -> Ja | U14: =IF(Q14="","",DATE(YEAR(TODAY())+IF(DATE(YEAR(TODAY()),MONTH(Q14),DAY(Q14))<TODAY(),1,0),MONTH(Q14),DAY(Q14))) -> 46359 | V14: =IF(Q14="","",U14-TODAY()) -> 89 | W14: =IF(AND(Übersicht!$C$13<>"",ISNUMBER(SEARCH(Übersicht!$C$13,E14&" "&F14&" "&G14&" "&L14&" "&P14&" "&N14&" "&O14))),ROW(),10000000) -> 10000000 | X14: =IF(V14="",100000000,V14*10000+ROW()) -> 890014
B15: =IF(F15="","","K-"&TEXT(ROW()-3,"000")) -> K-012 | C15: Privat | D15: Frau | E15: Nina | F15: Wolf | I15: Freund | J15: Blumenweg 17 | K15: 79098 | L15: Freiburg | M15: DE | O15: +49 152 9988776 | P15: nina.wolf@example.de | Q15: 36570 | R15: Aktiv | T15: =IF(F15="","",IF(AND(E15<>"",F15<>"",L15<>"",P15<>"",OR(N15<>"",O15<>"")),"Ja","Nein")) -> Ja | U15: =IF(Q15="","",DATE(YEAR(TODAY())+IF(DATE(YEAR(TODAY()),MONTH(Q15),DAY(Q15))<TODAY(),1,0),MONTH(Q15),DAY(Q15))) -> 46432 | V15: =IF(Q15="","",U15-TODAY()) -> 162 | W15: =IF(AND(Übersicht!$C$13<>"",ISNUMBER(SEARCH(Übersicht!$C$13,E15&" "&F15&" "&G15&" "&L15&" "&P15&" "&N15&" "&O15))),ROW(),10000000) -> 10000000 | X15: =IF(V15="",100000000,V15*10000+ROW()) -> 1620015
B16: =IF(F16="","","K-"&TEXT(ROW()-3,"000")) -> K-013 | C16: Geschäftlich | D16: Herr | E16: Christian | F16: Zimmermann | G16: Zimmermann Handel | H16: Inhaber | I16: Kunde | J16: Industriestr. 88 | K16: 34117 | L16: Kassel | M16: DE | N16: +49 561 4443322 | O16: +49 170 1231234 | P16: c.zimmermann@zimmermann-muster.de | Q16: 25715 | R16: Aktiv | T16: =IF(F16="","",IF(AND(E16<>"",F16<>"",L16<>"",P16<>"",OR(N16<>"",O16<>"")),"Ja","Nein")) -> Ja | U16: =IF(Q16="","",DATE(YEAR(TODAY())+IF(DATE(YEAR(TODAY()),MONTH(Q16),DAY(Q16))<TODAY(),1,0),MONTH(Q16),DAY(Q16))) -> 46534 | V16: =IF(Q16="","",U16-TODAY()) -> 264 | W16: =IF(AND(Übersicht!$C$13<>"",ISNUMBER(SEARCH(Übersicht!$C$13,E16&" "&F16&" "&G16&" "&L16&" "&P16&" "&N16&" "&O16))),ROW(),10000000) -> 10000000 | X16: =IF(V16="",100000000,V16*10000+ROW()) -> 2640016
B17: =IF(F17="","","K-"&TEXT(ROW()-3,"000")) -> K-014 | C17: Privat | D17: Frau | E17: Katrin | F17: Hartmann | I17: Familie | J17: Uferpromenade 6 | K17: 24103 | L17: Kiel | M17: DE | N17: +49 431 5556677 | Q17: 31997 | R17: Aktiv | S17: Tante – Kontakt unvollständig | T17: =IF(F17="","",IF(AND(E17<>"",F17<>"",L17<>"",P17<>"",OR(N17<>"",O17<>"")),"Ja","Nein")) -> Nein | U17: =IF(Q17="","",DATE(YEAR(TODAY())+IF(DATE(YEAR(TODAY()),MONTH(Q17),DAY(Q17))<TODAY(),1,0),MONTH(Q17),DAY(Q17))) -> 46607 | V17: =IF(Q17="","",U17-TODAY()) -> 337 | W17: =IF(AND(Übersicht!$C$13<>"",ISNUMBER(SEARCH(Übersicht!$C$13,E17&" "&F17&" "&G17&" "&L17&" "&P17&" "&N17&" "&O17))),ROW(),10000000) -> 10000000 | X17: =IF(V17="",100000000,V17*10000+ROW()) -> 3370017
B18: =IF(F18="","","K-"&TEXT(ROW()-3,"000")) -> K-015 | C18: Geschäftlich | D18: Frau | E18: Melanie | F18: Krause | G18: Krause Events | H18: Eventmanagerin | I18: Partner | J18: Festplatz 1 | K18: 01067 | L18: Dresden | M18: DE | N18: +49 351 8887766 | O18: +49 176 3211234 | P18: m.krause@krause-muster.de | Q18: 30588 | R18: Aktiv | T18: =IF(F18="","",IF(AND(E18<>"",F18<>"",L18<>"",P18<>"",OR(N18<>"",O18<>"")),"Ja","Nein")) -> Ja | U18: =IF(Q18="","",DATE(YEAR(TODAY())+IF(DATE(YEAR(TODAY()),MONTH(Q18),DAY(Q18))<TODAY(),1,0),MONTH(Q18),DAY(Q18))) -> 46294 | V18: =IF(Q18="","",U18-TODAY()) -> 24 | W18: =IF(AND(Übersicht!$C$13<>"",ISNUMBER(SEARCH(Übersicht!$C$13,E18&" "&F18&" "&G18&" "&L18&" "&P18&" "&N18&" "&O18))),ROW(),10000000) -> 10000000 | X18: =IF(V18="",100000000,V18*10000+ROW()) -> 240018
B19: =IF(F19="","","K-"&TEXT(ROW()-3,"000")) -> K-016 | C19: Privat | D19: Herr | E19: Daniel | F19: Schäfer | I19: Freund | J19: Waldweg 12 | K19: 55116 | L19: Mainz | M19: DE | N19: +49 6131 2020202 | O19: +49 151 4040404 | P19: daniel.schaefer@example.de | Q19: 33516 | R19: Aktiv | T19: =IF(F19="","",IF(AND(E19<>"",F19<>"",L19<>"",P19<>"",OR(N19<>"",O19<>"")),"Ja","Nein")) -> Ja | U19: =IF(Q19="","",DATE(YEAR(TODAY())+IF(DATE(YEAR(TODAY()),MONTH(Q19),DAY(Q19))<TODAY(),1,0),MONTH(Q19),DAY(Q19))) -> 46300 | V19: =IF(Q19="","",U19-TODAY()) -> 30 | W19: =IF(AND(Übersicht!$C$13<>"",ISNUMBER(SEARCH(Übersicht!$C$13,E19&" "&F19&" "&G19&" "&L19&" "&P19&" "&N19&" "&O19))),ROW(),10000000) -> 10000000 | X19: =IF(V19="",100000000,V19*10000+ROW()) -> 300019
B20: =IF(F20="","","K-"&TEXT(ROW()-3,"000")) | T20: =IF(F20="","",IF(AND(E20<>"",F20<>"",L20<>"",P20<>"",OR(N20<>"",O20<>"")),"Ja","Nein")) | U20: =IF(Q20="","",DATE(YEAR(TODAY())+IF(DATE(YEAR(TODAY()),MONTH(Q20),DAY(Q20))<TODAY(),1,0),MONTH(Q20),DAY(Q20))) | V20: =IF(Q20="","",U20-TODAY()) | W20: =IF(AND(Übersicht!$C$13<>"",ISNUMBER(SEARCH(Übersicht!$C$13,E20&" "&F20&" "&G20&" "&L20&" "&P20&" "&N20&" "&O20))),ROW(),10000000) -> 10000000 | X20: =IF(V20="",100000000,V20*10000+ROW()) -> 100000000
B21: =IF(F21="","","K-"&TEXT(ROW()-3,"000")) | T21: =IF(F21="","",IF(AND(E21<>"",F21<>"",L21<>"",P21<>"",OR(N21<>"",O21<>"")),"Ja","Nein")) | U21: =IF(Q21="","",DATE(YEAR(TODAY())+IF(DATE(YEAR(TODAY()),MONTH(Q21),DAY(Q21))<TODAY(),1,0),MONTH(Q21),DAY(Q21))) | V21: =IF(Q21="","",U21-TODAY()) | W21: =IF(AND(Übersicht!$C$13<>"",ISNUMBER(SEARCH(Übersicht!$C$13,E21&" "&F21&" "&G21&" "&L21&" "&P21&" "&N21&" "&O21))),ROW(),10000000) -> 10000000 | X21: =IF(V21="",100000000,V21*10000+ROW()) -> 100000000
B22: =IF(F22="","","K-"&TEXT(ROW()-3,"000")) | T22: =IF(F22="","",IF(AND(E22<>"",F22<>"",L22<>"",P22<>"",OR(N22<>"",O22<>"")),"Ja","Nein")) | U22: =IF(Q22="","",DATE(YEAR(TODAY())+IF(DATE(YEAR(TODAY()),MONTH(Q22),DAY(Q22))<TODAY(),1,0),MONTH(Q22),DAY(Q22))) | V22: =IF(Q22="","",U22-TODAY()) | W22: =IF(AND(Übersicht!$C$13<>"",ISNUMBER(SEARCH(Übersicht!$C$13,E22&" "&F22&" "&G22&" "&L22&" "&P22&" "&N22&" "&O22))),ROW(),10000000) -> 10000000 | X22: =IF(V22="",100000000,V22*10000+ROW()) -> 100000000
B23: =IF(F23="","","K-"&TEXT(ROW()-3,"000")) | T23: =IF(F23="","",IF(AND(E23<>"",F23<>"",L23<>"",P23<>"",OR(N23<>"",O23<>"")),"Ja","Nein")) | U23: =IF(Q23="","",DATE(YEAR(TODAY())+IF(DATE(YEAR(TODAY()),MONTH(Q23),DAY(Q23))<TODAY(),1,0),MONTH(Q23),DAY(Q23))) | V23: =IF(Q23="","",U23-TODAY()) | W23: =IF(AND(Übersicht!$C$13<>"",ISNUMBER(SEARCH(Übersicht!$C$13,E23&" "&F23&" "&G23&" "&L23&" "&P23&" "&N23&" "&O23))),ROW(),10000000) -> 10000000 | X23: =IF(V23="",100000000,V23*10000+ROW()) -> 100000000
B24: =IF(F24="","","K-"&TEXT(ROW()-3,"000")) | T24: =IF(F24="","",IF(AND(E24<>"",F24<>"",L24<>"",P24<>"",OR(N24<>"",O24<>"")),"Ja","Nein")) | U24: =IF(Q24="","",DATE(YEAR(TODAY())+IF(DATE(YEAR(TODAY()),MONTH(Q24),DAY(Q24))<TODAY(),1,0),MONTH(Q24),DAY(Q24))) | V24: =IF(Q24="","",U24-TODAY()) | W24: =IF(AND(Übersicht!$C$13<>"",ISNUMBER(SEARCH(Übersicht!$C$13,E24&" "&F24&" "&G24&" "&L24&" "&P24&" "&N24&" "&O24))),ROW(),10000000) -> 10000000 | X24: =IF(V24="",100000000,V24*10000+ROW()) -> 100000000
B25: =IF(F25="","","K-"&TEXT(ROW()-3,"000")) | T25: =IF(F25="","",IF(AND(E25<>"",F25<>"",L25<>"",P25<>"",OR(N25<>"",O25<>"")),"Ja","Nein")) | U25: =IF(Q25="","",DATE(YEAR(TODAY())+IF(DATE(YEAR(TODAY()),MONTH(Q25),DAY(Q25))<TODAY(),1,0),MONTH(Q25),DAY(Q25))) | V25: =IF(Q25="","",U25-TODAY()) | W25: =IF(AND(Übersicht!$C$13<>"",ISNUMBER(SEARCH(Übersicht!$C$13,E25&" "&F25&" "&G25&" "&L25&" "&P25&" "&N25&" "&O25))),ROW(),10000000) -> 10000000 | X25: =IF(V25="",100000000,V25*10000+ROW()) -> 100000000
B26: =IF(F26="","","K-"&TEXT(ROW()-3,"000")) | T26: =IF(F26="","",IF(AND(E26<>"",F26<>"",L26<>"",P26<>"",OR(N26<>"",O26<>"")),"Ja","Nein")) | U26: =IF(Q26="","",DATE(YEAR(TODAY())+IF(DATE(YEAR(TODAY()),MONTH(Q26),DAY(Q26))<TODAY(),1,0),MONTH(Q26),DAY(Q26))) | V26: =IF(Q26="","",U26-TODAY()) | W26: =IF(AND(Übersicht!$C$13<>"",ISNUMBER(SEARCH(Übersicht!$C$13,E26&" "&F26&" "&G26&" "&L26&" "&P26&" "&N26&" "&O26))),ROW(),10000000) -> 10000000 | X26: =IF(V26="",100000000,V26*10000+ROW()) -> 100000000
B27: =IF(F27="","","K-"&TEXT(ROW()-3,"000")) | T27: =IF(F27="","",IF(AND(E27<>"",F27<>"",L27<>"",P27<>"",OR(N27<>"",O27<>"")),"Ja","Nein")) | U27: =IF(Q27="","",DATE(YEAR(TODAY())+IF(DATE(YEAR(TODAY()),MONTH(Q27),DAY(Q27))<TODAY(),1,0),MONTH(Q27),DAY(Q27))) | V27: =IF(Q27="","",U27-TODAY()) | W27: =IF(AND(Übersicht!$C$13<>"",ISNUMBER(SEARCH(Übersicht!$C$13,E27&" "&F27&" "&G27&" "&L27&" "&P27&" "&N27&" "&O27))),ROW(),10000000) -> 10000000 | X27: =IF(V27="",100000000,V27*10000+ROW()) -> 100000000
B28: =IF(F28="","","K-"&TEXT(ROW()-3,"000")) | T28: =IF(F28="","",IF(AND(E28<>"",F28<>"",L28<>"",P28<>"",OR(N28<>"",O28<>"")),"Ja","Nein")) | U28: =IF(Q28="","",DATE(YEAR(TODAY())+IF(DATE(YEAR(TODAY()),MONTH(Q28),DAY(Q28))<TODAY(),1,0),MONTH(Q28),DAY(Q28))) | V28: =IF(Q28="","",U28-TODAY()) | W28: =IF(AND(Übersicht!$C$13<>"",ISNUMBER(SEARCH(Übersicht!$C$13,E28&" "&F28&" "&G28&" "&L28&" "&P28&" "&N28&" "&O28))),ROW(),10000000) -> 10000000 | X28: =IF(V28="",100000000,V28*10000+ROW()) -> 100000000
B29: =IF(F29="","","K-"&TEXT(ROW()-3,"000")) | T29: =IF(F29="","",IF(AND(E29<>"",F29<>"",L29<>"",P29<>"",OR(N29<>"",O29<>"")),"Ja","Nein")) | U29: =IF(Q29="","",DATE(YEAR(TODAY())+IF(DATE(YEAR(TODAY()),MONTH(Q29),DAY(Q29))<TODAY(),1,0),MONTH(Q29),DAY(Q29))) | V29: =IF(Q29="","",U29-TODAY()) | W29: =IF(AND(Übersicht!$C$13<>"",ISNUMBER(SEARCH(Übersicht!$C$13,E29&" "&F29&" "&G29&" "&L29&" "&P29&" "&N29&" "&O29))),ROW(),10000000) -> 10000000 | X29: =IF(V29="",100000000,V29*10000+ROW()) -> 100000000
B30: =IF(F30="","","K-"&TEXT(ROW()-3,"000")) | T30: =IF(F30="","",IF(AND(E30<>"",F30<>"",L30<>"",P30<>"",OR(N30<>"",O30<>"")),"Ja","Nein")) | U30: =IF(Q30="","",DATE(YEAR(TODAY())+IF(DATE(YEAR(TODAY()),MONTH(Q30),DAY(Q30))<TODAY(),1,0),MONTH(Q30),DAY(Q30))) | V30: =IF(Q30="","",U30-TODAY()) | W30: =IF(AND(Übersicht!$C$13<>"",ISNUMBER(SEARCH(Übersicht!$C$13,E30&" "&F30&" "&G30&" "&L30&" "&P30&" "&N30&" "&O30))),ROW(),10000000) -> 10000000 | X30: =IF(V30="",100000000,V30*10000+ROW()) -> 100000000
B31: =IF(F31="","","K-"&TEXT(ROW()-3,"000")) | T31: =IF(F31="","",IF(AND(E31<>"",F31<>"",L31<>"",P31<>"",OR(N31<>"",O31<>"")),"Ja","Nein")) | U31: =IF(Q31="","",DATE(YEAR(TODAY())+IF(DATE(YEAR(TODAY()),MONTH(Q31),DAY(Q31))<TODAY(),1,0),MONTH(Q31),DAY(Q31))) | V31: =IF(Q31="","",U31-TODAY()) | W31: =IF(AND(Übersicht!$C$13<>"",ISNUMBER(SEARCH(Übersicht!$C$13,E31&" "&F31&" "&G31&" "&L31&" "&P31&" "&N31&" "&O31))),ROW(),10000000) -> 10000000 | X31: =IF(V31="",100000000,V31*10000+ROW()) -> 100000000
... B153: =IF(F153="","","K-"&TEXT(ROW()-3,"000")) | T153: =IF(F153="","",IF(AND(E153<>"",F153<>"",L153<>"",P153<>"",OR(N153<>"",O153<>"")),"Ja","Nein")) | U153: =IF(Q153="","",DATE(YEAR(TODAY())+IF(DATE(YEAR(TODAY()),MONTH(Q153),DAY(Q153))<TODAY(),1,0),MONTH(Q153),DAY(Q153))) | V153: =IF(Q153="","",U153-TODAY()) | W153: =IF(AND(Übersicht!$C$13<>"",ISNUMBER(SEARCH(Übersicht!$C$13,E153&" "&F153&" "&G153&" "&L153&" "&P153&" "&N153&" "&O153))),ROW(),10000000) -> 10000000 | X153: =IF(V153="",100000000,V153*10000+ROW()) -> 100000000
