Workbook

Sheet Übersicht
B1: Adressbuch – Übersicht
B2: Kennzahlen zur Kontaktverwaltung · Stand: automatisch (heute)
B5: Kennzahlen auf einen Blick
B6: Kontakte gesamt | C6: Aktive Kontakte | D6: Geschäftlich / Kunde / Lieferant | E6: Geburtstage ≤ 30 Tage | F6: Unvollständige Daten
B7: =COUNTA(Adressbuch!$E$5:$E$84) -> 18 | C7: =COUNTIF(Adressbuch!$G$5:$G$84,"Aktiv") -> 16 | D7: =COUNTIF(Adressbuch!$F$5:$F$84,"Geschäftlich")+COUNTIF(Adressbuch!$F$5:$F$84,"Kunde")+COUNTIF(Adressbuch!$F$5:$F$84,"Lieferant") -> 10 | E7: =COUNTIFS(Adressbuch!$S$5:$S$84,">=0",Adressbuch!$S$5:$S$84,"<=30") -> 5 | F7: =COUNTIF(Adressbuch!$T$5:$T$84,"Unvollständig") -> 1
B9: Verteilung nach Kategorie
B10: Kategorie | C10: Anzahl
B11: Familie | C11: =COUNTIF(Adressbuch!$F$5:$F$84,B11) -> 3
B12: Freunde | C12: =COUNTIF(Adressbuch!$F$5:$F$84,B12) -> 3
B13: Geschäftlich | C13: =COUNTIF(Adressbuch!$F$5:$F$84,B13) -> 4
B14: Kunde | C14: =COUNTIF(Adressbuch!$F$5:$F$84,B14) -> 4
B15: Lieferant | C15: =COUNTIF(Adressbuch!$F$5:$F$84,B15) -> 2
B16: Verein | C16: =COUNTIF(Adressbuch!$F$5:$F$84,B16) -> 1
B17: Sonstige | C17: =COUNTIF(Adressbuch!$F$5:$F$84,B17) -> 1
B18: Summe | C18: =SUM(C11:C17) -> 18
B21: Nächste Geburtstage
B22: Kontakt | C22: Datum | D22: Alter wird | E22: in Tagen
B23: =IFERROR(INDEX(Adressbuch!$W$5:$W$84,MATCH(SMALL(Adressbuch!$V$5:$V$84,1),Adressbuch!$V$5:$V$84,0)),"") -> Patrick Sommer | C23: =IFERROR(INDEX(Adressbuch!$Q$5:$Q$84,MATCH(SMALL(Adressbuch!$V$5:$V$84,1),Adressbuch!$V$5:$V$84,0)),"") -> 33493 | D23: =IFERROR(INDEX(Adressbuch!$R$5:$R$84,MATCH(SMALL(Adressbuch!$V$5:$V$84,1),Adressbuch!$V$5:$V$84,0))+1,"") -> 35 | E23: =IFERROR(INDEX(Adressbuch!$S$5:$S$84,MATCH(SMALL(Adressbuch!$V$5:$V$84,1),Adressbuch!$V$5:$V$84,0)),"") -> 6
B24: =IFERROR(INDEX(Adressbuch!$W$5:$W$84,MATCH(SMALL(Adressbuch!$V$5:$V$84,2),Adressbuch!$V$5:$V$84,0)),"") -> Katrin Berger | C24: =IFERROR(INDEX(Adressbuch!$Q$5:$Q$84,MATCH(SMALL(Adressbuch!$V$5:$V$84,2),Adressbuch!$V$5:$V$84,0)),"") -> 31308 | D24: =IFERROR(INDEX(Adressbuch!$R$5:$R$84,MATCH(SMALL(Adressbuch!$V$5:$V$84,2),Adressbuch!$V$5:$V$84,0))+1,"") -> 41 | E24: =IFERROR(INDEX(Adressbuch!$S$5:$S$84,MATCH(SMALL(Adressbuch!$V$5:$V$84,2),Adressbuch!$V$5:$V$84,0)),"") -> 12
B25: =IFERROR(INDEX(Adressbuch!$W$5:$W$84,MATCH(SMALL(Adressbuch!$V$5:$V$84,3),Adressbuch!$V$5:$V$84,0)),"") -> Miriam Kaiser | C25: =IFERROR(INDEX(Adressbuch!$Q$5:$Q$84,MATCH(SMALL(Adressbuch!$V$5:$V$84,3),Adressbuch!$V$5:$V$84,0)),"") -> 28392 | D25: =IFERROR(INDEX(Adressbuch!$R$5:$R$84,MATCH(SMALL(Adressbuch!$V$5:$V$84,3),Adressbuch!$V$5:$V$84,0))+1,"") -> 49 | E25: =IFERROR(INDEX(Adressbuch!$S$5:$S$84,MATCH(SMALL(Adressbuch!$V$5:$V$84,3),Adressbuch!$V$5:$V$84,0)),"") -> 18
B26: =IFERROR(INDEX(Adressbuch!$W$5:$W$84,MATCH(SMALL(Adressbuch!$V$5:$V$84,4),Adressbuch!$V$5:$V$84,0)),"") -> Elena Vogt | C26: =IFERROR(INDEX(Adressbuch!$Q$5:$Q$84,MATCH(SMALL(Adressbuch!$V$5:$V$84,4),Adressbuch!$V$5:$V$84,0)),"") -> 34241 | D26: =IFERROR(INDEX(Adressbuch!$R$5:$R$84,MATCH(SMALL(Adressbuch!$V$5:$V$84,4),Adressbuch!$V$5:$V$84,0))+1,"") -> 33 | E26: =IFERROR(INDEX(Adressbuch!$S$5:$S$84,MATCH(SMALL(Adressbuch!$V$5:$V$84,4),Adressbuch!$V$5:$V$84,0)),"") -> 23
B27: =IFERROR(INDEX(Adressbuch!$W$5:$W$84,MATCH(SMALL(Adressbuch!$V$5:$V$84,5),Adressbuch!$V$5:$V$84,0)),"") -> Thomas Wagner | C27: =IFERROR(INDEX(Adressbuch!$Q$5:$Q$84,MATCH(SMALL(Adressbuch!$V$5:$V$84,5),Adressbuch!$V$5:$V$84,0)),"") -> 33148 | D27: =IFERROR(INDEX(Adressbuch!$R$5:$R$84,MATCH(SMALL(Adressbuch!$V$5:$V$84,5),Adressbuch!$V$5:$V$84,0))+1,"") -> 36 | E27: =IFERROR(INDEX(Adressbuch!$S$5:$S$84,MATCH(SMALL(Adressbuch!$V$5:$V$84,5),Adressbuch!$V$5:$V$84,0)),"") -> 26
B29: Alle Kennzahlen aktualisieren sich automatisch aus dem Blatt „Adressbuch“. Beispielkontakte frei erfunden · DSGVO beim Speichern echter Daten beachten.

Sheet Adressbuch
B1: Adressbuch · Kontaktverwaltung
B2: Zentrale Liste aller Kontakte – über die Filterpfeile in der Kopfzeile sortierbar und filterbar
B3: Kontakte gesamt: | E3: =COUNTA(E5:E84) -> 18
B4: ID | C4: Anrede | D4: Vorname | E4: Nachname | F4: Kategorie | G4: Status | H4: Firma | I4: Funktion | J4: Straße & Nr. | K4: PLZ | L4: Ort | M4: Land | N4: Telefon | O4: Mobil | P4: E-Mail | Q4: Geburtsdatum | R4: Alter | S4: Geb. in Tagen | T4: Vollständig? | U4: Notizen
B5: =IF(E5="","","K-"&TEXT(COUNTA($E$5:E5),"000")) -> K-001 | C5: Frau | D5: Katrin | E5: Berger | F5: Familie | G5: Aktiv | J5: Lindenweg 12 | K5: 10405 | L5: Berlin | M5: Deutschland | N5: +49 30 5550142 | O5: +49 151 5550142 | P5: katrin.berger@example.de | Q5: 31308 | R5: =IF(Q5="","",DATEDIF(Q5,TODAY(),"Y")) -> 40 | S5: =IFERROR(IF(Q5="","",DATE(YEAR(TODAY())+IF(DATE(YEAR(TODAY()),MONTH(Q5),DAY(Q5))<TODAY(),1,0),MONTH(Q5),DAY(Q5))-TODAY()),"") -> 12 | T5: =IF(E5="","",IF(AND(D5<>"",E5<>"",L5<>"",OR(N5<>"",O5<>"",P5<>"")),"Vollständig","Unvollständig")) -> Vollständig | U5: Schwester | V5: =IF(Q5="","",S5+ROW()/100000) -> 12.00005 | W5: =IF(E5="","",D5&" "&E5) -> Katrin Berger
B6: =IF(E6="","","K-"&TEXT(COUNTA($E$5:E6),"000")) -> K-002 | C6: Herr | D6: Thomas | E6: Wagner | F6: Freunde | G6: Aktiv | J6: Ahornstraße 7 | K6: 80333 | L6: München | M6: Deutschland | N6: +49 89 5550188 | O6: +49 152 5550188 | P6: t.wagner@example.de | Q6: 33148 | R6: =IF(Q6="","",DATEDIF(Q6,TODAY(),"Y")) -> 35 | S6: =IFERROR(IF(Q6="","",DATE(YEAR(TODAY())+IF(DATE(YEAR(TODAY()),MONTH(Q6),DAY(Q6))<TODAY(),1,0),MONTH(Q6),DAY(Q6))-TODAY()),"") -> 26 | T6: =IF(E6="","",IF(AND(D6<>"",E6<>"",L6<>"",OR(N6<>"",O6<>"",P6<>"")),"Vollständig","Unvollständig")) -> Vollständig | V6: =IF(Q6="","",S6+ROW()/100000) -> 26.00006 | W6: =IF(E6="","",D6&" "&E6) -> Thomas Wagner
B7: =IF(E7="","","K-"&TEXT(COUNTA($E$5:E7),"000")) -> K-003 | C7: Herr | D7: Daniel | E7: Fuchs | F7: Geschäftlich | G7: Aktiv | H7: Nordwind Solutions GmbH | I7: Projektleiter | J7: Hafenstraße 44 | K7: 20095 | L7: Hamburg | M7: Deutschland | N7: +49 40 5550233 | O7: +49 160 5550233 | P7: d.fuchs@example.com | Q7: 28574 | R7: =IF(Q7="","",DATEDIF(Q7,TODAY(),"Y")) -> 48 | S7: =IFERROR(IF(Q7="","",DATE(YEAR(TODAY())+IF(DATE(YEAR(TODAY()),MONTH(Q7),DAY(Q7))<TODAY(),1,0),MONTH(Q7),DAY(Q7))-TODAY()),"") -> 200 | T7: =IF(E7="","",IF(AND(D7<>"",E7<>"",L7<>"",OR(N7<>"",O7<>"",P7<>"")),"Vollständig","Unvollständig")) -> Vollständig | U7: Kennengelernt auf Fachmesse | V7: =IF(Q7="","",S7+ROW()/100000) -> 200.00007 | W7: =IF(E7="","",D7&" "&E7) -> Daniel Fuchs
B8: =IF(E8="","","K-"&TEXT(COUNTA($E$5:E8),"000")) -> K-004 | C8: Frau | D8: Sabine | E8: Krüger | F8: Kunde | G8: Aktiv | H8: Lindner Handels UG | I8: Einkauf | J8: Marktplatz 3 | K8: 50667 | L8: Köln | M8: Deutschland | N8: +49 221 5550319 | P8: s.krueger@example.com | Q8: 30291 | R8: =IF(Q8="","",DATEDIF(Q8,TODAY(),"Y")) -> 43 | S8: =IFERROR(IF(Q8="","",DATE(YEAR(TODAY())+IF(DATE(YEAR(TODAY()),MONTH(Q8),DAY(Q8))<TODAY(),1,0),MONTH(Q8),DAY(Q8))-TODAY()),"") -> 91 | T8: =IF(E8="","",IF(AND(D8<>"",E8<>"",L8<>"",OR(N8<>"",O8<>"",P8<>"")),"Vollständig","Unvollständig")) -> Vollständig | U8: Bestellt regelmäßig | V8: =IF(Q8="","",S8+ROW()/100000) -> 91.00008 | W8: =IF(E8="","",D8&" "&E8) -> Sabine Krüger
B9: =IF(E9="","","K-"&TEXT(COUNTA($E$5:E9),"000")) -> K-005 | C9: Herr | D9: Michael | E9: Hoffmann | F9: Lieferant | G9: Aktiv | H9: Bürobedarf Direkt | I9: Vertrieb | J9: Industriering 9 | K9: 70565 | L9: Stuttgart | M9: Deutschland | N9: +49 711 5550477 | O9: +49 171 5550477 | P9: m.hoffmann@example.com | Q9: 27559 | R9: =IF(Q9="","",DATEDIF(Q9,TODAY(),"Y")) -> 51 | S9: =IFERROR(IF(Q9="","",DATE(YEAR(TODAY())+IF(DATE(YEAR(TODAY()),MONTH(Q9),DAY(Q9))<TODAY(),1,0),MONTH(Q9),DAY(Q9))-TODAY()),"") -> 281 | T9: =IF(E9="","",IF(AND(D9<>"",E9<>"",L9<>"",OR(N9<>"",O9<>"",P9<>"")),"Vollständig","Unvollständig")) -> Vollständig | U9: Rahmenvertrag bis 2027 | V9: =IF(Q9="","",S9+ROW()/100000) -> 281.00009 | W9: =IF(E9="","",D9&" "&E9) -> Michael Hoffmann
B10: =IF(E10="","","K-"&TEXT(COUNTA($E$5:E10),"000")) -> K-006 | C10: Frau | D10: Elena | E10: Vogt | F10: Freunde | G10: Aktiv | J10: Rosenweg 21 | K10: 04109 | L10: Leipzig | M10: Deutschland | O10: +49 176 5550521 | P10: elena.vogt@example.de | Q10: 34241 | R10: =IF(Q10="","",DATEDIF(Q10,TODAY(),"Y")) -> 32 | S10: =IFERROR(IF(Q10="","",DATE(YEAR(TODAY())+IF(DATE(YEAR(TODAY()),MONTH(Q10),DAY(Q10))<TODAY(),1,0),MONTH(Q10),DAY(Q10))-TODAY()),"") -> 23 | T10: =IF(E10="","",IF(AND(D10<>"",E10<>"",L10<>"",OR(N10<>"",O10<>"",P10<>"")),"Vollständig","Unvollständig")) -> Vollständig | V10: =IF(Q10="","",S10+ROW()/100000) -> 23.0001 | W10: =IF(E10="","",D10&" "&E10) -> Elena Vogt
B11: =IF(E11="","","K-"&TEXT(COUNTA($E$5:E11),"000")) -> K-007 | C11: Herr | D11: Andreas | E11: Schuster | F11: Geschäftlich | G11: Inaktiv | H11: Altmann & Co. KG | I11: Berater | J11: Gartenstraße 15 | K11: 90402 | L11: Nürnberg | M11: Deutschland | N11: +49 911 5550663 | P11: a.schuster@example.com | Q11: 25214 | R11: =IF(Q11="","",DATEDIF(Q11,TODAY(),"Y")) -> 57 | S11: =IFERROR(IF(Q11="","",DATE(YEAR(TODAY())+IF(DATE(YEAR(TODAY()),MONTH(Q11),DAY(Q11))<TODAY(),1,0),MONTH(Q11),DAY(Q11))-TODAY()),"") -> 127 | T11: =IF(E11="","",IF(AND(D11<>"",E11<>"",L11<>"",OR(N11<>"",O11<>"",P11<>"")),"Vollständig","Unvollständig")) -> Vollständig | U11: Projekt abgeschlossen | V11: =IF(Q11="","",S11+ROW()/100000) -> 127.00011 | W11: =IF(E11="","",D11&" "&E11) -> Andreas Schuster
B12: =IF(E12="","","K-"&TEXT(COUNTA($E$5:E12),"000")) -> K-008 | C12: Frau | D12: Petra | E12: Lehmann | F12: Familie | G12: Aktiv | J12: Birkenallee 5 | K12: 28195 | L12: Bremen | M12: Deutschland | N12: +49 421 5550702 | O12: +49 151 5550702 | P12: petra.lehmann@example.de | Q12: 22223 | R12: =IF(Q12="","",DATEDIF(Q12,TODAY(),"Y")) -> 65 | S12: =IFERROR(IF(Q12="","",DATE(YEAR(TODAY())+IF(DATE(YEAR(TODAY()),MONTH(Q12),DAY(Q12))<TODAY(),1,0),MONTH(Q12),DAY(Q12))-TODAY()),"") -> 58 | T12: =IF(E12="","",IF(AND(D12<>"",E12<>"",L12<>"",OR(N12<>"",O12<>"",P12<>"")),"Vollständig","Unvollständig")) -> Vollständig | U12: Tante | V12: =IF(Q12="","",S12+ROW()/100000) -> 58.00012 | W12: =IF(E12="","",D12&" "&E12) -> Petra Lehmann
B13: =IF(E13="","","K-"&TEXT(COUNTA($E$5:E13),"000")) -> K-009 | C13: Herr | D13: Jonas | E13: Brandt | F13: Kunde | G13: Aktiv | H13: Kraft Immobilien | I13: Geschäftsführer | J13: Königstraße 88 | K13: 01067 | L13: Dresden | M13: Deutschland | N13: +49 351 5550845 | O13: +49 162 5550845 | P13: j.brandt@example.com | Q13: 32070 | R13: =IF(Q13="","",DATEDIF(Q13,TODAY(),"Y")) -> 38 | S13: =IFERROR(IF(Q13="","",DATE(YEAR(TODAY())+IF(DATE(YEAR(TODAY()),MONTH(Q13),DAY(Q13))<TODAY(),1,0),MONTH(Q13),DAY(Q13))-TODAY()),"") -> 44 | T13: =IF(E13="","",IF(AND(D13<>"",E13<>"",L13<>"",OR(N13<>"",O13<>"",P13<>"")),"Vollständig","Unvollständig")) -> Vollständig | U13: Interesse an Zusatzleistungen | V13: =IF(Q13="","",S13+ROW()/100000) -> 44.00013 | W13: =IF(E13="","",D13&" "&E13) -> Jonas Brandt
B14: =IF(E14="","","K-"&TEXT(COUNTA($E$5:E14),"000")) -> K-010 | C14: Frau | D14: Nadine | E14: Keller | F14: Sonstige | G14: Aktiv | J14: Uferstraße 2 | K14: 60311 | L14: Frankfurt | M14: Deutschland | O14: +49 173 5550918 | P14: n.keller@example.de | Q14: 34797 | R14: =IF(Q14="","",DATEDIF(Q14,TODAY(),"Y")) -> 31 | S14: =IFERROR(IF(Q14="","",DATE(YEAR(TODAY())+IF(DATE(YEAR(TODAY()),MONTH(Q14),DAY(Q14))<TODAY(),1,0),MONTH(Q14),DAY(Q14))-TODAY()),"") -> 214 | T14: =IF(E14="","",IF(AND(D14<>"",E14<>"",L14<>"",OR(N14<>"",O14<>"",P14<>"")),"Vollständig","Unvollständig")) -> Vollständig | V14: =IF(Q14="","",S14+ROW()/100000) -> 214.00014 | W14: =IF(E14="","",D14&" "&E14) -> Nadine Keller
B15: =IF(E15="","","K-"&TEXT(COUNTA($E$5:E15),"000")) -> K-011 | C15: Herr | D15: Stefan | E15: Marx | F15: Geschäftlich | G15: Aktiv | H15: Vertrieb Süd GbR | I15: Partner | J15: Mariahilfer Str. 120 | K15: 1070 | L15: Wien | M15: Österreich | N15: +43 1 5550031 | O15: +43 660 5550031 | P15: s.marx@example.at | Q15: 29419 | R15: =IF(Q15="","",DATEDIF(Q15,TODAY(),"Y")) -> 46 | S15: =IFERROR(IF(Q15="","",DATE(YEAR(TODAY())+IF(DATE(YEAR(TODAY()),MONTH(Q15),DAY(Q15))<TODAY(),1,0),MONTH(Q15),DAY(Q15))-TODAY()),"") -> 314 | T15: =IF(E15="","",IF(AND(D15<>"",E15<>"",L15<>"",OR(N15<>"",O15<>"",P15<>"")),"Vollständig","Unvollständig")) -> Vollständig | U15: Ansprechpartner Region AT | V15: =IF(Q15="","",S15+ROW()/100000) -> 314.00015 | W15: =IF(E15="","",D15&" "&E15) -> Stefan Marx
B16: =IF(E16="","","K-"&TEXT(COUNTA($E$5:E16),"000")) -> K-012 | C16: Frau | D16: Julia | E16: Roth | F16: Kunde | G16: Archiviert | H16: Roth Design e.U. | I16: Inhaberin | J16: Landstraße 6 | K16: 4020 | L16: Linz | M16: Österreich | N16: +43 732 5550064 | P16: julia.roth@example.at | Q16: 30738 | R16: =IF(Q16="","",DATEDIF(Q16,TODAY(),"Y")) -> 42 | S16: =IFERROR(IF(Q16="","",DATE(YEAR(TODAY())+IF(DATE(YEAR(TODAY()),MONTH(Q16),DAY(Q16))<TODAY(),1,0),MONTH(Q16),DAY(Q16))-TODAY()),"") -> 173 | T16: =IF(E16="","",IF(AND(D16<>"",E16<>"",L16<>"",OR(N16<>"",O16<>"",P16<>"")),"Vollständig","Unvollständig")) -> Vollständig | U16: Kein Bedarf mehr | V16: =IF(Q16="","",S16+ROW()/100000) -> 173.00016 | W16: =IF(E16="","",D16&" "&E16) -> Julia Roth
B17: =IF(E17="","","K-"&TEXT(COUNTA($E$5:E17),"000")) -> K-013 | C17: Herr | D17: Patrick | E17: Sommer | F17: Freunde | G17: Aktiv | J17: Seefeldstrasse 30 | K17: 8008 | L17: Zürich | M17: Schweiz | O17: +41 79 5550097 | P17: p.sommer@example.ch | Q17: 33493 | R17: =IF(Q17="","",DATEDIF(Q17,TODAY(),"Y")) -> 34 | S17: =IFERROR(IF(Q17="","",DATE(YEAR(TODAY())+IF(DATE(YEAR(TODAY()),MONTH(Q17),DAY(Q17))<TODAY(),1,0),MONTH(Q17),DAY(Q17))-TODAY()),"") -> 6 | T17: =IF(E17="","",IF(AND(D17<>"",E17<>"",L17<>"",OR(N17<>"",O17<>"",P17<>"")),"Vollständig","Unvollständig")) -> Vollständig | U17: Aus dem Studium | V17: =IF(Q17="","",S17+ROW()/100000) -> 6.00017 | W17: =IF(E17="","",D17&" "&E17) -> Patrick Sommer
B18: =IF(E18="","","K-"&TEXT(COUNTA($E$5:E18),"000")) -> K-014 | C18: Frau | D18: Christina | E18: Baumann | F18: Lieferant | G18: Aktiv | H18: Alpen Papier AG | I18: Key Account | J18: Bahnhofplatz 4 | K18: 3011 | L18: Bern | M18: Schweiz | N18: +41 31 5550120 | O18: +41 78 5550120 | P18: c.baumann@example.ch | Q18: 26449 | R18: =IF(Q18="","",DATEDIF(Q18,TODAY(),"Y")) -> 54 | S18: =IFERROR(IF(Q18="","",DATE(YEAR(TODAY())+IF(DATE(YEAR(TODAY()),MONTH(Q18),DAY(Q18))<TODAY(),1,0),MONTH(Q18),DAY(Q18))-TODAY()),"") -> 266 | T18: =IF(E18="","",IF(AND(D18<>"",E18<>"",L18<>"",OR(N18<>"",O18<>"",P18<>"")),"Vollständig","Unvollständig")) -> Vollständig | U18: Liefert Verbrauchsmaterial | V18: =IF(Q18="","",S18+ROW()/100000) -> 266.00018 | W18: =IF(E18="","",D18&" "&E18) -> Christina Baumann
B19: =IF(E19="","","K-"&TEXT(COUNTA($E$5:E19),"000")) -> K-015 | C19: Herr | D19: Felix | E19: Neumann | F19: Familie | G19: Aktiv | J19: Wiesenweg 18 | K19: 99084 | L19: Erfurt | M19: Deutschland | N19: +49 361 5550256 | O19: +49 151 5550256 | P19: felix.neumann@example.de | Q19: 37173 | R19: =IF(Q19="","",DATEDIF(Q19,TODAY(),"Y")) -> 24 | S19: =IFERROR(IF(Q19="","",DATE(YEAR(TODAY())+IF(DATE(YEAR(TODAY()),MONTH(Q19),DAY(Q19))<TODAY(),1,0),MONTH(Q19),DAY(Q19))-TODAY()),"") -> 33 | T19: =IF(E19="","",IF(AND(D19<>"",E19<>"",L19<>"",OR(N19<>"",O19<>"",P19<>"")),"Vollständig","Unvollständig")) -> Vollständig | U19: Cousin | V19: =IF(Q19="","",S19+ROW()/100000) -> 33.00019 | W19: =IF(E19="","",D19&" "&E19) -> Felix Neumann
B20: =IF(E20="","","K-"&TEXT(COUNTA($E$5:E20),"000")) -> K-016 | C20: Frau | D20: Laura | E20: Winter | F20: Kunde | G20: Aktiv | H20: Winter Consulting | I20: Beraterin | J20: Schlossallee 11 | K20: 40213 | L20: Düsseldorf | M20: Deutschland | N20: +49 211 5550388 | O20: +49 157 5550388 | P20: l.winter@example.com | Q20: 32356 | R20: =IF(Q20="","",DATEDIF(Q20,TODAY(),"Y")) -> 38 | S20: =IFERROR(IF(Q20="","",DATE(YEAR(TODAY())+IF(DATE(YEAR(TODAY()),MONTH(Q20),DAY(Q20))<TODAY(),1,0),MONTH(Q20),DAY(Q20))-TODAY()),"") -> 329 | T20: =IF(E20="","",IF(AND(D20<>"",E20<>"",L20<>"",OR(N20<>"",O20<>"",P20<>"")),"Vollständig","Unvollständig")) -> Vollständig | V20: =IF(Q20="","",S20+ROW()/100000) -> 329.0002 | W20: =IF(E20="","",D20&" "&E20) -> Laura Winter
B21: =IF(E21="","","K-"&TEXT(COUNTA($E$5:E21),"000")) -> K-017 | C21: Herr | D21: Erik | E21: Pohl | F21: Geschäftlich | G21: Aktiv | J21: Am Stadtpark 9 | M21: Deutschland | Q21: 30380 | R21: =IF(Q21="","",DATEDIF(Q21,TODAY(),"Y")) -> 43 | S21: =IFERROR(IF(Q21="","",DATE(YEAR(TODAY())+IF(DATE(YEAR(TODAY()),MONTH(Q21),DAY(Q21))<TODAY(),1,0),MONTH(Q21),DAY(Q21))-TODAY()),"") -> 180 | T21: =IF(E21="","",IF(AND(D21<>"",E21<>"",L21<>"",OR(N21<>"",O21<>"",P21<>"")),"Vollständig","Unvollständig")) -> Unvollständig | U21: Daten noch unvollständig | V21: =IF(Q21="","",S21+ROW()/100000) -> 180.00021 | W21: =IF(E21="","",D21&" "&E21) -> Erik Pohl
B22: =IF(E22="","","K-"&TEXT(COUNTA($E$5:E22),"000")) -> K-018 | C22: Frau | D22: Miriam | E22: Kaiser | F22: Verein | G22: Aktiv | H22: TSV Musterstadt | I22: Kassenwartin | J22: Sportplatzweg 1 | K22: 34117 | L22: Kassel | M22: Deutschland | N22: +49 561 5550410 | O22: +49 160 5550410 | P22: m.kaiser@example.de | Q22: 28392 | R22: =IF(Q22="","",DATEDIF(Q22,TODAY(),"Y")) -> 48 | S22: =IFERROR(IF(Q22="","",DATE(YEAR(TODAY())+IF(DATE(YEAR(TODAY()),MONTH(Q22),DAY(Q22))<TODAY(),1,0),MONTH(Q22),DAY(Q22))-TODAY()),"") -> 18 | T22: =IF(E22="","",IF(AND(D22<>"",E22<>"",L22<>"",OR(N22<>"",O22<>"",P22<>"")),"Vollständig","Unvollständig")) -> Vollständig | U22: Vereinsvorstand | V22: =IF(Q22="","",S22+ROW()/100000) -> 18.00022 | W22: =IF(E22="","",D22&" "&E22) -> Miriam Kaiser
B23: =IF(E23="","","K-"&TEXT(COUNTA($E$5:E23),"000")) | R23: =IF(Q23="","",DATEDIF(Q23,TODAY(),"Y")) | S23: =IFERROR(IF(Q23="","",DATE(YEAR(TODAY())+IF(DATE(YEAR(TODAY()),MONTH(Q23),DAY(Q23))<TODAY(),1,0),MONTH(Q23),DAY(Q23))-TODAY()),"") | T23: =IF(E23="","",IF(AND(D23<>"",E23<>"",L23<>"",OR(N23<>"",O23<>"",P23<>"")),"Vollständig","Unvollständig")) | V23: =IF(Q23="","",S23+ROW()/100000) | W23: =IF(E23="","",D23&" "&E23)
B24: =IF(E24="","","K-"&TEXT(COUNTA($E$5:E24),"000")) | R24: =IF(Q24="","",DATEDIF(Q24,TODAY(),"Y")) | S24: =IFERROR(IF(Q24="","",DATE(YEAR(TODAY())+IF(DATE(YEAR(TODAY()),MONTH(Q24),DAY(Q24))<TODAY(),1,0),MONTH(Q24),DAY(Q24))-TODAY()),"") | T24: =IF(E24="","",IF(AND(D24<>"",E24<>"",L24<>"",OR(N24<>"",O24<>"",P24<>"")),"Vollständig","Unvollständig")) | V24: =IF(Q24="","",S24+ROW()/100000) | W24: =IF(E24="","",D24&" "&E24)
B25: =IF(E25="","","K-"&TEXT(COUNTA($E$5:E25),"000")) | R25: =IF(Q25="","",DATEDIF(Q25,TODAY(),"Y")) | S25: =IFERROR(IF(Q25="","",DATE(YEAR(TODAY())+IF(DATE(YEAR(TODAY()),MONTH(Q25),DAY(Q25))<TODAY(),1,0),MONTH(Q25),DAY(Q25))-TODAY()),"") | T25: =IF(E25="","",IF(AND(D25<>"",E25<>"",L25<>"",OR(N25<>"",O25<>"",P25<>"")),"Vollständig","Unvollständig")) | V25: =IF(Q25="","",S25+ROW()/100000) | W25: =IF(E25="","",D25&" "&E25)
B26: =IF(E26="","","K-"&TEXT(COUNTA($E$5:E26),"000")) | R26: =IF(Q26="","",DATEDIF(Q26,TODAY(),"Y")) | S26: =IFERROR(IF(Q26="","",DATE(YEAR(TODAY())+IF(DATE(YEAR(TODAY()),MONTH(Q26),DAY(Q26))<TODAY(),1,0),MONTH(Q26),DAY(Q26))-TODAY()),"") | T26: =IF(E26="","",IF(AND(D26<>"",E26<>"",L26<>"",OR(N26<>"",O26<>"",P26<>"")),"Vollständig","Unvollständig")) | V26: =IF(Q26="","",S26+ROW()/100000) | W26: =IF(E26="","",D26&" "&E26)
B27: =IF(E27="","","K-"&TEXT(COUNTA($E$5:E27),"000")) | R27: =IF(Q27="","",DATEDIF(Q27,TODAY(),"Y")) | S27: =IFERROR(IF(Q27="","",DATE(YEAR(TODAY())+IF(DATE(YEAR(TODAY()),MONTH(Q27),DAY(Q27))<TODAY(),1,0),MONTH(Q27),DAY(Q27))-TODAY()),"") | T27: =IF(E27="","",IF(AND(D27<>"",E27<>"",L27<>"",OR(N27<>"",O27<>"",P27<>"")),"Vollständig","Unvollständig")) | V27: =IF(Q27="","",S27+ROW()/100000) | W27: =IF(E27="","",D27&" "&E27)
B28: =IF(E28="","","K-"&TEXT(COUNTA($E$5:E28),"000")) | R28: =IF(Q28="","",DATEDIF(Q28,TODAY(),"Y")) | S28: =IFERROR(IF(Q28="","",DATE(YEAR(TODAY())+IF(DATE(YEAR(TODAY()),MONTH(Q28),DAY(Q28))<TODAY(),1,0),MONTH(Q28),DAY(Q28))-TODAY()),"") | T28: =IF(E28="","",IF(AND(D28<>"",E28<>"",L28<>"",OR(N28<>"",O28<>"",P28<>"")),"Vollständig","Unvollständig")) | V28: =IF(Q28="","",S28+ROW()/100000) | W28: =IF(E28="","",D28&" "&E28)
B29: =IF(E29="","","K-"&TEXT(COUNTA($E$5:E29),"000")) | R29: =IF(Q29="","",DATEDIF(Q29,TODAY(),"Y")) | S29: =IFERROR(IF(Q29="","",DATE(YEAR(TODAY())+IF(DATE(YEAR(TODAY()),MONTH(Q29),DAY(Q29))<TODAY(),1,0),MONTH(Q29),DAY(Q29))-TODAY()),"") | T29: =IF(E29="","",IF(AND(D29<>"",E29<>"",L29<>"",OR(N29<>"",O29<>"",P29<>"")),"Vollständig","Unvollständig")) | V29: =IF(Q29="","",S29+ROW()/100000) | W29: =IF(E29="","",D29&" "&E29)
B30: =IF(E30="","","K-"&TEXT(COUNTA($E$5:E30),"000")) | R30: =IF(Q30="","",DATEDIF(Q30,TODAY(),"Y")) | S30: =IFERROR(IF(Q30="","",DATE(YEAR(TODAY())+IF(DATE(YEAR(TODAY()),MONTH(Q30),DAY(Q30))<TODAY(),1,0),MONTH(Q30),DAY(Q30))-TODAY()),"") | T30: =IF(E30="","",IF(AND(D30<>"",E30<>"",L30<>"",OR(N30<>"",O30<>"",P30<>"")),"Vollständig","Unvollständig")) | V30: =IF(Q30="","",S30+ROW()/100000) | W30: =IF(E30="","",D30&" "&E30)
B31: =IF(E31="","","K-"&TEXT(COUNTA($E$5:E31),"000")) | R31: =IF(Q31="","",DATEDIF(Q31,TODAY(),"Y")) | S31: =IFERROR(IF(Q31="","",DATE(YEAR(TODAY())+IF(DATE(YEAR(TODAY()),MONTH(Q31),DAY(Q31))<TODAY(),1,0),MONTH(Q31),DAY(Q31))-TODAY()),"") | T31: =IF(E31="","",IF(AND(D31<>"",E31<>"",L31<>"",OR(N31<>"",O31<>"",P31<>"")),"Vollständig","Unvollständig")) | V31: =IF(Q31="","",S31+ROW()/100000) | W31: =IF(E31="","",D31&" "&E31)
B32: =IF(E32="","","K-"&TEXT(COUNTA($E$5:E32),"000")) | R32: =IF(Q32="","",DATEDIF(Q32,TODAY(),"Y")) | S32: =IFERROR(IF(Q32="","",DATE(YEAR(TODAY())+IF(DATE(YEAR(TODAY()),MONTH(Q32),DAY(Q32))<TODAY(),1,0),MONTH(Q32),DAY(Q32))-TODAY()),"") | T32: =IF(E32="","",IF(AND(D32<>"",E32<>"",L32<>"",OR(N32<>"",O32<>"",P32<>"")),"Vollständig","Unvollständig")) | V32: =IF(Q32="","",S32+ROW()/100000) | W32: =IF(E32="","",D32&" "&E32)
B33: =IF(E33="","","K-"&TEXT(COUNTA($E$5:E33),"000")) | R33: =IF(Q33="","",DATEDIF(Q33,TODAY(),"Y")) | S33: =IFERROR(IF(Q33="","",DATE(YEAR(TODAY())+IF(DATE(YEAR(TODAY()),MONTH(Q33),DAY(Q33))<TODAY(),1,0),MONTH(Q33),DAY(Q33))-TODAY()),"") | T33: =IF(E33="","",IF(AND(D33<>"",E33<>"",L33<>"",OR(N33<>"",O33<>"",P33<>"")),"Vollständig","Unvollständig")) | V33: =IF(Q33="","",S33+ROW()/100000) | W33: =IF(E33="","",D33&" "&E33)
B34: =IF(E34="","","K-"&TEXT(COUNTA($E$5:E34),"000")) | R34: =IF(Q34="","",DATEDIF(Q34,TODAY(),"Y")) | S34: =IFERROR(IF(Q34="","",DATE(YEAR(TODAY())+IF(DATE(YEAR(TODAY()),MONTH(Q34),DAY(Q34))<TODAY(),1,0),MONTH(Q34),DAY(Q34))-TODAY()),"") | T34: =IF(E34="","",IF(AND(D34<>"",E34<>"",L34<>"",OR(N34<>"",O34<>"",P34<>"")),"Vollständig","Unvollständig")) | V34: =IF(Q34="","",S34+ROW()/100000) | W34: =IF(E34="","",D34&" "&E34)
... B84: =IF(E84="","","K-"&TEXT(COUNTA($E$5:E84),"000")) | R84: =IF(Q84="","",DATEDIF(Q84,TODAY(),"Y")) | S84: =IFERROR(IF(Q84="","",DATE(YEAR(TODAY())+IF(DATE(YEAR(TODAY()),MONTH(Q84),DAY(Q84))<TODAY(),1,0),MONTH(Q84),DAY(Q84))-TODAY()),"") | T84: =IF(E84="","",IF(AND(D84<>"",E84<>"",L84<>"",OR(N84<>"",O84<>"",P84<>"")),"Vollständig","Unvollständig")) | V84: =IF(Q84="","",S84+ROW()/100000) | W84: =IF(E84="","",D84&" "&E84)

Sheet Listen & Hinweise
B2: Listen & Hinweise
B3: Auswahllisten für die Dropdowns im Adressbuch und Hinweise zur Nutzung
B5: Kategorie | D5: Status | F5: Anrede | H5: Land
B6: Familie | D6: Aktiv | F6: Herr | H6: Deutschland
B7: Freunde | D7: Inaktiv | F7: Frau | H7: Österreich
B8: Geschäftlich | D8: Archiviert | F8: Divers | H8: Schweiz
B9: Kunde | F9: Firma | H9: Sonstiges
B10: Lieferant
B11: Verein
B12: Sonstige
B15: Kurzanleitung
B16: 1. Kontakt anlegen
B17: Lege für jeden Kontakt eine eigene Zeile im Blatt „Adressbuch“ an. Die Kontakt-ID wird automatisch vergeben, sobald ein Nachname eingetragen ist.
B18: 2. Dropdowns nutzen
B19: Kategorie, Status, Anrede und Land werden über Auswahllisten gefüllt. So bleiben die Schreibweisen einheitlich und die Auswertung stimmt.
B20: 3. Suchen & filtern
B21: Über die Filterpfeile in der Kopfzeile des Adressbuchs lassen sich Kontakte nach jeder Spalte sortieren und filtern (z. B. alle „Kunde“ in „Österreich“).
B22: 4. Automatische Felder
B23: Alter, Tage bis zum nächsten Geburtstag und die Vollständigkeitsprüfung berechnen sich selbst – diese Spalten nicht überschreiben.
... B31: Hinweis: Alle Beispielkontakte sind frei erfunden. Bitte geltende Datenschutz-vorgaben (DSGVO) beim Speichern echter personenbezogener Daten beachten.
