Workbook

Sheet Stammdaten
B1: ZEITNACHWEIS
B2: Vorlage zur Arbeitszeiterfassung · Stammdaten & Einstellungen
B6: ▌ PERSÖNLICHE DATEN
B7: Name, Vorname | C7: Müller, Thomas | E7: Personalnummer | F7: MA-2026-047
B8: Abteilung | C8: Produktentwicklung | E8: Kostenstelle | F8: KST-4400
B9: Vorgesetzter / Leitung | C9: Dr. Weber, Sandra | E9: Standort | F9: Hamburg
B10: Vertragstyp | C10: Vollzeit | E10: Gültig ab | F10: 01.01.2026
B12: ▌ ARBEITSZEIT-EINSTELLUNGEN
B13: Sollstunden / Tag (Mo–Fr) | C13: 8 | E13: Jahres-Urlaubsanspruch (Tage) | F13: 30
B14: Pause ab 6 Std. (Min.) | C14: 30 | D14: min | E14: Resturlaub Vorjahr (Tage) | F14: 2
B15: Pause ab 9 Std. (Min.) | C15: 45 | D15: min | E15: Übertrag Überstunden Vj. | F15: 3.5
B16: Wochensollstunden (Mo–Fr) | C16: 40 | E16: Bundesland (Feiertage) | F16: Hamburg
B18: ▌ LEGENDE – TAGESTYPEN (Kürzel für Spalte »Typ«)
B19: A | C19: Normaler Arbeitstag
B20: U | C20: Urlaubstag
B21: K | C21: Krankheitstag (mit AU-Schein)
B22: FT | C22: Gesetzlicher Feiertag
B23: ÜA | C23: Überstundenausgleich
B24: ST | C24: Sonderurlaub / Freistellung
B25: – | C25: Wochenende (wird autom. grau)
B27: ▌ WICHTIGE HINWEISE
B28: → Gelb hinterlegte Felder in den Monatstabellen sind Eingabefelder.
B29: → Formeln bitte nicht überschreiben – nur gelbe Zellen befüllen.
B30: → Gültig gem. § 16 Abs. 2 ArbZG und BAG-Beschluss vom 13.09.2022.
B31: → Aufbewahrungspflicht: mind. 2 Jahre (§ 16 Abs. 2 ArbZG).
B32: → Unterschrift des Vorgesetzten am Monatsende empfohlen.

Sheet Jan 2026
B1: ZEITNACHWEIS · JANUAR 2026
B2: Arbeitszeitnachweis gemäß § 16 Abs. 2 ArbZG · Alle Angaben in Stunden (h) bzw. als Uhrzeit (hh:mm)
B5: Mitarbeiter/in: | C5: =Stammdaten!C7 -> Müller, Thomas | E5: Abteilung: | F5: =Stammdaten!C8 -> Produktentwicklung | H5: Monat / Jahr: | I5: Januar 2026 | K5: Personalnr.: | L5: =Stammdaten!F7 -> MA-2026-047
B7: Nr. | C7: Datum | D7: Tag | E7: Typ | F7: Beginn | G7: Ende | H7: Pause (h) | I7: Ist-Std. | J7: Soll-Std. | K7: Differenz | L7: Bemerkung / Projekt
B8: 1 | C8: 46023 | D8: Do | E8: FT | I8: =Stammdaten!C13 -> 8 | J8: 0 | K8: =I8-J8 -> 8 | L8: Gesetzlicher Feiertag
B9: 2 | C9: 46024 | D9: Fr | E9: A | F9: 0.33333333 | G9: 0.70833333 | H9: 1 | I9: =IFERROR(IF(AND(F9<>"",G9<>""),(G9-F9)*24-H9,0),0) -> 8 | J9: =Stammdaten!C13 -> 8 | K9: =I9-J9 -> 0 | L9: Entwicklungsmeeting
B10: 3 | C10: 46025 | D10: Sa | E10: – | I10: 0 | J10: 0 | K10: =I10-J10 -> 0
B11: 4 | C11: 46026 | D11: So | E11: – | I11: 0 | J11: 0 | K11: =I11-J11 -> 0
B12: 5 | C12: 46027 | D12: Mo | E12: A | F12: 0.34375 | G12: 0.69791667 | H12: 0.75 | I12: =IFERROR(IF(AND(F12<>"",G12<>""),(G12-F12)*24-H12,0),0) -> 7.75 | J12: =Stammdaten!C13 -> 8 | K12: =I12-J12 -> -0.25
B13: 6 | C13: 46028 | D13: Di | E13: FT | I13: =Stammdaten!C13 -> 8 | J13: 0 | K13: =I13-J13 -> 8 | L13: Gesetzlicher Feiertag
B14: 7 | C14: 46029 | D14: Mi | E14: A | F14: 0.33333333 | G14: 0.77083333 | H14: 1 | I14: =IFERROR(IF(AND(F14<>"",G14<>""),(G14-F14)*24-H14,0),0) -> 9.5 | J14: =Stammdaten!C13 -> 8 | K14: =I14-J14 -> 1.5 | L14: Projektabschluss Phase 1
B15: 8 | C15: 46030 | D15: Do | E15: A | F15: 0.33333333 | G15: 0.6875 | H15: 0.75 | I15: =IFERROR(IF(AND(F15<>"",G15<>""),(G15-F15)*24-H15,0),0) -> 7.75 | J15: =Stammdaten!C13 -> 8 | K15: =I15-J15 -> -0.25
B16: 9 | C16: 46031 | D16: Fr | E16: A | F16: 0.375 | G16: 0.70833333 | H16: 1 | I16: =IFERROR(IF(AND(F16<>"",G16<>""),(G16-F16)*24-H16,0),0) -> 7 | J16: =Stammdaten!C13 -> 8 | K16: =I16-J16 -> -1 | L16: Remote-Arbeit
B17: 10 | C17: 46032 | D17: Sa | E17: – | I17: 0 | J17: 0 | K17: =I17-J17 -> 0
B18: 11 | C18: 46033 | D18: So | E18: – | I18: 0 | J18: 0 | K18: =I18-J18 -> 0
B19: 12 | C19: 46034 | D19: Mo | E19: K | I19: =Stammdaten!C13 -> 8 | J19: =Stammdaten!C13 -> 8 | K19: =I19-J19 -> 0 | L19: Krankheit (AU-Schein)
B20: 13 | C20: 46035 | D20: Di | E20: K | I20: =Stammdaten!C13 -> 8 | J20: =Stammdaten!C13 -> 8 | K20: =I20-J20 -> 0 | L20: Krankheit (AU-Schein)
B21: 14 | C21: 46036 | D21: Mi | E21: A | F21: 0.33333333 | G21: 0.6875 | H21: 0.75 | I21: =IFERROR(IF(AND(F21<>"",G21<>""),(G21-F21)*24-H21,0),0) -> 7.75 | J21: =Stammdaten!C13 -> 8 | K21: =I21-J21 -> -0.25
B22: 15 | C22: 46037 | D22: Do | E22: A | F22: 0.33333333 | G22: 0.72916667 | H22: 0.75 | I22: =IFERROR(IF(AND(F22<>"",G22<>""),(G22-F22)*24-H22,0),0) -> 8.75 | J22: =Stammdaten!C13 -> 8 | K22: =I22-J22 -> 0.75 | L22: Sprint Review
B23: 16 | C23: 46038 | D23: Fr | E23: A | F23: 0.35416667 | G23: 0.5 | H23: 0 | I23: =IFERROR(IF(AND(F23<>"",G23<>""),(G23-F23)*24-H23,0),0) -> 3.5 | J23: =Stammdaten!C13 -> 8 | K23: =I23-J23 -> -4.5 | L23: Homeoffice halber Tag
B24: 17 | C24: 46039 | D24: Sa | E24: – | I24: 0 | J24: 0 | K24: =I24-J24 -> 0
B25: 18 | C25: 46040 | D25: So | E25: – | I25: 0 | J25: 0 | K25: =I25-J25 -> 0
B26: 19 | C26: 46041 | D26: Mo | E26: U | I26: =Stammdaten!C13 -> 8 | J26: =Stammdaten!C13 -> 8 | K26: =I26-J26 -> 0 | L26: Jahresurlaub
B27: 20 | C27: 46042 | D27: Di | E27: U | I27: =Stammdaten!C13 -> 8 | J27: =Stammdaten!C13 -> 8 | K27: =I27-J27 -> 0 | L27: Jahresurlaub
B28: 21 | C28: 46043 | D28: Mi | E28: U | I28: =Stammdaten!C13 -> 8 | J28: =Stammdaten!C13 -> 8 | K28: =I28-J28 -> 0 | L28: Jahresurlaub
B29: 22 | C29: 46044 | D29: Do | E29: U | I29: =Stammdaten!C13 -> 8 | J29: =Stammdaten!C13 -> 8 | K29: =I29-J29 -> 0 | L29: Jahresurlaub
B30: 23 | C30: 46045 | D30: Fr | E30: U | I30: =Stammdaten!C13 -> 8 | J30: =Stammdaten!C13 -> 8 | K30: =I30-J30 -> 0 | L30: Jahresurlaub
B31: 24 | C31: 46046 | D31: Sa | E31: – | I31: 0 | J31: 0 | K31: =I31-J31 -> 0
B32: 25 | C32: 46047 | D32: So | E32: – | I32: 0 | J32: 0 | K32: =I32-J32 -> 0
B33: 26 | C33: 46048 | D33: Mo | E33: A | F33: 0.33333333 | G33: 0.6875 | H33: 0.75 | I33: =IFERROR(IF(AND(F33<>"",G33<>""),(G33-F33)*24-H33,0),0) -> 7.75 | J33: =Stammdaten!C13 -> 8 | K33: =I33-J33 -> -0.25
B34: 27 | C34: 46049 | D34: Di | E34: A | F34: 0.32291667 | G34: 0.71875 | H34: 1 | I34: =IFERROR(IF(AND(F34<>"",G34<>""),(G34-F34)*24-H34,0),0) -> 8.5 | J34: =Stammdaten!C13 -> 8 | K34: =I34-J34 -> 0.5 | L34: Technikplanung
B35: 28 | C35: 46050 | D35: Mi | E35: A | F35: 0.33333333 | G35: 0.6875 | H35: 0.75 | I35: =IFERROR(IF(AND(F35<>"",G35<>""),(G35-F35)*24-H35,0),0) -> 7.75 | J35: =Stammdaten!C13 -> 8 | K35: =I35-J35 -> -0.25
B36: 29 | C36: 46051 | D36: Do | E36: A | F36: 0.34375 | G36: 0.70833333 | H36: 0.75 | I36: =IFERROR(IF(AND(F36<>"",G36<>""),(G36-F36)*24-H36,0),0) -> 8 | J36: =Stammdaten!C13 -> 8 | K36: =I36-J36 -> 0 | L36: Systemtest
B37: 30 | C37: 46052 | D37: Fr | E37: A | F37: 0.33333333 | G37: 0.66666667 | H37: 0.75 | I37: =IFERROR(IF(AND(F37<>"",G37<>""),(G37-F37)*24-H37,0),0) -> 7.25 | J37: =Stammdaten!C13 -> 8 | K37: =I37-J37 -> -0.75
B38: 31 | C38: 46053 | D38: Sa | E38: – | I38: 0 | J38: 0 | K38: =I38-J38 -> 0
B40: MONATSAUSWERTUNG | H40: URLAUBSKONTO
B41: Geleistete Ist-Stunden: | E41: =SUM(I8:I38) -> 171.25 | H41: Jahresanspruch (Tage): | K41: =Stammdaten!F13 -> 30
B42: Soll-Stunden Monat: | E42: =SUM(J8:J38) -> 160 | H42: Resturlaub Vorjahr: | K42: =Stammdaten!F14 -> 2
B43: Überstunden-Saldo: | E43: =SUM(K8:K38) -> 11.25 | H43: Verbrauchte Tage (Monat): | K43: =COUNTIF(E8:E38,"U") -> 5
B44: Urlaubstage genutzt: | E44: =COUNTIF(E8:E38,"U") -> 5 | H44: Gesamtverbrauch (YTD): | K44: =COUNTIF(E8:E38,"U")+Stammdaten!F14-Stammdaten!F14 -> 5
B45: Krankheitstage: | E45: =COUNTIF(E8:E38,"K") -> 2 | H45: Resturlaub (gesamt): | K45: =Stammdaten!F13+Stammdaten!F14-COUNTIF(E8:E38,"U") -> 27
B46: Feiertage: | E46: =COUNTIF(E8:E38,"FT") -> 2
B47: Arbeitstage: | E47: =COUNTIF(E8:E38,"A") -> 13 | H47: ÜBERSTUNDENKONTO
H48: Übertrag Vorjahr (h): | K48: =Stammdaten!F15 -> 3.5
H49: Überstunden Monat: | K49: =SUM(K8:K38) -> 11.25
H50: Gesamtsaldo (h): | K50: =Stammdaten!F15+SUM(K8:K38) -> 14.75
B56: Ort, Datum | F56: Unterschrift Mitarbeiter/in | J56: Unterschrift Vorgesetzte/r

Sheet Jahresübersicht 2026
B1: JAHRESÜBERSICHT 2026 · Arbeitszeitnachweis
B2: Monatliche Zusammenfassung · Alle Werte werden automatisch aus den Monatsblättern übernommen
B6: =Stammdaten!C7 & " · " & Stammdaten!C8 & " · Personal-Nr.: " & Stammdaten!F7 -> Müller, Thomas · Produktentwicklung · Personal-Nr.: MA-2026-047
B7: Monat | C7: Ist-Stunden | D7: Soll-Stunden | E7: Differenz | F7: Urlaubstage | G7: Krankheitstage | H7: Feiertage | I7: Arbeitstage
B8: Januar | C8: =IFERROR(SUM('Jan 2026'!I8:I38),0) -> 171.25 | D8: =IFERROR(SUM('Jan 2026'!J8:J38),0) -> 160 | E8: =IFERROR(SUM('Jan 2026'!K8:K38),0) -> 11.25 | F8: =IFERROR(COUNTIF('Jan 2026'!E8:E38,"U"),0) -> 5 | G8: =IFERROR(COUNTIF('Jan 2026'!E8:E38,"K"),0) -> 2 | H8: =IFERROR(COUNTIF('Jan 2026'!E8:E38,"FT"),0) -> 2 | I8: =IFERROR(COUNTIF('Jan 2026'!E8:E38,"A"),0) -> 13
B9: Februar | C9: 152.5 | D9: 160 | E9: -7.5 | F9: 0 | G9: 3 | H9: 1 | I9: 19
B10: März | C10: 168 | D10: 176 | E10: -8 | F10: 5 | G10: 0 | H10: 1 | I10: 21
B11: April | C11: 158.25 | D11: 160 | E11: -1.75 | F11: 2 | G11: 0 | H11: 2 | I11: 20
B12: Mai | C12: 168 | D12: 168 | E12: 0 | F12: 0 | G12: 0 | H12: 3 | I12: 18
B13: Juni | C13: 160 | D13: 168 | E13: -8 | F13: 5 | G13: 1 | H13: 0 | I13: 20
B14: Juli | C14: 140 | D14: 168 | E14: -28 | F14: 15 | G14: 0 | H14: 0 | I14: 17
B15: August | C15: 168 | D15: 168 | E15: 0 | F15: 0 | G15: 2 | H15: 0 | I15: 21
B16: September | C16: 168 | D16: 168 | E16: 0 | F16: 0 | G16: 0 | H16: 0 | I16: 21
B17: Oktober | C17: 0 | D17: 0 | E17: 0 | F17: 0 | G17: 0 | H17: 0 | I17: 0
B18: November | C18: 0 | D18: 0 | E18: 0 | F18: 0 | G18: 0 | H18: 0 | I18: 0
B19: Dezember | C19: 0 | D19: 0 | E19: 0 | F19: 0 | G19: 0 | H19: 0 | I19: 0
B20: GESAMT 2026 | C20: =SUM(C8:C19) -> 1454 | D20: =SUM(D8:D19) -> 1496 | E20: =SUM(E8:E19) -> -42 | F20: =SUM(F8:F19) -> 32 | G20: =SUM(G8:G19) -> 8 | H20: =SUM(H8:H19) -> 9 | I20: =SUM(I8:I19) -> 170
