Workbook

Sheet Übersicht
B2: ARBEITSZEIT – TEAMÜBERSICHT
B3: ARBEITSZEITERFASSUNG FÜR MEHRERE MITARBEITER · KENNZAHLEN & SALDEN · 2026
B5: Unternehmen: | C5: [ Ihr Unternehmen ] | G5: Zeitraum: | H5: [ September 2026 ] | J5: Stand: | K5: =TODAY() -> 46272
B7: Kennzahlen im Überblick
B8: MITARBEITER | D8: ERFASSTE TAGE | F8: IST-STUNDEN | H8: SOLL-STUNDEN | J8: SALDO (H)
B9: =COUNTIF(Übersicht!$D$19:$D$33,">0") -> 5 | D9: =COUNTIF(Zeiterfassung!$A$4:$A$400,"<>") -> 45 | F9: =SUM(Zeiterfassung!$H$4:$H$400) -> 303 | H9: =SUM(Zeiterfassung!$I$4:$I$400) -> 303 | J9: =SUM(Zeiterfassung!$H$4:$H$400)-SUM(Zeiterfassung!$I$4:$I$400) -> 0
B12: URLAUBSTAGE | D12: KRANKTAGE | F12: Ø STD./TAG | H12: ABWESENHEITSTAGE
B13: =COUNTIF(Zeiterfassung!$D$4:$D$400,"Urlaub") -> 3 | D13: =COUNTIF(Zeiterfassung!$D$4:$D$400,"Krank") -> 1 | F13: =IFERROR(SUM(Zeiterfassung!$H$4:$H$400)/COUNTIF(Zeiterfassung!$D$4:$D$400,"Arbeit"),0) -> 7.575 | H13: =COUNTIF(Zeiterfassung!$D$4:$D$400,"Urlaub")+COUNTIF(Zeiterfassung!$D$4:$D$400,"Krank")+COUNTIF(Zeiterfassung!$D$4:$D$400,"Feiertag") -> 4
B16: Team – Salden & Abwesenheiten (Tagessoll und Urlaubsanspruch sind editierbar) | N16: Kategorie | O16: Tage
N17: Arbeit | O17: =COUNTIF(Zeiterfassung!$D$4:$D$400,"Arbeit") -> 40
B18: Mitarbeiter | C18: Abteilung | D18: Tagessoll (h) | E18: Url.-Anspruch | F18: Ist (h) | G18: Soll (h) | H18: Saldo (h) | I18: Arbeitstage | J18: Urlaub | K18: Krank | L18: Resturlaub | N18: Urlaub | O18: =COUNTIF(Zeiterfassung!$D$4:$D$400,"Urlaub") -> 3
B19: Anna Weber | C19: Verwaltung | D19: 8 | E19: 30 | F19: =SUMIFS(Zeiterfassung!$H$4:$H$400,Zeiterfassung!$A$4:$A$400,$B19) -> 58 | G19: =SUMIFS(Zeiterfassung!$I$4:$I$400,Zeiterfassung!$A$4:$A$400,$B19) -> 56 | H19: =F19-G19 -> 2 | I19: =COUNTIFS(Zeiterfassung!$A$4:$A$400,$B19,Zeiterfassung!$D$4:$D$400,"Arbeit") -> 7 | J19: =COUNTIFS(Zeiterfassung!$A$4:$A$400,$B19,Zeiterfassung!$D$4:$D$400,"Urlaub") -> 2 | K19: =COUNTIFS(Zeiterfassung!$A$4:$A$400,$B19,Zeiterfassung!$D$4:$D$400,"Krank") -> 0 | L19: =E19-J19 -> 28 | N19: Krank | O19: =COUNTIF(Zeiterfassung!$D$4:$D$400,"Krank") -> 1
B20: Ben Krause | C20: Technik | D20: 8 | E20: 30 | F20: =SUMIFS(Zeiterfassung!$H$4:$H$400,Zeiterfassung!$A$4:$A$400,$B20) -> 68 | G20: =SUMIFS(Zeiterfassung!$I$4:$I$400,Zeiterfassung!$A$4:$A$400,$B20) -> 64 | H20: =F20-G20 -> 4 | I20: =COUNTIFS(Zeiterfassung!$A$4:$A$400,$B20,Zeiterfassung!$D$4:$D$400,"Arbeit") -> 8 | J20: =COUNTIFS(Zeiterfassung!$A$4:$A$400,$B20,Zeiterfassung!$D$4:$D$400,"Urlaub") -> 0 | K20: =COUNTIFS(Zeiterfassung!$A$4:$A$400,$B20,Zeiterfassung!$D$4:$D$400,"Krank") -> 1 | L20: =E20-J20 -> 30 | N20: Feiertag | O20: =COUNTIF(Zeiterfassung!$D$4:$D$400,"Feiertag") -> 0
B21: Carla Schmitt | C21: Vertrieb | D21: 7 | E21: 28 | F21: =SUMIFS(Zeiterfassung!$H$4:$H$400,Zeiterfassung!$A$4:$A$400,$B21) -> 64.75 | G21: =SUMIFS(Zeiterfassung!$I$4:$I$400,Zeiterfassung!$A$4:$A$400,$B21) -> 63 | H21: =F21-G21 -> 1.75 | I21: =COUNTIFS(Zeiterfassung!$A$4:$A$400,$B21,Zeiterfassung!$D$4:$D$400,"Arbeit") -> 9 | J21: =COUNTIFS(Zeiterfassung!$A$4:$A$400,$B21,Zeiterfassung!$D$4:$D$400,"Urlaub") -> 0 | K21: =COUNTIFS(Zeiterfassung!$A$4:$A$400,$B21,Zeiterfassung!$D$4:$D$400,"Krank") -> 0 | L21: =E21-J21 -> 28 | N21: Gleitzeitausgleich | O21: =COUNTIF(Zeiterfassung!$D$4:$D$400,"Gleitzeitausgleich") -> 1
B22: David Lang | C22: Technik | D22: 8 | E22: 30 | F22: =SUMIFS(Zeiterfassung!$H$4:$H$400,Zeiterfassung!$A$4:$A$400,$B22) -> 63.75 | G22: =SUMIFS(Zeiterfassung!$I$4:$I$400,Zeiterfassung!$A$4:$A$400,$B22) -> 72 | H22: =F22-G22 -> -8.25 | I22: =COUNTIFS(Zeiterfassung!$A$4:$A$400,$B22,Zeiterfassung!$D$4:$D$400,"Arbeit") -> 8 | J22: =COUNTIFS(Zeiterfassung!$A$4:$A$400,$B22,Zeiterfassung!$D$4:$D$400,"Urlaub") -> 0 | K22: =COUNTIFS(Zeiterfassung!$A$4:$A$400,$B22,Zeiterfassung!$D$4:$D$400,"Krank") -> 0 | L22: =E22-J22 -> 30
B23: Eva Roth | C23: Verwaltung | D23: 6 | E23: 25 | F23: =SUMIFS(Zeiterfassung!$H$4:$H$400,Zeiterfassung!$A$4:$A$400,$B23) -> 48.5 | G23: =SUMIFS(Zeiterfassung!$I$4:$I$400,Zeiterfassung!$A$4:$A$400,$B23) -> 48 | H23: =F23-G23 -> 0.5 | I23: =COUNTIFS(Zeiterfassung!$A$4:$A$400,$B23,Zeiterfassung!$D$4:$D$400,"Arbeit") -> 8 | J23: =COUNTIFS(Zeiterfassung!$A$4:$A$400,$B23,Zeiterfassung!$D$4:$D$400,"Urlaub") -> 1 | K23: =COUNTIFS(Zeiterfassung!$A$4:$A$400,$B23,Zeiterfassung!$D$4:$D$400,"Krank") -> 0 | L23: =E23-J23 -> 24
B35: Auswertungen
B52: Hinweise
B53: • Tragen Sie Zeiten im Register »Zeiterfassung« ein: Beginn, Ende und Pause – Ist, Soll und Saldo werden automatisch berechnet.
B54: • Mitarbeitende, Tagessoll und Urlaubsanspruch werden in der Team-Tabelle oben gepflegt (blau hinterlegte Felder).
B55: • Kategorien: Arbeit zählt Stunden; Urlaub/Krank/Feiertag zählen als Abwesenheit; Gleitzeitausgleich reduziert das Saldo.
B56: • Farbcode Saldo: Grün = Plusstunden · Rot = Minusstunden. Ist-Zeiten über 10 h/Tag werden rot markiert (Arbeitszeitgesetz).
B57: • Hinweis: Arbeitszeiten sind zu dokumentieren; die werktägliche Arbeitszeit soll i. d. R. 8 h (max. 10 h) nicht überschreiten.

Sheet Zeiterfassung
A1: ARBEITSZEITERFASSUNG
A2: Tägliche Erfassung für mehrere Mitarbeiter · Ist / Soll / Saldo werden automatisch berechnet · 2026
A3: Mitarbeiter | B3: Datum | C3: Tag | D3: Kategorie | E3: Beginn | F3: Ende | G3: Pause (Min) | H3: Ist (h) | I3: Soll (h) | J3: Saldo (h) | K3: Notiz
A4: Anna Weber | B4: 46266 | C4: =IF($B4="","",CHOOSE(WEEKDAY($B4,2),"Mo","Di","Mi","Do","Fr","Sa","So")) -> Di | D4: Arbeit | E4: 0.33333333 | F4: 0.6875 | G4: 30 | H4: =IF($A4="","",IF($D4="Arbeit",($F4-$E4)*24-$G4/60,0)) -> 8 | I4: =IF($A4="","",IF(OR($D4="Urlaub",$D4="Krank",$D4="Feiertag"),0,IFERROR(VLOOKUP($A4,Übersicht!$B$19:$L$33,3,0),0))) -> 8 | J4: =IF($A4="","",$H4-$I4) -> 0 | K4: Projektarbeit
A5: Ben Krause | B5: 46266 | C5: =IF($B5="","",CHOOSE(WEEKDAY($B5,2),"Mo","Di","Mi","Do","Fr","Sa","So")) -> Di | D5: Arbeit | E5: 0.32291667 | F5: 0.70833333 | G5: 30 | H5: =IF($A5="","",IF($D5="Arbeit",($F5-$E5)*24-$G5/60,0)) -> 8.75 | I5: =IF($A5="","",IF(OR($D5="Urlaub",$D5="Krank",$D5="Feiertag"),0,IFERROR(VLOOKUP($A5,Übersicht!$B$19:$L$33,3,0),0))) -> 8 | J5: =IF($A5="","",$H5-$I5) -> 0.75 | K5: Kundentermin
A6: Carla Schmitt | B6: 46266 | C6: =IF($B6="","",CHOOSE(WEEKDAY($B6,2),"Mo","Di","Mi","Do","Fr","Sa","So")) -> Di | D6: Arbeit | E6: 0.32291667 | F6: 0.64583333 | G6: 30 | H6: =IF($A6="","",IF($D6="Arbeit",($F6-$E6)*24-$G6/60,0)) -> 7.25 | I6: =IF($A6="","",IF(OR($D6="Urlaub",$D6="Krank",$D6="Feiertag"),0,IFERROR(VLOOKUP($A6,Übersicht!$B$19:$L$33,3,0),0))) -> 7 | J6: =IF($A6="","",$H6-$I6) -> 0.25
A7: David Lang | B7: 46266 | C7: =IF($B7="","",CHOOSE(WEEKDAY($B7,2),"Mo","Di","Mi","Do","Fr","Sa","So")) -> Di | D7: Arbeit | E7: 0.33333333 | F7: 0.67708333 | G7: 30 | H7: =IF($A7="","",IF($D7="Arbeit",($F7-$E7)*24-$G7/60,0)) -> 7.75 | I7: =IF($A7="","",IF(OR($D7="Urlaub",$D7="Krank",$D7="Feiertag"),0,IFERROR(VLOOKUP($A7,Übersicht!$B$19:$L$33,3,0),0))) -> 8 | J7: =IF($A7="","",$H7-$I7) -> -0.25 | K7: Home-Office
A8: Eva Roth | B8: 46266 | C8: =IF($B8="","",CHOOSE(WEEKDAY($B8,2),"Mo","Di","Mi","Do","Fr","Sa","So")) -> Di | D8: Arbeit | E8: 0.34375 | F8: 0.61458333 | G8: 30 | H8: =IF($A8="","",IF($D8="Arbeit",($F8-$E8)*24-$G8/60,0)) -> 6 | I8: =IF($A8="","",IF(OR($D8="Urlaub",$D8="Krank",$D8="Feiertag"),0,IFERROR(VLOOKUP($A8,Übersicht!$B$19:$L$33,3,0),0))) -> 6 | J8: =IF($A8="","",$H8-$I8) -> 0
A9: Anna Weber | B9: 46267 | C9: =IF($B9="","",CHOOSE(WEEKDAY($B9,2),"Mo","Di","Mi","Do","Fr","Sa","So")) -> Mi | D9: Arbeit | E9: 0.34375 | F9: 0.72916667 | G9: 30 | H9: =IF($A9="","",IF($D9="Arbeit",($F9-$E9)*24-$G9/60,0)) -> 8.75 | I9: =IF($A9="","",IF(OR($D9="Urlaub",$D9="Krank",$D9="Feiertag"),0,IFERROR(VLOOKUP($A9,Übersicht!$B$19:$L$33,3,0),0))) -> 8 | J9: =IF($A9="","",$H9-$I9) -> 0.75 | K9: Kundentermin
A10: Ben Krause | B10: 46267 | C10: =IF($B10="","",CHOOSE(WEEKDAY($B10,2),"Mo","Di","Mi","Do","Fr","Sa","So")) -> Mi | D10: Arbeit | E10: 0.32291667 | F10: 0.69791667 | G10: 30 | H10: =IF($A10="","",IF($D10="Arbeit",($F10-$E10)*24-$G10/60,0)) -> 8.5 | I10: =IF($A10="","",IF(OR($D10="Urlaub",$D10="Krank",$D10="Feiertag"),0,IFERROR(VLOOKUP($A10,Übersicht!$B$19:$L$33,3,0),0))) -> 8 | J10: =IF($A10="","",$H10-$I10) -> 0.5 | K10: Projektarbeit
A11: Carla Schmitt | B11: 46267 | C11: =IF($B11="","",CHOOSE(WEEKDAY($B11,2),"Mo","Di","Mi","Do","Fr","Sa","So")) -> Mi | D11: Arbeit | E11: 0.32291667 | F11: 0.65625 | G11: 45 | H11: =IF($A11="","",IF($D11="Arbeit",($F11-$E11)*24-$G11/60,0)) -> 7.25 | I11: =IF($A11="","",IF(OR($D11="Urlaub",$D11="Krank",$D11="Feiertag"),0,IFERROR(VLOOKUP($A11,Übersicht!$B$19:$L$33,3,0),0))) -> 7 | J11: =IF($A11="","",$H11-$I11) -> 0.25 | K11: Home-Office
A12: David Lang | B12: 46267 | C12: =IF($B12="","",CHOOSE(WEEKDAY($B12,2),"Mo","Di","Mi","Do","Fr","Sa","So")) -> Mi | D12: Arbeit | E12: 0.32291667 | F12: 0.66666667 | G12: 30 | H12: =IF($A12="","",IF($D12="Arbeit",($F12-$E12)*24-$G12/60,0)) -> 7.75 | I12: =IF($A12="","",IF(OR($D12="Urlaub",$D12="Krank",$D12="Feiertag"),0,IFERROR(VLOOKUP($A12,Übersicht!$B$19:$L$33,3,0),0))) -> 8 | J12: =IF($A12="","",$H12-$I12) -> -0.25 | K12: Kundentermin
A13: Eva Roth | B13: 46267 | C13: =IF($B13="","",CHOOSE(WEEKDAY($B13,2),"Mo","Di","Mi","Do","Fr","Sa","So")) -> Mi | D13: Arbeit | E13: 0.33333333 | F13: 0.60416667 | G13: 30 | H13: =IF($A13="","",IF($D13="Arbeit",($F13-$E13)*24-$G13/60,0)) -> 6 | I13: =IF($A13="","",IF(OR($D13="Urlaub",$D13="Krank",$D13="Feiertag"),0,IFERROR(VLOOKUP($A13,Übersicht!$B$19:$L$33,3,0),0))) -> 6 | J13: =IF($A13="","",$H13-$I13) -> 0
A14: Anna Weber | B14: 46268 | C14: =IF($B14="","",CHOOSE(WEEKDAY($B14,2),"Mo","Di","Mi","Do","Fr","Sa","So")) -> Do | D14: Arbeit | E14: 0.32291667 | F14: 0.6875 | G14: 45 | H14: =IF($A14="","",IF($D14="Arbeit",($F14-$E14)*24-$G14/60,0)) -> 8 | I14: =IF($A14="","",IF(OR($D14="Urlaub",$D14="Krank",$D14="Feiertag"),0,IFERROR(VLOOKUP($A14,Übersicht!$B$19:$L$33,3,0),0))) -> 8 | J14: =IF($A14="","",$H14-$I14) -> 0 | K14: Kundentermin
A15: Ben Krause | B15: 46268 | C15: =IF($B15="","",CHOOSE(WEEKDAY($B15,2),"Mo","Di","Mi","Do","Fr","Sa","So")) -> Do | D15: Krank | H15: =IF($A15="","",IF($D15="Arbeit",($F15-$E15)*24-$G15/60,0)) -> 0 | I15: =IF($A15="","",IF(OR($D15="Urlaub",$D15="Krank",$D15="Feiertag"),0,IFERROR(VLOOKUP($A15,Übersicht!$B$19:$L$33,3,0),0))) -> 0 | J15: =IF($A15="","",$H15-$I15) -> 0
A16: Carla Schmitt | B16: 46268 | C16: =IF($B16="","",CHOOSE(WEEKDAY($B16,2),"Mo","Di","Mi","Do","Fr","Sa","So")) -> Do | D16: Arbeit | E16: 0.33333333 | F16: 0.65625 | G16: 30 | H16: =IF($A16="","",IF($D16="Arbeit",($F16-$E16)*24-$G16/60,0)) -> 7.25 | I16: =IF($A16="","",IF(OR($D16="Urlaub",$D16="Krank",$D16="Feiertag"),0,IFERROR(VLOOKUP($A16,Übersicht!$B$19:$L$33,3,0),0))) -> 7 | J16: =IF($A16="","",$H16-$I16) -> 0.25 | K16: Kundentermin
A17: David Lang | B17: 46268 | C17: =IF($B17="","",CHOOSE(WEEKDAY($B17,2),"Mo","Di","Mi","Do","Fr","Sa","So")) -> Do | D17: Arbeit | E17: 0.33333333 | F17: 0.67708333 | G17: 30 | H17: =IF($A17="","",IF($D17="Arbeit",($F17-$E17)*24-$G17/60,0)) -> 7.75 | I17: =IF($A17="","",IF(OR($D17="Urlaub",$D17="Krank",$D17="Feiertag"),0,IFERROR(VLOOKUP($A17,Übersicht!$B$19:$L$33,3,0),0))) -> 8 | J17: =IF($A17="","",$H17-$I17) -> -0.25 | K17: Kundentermin
A18: Eva Roth | B18: 46268 | C18: =IF($B18="","",CHOOSE(WEEKDAY($B18,2),"Mo","Di","Mi","Do","Fr","Sa","So")) -> Do | D18: Arbeit | E18: 0.32291667 | F18: 0.59375 | G18: 45 | H18: =IF($A18="","",IF($D18="Arbeit",($F18-$E18)*24-$G18/60,0)) -> 5.75 | I18: =IF($A18="","",IF(OR($D18="Urlaub",$D18="Krank",$D18="Feiertag"),0,IFERROR(VLOOKUP($A18,Übersicht!$B$19:$L$33,3,0),0))) -> 6 | J18: =IF($A18="","",$H18-$I18) -> -0.25 | K18: Kundentermin
A19: Anna Weber | B19: 46269 | C19: =IF($B19="","",CHOOSE(WEEKDAY($B19,2),"Mo","Di","Mi","Do","Fr","Sa","So")) -> Fr | D19: Arbeit | E19: 0.33333333 | F19: 0.70833333 | G19: 30 | H19: =IF($A19="","",IF($D19="Arbeit",($F19-$E19)*24-$G19/60,0)) -> 8.5 | I19: =IF($A19="","",IF(OR($D19="Urlaub",$D19="Krank",$D19="Feiertag"),0,IFERROR(VLOOKUP($A19,Übersicht!$B$19:$L$33,3,0),0))) -> 8 | J19: =IF($A19="","",$H19-$I19) -> 0.5 | K19: Kundentermin
A20: Ben Krause | B20: 46269 | C20: =IF($B20="","",CHOOSE(WEEKDAY($B20,2),"Mo","Di","Mi","Do","Fr","Sa","So")) -> Fr | D20: Arbeit | E20: 0.34375 | F20: 0.69791667 | G20: 30 | H20: =IF($A20="","",IF($D20="Arbeit",($F20-$E20)*24-$G20/60,0)) -> 8 | I20: =IF($A20="","",IF(OR($D20="Urlaub",$D20="Krank",$D20="Feiertag"),0,IFERROR(VLOOKUP($A20,Übersicht!$B$19:$L$33,3,0),0))) -> 8 | J20: =IF($A20="","",$H20-$I20) -> 0 | K20: Kundentermin
A21: Carla Schmitt | B21: 46269 | C21: =IF($B21="","",CHOOSE(WEEKDAY($B21,2),"Mo","Di","Mi","Do","Fr","Sa","So")) -> Fr | D21: Arbeit | E21: 0.34375 | F21: 0.65625 | G21: 30 | H21: =IF($A21="","",IF($D21="Arbeit",($F21-$E21)*24-$G21/60,0)) -> 7 | I21: =IF($A21="","",IF(OR($D21="Urlaub",$D21="Krank",$D21="Feiertag"),0,IFERROR(VLOOKUP($A21,Übersicht!$B$19:$L$33,3,0),0))) -> 7 | J21: =IF($A21="","",$H21-$I21) -> 0
A22: David Lang | B22: 46269 | C22: =IF($B22="","",CHOOSE(WEEKDAY($B22,2),"Mo","Di","Mi","Do","Fr","Sa","So")) -> Fr | D22: Gleitzeitausgleich | H22: =IF($A22="","",IF($D22="Arbeit",($F22-$E22)*24-$G22/60,0)) -> 0 | I22: =IF($A22="","",IF(OR($D22="Urlaub",$D22="Krank",$D22="Feiertag"),0,IFERROR(VLOOKUP($A22,Übersicht!$B$19:$L$33,3,0),0))) -> 8 | J22: =IF($A22="","",$H22-$I22) -> -8
A23: Eva Roth | B23: 46269 | C23: =IF($B23="","",CHOOSE(WEEKDAY($B23,2),"Mo","Di","Mi","Do","Fr","Sa","So")) -> Fr | D23: Arbeit | E23: 0.33333333 | F23: 0.64583333 | G23: 45 | H23: =IF($A23="","",IF($D23="Arbeit",($F23-$E23)*24-$G23/60,0)) -> 6.75 | I23: =IF($A23="","",IF(OR($D23="Urlaub",$D23="Krank",$D23="Feiertag"),0,IFERROR(VLOOKUP($A23,Übersicht!$B$19:$L$33,3,0),0))) -> 6 | J23: =IF($A23="","",$H23-$I23) -> 0.75
A24: Anna Weber | B24: 46272 | C24: =IF($B24="","",CHOOSE(WEEKDAY($B24,2),"Mo","Di","Mi","Do","Fr","Sa","So")) -> Mo | D24: Arbeit | E24: 0.32291667 | F24: 0.6875 | G24: 45 | H24: =IF($A24="","",IF($D24="Arbeit",($F24-$E24)*24-$G24/60,0)) -> 8 | I24: =IF($A24="","",IF(OR($D24="Urlaub",$D24="Krank",$D24="Feiertag"),0,IFERROR(VLOOKUP($A24,Übersicht!$B$19:$L$33,3,0),0))) -> 8 | J24: =IF($A24="","",$H24-$I24) -> 0 | K24: Kundentermin
A25: Ben Krause | B25: 46272 | C25: =IF($B25="","",CHOOSE(WEEKDAY($B25,2),"Mo","Di","Mi","Do","Fr","Sa","So")) -> Mo | D25: Arbeit | E25: 0.34375 | F25: 0.71875 | G25: 30 | H25: =IF($A25="","",IF($D25="Arbeit",($F25-$E25)*24-$G25/60,0)) -> 8.5 | I25: =IF($A25="","",IF(OR($D25="Urlaub",$D25="Krank",$D25="Feiertag"),0,IFERROR(VLOOKUP($A25,Übersicht!$B$19:$L$33,3,0),0))) -> 8 | J25: =IF($A25="","",$H25-$I25) -> 0.5 | K25: Home-Office
A26: Carla Schmitt | B26: 46272 | C26: =IF($B26="","",CHOOSE(WEEKDAY($B26,2),"Mo","Di","Mi","Do","Fr","Sa","So")) -> Mo | D26: Arbeit | E26: 0.33333333 | F26: 0.64583333 | G26: 45 | H26: =IF($A26="","",IF($D26="Arbeit",($F26-$E26)*24-$G26/60,0)) -> 6.75 | I26: =IF($A26="","",IF(OR($D26="Urlaub",$D26="Krank",$D26="Feiertag"),0,IFERROR(VLOOKUP($A26,Übersicht!$B$19:$L$33,3,0),0))) -> 7 | J26: =IF($A26="","",$H26-$I26) -> -0.25
A27: David Lang | B27: 46272 | C27: =IF($B27="","",CHOOSE(WEEKDAY($B27,2),"Mo","Di","Mi","Do","Fr","Sa","So")) -> Mo | D27: Arbeit | E27: 0.34375 | F27: 0.72916667 | G27: 30 | H27: =IF($A27="","",IF($D27="Arbeit",($F27-$E27)*24-$G27/60,0)) -> 8.75 | I27: =IF($A27="","",IF(OR($D27="Urlaub",$D27="Krank",$D27="Feiertag"),0,IFERROR(VLOOKUP($A27,Übersicht!$B$19:$L$33,3,0),0))) -> 8 | J27: =IF($A27="","",$H27-$I27) -> 0.75
A28: Eva Roth | B28: 46272 | C28: =IF($B28="","",CHOOSE(WEEKDAY($B28,2),"Mo","Di","Mi","Do","Fr","Sa","So")) -> Mo | D28: Arbeit | E28: 0.33333333 | F28: 0.60416667 | G28: 30 | H28: =IF($A28="","",IF($D28="Arbeit",($F28-$E28)*24-$G28/60,0)) -> 6 | I28: =IF($A28="","",IF(OR($D28="Urlaub",$D28="Krank",$D28="Feiertag"),0,IFERROR(VLOOKUP($A28,Übersicht!$B$19:$L$33,3,0),0))) -> 6 | J28: =IF($A28="","",$H28-$I28) -> 0
A29: Anna Weber | B29: 46273 | C29: =IF($B29="","",CHOOSE(WEEKDAY($B29,2),"Mo","Di","Mi","Do","Fr","Sa","So")) -> Di | D29: Arbeit | E29: 0.32291667 | F29: 0.69791667 | G29: 45 | H29: =IF($A29="","",IF($D29="Arbeit",($F29-$E29)*24-$G29/60,0)) -> 8.25 | I29: =IF($A29="","",IF(OR($D29="Urlaub",$D29="Krank",$D29="Feiertag"),0,IFERROR(VLOOKUP($A29,Übersicht!$B$19:$L$33,3,0),0))) -> 8 | J29: =IF($A29="","",$H29-$I29) -> 0.25
A30: Ben Krause | B30: 46273 | C30: =IF($B30="","",CHOOSE(WEEKDAY($B30,2),"Mo","Di","Mi","Do","Fr","Sa","So")) -> Di | D30: Arbeit | E30: 0.33333333 | F30: 0.70833333 | G30: 30 | H30: =IF($A30="","",IF($D30="Arbeit",($F30-$E30)*24-$G30/60,0)) -> 8.5 | I30: =IF($A30="","",IF(OR($D30="Urlaub",$D30="Krank",$D30="Feiertag"),0,IFERROR(VLOOKUP($A30,Übersicht!$B$19:$L$33,3,0),0))) -> 8 | J30: =IF($A30="","",$H30-$I30) -> 0.5
A31: Carla Schmitt | B31: 46273 | C31: =IF($B31="","",CHOOSE(WEEKDAY($B31,2),"Mo","Di","Mi","Do","Fr","Sa","So")) -> Di | D31: Arbeit | E31: 0.34375 | F31: 0.69791667 | G31: 45 | H31: =IF($A31="","",IF($D31="Arbeit",($F31-$E31)*24-$G31/60,0)) -> 7.75 | I31: =IF($A31="","",IF(OR($D31="Urlaub",$D31="Krank",$D31="Feiertag"),0,IFERROR(VLOOKUP($A31,Übersicht!$B$19:$L$33,3,0),0))) -> 7 | J31: =IF($A31="","",$H31-$I31) -> 0.75 | K31: Home-Office
A32: David Lang | B32: 46273 | C32: =IF($B32="","",CHOOSE(WEEKDAY($B32,2),"Mo","Di","Mi","Do","Fr","Sa","So")) -> Di | D32: Arbeit | E32: 0.32291667 | F32: 0.67708333 | G32: 30 | H32: =IF($A32="","",IF($D32="Arbeit",($F32-$E32)*24-$G32/60,0)) -> 8 | I32: =IF($A32="","",IF(OR($D32="Urlaub",$D32="Krank",$D32="Feiertag"),0,IFERROR(VLOOKUP($A32,Übersicht!$B$19:$L$33,3,0),0))) -> 8 | J32: =IF($A32="","",$H32-$I32) -> 0 | K32: Home-Office
A33: Eva Roth | B33: 46273 | C33: =IF($B33="","",CHOOSE(WEEKDAY($B33,2),"Mo","Di","Mi","Do","Fr","Sa","So")) -> Di | D33: Urlaub | H33: =IF($A33="","",IF($D33="Arbeit",($F33-$E33)*24-$G33/60,0)) -> 0 | I33: =IF($A33="","",IF(OR($D33="Urlaub",$D33="Krank",$D33="Feiertag"),0,IFERROR(VLOOKUP($A33,Übersicht!$B$19:$L$33,3,0),0))) -> 0 | J33: =IF($A33="","",$H33-$I33) -> 0
A34: Anna Weber | B34: 46274 | C34: =IF($B34="","",CHOOSE(WEEKDAY($B34,2),"Mo","Di","Mi","Do","Fr","Sa","So")) -> Mi | D34: Arbeit | E34: 0.32291667 | F34: 0.69791667 | G34: 30 | H34: =IF($A34="","",IF($D34="Arbeit",($F34-$E34)*24-$G34/60,0)) -> 8.5 | I34: =IF($A34="","",IF(OR($D34="Urlaub",$D34="Krank",$D34="Feiertag"),0,IFERROR(VLOOKUP($A34,Übersicht!$B$19:$L$33,3,0),0))) -> 8 | J34: =IF($A34="","",$H34-$I34) -> 0.5 | K34: Projektarbeit
A35: Ben Krause | B35: 46274 | C35: =IF($B35="","",CHOOSE(WEEKDAY($B35,2),"Mo","Di","Mi","Do","Fr","Sa","So")) -> Mi | D35: Arbeit | E35: 0.33333333 | F35: 0.70833333 | G35: 45 | H35: =IF($A35="","",IF($D35="Arbeit",($F35-$E35)*24-$G35/60,0)) -> 8.25 | I35: =IF($A35="","",IF(OR($D35="Urlaub",$D35="Krank",$D35="Feiertag"),0,IFERROR(VLOOKUP($A35,Übersicht!$B$19:$L$33,3,0),0))) -> 8 | J35: =IF($A35="","",$H35-$I35) -> 0.25 | K35: Projektarbeit
A36: Carla Schmitt | B36: 46274 | C36: =IF($B36="","",CHOOSE(WEEKDAY($B36,2),"Mo","Di","Mi","Do","Fr","Sa","So")) -> Mi | D36: Arbeit | E36: 0.34375 | F36: 0.67708333 | G36: 30 | H36: =IF($A36="","",IF($D36="Arbeit",($F36-$E36)*24-$G36/60,0)) -> 7.5 | I36: =IF($A36="","",IF(OR($D36="Urlaub",$D36="Krank",$D36="Feiertag"),0,IFERROR(VLOOKUP($A36,Übersicht!$B$19:$L$33,3,0),0))) -> 7 | J36: =IF($A36="","",$H36-$I36) -> 0.5 | K36: Home-Office
A37: David Lang | B37: 46274 | C37: =IF($B37="","",CHOOSE(WEEKDAY($B37,2),"Mo","Di","Mi","Do","Fr","Sa","So")) -> Mi | D37: Arbeit | E37: 0.33333333 | F37: 0.6875 | G37: 30 | H37: =IF($A37="","",IF($D37="Arbeit",($F37-$E37)*24-$G37/60,0)) -> 8 | I37: =IF($A37="","",IF(OR($D37="Urlaub",$D37="Krank",$D37="Feiertag"),0,IFERROR(VLOOKUP($A37,Übersicht!$B$19:$L$33,3,0),0))) -> 8 | J37: =IF($A37="","",$H37-$I37) -> 0
A38: Eva Roth | B38: 46274 | C38: =IF($B38="","",CHOOSE(WEEKDAY($B38,2),"Mo","Di","Mi","Do","Fr","Sa","So")) -> Mi | D38: Arbeit | E38: 0.33333333 | F38: 0.60416667 | G38: 45 | H38: =IF($A38="","",IF($D38="Arbeit",($F38-$E38)*24-$G38/60,0)) -> 5.75 | I38: =IF($A38="","",IF(OR($D38="Urlaub",$D38="Krank",$D38="Feiertag"),0,IFERROR(VLOOKUP($A38,Übersicht!$B$19:$L$33,3,0),0))) -> 6 | J38: =IF($A38="","",$H38-$I38) -> -0.25 | K38: Home-Office
A39: Anna Weber | B39: 46275 | C39: =IF($B39="","",CHOOSE(WEEKDAY($B39,2),"Mo","Di","Mi","Do","Fr","Sa","So")) -> Do | D39: Urlaub | H39: =IF($A39="","",IF($D39="Arbeit",($F39-$E39)*24-$G39/60,0)) -> 0 | I39: =IF($A39="","",IF(OR($D39="Urlaub",$D39="Krank",$D39="Feiertag"),0,IFERROR(VLOOKUP($A39,Übersicht!$B$19:$L$33,3,0),0))) -> 0 | J39: =IF($A39="","",$H39-$I39) -> 0
A40: Ben Krause | B40: 46275 | C40: =IF($B40="","",CHOOSE(WEEKDAY($B40,2),"Mo","Di","Mi","Do","Fr","Sa","So")) -> Do | D40: Arbeit | E40: 0.32291667 | F40: 0.70833333 | G40: 30 | H40: =IF($A40="","",IF($D40="Arbeit",($F40-$E40)*24-$G40/60,0)) -> 8.75 | I40: =IF($A40="","",IF(OR($D40="Urlaub",$D40="Krank",$D40="Feiertag"),0,IFERROR(VLOOKUP($A40,Übersicht!$B$19:$L$33,3,0),0))) -> 8 | J40: =IF($A40="","",$H40-$I40) -> 0.75
...

Sheet Listen
A1: Kategorie
A2: Arbeit
A3: Urlaub
A4: Krank
A5: Feiertag
A6: Gleitzeitausgleich
