Workbook

Sheet Übersicht
A1: ARBEITSZEITERFASSUNG · ÜBERSICHT
A2: Team-Auswertung · Muster GmbH · Jahr 2026
A4: EINSTELLUNGEN | F4: MITARBEITER | H4: IST-STUNDEN GESAMT
A5: Firmenname | B5: Muster GmbH | F5: =COUNTA($B$12:$B$16) -> 5 | H5: =SUM($E$12:$E$16) -> 411.25
A6: Auswertung von | B6: 46143 | F6: SALDO GESAMT (STD.) | H6: URLAUBSTAGE GESAMT
A7: Auswertung bis | B7: 46173 | F7: =SUM($F$12:$F$16) -> 4.25 | H7: =SUM($G$12:$G$16) -> 2
A9: TEAM-AUSWERTUNG IM ZEITRAUM
A11: Personalnr. | B11: Name | C11: Abteilung | D11: Soll-Std. | E11: Ist-Std. | F11: Saldo | G11: Urlaub (Tage) | H11: Krank (Tage) | I11: Fortbild. (Tage)
A12: =Mitarbeiter!A5 -> 1001 | B12: =Mitarbeiter!B5 -> Anna Bergmann | C12: =Mitarbeiter!C5 -> Verwaltung | D12: =SUMIFS(Zeiterfassung!$J:$J,Zeiterfassung!$C:$C,$B12,Zeiterfassung!$A:$A,">="&$B$6,Zeiterfassung!$A:$A,"<="&$B$7) -> 88 | E12: =SUMIFS(Zeiterfassung!$I:$I,Zeiterfassung!$C:$C,$B12,Zeiterfassung!$A:$A,">="&$B$6,Zeiterfassung!$A:$A,"<="&$B$7) -> 86.5 | F12: =$E12-$D12 -> -1.5 | G12: =COUNTIFS(Zeiterfassung!$C:$C,$B12,Zeiterfassung!$E:$E,"Urlaub",Zeiterfassung!$A:$A,">="&$B$6,Zeiterfassung!$A:$A,"<="&$B$7) -> 2 | H12: =COUNTIFS(Zeiterfassung!$C:$C,$B12,Zeiterfassung!$E:$E,"Krank",Zeiterfassung!$A:$A,">="&$B$6,Zeiterfassung!$A:$A,"<="&$B$7) -> 0 | I12: =COUNTIFS(Zeiterfassung!$C:$C,$B12,Zeiterfassung!$E:$E,"Fortbildung",Zeiterfassung!$A:$A,">="&$B$6,Zeiterfassung!$A:$A,"<="&$B$7) -> 0
A13: =Mitarbeiter!A6 -> 1002 | B13: =Mitarbeiter!B6 -> Thomas Vogel | C13: =Mitarbeiter!C6 -> Vertrieb | D13: =SUMIFS(Zeiterfassung!$J:$J,Zeiterfassung!$C:$C,$B13,Zeiterfassung!$A:$A,">="&$B$6,Zeiterfassung!$A:$A,"<="&$B$7) -> 88 | E13: =SUMIFS(Zeiterfassung!$I:$I,Zeiterfassung!$C:$C,$B13,Zeiterfassung!$A:$A,">="&$B$6,Zeiterfassung!$A:$A,"<="&$B$7) -> 89.5 | F13: =$E13-$D13 -> 1.5 | G13: =COUNTIFS(Zeiterfassung!$C:$C,$B13,Zeiterfassung!$E:$E,"Urlaub",Zeiterfassung!$A:$A,">="&$B$6,Zeiterfassung!$A:$A,"<="&$B$7) -> 0 | H13: =COUNTIFS(Zeiterfassung!$C:$C,$B13,Zeiterfassung!$E:$E,"Krank",Zeiterfassung!$A:$A,">="&$B$6,Zeiterfassung!$A:$A,"<="&$B$7) -> 1 | I13: =COUNTIFS(Zeiterfassung!$C:$C,$B13,Zeiterfassung!$E:$E,"Fortbildung",Zeiterfassung!$A:$A,">="&$B$6,Zeiterfassung!$A:$A,"<="&$B$7) -> 0
A14: =Mitarbeiter!A7 -> 1003 | B14: =Mitarbeiter!B7 -> Sabine Krüger | C14: =Mitarbeiter!C7 -> Produktion | D14: =SUMIFS(Zeiterfassung!$J:$J,Zeiterfassung!$C:$C,$B14,Zeiterfassung!$A:$A,">="&$B$6,Zeiterfassung!$A:$A,"<="&$B$7) -> 77 | E14: =SUMIFS(Zeiterfassung!$I:$I,Zeiterfassung!$C:$C,$B14,Zeiterfassung!$A:$A,">="&$B$6,Zeiterfassung!$A:$A,"<="&$B$7) -> 78 | F14: =$E14-$D14 -> 1 | G14: =COUNTIFS(Zeiterfassung!$C:$C,$B14,Zeiterfassung!$E:$E,"Urlaub",Zeiterfassung!$A:$A,">="&$B$6,Zeiterfassung!$A:$A,"<="&$B$7) -> 0 | H14: =COUNTIFS(Zeiterfassung!$C:$C,$B14,Zeiterfassung!$E:$E,"Krank",Zeiterfassung!$A:$A,">="&$B$6,Zeiterfassung!$A:$A,"<="&$B$7) -> 0 | I14: =COUNTIFS(Zeiterfassung!$C:$C,$B14,Zeiterfassung!$E:$E,"Fortbildung",Zeiterfassung!$A:$A,">="&$B$6,Zeiterfassung!$A:$A,"<="&$B$7) -> 0
A15: =Mitarbeiter!A8 -> 1004 | B15: =Mitarbeiter!B8 -> Michael Wagner | C15: =Mitarbeiter!C8 -> IT | D15: =SUMIFS(Zeiterfassung!$J:$J,Zeiterfassung!$C:$C,$B15,Zeiterfassung!$A:$A,">="&$B$6,Zeiterfassung!$A:$A,"<="&$B$7) -> 88 | E15: =SUMIFS(Zeiterfassung!$I:$I,Zeiterfassung!$C:$C,$B15,Zeiterfassung!$A:$A,">="&$B$6,Zeiterfassung!$A:$A,"<="&$B$7) -> 89.75 | F15: =$E15-$D15 -> 1.75 | G15: =COUNTIFS(Zeiterfassung!$C:$C,$B15,Zeiterfassung!$E:$E,"Urlaub",Zeiterfassung!$A:$A,">="&$B$6,Zeiterfassung!$A:$A,"<="&$B$7) -> 0 | H15: =COUNTIFS(Zeiterfassung!$C:$C,$B15,Zeiterfassung!$E:$E,"Krank",Zeiterfassung!$A:$A,">="&$B$6,Zeiterfassung!$A:$A,"<="&$B$7) -> 0 | I15: =COUNTIFS(Zeiterfassung!$C:$C,$B15,Zeiterfassung!$E:$E,"Fortbildung",Zeiterfassung!$A:$A,">="&$B$6,Zeiterfassung!$A:$A,"<="&$B$7) -> 1
A16: =Mitarbeiter!A9 -> 1005 | B16: =Mitarbeiter!B9 -> Julia Hoffmann | C16: =Mitarbeiter!C9 -> Verwaltung | D16: =SUMIFS(Zeiterfassung!$J:$J,Zeiterfassung!$C:$C,$B16,Zeiterfassung!$A:$A,">="&$B$6,Zeiterfassung!$A:$A,"<="&$B$7) -> 66 | E16: =SUMIFS(Zeiterfassung!$I:$I,Zeiterfassung!$C:$C,$B16,Zeiterfassung!$A:$A,">="&$B$6,Zeiterfassung!$A:$A,"<="&$B$7) -> 67.5 | F16: =$E16-$D16 -> 1.5 | G16: =COUNTIFS(Zeiterfassung!$C:$C,$B16,Zeiterfassung!$E:$E,"Urlaub",Zeiterfassung!$A:$A,">="&$B$6,Zeiterfassung!$A:$A,"<="&$B$7) -> 0 | H16: =COUNTIFS(Zeiterfassung!$C:$C,$B16,Zeiterfassung!$E:$E,"Krank",Zeiterfassung!$A:$A,">="&$B$6,Zeiterfassung!$A:$A,"<="&$B$7) -> 0 | I16: =COUNTIFS(Zeiterfassung!$C:$C,$B16,Zeiterfassung!$E:$E,"Fortbildung",Zeiterfassung!$A:$A,">="&$B$6,Zeiterfassung!$A:$A,"<="&$B$7) -> 0
B17: Summe / Ø | D17: =SUM(D12:D16) -> 407 | E17: =SUM(E12:E16) -> 411.25 | F17: =SUM(F12:F16) -> 4.25 | G17: =SUM(G12:G16) -> 2 | H17: =SUM(H12:H16) -> 1 | I17: =SUM(I12:I16) -> 1
A19: LEGENDE & ANLEITUNG
A20: 1. | B20: Stammdaten im Blatt „Mitarbeiter“ pflegen (Name, Abteilung, Wochenstunden). Das Tagessoll wird automatisch berechnet.
A21: 2. | B21: Zeiten im Blatt „Zeiterfassung“ erfassen: Datum, Mitarbeiter, Kategorie sowie Beginn/Ende/Pause. Ist-Std., Soll-Std. und Saldo rechnen sich automatisch.
A22: 3. | B22: Diese Übersicht wertet den oben gewählten Zeitraum (von/bis) automatisch je Mitarbeiter aus.
A24: Kategorien: | B24: Arbeit = gearbeitete Zeit · Urlaub · Krank · Feiertag · Fortbildung
A25: Gutschrift: | B25: Bei Urlaub, Krank und Feiertag wird das Tagessoll gutgeschrieben (Saldo = 0). Fortbildung zählt als gearbeitete Zeit.
A26: Saldo: | B26: Grün = Überstunden (+), Rot = Minusstunden (−). Alle Stunden sind Dezimalstunden (z. B. 8,50 = 8 Std 30 Min).
A27: Eingabe: | B27: Gelb hinterlegte Zellen sind zum Ausfüllen vorgesehen. Neue Zeilen: Formeln der letzten Zeile nach unten kopieren.

Sheet Zeiterfassung
A1: ARBEITSZEITERFASSUNG
A2: Tägliche Zeiterfassung für mehrere Mitarbeiter · Muster GmbH · Jahr 2026
A4: Datum | B4: Tag | C4: Mitarbeiter | D4: Abteilung | E4: Kategorie | F4: Beginn | G4: Ende | H4: Pause | I4: Ist-Std. | J4: Soll-Std. | K4: Saldo | L4: Notiz
A5: 46143 | B5: =IF($A5="","",CHOOSE(WEEKDAY($A5,2),"Mo","Di","Mi","Do","Fr","Sa","So")) -> Fr | C5: Anna Bergmann | D5: =IF($C5="","",IFERROR(INDEX(Mitarbeiter!$C$5:$C$9,MATCH($C5,Mitarbeiter!$B$5:$B$9,0)),"")) -> Verwaltung | E5: Feiertag | I5: =IF($A5="","",IF(OR($E5="Arbeit",$E5="Fortbildung"),MAX(0,($G5-$F5-$H5)*24),$J5)) -> 8 | J5: =IF($A5="","",IF(WEEKDAY($A5,2)>=6,0,IFERROR(INDEX(Mitarbeiter!$F$5:$F$9,MATCH($C5,Mitarbeiter!$B$5:$B$9,0)),0))) -> 8 | K5: =IF($A5="","",$I5-$J5) -> 0 | L5: Tag der Arbeit
A6: 46143 | B6: =IF($A6="","",CHOOSE(WEEKDAY($A6,2),"Mo","Di","Mi","Do","Fr","Sa","So")) -> Fr | C6: Thomas Vogel | D6: =IF($C6="","",IFERROR(INDEX(Mitarbeiter!$C$5:$C$9,MATCH($C6,Mitarbeiter!$B$5:$B$9,0)),"")) -> Vertrieb | E6: Feiertag | I6: =IF($A6="","",IF(OR($E6="Arbeit",$E6="Fortbildung"),MAX(0,($G6-$F6-$H6)*24),$J6)) -> 8 | J6: =IF($A6="","",IF(WEEKDAY($A6,2)>=6,0,IFERROR(INDEX(Mitarbeiter!$F$5:$F$9,MATCH($C6,Mitarbeiter!$B$5:$B$9,0)),0))) -> 8 | K6: =IF($A6="","",$I6-$J6) -> 0 | L6: Tag der Arbeit
A7: 46143 | B7: =IF($A7="","",CHOOSE(WEEKDAY($A7,2),"Mo","Di","Mi","Do","Fr","Sa","So")) -> Fr | C7: Sabine Krüger | D7: =IF($C7="","",IFERROR(INDEX(Mitarbeiter!$C$5:$C$9,MATCH($C7,Mitarbeiter!$B$5:$B$9,0)),"")) -> Produktion | E7: Feiertag | I7: =IF($A7="","",IF(OR($E7="Arbeit",$E7="Fortbildung"),MAX(0,($G7-$F7-$H7)*24),$J7)) -> 7 | J7: =IF($A7="","",IF(WEEKDAY($A7,2)>=6,0,IFERROR(INDEX(Mitarbeiter!$F$5:$F$9,MATCH($C7,Mitarbeiter!$B$5:$B$9,0)),0))) -> 7 | K7: =IF($A7="","",$I7-$J7) -> 0 | L7: Tag der Arbeit
A8: 46143 | B8: =IF($A8="","",CHOOSE(WEEKDAY($A8,2),"Mo","Di","Mi","Do","Fr","Sa","So")) -> Fr | C8: Michael Wagner | D8: =IF($C8="","",IFERROR(INDEX(Mitarbeiter!$C$5:$C$9,MATCH($C8,Mitarbeiter!$B$5:$B$9,0)),"")) -> IT | E8: Feiertag | I8: =IF($A8="","",IF(OR($E8="Arbeit",$E8="Fortbildung"),MAX(0,($G8-$F8-$H8)*24),$J8)) -> 8 | J8: =IF($A8="","",IF(WEEKDAY($A8,2)>=6,0,IFERROR(INDEX(Mitarbeiter!$F$5:$F$9,MATCH($C8,Mitarbeiter!$B$5:$B$9,0)),0))) -> 8 | K8: =IF($A8="","",$I8-$J8) -> 0 | L8: Tag der Arbeit
A9: 46143 | B9: =IF($A9="","",CHOOSE(WEEKDAY($A9,2),"Mo","Di","Mi","Do","Fr","Sa","So")) -> Fr | C9: Julia Hoffmann | D9: =IF($C9="","",IFERROR(INDEX(Mitarbeiter!$C$5:$C$9,MATCH($C9,Mitarbeiter!$B$5:$B$9,0)),"")) -> Verwaltung | E9: Feiertag | I9: =IF($A9="","",IF(OR($E9="Arbeit",$E9="Fortbildung"),MAX(0,($G9-$F9-$H9)*24),$J9)) -> 6 | J9: =IF($A9="","",IF(WEEKDAY($A9,2)>=6,0,IFERROR(INDEX(Mitarbeiter!$F$5:$F$9,MATCH($C9,Mitarbeiter!$B$5:$B$9,0)),0))) -> 6 | K9: =IF($A9="","",$I9-$J9) -> 0 | L9: Tag der Arbeit
A10: 46146 | B10: =IF($A10="","",CHOOSE(WEEKDAY($A10,2),"Mo","Di","Mi","Do","Fr","Sa","So")) -> Mo | C10: Anna Bergmann | D10: =IF($C10="","",IFERROR(INDEX(Mitarbeiter!$C$5:$C$9,MATCH($C10,Mitarbeiter!$B$5:$B$9,0)),"")) -> Verwaltung | E10: Arbeit | F10: 0.33333333 | G10: 0.6875 | H10: 0.020833333 | I10: =IF($A10="","",IF(OR($E10="Arbeit",$E10="Fortbildung"),MAX(0,($G10-$F10-$H10)*24),$J10)) -> 8 | J10: =IF($A10="","",IF(WEEKDAY($A10,2)>=6,0,IFERROR(INDEX(Mitarbeiter!$F$5:$F$9,MATCH($C10,Mitarbeiter!$B$5:$B$9,0)),0))) -> 8 | K10: =IF($A10="","",$I10-$J10) -> 0
A11: 46146 | B11: =IF($A11="","",CHOOSE(WEEKDAY($A11,2),"Mo","Di","Mi","Do","Fr","Sa","So")) -> Mo | C11: Thomas Vogel | D11: =IF($C11="","",IFERROR(INDEX(Mitarbeiter!$C$5:$C$9,MATCH($C11,Mitarbeiter!$B$5:$B$9,0)),"")) -> Vertrieb | E11: Arbeit | F11: 0.35416667 | G11: 0.72916667 | H11: 0.041666667 | I11: =IF($A11="","",IF(OR($E11="Arbeit",$E11="Fortbildung"),MAX(0,($G11-$F11-$H11)*24),$J11)) -> 8 | J11: =IF($A11="","",IF(WEEKDAY($A11,2)>=6,0,IFERROR(INDEX(Mitarbeiter!$F$5:$F$9,MATCH($C11,Mitarbeiter!$B$5:$B$9,0)),0))) -> 8 | K11: =IF($A11="","",$I11-$J11) -> 0
A12: 46146 | B12: =IF($A12="","",CHOOSE(WEEKDAY($A12,2),"Mo","Di","Mi","Do","Fr","Sa","So")) -> Mo | C12: Sabine Krüger | D12: =IF($C12="","",IFERROR(INDEX(Mitarbeiter!$C$5:$C$9,MATCH($C12,Mitarbeiter!$B$5:$B$9,0)),"")) -> Produktion | E12: Arbeit | F12: 0.29166667 | G12: 0.60416667 | H12: 0.020833333 | I12: =IF($A12="","",IF(OR($E12="Arbeit",$E12="Fortbildung"),MAX(0,($G12-$F12-$H12)*24),$J12)) -> 7 | J12: =IF($A12="","",IF(WEEKDAY($A12,2)>=6,0,IFERROR(INDEX(Mitarbeiter!$F$5:$F$9,MATCH($C12,Mitarbeiter!$B$5:$B$9,0)),0))) -> 7 | K12: =IF($A12="","",$I12-$J12) -> 0
A13: 46146 | B13: =IF($A13="","",CHOOSE(WEEKDAY($A13,2),"Mo","Di","Mi","Do","Fr","Sa","So")) -> Mo | C13: Michael Wagner | D13: =IF($C13="","",IFERROR(INDEX(Mitarbeiter!$C$5:$C$9,MATCH($C13,Mitarbeiter!$B$5:$B$9,0)),"")) -> IT | E13: Arbeit | F13: 0.375 | G13: 0.75 | H13: 0.041666667 | I13: =IF($A13="","",IF(OR($E13="Arbeit",$E13="Fortbildung"),MAX(0,($G13-$F13-$H13)*24),$J13)) -> 8 | J13: =IF($A13="","",IF(WEEKDAY($A13,2)>=6,0,IFERROR(INDEX(Mitarbeiter!$F$5:$F$9,MATCH($C13,Mitarbeiter!$B$5:$B$9,0)),0))) -> 8 | K13: =IF($A13="","",$I13-$J13) -> 0
A14: 46146 | B14: =IF($A14="","",CHOOSE(WEEKDAY($A14,2),"Mo","Di","Mi","Do","Fr","Sa","So")) -> Mo | C14: Julia Hoffmann | D14: =IF($C14="","",IFERROR(INDEX(Mitarbeiter!$C$5:$C$9,MATCH($C14,Mitarbeiter!$B$5:$B$9,0)),"")) -> Verwaltung | E14: Arbeit | F14: 0.35416667 | G14: 0.6875 | H14: 0.020833333 | I14: =IF($A14="","",IF(OR($E14="Arbeit",$E14="Fortbildung"),MAX(0,($G14-$F14-$H14)*24),$J14)) -> 7.5 | J14: =IF($A14="","",IF(WEEKDAY($A14,2)>=6,0,IFERROR(INDEX(Mitarbeiter!$F$5:$F$9,MATCH($C14,Mitarbeiter!$B$5:$B$9,0)),0))) -> 6 | K14: =IF($A14="","",$I14-$J14) -> 1.5 | L14: Vertretung Empfang
A15: 46147 | B15: =IF($A15="","",CHOOSE(WEEKDAY($A15,2),"Mo","Di","Mi","Do","Fr","Sa","So")) -> Di | C15: Anna Bergmann | D15: =IF($C15="","",IFERROR(INDEX(Mitarbeiter!$C$5:$C$9,MATCH($C15,Mitarbeiter!$B$5:$B$9,0)),"")) -> Verwaltung | E15: Arbeit | F15: 0.33333333 | G15: 0.6875 | H15: 0.020833333 | I15: =IF($A15="","",IF(OR($E15="Arbeit",$E15="Fortbildung"),MAX(0,($G15-$F15-$H15)*24),$J15)) -> 8 | J15: =IF($A15="","",IF(WEEKDAY($A15,2)>=6,0,IFERROR(INDEX(Mitarbeiter!$F$5:$F$9,MATCH($C15,Mitarbeiter!$B$5:$B$9,0)),0))) -> 8 | K15: =IF($A15="","",$I15-$J15) -> 0
A16: 46147 | B16: =IF($A16="","",CHOOSE(WEEKDAY($A16,2),"Mo","Di","Mi","Do","Fr","Sa","So")) -> Di | C16: Thomas Vogel | D16: =IF($C16="","",IFERROR(INDEX(Mitarbeiter!$C$5:$C$9,MATCH($C16,Mitarbeiter!$B$5:$B$9,0)),"")) -> Vertrieb | E16: Arbeit | F16: 0.35416667 | G16: 0.79166667 | H16: 0.041666667 | I16: =IF($A16="","",IF(OR($E16="Arbeit",$E16="Fortbildung"),MAX(0,($G16-$F16-$H16)*24),$J16)) -> 9.5 | J16: =IF($A16="","",IF(WEEKDAY($A16,2)>=6,0,IFERROR(INDEX(Mitarbeiter!$F$5:$F$9,MATCH($C16,Mitarbeiter!$B$5:$B$9,0)),0))) -> 8 | K16: =IF($A16="","",$I16-$J16) -> 1.5 | L16: Projektabschluss Angebot
A17: 46147 | B17: =IF($A17="","",CHOOSE(WEEKDAY($A17,2),"Mo","Di","Mi","Do","Fr","Sa","So")) -> Di | C17: Sabine Krüger | D17: =IF($C17="","",IFERROR(INDEX(Mitarbeiter!$C$5:$C$9,MATCH($C17,Mitarbeiter!$B$5:$B$9,0)),"")) -> Produktion | E17: Arbeit | F17: 0.29166667 | G17: 0.60416667 | H17: 0.020833333 | I17: =IF($A17="","",IF(OR($E17="Arbeit",$E17="Fortbildung"),MAX(0,($G17-$F17-$H17)*24),$J17)) -> 7 | J17: =IF($A17="","",IF(WEEKDAY($A17,2)>=6,0,IFERROR(INDEX(Mitarbeiter!$F$5:$F$9,MATCH($C17,Mitarbeiter!$B$5:$B$9,0)),0))) -> 7 | K17: =IF($A17="","",$I17-$J17) -> 0
A18: 46147 | B18: =IF($A18="","",CHOOSE(WEEKDAY($A18,2),"Mo","Di","Mi","Do","Fr","Sa","So")) -> Di | C18: Michael Wagner | D18: =IF($C18="","",IFERROR(INDEX(Mitarbeiter!$C$5:$C$9,MATCH($C18,Mitarbeiter!$B$5:$B$9,0)),"")) -> IT | E18: Arbeit | F18: 0.375 | G18: 0.75 | H18: 0.041666667 | I18: =IF($A18="","",IF(OR($E18="Arbeit",$E18="Fortbildung"),MAX(0,($G18-$F18-$H18)*24),$J18)) -> 8 | J18: =IF($A18="","",IF(WEEKDAY($A18,2)>=6,0,IFERROR(INDEX(Mitarbeiter!$F$5:$F$9,MATCH($C18,Mitarbeiter!$B$5:$B$9,0)),0))) -> 8 | K18: =IF($A18="","",$I18-$J18) -> 0
A19: 46147 | B19: =IF($A19="","",CHOOSE(WEEKDAY($A19,2),"Mo","Di","Mi","Do","Fr","Sa","So")) -> Di | C19: Julia Hoffmann | D19: =IF($C19="","",IFERROR(INDEX(Mitarbeiter!$C$5:$C$9,MATCH($C19,Mitarbeiter!$B$5:$B$9,0)),"")) -> Verwaltung | E19: Arbeit | F19: 0.35416667 | G19: 0.625 | H19: 0.020833333 | I19: =IF($A19="","",IF(OR($E19="Arbeit",$E19="Fortbildung"),MAX(0,($G19-$F19-$H19)*24),$J19)) -> 6 | J19: =IF($A19="","",IF(WEEKDAY($A19,2)>=6,0,IFERROR(INDEX(Mitarbeiter!$F$5:$F$9,MATCH($C19,Mitarbeiter!$B$5:$B$9,0)),0))) -> 6 | K19: =IF($A19="","",$I19-$J19) -> 0
A20: 46148 | B20: =IF($A20="","",CHOOSE(WEEKDAY($A20,2),"Mo","Di","Mi","Do","Fr","Sa","So")) -> Mi | C20: Anna Bergmann | D20: =IF($C20="","",IFERROR(INDEX(Mitarbeiter!$C$5:$C$9,MATCH($C20,Mitarbeiter!$B$5:$B$9,0)),"")) -> Verwaltung | E20: Arbeit | F20: 0.33333333 | G20: 0.6875 | H20: 0.020833333 | I20: =IF($A20="","",IF(OR($E20="Arbeit",$E20="Fortbildung"),MAX(0,($G20-$F20-$H20)*24),$J20)) -> 8 | J20: =IF($A20="","",IF(WEEKDAY($A20,2)>=6,0,IFERROR(INDEX(Mitarbeiter!$F$5:$F$9,MATCH($C20,Mitarbeiter!$B$5:$B$9,0)),0))) -> 8 | K20: =IF($A20="","",$I20-$J20) -> 0
A21: 46148 | B21: =IF($A21="","",CHOOSE(WEEKDAY($A21,2),"Mo","Di","Mi","Do","Fr","Sa","So")) -> Mi | C21: Thomas Vogel | D21: =IF($C21="","",IFERROR(INDEX(Mitarbeiter!$C$5:$C$9,MATCH($C21,Mitarbeiter!$B$5:$B$9,0)),"")) -> Vertrieb | E21: Krank | I21: =IF($A21="","",IF(OR($E21="Arbeit",$E21="Fortbildung"),MAX(0,($G21-$F21-$H21)*24),$J21)) -> 8 | J21: =IF($A21="","",IF(WEEKDAY($A21,2)>=6,0,IFERROR(INDEX(Mitarbeiter!$F$5:$F$9,MATCH($C21,Mitarbeiter!$B$5:$B$9,0)),0))) -> 8 | K21: =IF($A21="","",$I21-$J21) -> 0 | L21: Krankmeldung eingegangen
A22: 46148 | B22: =IF($A22="","",CHOOSE(WEEKDAY($A22,2),"Mo","Di","Mi","Do","Fr","Sa","So")) -> Mi | C22: Sabine Krüger | D22: =IF($C22="","",IFERROR(INDEX(Mitarbeiter!$C$5:$C$9,MATCH($C22,Mitarbeiter!$B$5:$B$9,0)),"")) -> Produktion | E22: Arbeit | F22: 0.29166667 | G22: 0.60416667 | H22: 0.020833333 | I22: =IF($A22="","",IF(OR($E22="Arbeit",$E22="Fortbildung"),MAX(0,($G22-$F22-$H22)*24),$J22)) -> 7 | J22: =IF($A22="","",IF(WEEKDAY($A22,2)>=6,0,IFERROR(INDEX(Mitarbeiter!$F$5:$F$9,MATCH($C22,Mitarbeiter!$B$5:$B$9,0)),0))) -> 7 | K22: =IF($A22="","",$I22-$J22) -> 0
A23: 46148 | B23: =IF($A23="","",CHOOSE(WEEKDAY($A23,2),"Mo","Di","Mi","Do","Fr","Sa","So")) -> Mi | C23: Michael Wagner | D23: =IF($C23="","",IFERROR(INDEX(Mitarbeiter!$C$5:$C$9,MATCH($C23,Mitarbeiter!$B$5:$B$9,0)),"")) -> IT | E23: Arbeit | F23: 0.375 | G23: 0.75 | H23: 0.041666667 | I23: =IF($A23="","",IF(OR($E23="Arbeit",$E23="Fortbildung"),MAX(0,($G23-$F23-$H23)*24),$J23)) -> 8 | J23: =IF($A23="","",IF(WEEKDAY($A23,2)>=6,0,IFERROR(INDEX(Mitarbeiter!$F$5:$F$9,MATCH($C23,Mitarbeiter!$B$5:$B$9,0)),0))) -> 8 | K23: =IF($A23="","",$I23-$J23) -> 0
A24: 46148 | B24: =IF($A24="","",CHOOSE(WEEKDAY($A24,2),"Mo","Di","Mi","Do","Fr","Sa","So")) -> Mi | C24: Julia Hoffmann | D24: =IF($C24="","",IFERROR(INDEX(Mitarbeiter!$C$5:$C$9,MATCH($C24,Mitarbeiter!$B$5:$B$9,0)),"")) -> Verwaltung | E24: Arbeit | F24: 0.35416667 | G24: 0.625 | H24: 0.020833333 | I24: =IF($A24="","",IF(OR($E24="Arbeit",$E24="Fortbildung"),MAX(0,($G24-$F24-$H24)*24),$J24)) -> 6 | J24: =IF($A24="","",IF(WEEKDAY($A24,2)>=6,0,IFERROR(INDEX(Mitarbeiter!$F$5:$F$9,MATCH($C24,Mitarbeiter!$B$5:$B$9,0)),0))) -> 6 | K24: =IF($A24="","",$I24-$J24) -> 0
A25: 46149 | B25: =IF($A25="","",CHOOSE(WEEKDAY($A25,2),"Mo","Di","Mi","Do","Fr","Sa","So")) -> Do | C25: Anna Bergmann | D25: =IF($C25="","",IFERROR(INDEX(Mitarbeiter!$C$5:$C$9,MATCH($C25,Mitarbeiter!$B$5:$B$9,0)),"")) -> Verwaltung | E25: Arbeit | F25: 0.33333333 | G25: 0.625 | H25: 0.020833333 | I25: =IF($A25="","",IF(OR($E25="Arbeit",$E25="Fortbildung"),MAX(0,($G25-$F25-$H25)*24),$J25)) -> 6.5 | J25: =IF($A25="","",IF(WEEKDAY($A25,2)>=6,0,IFERROR(INDEX(Mitarbeiter!$F$5:$F$9,MATCH($C25,Mitarbeiter!$B$5:$B$9,0)),0))) -> 8 | K25: =IF($A25="","",$I25-$J25) -> -1.5 | L25: Arzttermin, früher gegangen
A26: 46149 | B26: =IF($A26="","",CHOOSE(WEEKDAY($A26,2),"Mo","Di","Mi","Do","Fr","Sa","So")) -> Do | C26: Thomas Vogel | D26: =IF($C26="","",IFERROR(INDEX(Mitarbeiter!$C$5:$C$9,MATCH($C26,Mitarbeiter!$B$5:$B$9,0)),"")) -> Vertrieb | E26: Arbeit | F26: 0.35416667 | G26: 0.72916667 | H26: 0.041666667 | I26: =IF($A26="","",IF(OR($E26="Arbeit",$E26="Fortbildung"),MAX(0,($G26-$F26-$H26)*24),$J26)) -> 8 | J26: =IF($A26="","",IF(WEEKDAY($A26,2)>=6,0,IFERROR(INDEX(Mitarbeiter!$F$5:$F$9,MATCH($C26,Mitarbeiter!$B$5:$B$9,0)),0))) -> 8 | K26: =IF($A26="","",$I26-$J26) -> 0
A27: 46149 | B27: =IF($A27="","",CHOOSE(WEEKDAY($A27,2),"Mo","Di","Mi","Do","Fr","Sa","So")) -> Do | C27: Sabine Krüger | D27: =IF($C27="","",IFERROR(INDEX(Mitarbeiter!$C$5:$C$9,MATCH($C27,Mitarbeiter!$B$5:$B$9,0)),"")) -> Produktion | E27: Arbeit | F27: 0.29166667 | G27: 0.60416667 | H27: 0.020833333 | I27: =IF($A27="","",IF(OR($E27="Arbeit",$E27="Fortbildung"),MAX(0,($G27-$F27-$H27)*24),$J27)) -> 7 | J27: =IF($A27="","",IF(WEEKDAY($A27,2)>=6,0,IFERROR(INDEX(Mitarbeiter!$F$5:$F$9,MATCH($C27,Mitarbeiter!$B$5:$B$9,0)),0))) -> 7 | K27: =IF($A27="","",$I27-$J27) -> 0
A28: 46149 | B28: =IF($A28="","",CHOOSE(WEEKDAY($A28,2),"Mo","Di","Mi","Do","Fr","Sa","So")) -> Do | C28: Michael Wagner | D28: =IF($C28="","",IFERROR(INDEX(Mitarbeiter!$C$5:$C$9,MATCH($C28,Mitarbeiter!$B$5:$B$9,0)),"")) -> IT | E28: Arbeit | F28: 0.375 | G28: 0.75 | H28: 0.041666667 | I28: =IF($A28="","",IF(OR($E28="Arbeit",$E28="Fortbildung"),MAX(0,($G28-$F28-$H28)*24),$J28)) -> 8 | J28: =IF($A28="","",IF(WEEKDAY($A28,2)>=6,0,IFERROR(INDEX(Mitarbeiter!$F$5:$F$9,MATCH($C28,Mitarbeiter!$B$5:$B$9,0)),0))) -> 8 | K28: =IF($A28="","",$I28-$J28) -> 0
A29: 46149 | B29: =IF($A29="","",CHOOSE(WEEKDAY($A29,2),"Mo","Di","Mi","Do","Fr","Sa","So")) -> Do | C29: Julia Hoffmann | D29: =IF($C29="","",IFERROR(INDEX(Mitarbeiter!$C$5:$C$9,MATCH($C29,Mitarbeiter!$B$5:$B$9,0)),"")) -> Verwaltung | E29: Arbeit | F29: 0.35416667 | G29: 0.625 | H29: 0.020833333 | I29: =IF($A29="","",IF(OR($E29="Arbeit",$E29="Fortbildung"),MAX(0,($G29-$F29-$H29)*24),$J29)) -> 6 | J29: =IF($A29="","",IF(WEEKDAY($A29,2)>=6,0,IFERROR(INDEX(Mitarbeiter!$F$5:$F$9,MATCH($C29,Mitarbeiter!$B$5:$B$9,0)),0))) -> 6 | K29: =IF($A29="","",$I29-$J29) -> 0
A30: 46150 | B30: =IF($A30="","",CHOOSE(WEEKDAY($A30,2),"Mo","Di","Mi","Do","Fr","Sa","So")) -> Fr | C30: Anna Bergmann | D30: =IF($C30="","",IFERROR(INDEX(Mitarbeiter!$C$5:$C$9,MATCH($C30,Mitarbeiter!$B$5:$B$9,0)),"")) -> Verwaltung | E30: Arbeit | F30: 0.33333333 | G30: 0.6875 | H30: 0.020833333 | I30: =IF($A30="","",IF(OR($E30="Arbeit",$E30="Fortbildung"),MAX(0,($G30-$F30-$H30)*24),$J30)) -> 8 | J30: =IF($A30="","",IF(WEEKDAY($A30,2)>=6,0,IFERROR(INDEX(Mitarbeiter!$F$5:$F$9,MATCH($C30,Mitarbeiter!$B$5:$B$9,0)),0))) -> 8 | K30: =IF($A30="","",$I30-$J30) -> 0
A31: 46150 | B31: =IF($A31="","",CHOOSE(WEEKDAY($A31,2),"Mo","Di","Mi","Do","Fr","Sa","So")) -> Fr | C31: Thomas Vogel | D31: =IF($C31="","",IFERROR(INDEX(Mitarbeiter!$C$5:$C$9,MATCH($C31,Mitarbeiter!$B$5:$B$9,0)),"")) -> Vertrieb | E31: Arbeit | F31: 0.35416667 | G31: 0.72916667 | H31: 0.041666667 | I31: =IF($A31="","",IF(OR($E31="Arbeit",$E31="Fortbildung"),MAX(0,($G31-$F31-$H31)*24),$J31)) -> 8 | J31: =IF($A31="","",IF(WEEKDAY($A31,2)>=6,0,IFERROR(INDEX(Mitarbeiter!$F$5:$F$9,MATCH($C31,Mitarbeiter!$B$5:$B$9,0)),0))) -> 8 | K31: =IF($A31="","",$I31-$J31) -> 0
A32: 46150 | B32: =IF($A32="","",CHOOSE(WEEKDAY($A32,2),"Mo","Di","Mi","Do","Fr","Sa","So")) -> Fr | C32: Sabine Krüger | D32: =IF($C32="","",IFERROR(INDEX(Mitarbeiter!$C$5:$C$9,MATCH($C32,Mitarbeiter!$B$5:$B$9,0)),"")) -> Produktion | E32: Arbeit | F32: 0.29166667 | G32: 0.60416667 | H32: 0.020833333 | I32: =IF($A32="","",IF(OR($E32="Arbeit",$E32="Fortbildung"),MAX(0,($G32-$F32-$H32)*24),$J32)) -> 7 | J32: =IF($A32="","",IF(WEEKDAY($A32,2)>=6,0,IFERROR(INDEX(Mitarbeiter!$F$5:$F$9,MATCH($C32,Mitarbeiter!$B$5:$B$9,0)),0))) -> 7 | K32: =IF($A32="","",$I32-$J32) -> 0
A33: 46150 | B33: =IF($A33="","",CHOOSE(WEEKDAY($A33,2),"Mo","Di","Mi","Do","Fr","Sa","So")) -> Fr | C33: Michael Wagner | D33: =IF($C33="","",IFERROR(INDEX(Mitarbeiter!$C$5:$C$9,MATCH($C33,Mitarbeiter!$B$5:$B$9,0)),"")) -> IT | E33: Fortbildung | F33: 0.375 | G33: 0.75 | H33: 0.041666667 | I33: =IF($A33="","",IF(OR($E33="Arbeit",$E33="Fortbildung"),MAX(0,($G33-$F33-$H33)*24),$J33)) -> 8 | J33: =IF($A33="","",IF(WEEKDAY($A33,2)>=6,0,IFERROR(INDEX(Mitarbeiter!$F$5:$F$9,MATCH($C33,Mitarbeiter!$B$5:$B$9,0)),0))) -> 8 | K33: =IF($A33="","",$I33-$J33) -> 0 | L33: Schulung IT-Sicherheit
A34: 46150 | B34: =IF($A34="","",CHOOSE(WEEKDAY($A34,2),"Mo","Di","Mi","Do","Fr","Sa","So")) -> Fr | C34: Julia Hoffmann | D34: =IF($C34="","",IFERROR(INDEX(Mitarbeiter!$C$5:$C$9,MATCH($C34,Mitarbeiter!$B$5:$B$9,0)),"")) -> Verwaltung | E34: Arbeit | F34: 0.35416667 | G34: 0.625 | H34: 0.020833333 | I34: =IF($A34="","",IF(OR($E34="Arbeit",$E34="Fortbildung"),MAX(0,($G34-$F34-$H34)*24),$J34)) -> 6 | J34: =IF($A34="","",IF(WEEKDAY($A34,2)>=6,0,IFERROR(INDEX(Mitarbeiter!$F$5:$F$9,MATCH($C34,Mitarbeiter!$B$5:$B$9,0)),0))) -> 6 | K34: =IF($A34="","",$I34-$J34) -> 0
A35: 46153 | B35: =IF($A35="","",CHOOSE(WEEKDAY($A35,2),"Mo","Di","Mi","Do","Fr","Sa","So")) -> Mo | C35: Anna Bergmann | D35: =IF($C35="","",IFERROR(INDEX(Mitarbeiter!$C$5:$C$9,MATCH($C35,Mitarbeiter!$B$5:$B$9,0)),"")) -> Verwaltung | E35: Urlaub | I35: =IF($A35="","",IF(OR($E35="Arbeit",$E35="Fortbildung"),MAX(0,($G35-$F35-$H35)*24),$J35)) -> 8 | J35: =IF($A35="","",IF(WEEKDAY($A35,2)>=6,0,IFERROR(INDEX(Mitarbeiter!$F$5:$F$9,MATCH($C35,Mitarbeiter!$B$5:$B$9,0)),0))) -> 8 | K35: =IF($A35="","",$I35-$J35) -> 0 | L35: Jahresurlaub
A36: 46153 | B36: =IF($A36="","",CHOOSE(WEEKDAY($A36,2),"Mo","Di","Mi","Do","Fr","Sa","So")) -> Mo | C36: Thomas Vogel | D36: =IF($C36="","",IFERROR(INDEX(Mitarbeiter!$C$5:$C$9,MATCH($C36,Mitarbeiter!$B$5:$B$9,0)),"")) -> Vertrieb | E36: Arbeit | F36: 0.35416667 | G36: 0.72916667 | H36: 0.041666667 | I36: =IF($A36="","",IF(OR($E36="Arbeit",$E36="Fortbildung"),MAX(0,($G36-$F36-$H36)*24),$J36)) -> 8 | J36: =IF($A36="","",IF(WEEKDAY($A36,2)>=6,0,IFERROR(INDEX(Mitarbeiter!$F$5:$F$9,MATCH($C36,Mitarbeiter!$B$5:$B$9,0)),0))) -> 8 | K36: =IF($A36="","",$I36-$J36) -> 0
A37: 46153 | B37: =IF($A37="","",CHOOSE(WEEKDAY($A37,2),"Mo","Di","Mi","Do","Fr","Sa","So")) -> Mo | C37: Sabine Krüger | D37: =IF($C37="","",IFERROR(INDEX(Mitarbeiter!$C$5:$C$9,MATCH($C37,Mitarbeiter!$B$5:$B$9,0)),"")) -> Produktion | E37: Arbeit | F37: 0.29166667 | G37: 0.60416667 | H37: 0.020833333 | I37: =IF($A37="","",IF(OR($E37="Arbeit",$E37="Fortbildung"),MAX(0,($G37-$F37-$H37)*24),$J37)) -> 7 | J37: =IF($A37="","",IF(WEEKDAY($A37,2)>=6,0,IFERROR(INDEX(Mitarbeiter!$F$5:$F$9,MATCH($C37,Mitarbeiter!$B$5:$B$9,0)),0))) -> 7 | K37: =IF($A37="","",$I37-$J37) -> 0
A38: 46153 | B38: =IF($A38="","",CHOOSE(WEEKDAY($A38,2),"Mo","Di","Mi","Do","Fr","Sa","So")) -> Mo | C38: Michael Wagner | D38: =IF($C38="","",IFERROR(INDEX(Mitarbeiter!$C$5:$C$9,MATCH($C38,Mitarbeiter!$B$5:$B$9,0)),"")) -> IT | E38: Arbeit | F38: 0.375 | G38: 0.75 | H38: 0.041666667 | I38: =IF($A38="","",IF(OR($E38="Arbeit",$E38="Fortbildung"),MAX(0,($G38-$F38-$H38)*24),$J38)) -> 8 | J38: =IF($A38="","",IF(WEEKDAY($A38,2)>=6,0,IFERROR(INDEX(Mitarbeiter!$F$5:$F$9,MATCH($C38,Mitarbeiter!$B$5:$B$9,0)),0))) -> 8 | K38: =IF($A38="","",$I38-$J38) -> 0
A39: 46153 | B39: =IF($A39="","",CHOOSE(WEEKDAY($A39,2),"Mo","Di","Mi","Do","Fr","Sa","So")) -> Mo | C39: Julia Hoffmann | D39: =IF($C39="","",IFERROR(INDEX(Mitarbeiter!$C$5:$C$9,MATCH($C39,Mitarbeiter!$B$5:$B$9,0)),"")) -> Verwaltung | E39: Arbeit | F39: 0.35416667 | G39: 0.625 | H39: 0.020833333 | I39: =IF($A39="","",IF(OR($E39="Arbeit",$E39="Fortbildung"),MAX(0,($G39-$F39-$H39)*24),$J39)) -> 6 | J39: =IF($A39="","",IF(WEEKDAY($A39,2)>=6,0,IFERROR(INDEX(Mitarbeiter!$F$5:$F$9,MATCH($C39,Mitarbeiter!$B$5:$B$9,0)),0))) -> 6 | K39: =IF($A39="","",$I39-$J39) -> 0
A40: 46154 | B40: =IF($A40="","",CHOOSE(WEEKDAY($A40,2),"Mo","Di","Mi","Do","Fr","Sa","So")) -> Di | C40: Anna Bergmann | D40: =IF($C40="","",IFERROR(INDEX(Mitarbeiter!$C$5:$C$9,MATCH($C40,Mitarbeiter!$B$5:$B$9,0)),"")) -> Verwaltung | E40: Urlaub | I40: =IF($A40="","",IF(OR($E40="Arbeit",$E40="Fortbildung"),MAX(0,($G40-$F40-$H40)*24),$J40)) -> 8 | J40: =IF($A40="","",IF(WEEKDAY($A40,2)>=6,0,IFERROR(INDEX(Mitarbeiter!$F$5:$F$9,MATCH($C40,Mitarbeiter!$B$5:$B$9,0)),0))) -> 8 | K40: =IF($A40="","",$I40-$J40) -> 0 | L40: Jahresurlaub
A41: 46154 | B41: =IF($A41="","",CHOOSE(WEEKDAY($A41,2),"Mo","Di","Mi","Do","Fr","Sa","So")) -> Di | C41: Thomas Vogel | D41: =IF($C41="","",IFERROR(INDEX(Mitarbeiter!$C$5:$C$9,MATCH($C41,Mitarbeiter!$B$5:$B$9,0)),"")) -> Vertrieb | E41: Arbeit | F41: 0.35416667 | G41: 0.72916667 | H41: 0.041666667 | I41: =IF($A41="","",IF(OR($E41="Arbeit",$E41="Fortbildung"),MAX(0,($G41-$F41-$H41)*24),$J41)) -> 8 | J41: =IF($A41="","",IF(WEEKDAY($A41,2)>=6,0,IFERROR(INDEX(Mitarbeiter!$F$5:$F$9,MATCH($C41,Mitarbeiter!$B$5:$B$9,0)),0))) -> 8 | K41: =IF($A41="","",$I41-$J41) -> 0
...

Sheet Mitarbeiter
A1: STAMMDATEN · MITARBEITER
A2: Muster GmbH · Personalverwaltung · Geschäftsjahr 2026
A4: Personalnr. | B4: Name | C4: Abteilung | D4: Position | E4: Wochenstd. | F4: Tagessoll (Std.) | G4: Eintrittsdatum | H4: Urlaubsanspruch (Tage)
A5: 1001 | B5: Anna Bergmann | C5: Verwaltung | D5: Sachbearbeiterin | E5: 40 | F5: =IF($E5="","",$E5/5) -> 8 | G5: 43525 | H5: 30
A6: 1002 | B6: Thomas Vogel | C6: Vertrieb | D6: Vertriebsmitarbeiter | E6: 40 | F6: =IF($E6="","",$E6/5) -> 8 | G6: 44454 | H6: 30
A7: 1003 | B7: Sabine Krüger | C7: Produktion | D7: Teamleiterin | E7: 35 | F7: =IF($E7="","",$E7/5) -> 7 | G7: 42522 | H7: 30
A8: 1004 | B8: Michael Wagner | C8: IT | D8: Systemadministrator | E8: 40 | F8: =IF($E8="","",$E8/5) -> 8 | G8: 44571 | H8: 28
A9: 1005 | B9: Julia Hoffmann | C9: Verwaltung | D9: Assistenz (Teilzeit) | E9: 30 | F9: =IF($E9="","",$E9/5) -> 6 | G9: 45019 | H9: 22
A11: Hinweis: Gelb hinterlegte Zellen bearbeiten. Das Tagessoll wird automatisch aus den Wochenstunden berechnet (Wochenstd. ÷ 5).
