Workbook

Sheet Übersicht
A1: ARBEITSZEITERFASSUNG · ÜBERSICHT
A2: Team-Auswertung · Muster GmbH · Jahr 2026
A4: EINSTELLUNGEN | F4: MITARBEITER | H4: IST-STUNDEN GESAMT
A5: Firmenname | B5: Muster GmbH | F5: =COUNTA($B$12:$B$16) -> 5 | H5: =SUM($E$12:$E$16) -> 411.25
A6: Auswertung von | B6: 46143 | F6: SALDO GESAMT (STD.) | H6: URLAUBSTAGE GESAMT
A7: Auswertung bis | B7: 46173 | F7: =SUM($F$12:$F$16) -> 4.25 | H7: =SUM($G$12:$G$16) -> 2
A9: TEAM-AUSWERTUNG IM ZEITRAUM
A11: Personalnr. | B11: Name | C11: Abteilung | D11: Soll-Std. | E11: Ist-Std. | F11: Saldo | G11: Urlaub (Tage) | H11: Krank (Tage) | I11: Fortbild. (Tage)
A12: =Mitarbeiter!A5 -> 1001 | B12: =Mitarbeiter!B5 -> Anna Bergmann | C12: =Mitarbeiter!C5 -> Verwaltung | D12: =SUMIFS(Zeiterfassung!$J:$J,Zeiterfassung!$C:$C,$B12,Zeiterfassung!$A:$A,">="&$B$6,Zeiterfassung!$A:$A,"<="&$B$7) -> 88 | E12: =SUMIFS(Zeiterfassung!$I:$I,Zeiterfassung!$C:$C,$B12,Zeiterfassung!$A:$A,">="&$B$6,Zeiterfassung!$A:$A,"<="&$B$7) -> 86.5 | F12: =$E12-$D12 -> -1.5 | G12: =COUNTIFS(Zeiterfassung!$C:$C,$B12,Zeiterfassung!$E:$E,"Urlaub",Zeiterfassung!$A:$A,">="&$B$6,Zeiterfassung!$A:$A,"<="&$B$7) -> 2 | H12: =COUNTIFS(Zeiterfassung!$C:$C,$B12,Zeiterfassung!$E:$E,"Krank",Zeiterfassung!$A:$A,">="&$B$6,Zeiterfassung!$A:$A,"<="&$B$7) -> 0 | I12: =COUNTIFS(Zeiterfassung!$C:$C,$B12,Zeiterfassung!$E:$E,"Fortbildung",Zeiterfassung!$A:$A,">="&$B$6,Zeiterfassung!$A:$A,"<="&$B$7) -> 0
A13: =Mitarbeiter!A6 -> 1002 | B13: =Mitarbeiter!B6 -> Thomas Vogel | C13: =Mitarbeiter!C6 -> Vertrieb | D13: =SUMIFS(Zeiterfassung!$J:$J,Zeiterfassung!$C:$C,$B13,Zeiterfassung!$A:$A,">="&$B$6,Zeiterfassung!$A:$A,"<="&$B$7) -> 88 | E13: =SUMIFS(Zeiterfassung!$I:$I,Zeiterfassung!$C:$C,$B13,Zeiterfassung!$A:$A,">="&$B$6,Zeiterfassung!$A:$A,"<="&$B$7) -> 89.5 | F13: =$E13-$D13 -> 1.5 | G13: =COUNTIFS(Zeiterfassung!$C:$C,$B13,Zeiterfassung!$E:$E,"Urlaub",Zeiterfassung!$A:$A,">="&$B$6,Zeiterfassung!$A:$A,"<="&$B$7) -> 0 | H13: =COUNTIFS(Zeiterfassung!$C:$C,$B13,Zeiterfassung!$E:$E,"Krank",Zeiterfassung!$A:$A,">="&$B$6,Zeiterfassung!$A:$A,"<="&$B$7) -> 1 | I13: =COUNTIFS(Zeiterfassung!$C:$C,$B13,Zeiterfassung!$E:$E,"Fortbildung",Zeiterfassung!$A:$A,">="&$B$6,Zeiterfassung!$A:$A,"<="&$B$7) -> 0
A14: =Mitarbeiter!A7 -> 1003 | B14: =Mitarbeiter!B7 -> Sabine Krüger | C14: =Mitarbeiter!C7 -> Produktion | D14: =SUMIFS(Zeiterfassung!$J:$J,Zeiterfassung!$C:$C,$B14,Zeiterfassung!$A:$A,">="&$B$6,Zeiterfassung!$A:$A,"<="&$B$7) -> 77 | E14: =SUMIFS(Zeiterfassung!$I:$I,Zeiterfassung!$C:$C,$B14,Zeiterfassung!$A:$A,">="&$B$6,Zeiterfassung!$A:$A,"<="&$B$7) -> 78 | F14: =$E14-$D14 -> 1 | G14: =COUNTIFS(Zeiterfassung!$C:$C,$B14,Zeiterfassung!$E:$E,"Urlaub",Zeiterfassung!$A:$A,">="&$B$6,Zeiterfassung!$A:$A,"<="&$B$7) -> 0 | H14: =COUNTIFS(Zeiterfassung!$C:$C,$B14,Zeiterfassung!$E:$E,"Krank",Zeiterfassung!$A:$A,">="&$B$6,Zeiterfassung!$A:$A,"<="&$B$7) -> 0 | I14: =COUNTIFS(Zeiterfassung!$C:$C,$B14,Zeiterfassung!$E:$E,"Fortbildung",Zeiterfassung!$A:$A,">="&$B$6,Zeiterfassung!$A:$A,"<="&$B$7) -> 0
A15: =Mitarbeiter!A8 -> 1004 | B15: =Mitarbeiter!B8 -> Michael Wagner | C15: =Mitarbeiter!C8 -> IT | D15: =SUMIFS(Zeiterfassung!$J:$J,Zeiterfassung!$C:$C,$B15,Zeiterfassung!$A:$A,">="&$B$6,Zeiterfassung!$A:$A,"<="&$B$7) -> 88 | E15: =SUMIFS(Zeiterfassung!$I:$I,Zeiterfassung!$C:$C,$B15,Zeiterfassung!$A:$A,">="&$B$6,Zeiterfassung!$A:$A,"<="&$B$7) -> 89.75 | F15: =$E15-$D15 -> 1.75 | G15: =COUNTIFS(Zeiterfassung!$C:$C,$B15,Zeiterfassung!$E:$E,"Urlaub",Zeiterfassung!$A:$A,">="&$B$6,Zeiterfassung!$A:$A,"<="&$B$7) -> 0 | H15: =COUNTIFS(Zeiterfassung!$C:$C,$B15,Zeiterfassung!$E:$E,"Krank",Zeiterfassung!$A:$A,">="&$B$6,Zeiterfassung!$A:$A,"<="&$B$7) -> 0 | I15: =COUNTIFS(Zeiterfassung!$C:$C,$B15,Zeiterfassung!$E:$E,"Fortbildung",Zeiterfassung!$A:$A,">="&$B$6,Zeiterfassung!$A:$A,"<="&$B$7) -> 1
A16: =Mitarbeiter!A9 -> 1005 | B16: =Mitarbeiter!B9 -> Julia Hoffmann | C16: =Mitarbeiter!C9 -> Verwaltung | D16: =SUMIFS(Zeiterfassung!$J:$J,Zeiterfassung!$C:$C,$B16,Zeiterfassung!$A:$A,">="&$B$6,Zeiterfassung!$A:$A,"<="&$B$7) -> 66 | E16: =SUMIFS(Zeiterfassung!$I:$I,Zeiterfassung!$C:$C,$B16,Zeiterfassung!$A:$A,">="&$B$6,Zeiterfassung!$A:$A,"<="&$B$7) -> 67.5 | F16: =$E16-$D16 -> 1.5 | G16: =COUNTIFS(Zeiterfassung!$C:$C,$B16,Zeiterfassung!$E:$E,"Urlaub",Zeiterfassung!$A:$A,">="&$B$6,Zeiterfassung!$A:$A,"<="&$B$7) -> 0 | H16: =COUNTIFS(Zeiterfassung!$C:$C,$B16,Zeiterfassung!$E:$E,"Krank",Zeiterfassung!$A:$A,">="&$B$6,Zeiterfassung!$A:$A,"<="&$B$7) -> 0 | I16: =COUNTIFS(Zeiterfassung!$C:$C,$B16,Zeiterfassung!$E:$E,"Fortbildung",Zeiterfassung!$A:$A,">="&$B$6,Zeiterfassung!$A:$A,"<="&$B$7) -> 0
B17: Summe / Ø | D17: =SUM(D12:D16) -> 407 | E17: =SUM(E12:E16) -> 411.25 | F17: =SUM(F12:F16) -> 4.25 | G17: =SUM(G12:G16) -> 2 | H17: =SUM(H12:H16) -> 1 | I17: =SUM(I12:I16) -> 1
A19: LEGENDE & ANLEITUNG
A20: 1. | B20: Stammdaten im Blatt „Mitarbeiter“ pflegen (Name, Abteilung, Wochenstunden). Das Tagessoll wird automatisch berechnet.
A21: 2. | B21: Zeiten im Blatt „Zeiterfassung“ erfassen: Datum, Mitarbeiter, Kategorie sowie Beginn/Ende/Pause. Ist-Std., Soll-Std. und Saldo rechnen sich automatisch.
A22: 3. | B22: Diese Übersicht wertet den oben gewählten Zeitraum (von/bis) automatisch je Mitarbeiter aus.
A24: Kategorien: | B24: Arbeit = gearbeitete Zeit · Urlaub · Krank · Feiertag · Fortbildung
A25: Gutschrift: | B25: Bei Urlaub, Krank und Feiertag wird das Tagessoll gutgeschrieben (Saldo = 0). Fortbildung zählt als gearbeitete Zeit.
A26: Saldo: | B26: Grün = Überstunden (+), Rot = Minusstunden (−). Alle Stunden sind Dezimalstunden (z. B. 8,50 = 8 Std 30 Min).
A27: Eingabe: | B27: Gelb hinterlegte Zellen sind zum Ausfüllen vorgesehen. Neue Zeilen: Formeln der letzten Zeile nach unten kopieren.

Sheet Zeiterfassung
A1: ARBEITSZEITERFASSUNG
A2: Tägliche Zeiterfassung für mehrere Mitarbeiter · Muster GmbH · Jahr 2026
A4: Datum | B4: Tag | C4: Mitarbeiter | D4: Abteilung | E4: Kategorie | F4: Beginn | G4: Ende | H4: Pause | I4: Ist-Std. | J4: Soll-Std. | K4: Saldo | L4: Notiz
A5: 46143 | B5: =IF($A5="","",CHOOSE(WEEKDAY($A5,2),"Mo","Di","Mi","Do","Fr","Sa","So")) -> Fr | C5: Anna Bergmann | D5: =IF($C5="","",IFERROR(INDEX(Mitarbeiter!$C$5:$C$9,MATCH($C5,Mitarbeiter!$B$5:$B$9,0)),"")) -> Verwaltung | E5: Feiertag | I5: =IF($A5="","",IF(OR($E5="Arbeit",$E5="Fortbildung"),MAX(0,($G5-$F5-$H5)*24),$J5)) -> 8 | J5: =IF($A5="","",IF(WEEKDAY($A5,2)>=6,0,IFERROR(INDEX(Mitarbeiter!$F$5:$F$9,MATCH($C5,Mitarbeiter!$B$5:$B$9,0)),0))) -> 8 | K5: =IF($A5="","",$I5-$J5) -> 0 | L5: Tag der Arbeit
A6: 46143 | B6: =IF($A6="","",CHOOSE(WEEKDAY($A6,2),"Mo","Di","Mi","Do","Fr","Sa","So")) -> Fr | C6: Thomas Vogel | D6: =IF($C6="","",IFERROR(INDEX(Mitarbeiter!$C$5:$C$9,MATCH($C6,Mitarbeiter!$B$5:$B$9,0)),"")) -> Vertrieb | E6: Feiertag | I6: =IF($A6="","",IF(OR($E6="Arbeit",$E6="Fortbildung"),MAX(0,($G6-$F6-$H6)*24),$J6)) -> 8 | J6: =IF($A6="","",IF(WEEKDAY($A6,2)>=6,0,IFERROR(INDEX(Mitarbeiter!$F$5:$F$9,MATCH($C6,Mitarbeiter!$B$5:$B$9,0)),0))) -> 8 | K6: =IF($A6="","",$I6-$J6) -> 0 | L6: Tag der Arbeit
A7: 46143 | B7: =IF($A7="","",CHOOSE(WEEKDAY($A7,2),"Mo","Di","Mi","Do","Fr","Sa","So")) -> Fr | C7: Sabine Krüger | D7: =IF($C7="","",IFERROR(INDEX(Mitarbeiter!$C$5:$C$9,MATCH($C7,Mitarbeiter!$B$5:$B$9,0)),"")) -> Produktion | E7: Feiertag | I7: =IF($A7="","",IF(OR($E7="Arbeit",$E7="Fortbildung"),MAX(0,($G7-$F7-$H7)*24),$J7)) -> 7 | J7: =IF($A7="","",IF(WEEKDAY($A7,2)>=6,0,IFERROR(INDEX(Mitarbeiter!$F$5:$F$9,MATCH($C7,Mitarbeiter!$B$5:$B$9,0)),0))) -> 7 | K7: =IF($A7="","",$I7-$J7) -> 0 | L7: Tag der Arbeit
A8: 46143 | B8: =IF($A8="","",CHOOSE(WEEKDAY($A8,2),"Mo","Di","Mi","Do","Fr","Sa","So")) -> Fr | C8: Michael Wagner | D8: =IF($C8="","",IFERROR(INDEX(Mitarbeiter!$C$5:$C$9,MATCH($C8,Mitarbeiter!$B$5:$B$9,0)),"")) -> IT | E8: Feiertag | I8: =IF($A8="","",IF(OR($E8="Arbeit",$E8="Fortbildung"),MAX(0,($G8-$F8-$H8)*24),$J8)) -> 8 | J8: =IF($A8="","",IF(WEEKDAY($A8,2)>=6,0,IFERROR(INDEX(Mitarbeiter!$F$5:$F$9,MATCH($C8,Mitarbeiter!$B$5:$B$9,0)),0))) -> 8 | K8: =IF($A8="","",$I8-$J8) -> 0 | L8: Tag der Arbeit
A9: 46143 | B9: =IF($A9="","",CHOOSE(WEEKDAY($A9,2),"Mo","Di","Mi","Do","Fr","Sa","So")) -> Fr | C9: Julia Hoffmann | D9: =IF($C9="","",IFERROR(INDEX(Mitarbeiter!$C$5:$C$9,MATCH($C9,Mitarbeiter!$B$5:$B$9,0)),"")) -> Verwaltung | E9: Feiertag | I9: =IF($A9="","",IF(OR($E9="Arbeit",$E9="Fortbildung"),MAX(0,($G9-$F9-$H9)*24),$J9)) -> 6 | J9: =IF($A9="","",IF(WEEKDAY($A9,2)>=6,0,IFERROR(INDEX(Mitarbeiter!$F$5:$F$9,MATCH($C9,Mitarbeiter!$B$5:$B$9,0)),0))) -> 6 | K9: =IF($A9="","",$I9-$J9) -> 0 | L9: Tag der Arbeit
A10: 46146 | B10: =IF($A10="","",CHOOSE(WEEKDAY($A10,2),"Mo","Di","Mi","Do","Fr","Sa","So")) -> Mo | C10: Anna Bergmann | D10: =IF($C10="","",IFERROR(INDEX(Mitarbeiter!$C$5:$C$9,MATCH($C10,Mitarbeiter!$B$5:$B$9,0)),"")) -> Verwaltung | E10: Arbeit | F10: 0.33333333 | G10: 0.6875 | H10: 0.020833333 | I10: =IF($A10="","",IF(OR($E10="Arbeit",$E10="Fortbildung"),MAX(0,($G10-$F10-$H10)*24),$J10)) -> 8 | J10: =IF($A10="","",IF(WEEKDAY($A10,2)>=6,0,IFERROR(INDEX(Mitarbeiter!$F$5:$F$9,MATCH($C10,Mitarbeiter!$B$5:$B$9,0)),0))) -> 8 | K10: =IF($A10="","",$I10-$J10) -> 0
A11: 46146 | B11: =IF($A11="","",CHOOSE(WEEKDAY($A11,2),"Mo","Di","Mi","Do","Fr","Sa","So")) -> Mo | C11: Thomas Vogel | D11: =IF($C11="","",IFERROR(INDEX(Mitarbeiter!$C$5:$C$9,MATCH($C11,Mitarbeiter!$B$5:$B$9,0)),"")) -> Vertrieb | E11: Arbeit | F11: 0.35416667 | G11: 0.72916667 | H11: 0.041666667 | I11: =IF($A11="","",IF(OR($E11="Arbeit",$E11="Fortbildung"),MAX(0,($G11-$F11-$H11)*24),$J11)) -> 8 | J11: =IF($A11="","",IF(WEEKDAY($A11,2)>=6,0,IFERROR(INDEX(Mitarbeiter!$F$5:$F$9,MATCH($C11,Mitarbeiter!$B$5:$B$9,0)),0))) -> 8 | K11: =IF($A11="","",$I11-$J11) -> 0
A12: 46146 | B12: =IF($A12="","",CHOOSE(WEEKDAY($A12,2),"Mo","Di","Mi","Do","Fr","Sa","So")) -> Mo | C12: Sabine Krüger | D12: =IF($C12="","",IFERROR(INDEX(Mitarbeiter!$C$5:$C$9,MATCH($C12,Mitarbeiter!$B$5:$B$9,0)),"")) -> Produktion | E12: Arbeit | F12: 0.29166667 | G12: 0.60416667 | H12: 0.020833333 | I12: =IF($A12="","",IF(OR($E12="Arbeit",$E12="Fortbildung"),MAX(0,($G12-$F12-$H12)*24),$J12)) -> 7 | J12: =IF($A12="","",IF(WEEKDAY($A12,2)>=6,0,IFERROR(INDEX(Mitarbeiter!$F$5:$F$9,MATCH($C12,Mitarbeiter!$B$5:$B$9,0)),0))) -> 7 | K12: =IF($A12="","",$I12-$J12) -> 0
A13: 46146 | B13: =IF($A13="","",CHOOSE(WEEKDAY($A13,2),"Mo","Di","Mi","Do","Fr","Sa","So")) -> Mo | C13: Michael Wagner | D13: =IF($C13="","",IFERROR(INDEX(Mitarbeiter!$C$5:$C$9,MATCH($C13,Mitarbeiter!$B$5:$B$9,0)),"")) -> IT | E13: Arbeit | F13: 0.375 | G13: 0.75 | H13: 0.041666667 | I13: =IF($A13="","",IF(OR($E13="Arbeit",$E13="Fortbildung"),MAX(0,($G13-$F13-$H13)*24),$J13)) -> 8 | J13: =IF($A13="","",IF(WEEKDAY($A13,2)>=6,0,IFERROR(INDEX(Mitarbeiter!$F$5:$F$9,MATCH($C13,Mitarbeiter!$B$5:$B$9,0)),0))) -> 8 | K13: =IF($A13="","",$I13-$J13) -> 0
A14: 46146 | B14: =IF($A14="","",CHOOSE(WEEKDAY($A14,2),"Mo","Di","Mi","Do","Fr","Sa","So")) -> Mo | C14: Julia Hoffmann | D14: =IF($C14="","",IFERROR(INDEX(Mitarbeiter!$C$5:$C$9,MATCH($C14,Mitarbeiter!$B$5:$B$9,0)),"")) -> Verwaltung | E14: Arbeit | F14: 0.35416667 | G14: 0.6875 | H14: 0.020833333 | I14: =IF($A14="","",IF(OR($E14="Arbeit",$E14="Fortbildung"),MAX(0,($G14-$F14-$H14)*24),$J14)) -> 7.5 | J14: =IF($A14="","",IF(WEEKDAY($A14,2)>=6,0,IFERROR(INDEX(Mitarbeiter!$F$5:$F$9,MATCH($C14,Mitarbeiter!$B$5:$B$9,0)),0))) -> 6 | K14: =IF($A14="","",$I14-$J14) -> 1.5 | L14: Vertretung Empfang
A15: 46147 | B15: =IF($A15="","",CHOOSE(WEEKDAY($A15,2),"Mo","Di","Mi","Do","Fr","Sa","So")) -> Di | C15: Anna Bergmann | D15: =IF($C15="","",IFERROR(INDEX(Mitarbeiter!$C$5:$C$9,MATCH($C15,Mitarbeiter!$B$5:$B$9,0)),"")) -> Verwaltung | E15: Arbeit | F15: 0.33333333 | G15: 0.6875 | H15: 0.020833333 | I15: =IF($A15="","",IF(OR($E15="Arbeit",$E15="Fortbildung"),MAX(0,($G15-$F15-$H15)*24),$J15)) -> 8 | J15: =IF($A15="","",IF(WEEKDAY($A15,2)>=6,0,IFERROR(INDEX(Mitarbeiter!$F$5:$F$9,MATCH($C15,Mitarbeiter!$B$5:$B$9,0)),0))) -> 8 | K15: =IF($A15="","",$I15-$J15) -> 0
A16: 46147 | B16: =IF($A16="","",CHOOSE(WEEKDAY($A16,2),"Mo","Di","Mi","Do","Fr","Sa","So")) -> Di | C16: Thomas Vogel | D16: =IF($C16="","",IFERROR(INDEX(Mitarbeiter!$C$5:$C$9,MATCH($C16,Mitarbeiter!$B$5:$B$9,0)),"")) -> Vertrieb | E16: Arbeit | F16: 0.35416667 | G16: 0.79166667 | H16: 0.041666667 | I16: =IF($A16="","",IF(OR($E16="Arbeit",$E16="Fortbildung"),MAX(0,($G16-$F16-$H16)*24),$J16)) -> 9.5 | J16: =IF($A16="","",IF(WEEKDAY($A16,2)>=6,0,IFERROR(INDEX(Mitarbeiter!$F$5:$F$9,MATCH($C16,Mitarbeiter!$B$5:$B$9,0)),0))) -> 8 | K16: =IF($A16="","",$I16-$J16) -> 1.5 | L16: Projektabschluss Angebot
A17: 46147 | B17: =IF($A17="","",CHOOSE(WEEKDAY($A17,2),"Mo","Di","Mi","Do","Fr","Sa","So")) -> Di | C17: Sabine Krüger | D17: =IF($C17="","",IFERROR(INDEX(Mitarbeiter!$C$5:$C$9,MATCH($C17,Mitarbeiter!$B$5:$B$9,0)),"")) -> Produktion | E17: Arbeit | F17: 0.29166667 | G17: 0.60416667 | H17: 0.020833333 | I17: =IF($A17="","",IF(OR($E17="Arbeit",$E17="Fortbildung"),MAX(0,($G17-$F17-$H17)*24),$J17)) -> 7 | J17: =IF($A17="","",IF(WEEKDAY($A17,2)>=6,0,IFERROR(INDEX(Mitarbeiter!$F$5:$F$9,MATCH($C17,Mitarbeiter!$B$5:$B$9,0)),0))) -> 7 | K17: =IF($A17="","",$I17-$J17) -> 0
A18: 46147 | B18: =IF($A18="","",CHOOSE(WEEKDAY($A18,2),"Mo","Di","Mi","Do","Fr","Sa","So")) -> Di | C18: Michael Wagner | D18: =IF($C18="","",IFERROR(INDEX(Mitarbeiter!$C$5:$C$9,MATCH($C18,Mitarbeiter!$B$5:$B$9,0)),"")) -> IT | E18: Arbeit | F18: 0.375 | G18: 0.75 | H18: 0.041666667 | I18: =IF($A18="","",IF(OR($E18="Arbeit",$E18="Fortbildung"),MAX(0,($G18-$F18-$H18)*24),$J18)) -> 8 | J18: =IF($A18="","",IF(WEEKDAY($A18,2)>=6,0,IFERROR(INDEX(Mitarbeiter!$F$5:$F$9,MATCH($C18,Mitarbeiter!$B$5:$B$9,0)),0))) -> 8 | K18: =IF($A18="","",$I18-$J18) -> 0
A19: 46147 | B19: =IF($A19="","",CHOOSE(WEEKDAY($A19,2),"Mo","Di","Mi","Do","Fr","Sa","So")) -> Di | C19: Julia Hoffmann | D19: =IF($C19="","",IFERROR(INDEX(Mitarbeiter!$C$5:$C$9,MATCH($C19,Mitarbeiter!$B$5:$B$9,0)),"")) -> Verwaltung | E19: Arbeit | F19: 0.35416667 | G19: 0.625 | H19: 0.020833333 | I19: =IF($A19="","",IF(OR($E19="Arbeit",$E19="Fortbildung"),MAX(0,($G19-$F19-$H19)*24),$J19)) -> 6 | J19: =IF($A19="","",IF(WEEKDAY($A19,2)>=6,0,IFERROR(INDEX(Mitarbeiter!$F$5:$F$9,MATCH($C19,Mitarbeiter!$B$5:$B$9,0)),0))) -> 6 | K19: =IF($A19="","",$I19-$J19) -> 0
A20: 46148 | B20: =IF($A20="","",CHOOSE(WEEKDAY($A20,2),"Mo","Di","Mi","Do","Fr","Sa","So")) -> Mi | C20: Anna Bergmann | D20: =IF($C20="","",IFERROR(INDEX(Mitarbeiter!$C$5:$C$9,MATCH($C20,Mitarbeiter!$B$5:$B$9,0)),"")) -> Verwaltung | E20: Arbeit | F20: 0.33333333 | G20: 0.6875 | H20: 0.020833333 | I20: =IF($A20="","",IF(OR($E20="Arbeit",$E20="Fortbildung"),MAX(0,($G20-$F20-$H20)*24),$J20)) -> 8 | J20: =IF($A20="","",IF(WEEKDAY($A20,2)>=6,0,IFERROR(INDEX(Mitarbeiter!$F$5:$F$9,MATCH($C20,Mitarbeiter!$B$5:$B$9,0)),0))) -> 8 | K20: =IF($A20="","",$I20-$J20) -> 0
A21: 46148 | B21: =IF($A21="","",CHOOSE(WEEKDAY($A21,2),"Mo","Di","Mi","Do","Fr","Sa","So")) -> Mi | C21: Thomas Vogel | D21: =IF($C21="","",IFERROR(INDEX(Mitarbeiter!$C$5:$C$9,MATCH($C21,Mitarbeiter!$B$5:$B$9,0)),"")) -> Vertrieb | E21: Krank | I21: =IF($A21="","",IF(OR($E21="Arbeit",$E21="Fortbildung"),MAX(0,($G21-$F21-$H21)*24),$J21)) -> 8 | J21: =IF($A21="","",IF(WEEKDAY($A21,2)>=6,0,IFERROR(INDEX(Mitarbeiter!$F$5:$F$9,MATCH($C21,Mitarbeiter!$B$5:$B$9,0)),0))) -> 8 | K21: =IF($A21="","",$I21-$J21) -> 0 | L21: Krankmeldung eingegangen
A22: 46148 | B22: =IF($A22="","",CHOOSE(WEEKDAY($A22,2),"Mo","Di","Mi","Do","Fr","Sa","So")) -> Mi | C22: Sabine Krüger | D22: =IF($C22="","",IFERROR(INDEX(Mitarbeiter!$C$5:$C$9,MATCH($C22,Mitarbeiter!$B$5:$B$9,0)),"")) -> Produktion | E22: Arbeit | F22: 0.29166667 | G22: 0.60416667 | H22: 0.020833333 | I22: =IF($A22="","",IF(OR($E22="Arbeit",$E22="Fortbildung"),MAX(0,($G22-$F22-$H22)*24),$J22)) -> 7 | J22: =IF($A22="","",IF(WEEKDAY($A22,2)>=6,0,IFERROR(INDEX(Mitarbeiter!$F$5:$F$9,MATCH($C22,Mitarbeiter!$B$5:$B$9,0)),0))) -> 7 | K22: =IF($A22="","",$I22-$J22) -> 0
A23: 46148 | B23: =IF($A23="","",CHOOSE(WEEKDAY($A23,2),"Mo","Di","Mi","Do","Fr","Sa","So")) -> Mi | C23: Michael Wagner | D23: =IF($C23="","",IFERROR(INDEX(Mitarbeiter!$C$5:$C$9,MATCH($C23,Mitarbeiter!$B$5:$B$9,0)),"")) -> IT | E23: Arbeit | F23: 0.375 | G23: 0.75 | H23: 0.041666667 | I23: =IF($A23="","",IF(OR($E23="Arbeit",$E23="Fortbildung"),MAX(0,($G23-$F23-$H23)*24),$J23)) -> 8 | J23: =IF($A23="","",IF(WEEKDAY($A23,2)>=6,0,IFERROR(INDEX(Mitarbeiter!$F$5:$F$9,MATCH($C23,Mitarbeiter!$B$5:$B$9,0)),0))) -> 8 | K23: =IF($A23="","",$I23-$J23) -> 0
A24: 46148 | B24: =IF($A24="","",CHOOSE(WEEKDAY($A24,2),"Mo","Di","Mi","Do","Fr","Sa","So")) -> Mi | C24: Julia Hoffmann | D24: =IF($C24="","",IFERROR(INDEX(Mitarbeiter!$C$5:$C$9,MATCH($C24,Mitarbeiter!$B$5:$B$9,0)),"")) -> Verwaltung | E24: Arbeit | F24: 0.35416667 | G24: 0.625 | H24: 0.020833333 | I24: =IF($A24="","",IF(OR($E24="Arbeit",$E24="Fortbildung"),MAX(0,($G24-$F24-$H24)*24),$J24)) -> 6 | J24: =IF($A24="","",IF(WEEKDAY($A24,2)>=6,0,IFERROR(INDEX(Mitarbeiter!$F$5:$F$9,MATCH($C24,Mitarbeiter!$B$5:$B$9,0)),0))) -> 6 | K24: =IF($A24="","",$I24-$J24) -> 0
A25: 46149 | B25: =IF($A25="","",CHOOSE(WEEKDAY($A25,2),"Mo","Di","Mi","Do","Fr","Sa","So")) -> Do | C25: Anna Bergmann | D25: =IF($C25="","",IFERROR(INDEX(Mitarbeiter!$C$5:$C$9,MATCH($C25,Mitarbeiter!$B$5:$B$9,0)),"")) -> Verwaltung | E25: Arbeit | F25: 0.33333333 | G25: 0.625 | H25: 0.020833333 | I25: =IF($A25="","",IF(OR($E25="Arbeit",$E25="Fortbildung"),MAX(0,($G25-$F25-$H25)*24),$J25)) -> 6.5 | J25: =IF($A25="","",IF(WEEKDAY($A25,2)>=6,0,IFERROR(INDEX(Mitarbeiter!$F$5:$F$9,MATCH($C25,Mitarbeiter!$B$5:$B$9,0)),0))) -> 8 | K25: =IF($A25="","",$I25-$J25) -> -1.5 | L25: Arzttermin, früher gegangen
A26: 46149 | B26: =IF($A26="","",CHOOSE(WEEKDAY($A26,2),"Mo","Di","Mi","Do","Fr","Sa","So")) -> Do | C26: Thomas Vogel | D26: =IF($C26="","",IFERROR(INDEX(Mitarbeiter!$C$5:$C$9,MATCH($C26,Mitarbeiter!$B$5:$B$9,0)),"")) -> Vertrieb | E26: Arbeit | F26: 0.35416667 | G26: 0.72916667 | H26: 0.041666667 | I26: =IF($A26="","",IF(OR($E26="Arbeit",$E26="Fortbildung"),MAX(0,($G26-$F26-$H26)*24),$J26)) -> 8 | J26: =IF($A26="","",IF(WEEKDAY($A26,2)>=6,0,IFERROR(INDEX(Mitarbeiter!$F$5:$F$9,MATCH($C26,Mitarbeiter!$B$5:$B$9,0)),0))) -> 8 | K26: =IF($A26="","",$I26-$J26) -> 0
A27: 46149 | B27: =IF($A27="","",CHOOSE(WEEKDAY($A27,2),"Mo","Di","Mi","Do","Fr","Sa","So")) -> Do | C27: Sabine Krüger | D27: =IF($C27="","",IFERROR(INDEX(Mitarbeiter!$C$5:$C$9,MATCH($C27,Mitarbeiter!$B$5:$B$9,0)),"")) -> Produktion | E27: Arbeit | F27: 0.29166667 | G27: 0.60416667 | H27: 0.020833333 | I27: =IF($A27="","",IF(OR($E27="Arbeit",$E27="Fortbildung"),MAX(0,($G27-$F27-$H27)*24),$J27)) -> 7 | J27: =IF($A27="","",IF(WEEKDAY($A27,2)>=6,0,IFERROR(INDEX(Mitarbeiter!$F$5:$F$9,MATCH($C27,Mitarbeiter!$B$5:$B$9,0)),0))) -> 7 | K27: =IF($A27="","",$I27-$J27) -> 0
A28: 46149 | B28: =IF($A28="","",CHOOSE(WEEKDAY($A28,2),"Mo","Di","Mi","Do","Fr","Sa","So")) -> Do | C28: Michael Wagner | D28: =IF($C28="","",IFERROR(INDEX(Mitarbeiter!$C$5:$C$9,MATCH($C28,Mitarbeiter!$B$5:$B$9,0)),"")) -> IT | E28: Arbeit | F28: 0.375 | G28: 0.75 | H28: 0.041666667 | I28: =IF($A28="","",IF(OR($E28="Arbeit",$E28="Fortbildung"),MAX(0,($G28-$F28-$H28)*24),$J28)) -> 8 | J28: =IF($A28="","",IF(WEEKDAY($A28,2)>=6,0,IFERROR(INDEX(Mitarbeiter!$F$5:$F$9,MATCH($C28,Mitarbeiter!$B$5:$B$9,0)),0))) -> 8 | K28: =IF($A28="","",$I28-$J28) -> 0
A29: 46149 | B29: =IF($A29="","",CHOOSE(WEEKDAY($A29,2),"Mo","Di","Mi","Do","Fr","Sa","So")) -> Do | C29: Julia Hoffmann | D29: =IF($C29="","",IFERROR(INDEX(Mitarbeiter!$C$5:$C$9,MATCH($C29,Mitarbeiter!$B$5:$B$9,0)),"")) -> Verwaltung | E29: Arbeit | F29: 0.35416667 | G29: 0.625 | H29: 0.020833333 | I29: =IF($A29="","",IF(OR($E29="Arbeit",$E29="Fortbildung"),MAX(0,($G29-$F29-$H29)*24),$J29)) -> 6 | J29: =IF($A29="","",IF(WEEKDAY($A29,2)>=6,0,IFERROR(INDEX(Mitarbeiter!$F$5:$F$9,MATCH($C29,Mitarbeiter!$B$5:$B$9,0)),0))) -> 6 | K29: =IF($A29="","",$I29-$J29) -> 0
A30: 46150 | B30: =IF($A30="","",CHOOSE(WEEKDAY($A30,2),"Mo","Di","Mi","Do","Fr","Sa","So")) -> Fr | C30: Anna Bergmann | D30: =IF($C30="","",IFERROR(INDEX(Mitarbeiter!$C$5:$C$9,MATCH($C30,Mitarbeiter!$B$5:$B$9,0)),"")) -> Verwaltung | E30: Arbeit | F30: 0.33333333 | G30: 0.6875 | H30: 0.020833333 | I30: =IF($A30="","",IF(OR($E30="Arbeit",$E30="Fortbildung"),MAX(0,($G30-$F30-$H30)*24),$J30)) -> 8 | J30: =IF($A30="","",IF(WEEKDAY($A30,2)>=6,0,IFERROR(INDEX(Mitarbeiter!$F$5:$F$9,MATCH($C30,Mitarbeiter!$B$5:$B$9,0)),0))) -> 8 | K30: =IF($A30="","",$I30-$J30) -> 0
A31: 46150 | B31: =IF($A31="","",CHOOSE(WEEKDAY($A31,2),"Mo","Di","Mi","Do","Fr","Sa","So")) -> Fr | C31: Thomas Vogel | D31: =IF($C31="","",IFERROR(INDEX(Mitarbeiter!$C$5:$C$9,MATCH($C31,Mitarbeiter!$B$5:$B$9,0)),"")) -> Vertrieb | E31: Arbeit | F31: 0.35416667 | G31: 0.72916667 | H31: 0.041666667 | I31: =IF($A31="","",IF(OR($E31="Arbeit",$E31="Fortbildung"),MAX(0,($G31-$F31-$H31)*24),$J31)) -> 8 | J31: =IF($A31="","",IF(WEEKDAY($A31,2)>=6,0,IFERROR(INDEX(Mitarbeiter!$F$5:$F$9,MATCH($C31,Mitarbeiter!$B$5:$B$9,0)),0))) -> 8 | K31: =IF($A31="","",$I31-$J31) -> 0
A32: 46150 | B32: =IF($A32="","",CHOOSE(WEEKDAY($A32,2),"Mo","Di","Mi","Do","Fr","Sa","So")) -> Fr | C32: Sabine Krüger | D32: =IF($C32="","",IFERROR(INDEX(Mitarbeiter!$C$5:$C$9,MATCH($C32,Mitarbeiter!$B$5:$B$9,0)),"")) -> Produktion | E32: Arbeit | F32: 0.29166667 | G32: 0.60416667 | H32: 0.020833333 | I32: =IF($A32="","",IF(OR($E32="Arbeit",$E32="Fortbildung"),MAX(0,($G32-$F32-$H32)*24),$J32)) -> 7 | J32: =IF($A32="","",IF(WEEKDAY($A32,2)>=6,0,IFERROR(INDEX(Mitarbeiter!$F$5:$F$9,MATCH($C32,Mitarbeiter!$B$5:$B$9,0)),0))) -> 7 | K32: =IF($A32="","",$I32-$J32) -> 0
A33: 46150 | B33: =IF($A33="","",CHOOSE(WEEKDAY($A33,2),"Mo","Di","Mi","Do","Fr","Sa","So")) -> Fr | C33: Michael Wagner | D33: =IF($C33="","",IFERROR(INDEX(Mitarbeiter!$C$5:$C$9,MATCH($C33,Mitarbeiter!$B$5:$B$9,0)),"")) -> IT | E33: Fortbildung | F33: 0.375 | G33: 0.75 | H33: 0.041666667 | I33: =IF($A33="","",IF(OR($E33="Arbeit",$E33="Fortbildung"),MAX(0,($G33-$F33-$H33)*24),$J33)) -> 8 | J33: =IF($A33="","",IF(WEEKDAY($A33,2)>=6,0,IFERROR(INDEX(Mitarbeiter!$F$5:$F$9,MATCH($C33,Mitarbeiter!$B$5:$B$9,0)),0))) -> 8 | K33: =IF($A33="","",$I33-$J33) -> 0 | L33: Schulung IT-Sicherheit
A34: 46150 | B34: =IF($A34="","",CHOOSE(WEEKDAY($A34,2),"Mo","Di","Mi","Do","Fr","Sa","So")) -> Fr | C34: Julia Hoffmann | D34: =IF($C34="","",IFERROR(INDEX(Mitarbeiter!$C$5:$C$9,MATCH($C34,Mitarbeiter!$B$5:$B$9,0)),"")) -> Verwaltung | E34: Arbeit | F34: 0.35416667 | G34: 0.625 | H34: 0.020833333 | I34: =IF($A34="","",IF(OR($E34="Arbeit",$E34="Fortbildung"),MAX(0,($G34-$F34-$H34)*24),$J34)) -> 6 | J34: =IF($A34="","",IF(WEEKDAY($A34,2)>=6,0,IFERROR(INDEX(Mitarbeiter!$F$5:$F$9,MATCH($C34,Mitarbeiter!$B$5:$B$9,0)),0))) -> 6 | K34: =IF($A34="","",$I34-$J34) -> 0
A35: 46153 | B35: =IF($A35="","",CHOOSE(WEEKDAY($A35,2),"Mo","Di","Mi","Do","Fr","Sa","So")) -> Mo | C35: Anna Bergmann | D35: =IF($C35="","",IFERROR(INDEX(Mitarbeiter!$C$5:$C$9,MATCH($C35,Mitarbeiter!$B$5:$B$9,0)),"")) -> Verwaltung | E35: Urlaub | I35: =IF($A35="","",IF(OR($E35="Arbeit",$E35="Fortbildung"),MAX(0,($G35-$F35-$H35)*24),$J35)) -> 8 | J35: =IF($A35="","",IF(WEEKDAY($A35,2)>=6,0,IFERROR(INDEX(Mitarbeiter!$F$5:$F$9,MATCH($C35,Mitarbeiter!$B$5:$B$9,0)),0))) -> 8 | K35: =IF($A35="","",$I35-$J35) -> 0 | L35: Jahresurlaub
A36: 46153 | B36: =IF($A36="","",CHOOSE(WEEKDAY($A36,2),"Mo","Di","Mi","Do","Fr","Sa","So")) -> Mo | C36: Thomas Vogel | D36: =IF($C36="","",IFERROR(INDEX(Mitarbeiter!$C$5:$C$9,MATCH($C36,Mitarbeiter!$B$5:$B$9,0)),"")) -> Vertrieb | E36: Arbeit | F36: 0.35416667 | G36: 0.72916667 | H36: 0.041666667 | I36: =IF($A36="","",IF(OR($E36="Arbeit",$E36="Fortbildung"),MAX(0,($G36-$F36-$H36)*24),$J36)) -> 8 | J36: =IF($A36="","",IF(WEEKDAY($A36,2)>=6,0,IFERROR(INDEX(Mitarbeiter!$F$5:$F$9,MATCH($C36,Mitarbeiter!$B$5:$B$9,0)),0))) -> 8 | K36: =IF($A36="","",$I36-$J36) -> 0
A37: 46153 | B37: =IF($A37="","",CHOOSE(WEEKDAY($A37,2),"Mo","Di","Mi","Do","Fr","Sa","So")) -> Mo | C37: Sabine Krüger | D37: =IF($C37="","",IFERROR(INDEX(Mitarbeiter!$C$5:$C$9,MATCH($C37,Mitarbeiter!$B$5:$B$9,0)),"")) -> Produktion | E37: Arbeit | F37: 0.29166667 | G37: 0.60416667 | H37: 0.020833333 | I37: =IF($A37="","",IF(OR($E37="Arbeit",$E37="Fortbildung"),MAX(0,($G37-$F37-$H37)*24),$J37)) -> 7 | J37: =IF($A37="","",IF(WEEKDAY($A37,2)>=6,0,IFERROR(INDEX(Mitarbeiter!$F$5:$F$9,MATCH($C37,Mitarbeiter!$B$5:$B$9,0)),0))) -> 7 | K37: =IF($A37="","",$I37-$J37) -> 0
A38: 46153 | B38: =IF($A38="","",CHOOSE(WEEKDAY($A38,2),"Mo","Di","Mi","Do","Fr","Sa","So")) -> Mo | C38: Michael Wagner | D38: =IF($C38="","",IFERROR(INDEX(Mitarbeiter!$C$5:$C$9,MATCH($C38,Mitarbeiter!$B$5:$B$9,0)),"")) -> IT | E38: Arbeit | F38: 0.375 | G38: 0.75 | H38: 0.041666667 | I38: =IF($A38="","",IF(OR($E38="Arbeit",$E38="Fortbildung"),MAX(0,($G38-$F38-$H38)*24),$J38)) -> 8 | J38: =IF($A38="","",IF(WEEKDAY($A38,2)>=6,0,IFERROR(INDEX(Mitarbeiter!$F$5:$F$9,MATCH($C38,Mitarbeiter!$B$5:$B$9,0)),0))) -> 8 | K38: =IF($A38="","",$I38-$J38) -> 0
A39: 46153 | B39: =IF($A39="","",CHOOSE(WEEKDAY($A39,2),"Mo","Di","Mi","Do","Fr","Sa","So")) -> Mo | C39: Julia Hoffmann | D39: =IF($C39="","",IFERROR(INDEX(Mitarbeiter!$C$5:$C$9,MATCH($C39,Mitarbeiter!$B$5:$B$9,0)),"")) -> Verwaltung | E39: Arbeit | F39: 0.35416667 | G39: 0.625 | H39: 0.020833333 | I39: =IF($A39="","",IF(OR($E39="Arbeit",$E39="Fortbildung"),MAX(0,($G39-$F39-$H39)*24),$J39)) -> 6 | J39: =IF($A39="","",IF(WEEKDAY($A39,2)>=6,0,IFERROR(INDEX(Mitarbeiter!$F$5:$F$9,MATCH($C39,Mitarbeiter!$B$5:$B$9,0)),0))) -> 6 | K39: =IF($A39="","",$I39-$J39) -> 0
A40: 46154 | B40: =IF($A40="","",CHOOSE(WEEKDAY($A40,2),"Mo","Di","Mi","Do","Fr","Sa","So")) -> Di | C40: Anna Bergmann | D40: =IF($C40="","",IFERROR(INDEX(Mitarbeiter!$C$5:$C$9,MATCH($C40,Mitarbeiter!$B$5:$B$9,0)),"")) -> Verwaltung | E40: Urlaub | I40: =IF($A40="","",IF(OR($E40="Arbeit",$E40="Fortbildung"),MAX(0,($G40-$F40-$H40)*24),$J40)) -> 8 | J40: =IF($A40="","",IF(WEEKDAY($A40,2)>=6,0,IFERROR(INDEX(Mitarbeiter!$F$5:$F$9,MATCH($C40,Mitarbeiter!$B$5:$B$9,0)),0))) -> 8 | K40: =IF($A40="","",$I40-$J40) -> 0 | L40: Jahresurlaub
A41: 46154 | B41: =IF($A41="","",CHOOSE(WEEKDAY($A41,2),"Mo","Di","Mi","Do","Fr","Sa","So")) -> Di | C41: Thomas Vogel | D41: =IF($C41="","",IFERROR(INDEX(Mitarbeiter!$C$5:$C$9,MATCH($C41,Mitarbeiter!$B$5:$B$9,0)),"")) -> Vertrieb | E41: Arbeit | F41: 0.35416667 | G41: 0.72916667 | H41: 0.041666667 | I41: =IF($A41="","",IF(OR($E41="Arbeit",$E41="Fortbildung"),MAX(0,($G41-$F41-$H41)*24),$J41)) -> 8 | J41: =IF($A41="","",IF(WEEKDAY($A41,2)>=6,0,IFERROR(INDEX(Mitarbeiter!$F$5:$F$9,MATCH($C41,Mitarbeiter!$B$5:$B$9,0)),0))) -> 8 | K41: =IF($A41="","",$I41-$J41) -> 0
A42: 46154 | B42: =IF($A42="","",CHOOSE(WEEKDAY($A42,2),"Mo","Di","Mi","Do","Fr","Sa","So")) -> Di | C42: Sabine Krüger | D42: =IF($C42="","",IFERROR(INDEX(Mitarbeiter!$C$5:$C$9,MATCH($C42,Mitarbeiter!$B$5:$B$9,0)),"")) -> Produktion | E42: Arbeit | F42: 0.29166667 | G42: 0.60416667 | H42: 0.020833333 | I42: =IF($A42="","",IF(OR($E42="Arbeit",$E42="Fortbildung"),MAX(0,($G42-$F42-$H42)*24),$J42)) -> 7 | J42: =IF($A42="","",IF(WEEKDAY($A42,2)>=6,0,IFERROR(INDEX(Mitarbeiter!$F$5:$F$9,MATCH($C42,Mitarbeiter!$B$5:$B$9,0)),0))) -> 7 | K42: =IF($A42="","",$I42-$J42) -> 0
A43: 46154 | B43: =IF($A43="","",CHOOSE(WEEKDAY($A43,2),"Mo","Di","Mi","Do","Fr","Sa","So")) -> Di | C43: Michael Wagner | D43: =IF($C43="","",IFERROR(INDEX(Mitarbeiter!$C$5:$C$9,MATCH($C43,Mitarbeiter!$B$5:$B$9,0)),"")) -> IT | E43: Arbeit | F43: 0.375 | G43: 0.75 | H43: 0.041666667 | I43: =IF($A43="","",IF(OR($E43="Arbeit",$E43="Fortbildung"),MAX(0,($G43-$F43-$H43)*24),$J43)) -> 8 | J43: =IF($A43="","",IF(WEEKDAY($A43,2)>=6,0,IFERROR(INDEX(Mitarbeiter!$F$5:$F$9,MATCH($C43,Mitarbeiter!$B$5:$B$9,0)),0))) -> 8 | K43: =IF($A43="","",$I43-$J43) -> 0
A44: 46154 | B44: =IF($A44="","",CHOOSE(WEEKDAY($A44,2),"Mo","Di","Mi","Do","Fr","Sa","So")) -> Di | C44: Julia Hoffmann | D44: =IF($C44="","",IFERROR(INDEX(Mitarbeiter!$C$5:$C$9,MATCH($C44,Mitarbeiter!$B$5:$B$9,0)),"")) -> Verwaltung | E44: Arbeit | F44: 0.35416667 | G44: 0.625 | H44: 0.020833333 | I44: =IF($A44="","",IF(OR($E44="Arbeit",$E44="Fortbildung"),MAX(0,($G44-$F44-$H44)*24),$J44)) -> 6 | J44: =IF($A44="","",IF(WEEKDAY($A44,2)>=6,0,IFERROR(INDEX(Mitarbeiter!$F$5:$F$9,MATCH($C44,Mitarbeiter!$B$5:$B$9,0)),0))) -> 6 | K44: =IF($A44="","",$I44-$J44) -> 0
A45: 46155 | B45: =IF($A45="","",CHOOSE(WEEKDAY($A45,2),"Mo","Di","Mi","Do","Fr","Sa","So")) -> Mi | C45: Anna Bergmann | D45: =IF($C45="","",IFERROR(INDEX(Mitarbeiter!$C$5:$C$9,MATCH($C45,Mitarbeiter!$B$5:$B$9,0)),"")) -> Verwaltung | E45: Arbeit | F45: 0.33333333 | G45: 0.6875 | H45: 0.020833333 | I45: =IF($A45="","",IF(OR($E45="Arbeit",$E45="Fortbildung"),MAX(0,($G45-$F45-$H45)*24),$J45)) -> 8 | J45: =IF($A45="","",IF(WEEKDAY($A45,2)>=6,0,IFERROR(INDEX(Mitarbeiter!$F$5:$F$9,MATCH($C45,Mitarbeiter!$B$5:$B$9,0)),0))) -> 8 | K45: =IF($A45="","",$I45-$J45) -> 0
A46: 46155 | B46: =IF($A46="","",CHOOSE(WEEKDAY($A46,2),"Mo","Di","Mi","Do","Fr","Sa","So")) -> Mi | C46: Thomas Vogel | D46: =IF($C46="","",IFERROR(INDEX(Mitarbeiter!$C$5:$C$9,MATCH($C46,Mitarbeiter!$B$5:$B$9,0)),"")) -> Vertrieb | E46: Arbeit | F46: 0.35416667 | G46: 0.72916667 | H46: 0.041666667 | I46: =IF($A46="","",IF(OR($E46="Arbeit",$E46="Fortbildung"),MAX(0,($G46-$F46-$H46)*24),$J46)) -> 8 | J46: =IF($A46="","",IF(WEEKDAY($A46,2)>=6,0,IFERROR(INDEX(Mitarbeiter!$F$5:$F$9,MATCH($C46,Mitarbeiter!$B$5:$B$9,0)),0))) -> 8 | K46: =IF($A46="","",$I46-$J46) -> 0
A47: 46155 | B47: =IF($A47="","",CHOOSE(WEEKDAY($A47,2),"Mo","Di","Mi","Do","Fr","Sa","So")) -> Mi | C47: Sabine Krüger | D47: =IF($C47="","",IFERROR(INDEX(Mitarbeiter!$C$5:$C$9,MATCH($C47,Mitarbeiter!$B$5:$B$9,0)),"")) -> Produktion | E47: Arbeit | F47: 0.29166667 | G47: 0.60416667 | H47: 0.020833333 | I47: =IF($A47="","",IF(OR($E47="Arbeit",$E47="Fortbildung"),MAX(0,($G47-$F47-$H47)*24),$J47)) -> 7 | J47: =IF($A47="","",IF(WEEKDAY($A47,2)>=6,0,IFERROR(INDEX(Mitarbeiter!$F$5:$F$9,MATCH($C47,Mitarbeiter!$B$5:$B$9,0)),0))) -> 7 | K47: =IF($A47="","",$I47-$J47) -> 0
A48: 46155 | B48: =IF($A48="","",CHOOSE(WEEKDAY($A48,2),"Mo","Di","Mi","Do","Fr","Sa","So")) -> Mi | C48: Michael Wagner | D48: =IF($C48="","",IFERROR(INDEX(Mitarbeiter!$C$5:$C$9,MATCH($C48,Mitarbeiter!$B$5:$B$9,0)),"")) -> IT | E48: Arbeit | F48: 0.375 | G48: 0.8125 | H48: 0.03125 | I48: =IF($A48="","",IF(OR($E48="Arbeit",$E48="Fortbildung"),MAX(0,($G48-$F48-$H48)*24),$J48)) -> 9.75 | J48: =IF($A48="","",IF(WEEKDAY($A48,2)>=6,0,IFERROR(INDEX(Mitarbeiter!$F$5:$F$9,MATCH($C48,Mitarbeiter!$B$5:$B$9,0)),0))) -> 8 | K48: =IF($A48="","",$I48-$J48) -> 1.75 | L48: Server-Migration
A49: 46155 | B49: =IF($A49="","",CHOOSE(WEEKDAY($A49,2),"Mo","Di","Mi","Do","Fr","Sa","So")) -> Mi | C49: Julia Hoffmann | D49: =IF($C49="","",IFERROR(INDEX(Mitarbeiter!$C$5:$C$9,MATCH($C49,Mitarbeiter!$B$5:$B$9,0)),"")) -> Verwaltung | E49: Arbeit | F49: 0.35416667 | G49: 0.625 | H49: 0.020833333 | I49: =IF($A49="","",IF(OR($E49="Arbeit",$E49="Fortbildung"),MAX(0,($G49-$F49-$H49)*24),$J49)) -> 6 | J49: =IF($A49="","",IF(WEEKDAY($A49,2)>=6,0,IFERROR(INDEX(Mitarbeiter!$F$5:$F$9,MATCH($C49,Mitarbeiter!$B$5:$B$9,0)),0))) -> 6 | K49: =IF($A49="","",$I49-$J49) -> 0
A50: 46156 | B50: =IF($A50="","",CHOOSE(WEEKDAY($A50,2),"Mo","Di","Mi","Do","Fr","Sa","So")) -> Do | C50: Anna Bergmann | D50: =IF($C50="","",IFERROR(INDEX(Mitarbeiter!$C$5:$C$9,MATCH($C50,Mitarbeiter!$B$5:$B$9,0)),"")) -> Verwaltung | E50: Feiertag | I50: =IF($A50="","",IF(OR($E50="Arbeit",$E50="Fortbildung"),MAX(0,($G50-$F50-$H50)*24),$J50)) -> 8 | J50: =IF($A50="","",IF(WEEKDAY($A50,2)>=6,0,IFERROR(INDEX(Mitarbeiter!$F$5:$F$9,MATCH($C50,Mitarbeiter!$B$5:$B$9,0)),0))) -> 8 | K50: =IF($A50="","",$I50-$J50) -> 0 | L50: Christi Himmelfahrt
A51: 46156 | B51: =IF($A51="","",CHOOSE(WEEKDAY($A51,2),"Mo","Di","Mi","Do","Fr","Sa","So")) -> Do | C51: Thomas Vogel | D51: =IF($C51="","",IFERROR(INDEX(Mitarbeiter!$C$5:$C$9,MATCH($C51,Mitarbeiter!$B$5:$B$9,0)),"")) -> Vertrieb | E51: Feiertag | I51: =IF($A51="","",IF(OR($E51="Arbeit",$E51="Fortbildung"),MAX(0,($G51-$F51-$H51)*24),$J51)) -> 8 | J51: =IF($A51="","",IF(WEEKDAY($A51,2)>=6,0,IFERROR(INDEX(Mitarbeiter!$F$5:$F$9,MATCH($C51,Mitarbeiter!$B$5:$B$9,0)),0))) -> 8 | K51: =IF($A51="","",$I51-$J51) -> 0 | L51: Christi Himmelfahrt
A52: 46156 | B52: =IF($A52="","",CHOOSE(WEEKDAY($A52,2),"Mo","Di","Mi","Do","Fr","Sa","So")) -> Do | C52: Sabine Krüger | D52: =IF($C52="","",IFERROR(INDEX(Mitarbeiter!$C$5:$C$9,MATCH($C52,Mitarbeiter!$B$5:$B$9,0)),"")) -> Produktion | E52: Feiertag | I52: =IF($A52="","",IF(OR($E52="Arbeit",$E52="Fortbildung"),MAX(0,($G52-$F52-$H52)*24),$J52)) -> 7 | J52: =IF($A52="","",IF(WEEKDAY($A52,2)>=6,0,IFERROR(INDEX(Mitarbeiter!$F$5:$F$9,MATCH($C52,Mitarbeiter!$B$5:$B$9,0)),0))) -> 7 | K52: =IF($A52="","",$I52-$J52) -> 0 | L52: Christi Himmelfahrt
A53: 46156 | B53: =IF($A53="","",CHOOSE(WEEKDAY($A53,2),"Mo","Di","Mi","Do","Fr","Sa","So")) -> Do | C53: Michael Wagner | D53: =IF($C53="","",IFERROR(INDEX(Mitarbeiter!$C$5:$C$9,MATCH($C53,Mitarbeiter!$B$5:$B$9,0)),"")) -> IT | E53: Feiertag | I53: =IF($A53="","",IF(OR($E53="Arbeit",$E53="Fortbildung"),MAX(0,($G53-$F53-$H53)*24),$J53)) -> 8 | J53: =IF($A53="","",IF(WEEKDAY($A53,2)>=6,0,IFERROR(INDEX(Mitarbeiter!$F$5:$F$9,MATCH($C53,Mitarbeiter!$B$5:$B$9,0)),0))) -> 8 | K53: =IF($A53="","",$I53-$J53) -> 0 | L53: Christi Himmelfahrt
A54: 46156 | B54: =IF($A54="","",CHOOSE(WEEKDAY($A54,2),"Mo","Di","Mi","Do","Fr","Sa","So")) -> Do | C54: Julia Hoffmann | D54: =IF($C54="","",IFERROR(INDEX(Mitarbeiter!$C$5:$C$9,MATCH($C54,Mitarbeiter!$B$5:$B$9,0)),"")) -> Verwaltung | E54: Feiertag | I54: =IF($A54="","",IF(OR($E54="Arbeit",$E54="Fortbildung"),MAX(0,($G54-$F54-$H54)*24),$J54)) -> 6 | J54: =IF($A54="","",IF(WEEKDAY($A54,2)>=6,0,IFERROR(INDEX(Mitarbeiter!$F$5:$F$9,MATCH($C54,Mitarbeiter!$B$5:$B$9,0)),0))) -> 6 | K54: =IF($A54="","",$I54-$J54) -> 0 | L54: Christi Himmelfahrt
A55: 46157 | B55: =IF($A55="","",CHOOSE(WEEKDAY($A55,2),"Mo","Di","Mi","Do","Fr","Sa","So")) -> Fr | C55: Anna Bergmann | D55: =IF($C55="","",IFERROR(INDEX(Mitarbeiter!$C$5:$C$9,MATCH($C55,Mitarbeiter!$B$5:$B$9,0)),"")) -> Verwaltung | E55: Arbeit | F55: 0.33333333 | G55: 0.6875 | H55: 0.020833333 | I55: =IF($A55="","",IF(OR($E55="Arbeit",$E55="Fortbildung"),MAX(0,($G55-$F55-$H55)*24),$J55)) -> 8 | J55: =IF($A55="","",IF(WEEKDAY($A55,2)>=6,0,IFERROR(INDEX(Mitarbeiter!$F$5:$F$9,MATCH($C55,Mitarbeiter!$B$5:$B$9,0)),0))) -> 8 | K55: =IF($A55="","",$I55-$J55) -> 0
A56: 46157 | B56: =IF($A56="","",CHOOSE(WEEKDAY($A56,2),"Mo","Di","Mi","Do","Fr","Sa","So")) -> Fr | C56: Thomas Vogel | D56: =IF($C56="","",IFERROR(INDEX(Mitarbeiter!$C$5:$C$9,MATCH($C56,Mitarbeiter!$B$5:$B$9,0)),"")) -> Vertrieb | E56: Arbeit | F56: 0.35416667 | G56: 0.72916667 | H56: 0.041666667 | I56: =IF($A56="","",IF(OR($E56="Arbeit",$E56="Fortbildung"),MAX(0,($G56-$F56-$H56)*24),$J56)) -> 8 | J56: =IF($A56="","",IF(WEEKDAY($A56,2)>=6,0,IFERROR(INDEX(Mitarbeiter!$F$5:$F$9,MATCH($C56,Mitarbeiter!$B$5:$B$9,0)),0))) -> 8 | K56: =IF($A56="","",$I56-$J56) -> 0
A57: 46157 | B57: =IF($A57="","",CHOOSE(WEEKDAY($A57,2),"Mo","Di","Mi","Do","Fr","Sa","So")) -> Fr | C57: Sabine Krüger | D57: =IF($C57="","",IFERROR(INDEX(Mitarbeiter!$C$5:$C$9,MATCH($C57,Mitarbeiter!$B$5:$B$9,0)),"")) -> Produktion | E57: Arbeit | F57: 0.29166667 | G57: 0.64583333 | H57: 0.020833333 | I57: =IF($A57="","",IF(OR($E57="Arbeit",$E57="Fortbildung"),MAX(0,($G57-$F57-$H57)*24),$J57)) -> 8 | J57: =IF($A57="","",IF(WEEKDAY($A57,2)>=6,0,IFERROR(INDEX(Mitarbeiter!$F$5:$F$9,MATCH($C57,Mitarbeiter!$B$5:$B$9,0)),0))) -> 7 | K57: =IF($A57="","",$I57-$J57) -> 1 | L57: Mehrarbeit Auftragsspitze
A58: 46157 | B58: =IF($A58="","",CHOOSE(WEEKDAY($A58,2),"Mo","Di","Mi","Do","Fr","Sa","So")) -> Fr | C58: Michael Wagner | D58: =IF($C58="","",IFERROR(INDEX(Mitarbeiter!$C$5:$C$9,MATCH($C58,Mitarbeiter!$B$5:$B$9,0)),"")) -> IT | E58: Arbeit | F58: 0.375 | G58: 0.75 | H58: 0.041666667 | I58: =IF($A58="","",IF(OR($E58="Arbeit",$E58="Fortbildung"),MAX(0,($G58-$F58-$H58)*24),$J58)) -> 8 | J58: =IF($A58="","",IF(WEEKDAY($A58,2)>=6,0,IFERROR(INDEX(Mitarbeiter!$F$5:$F$9,MATCH($C58,Mitarbeiter!$B$5:$B$9,0)),0))) -> 8 | K58: =IF($A58="","",$I58-$J58) -> 0
A59: 46157 | B59: =IF($A59="","",CHOOSE(WEEKDAY($A59,2),"Mo","Di","Mi","Do","Fr","Sa","So")) -> Fr | C59: Julia Hoffmann | D59: =IF($C59="","",IFERROR(INDEX(Mitarbeiter!$C$5:$C$9,MATCH($C59,Mitarbeiter!$B$5:$B$9,0)),"")) -> Verwaltung | E59: Arbeit | F59: 0.35416667 | G59: 0.625 | H59: 0.020833333 | I59: =IF($A59="","",IF(OR($E59="Arbeit",$E59="Fortbildung"),MAX(0,($G59-$F59-$H59)*24),$J59)) -> 6 | J59: =IF($A59="","",IF(WEEKDAY($A59,2)>=6,0,IFERROR(INDEX(Mitarbeiter!$F$5:$F$9,MATCH($C59,Mitarbeiter!$B$5:$B$9,0)),0))) -> 6 | K59: =IF($A59="","",$I59-$J59) -> 0
B60: =IF($A60="","",CHOOSE(WEEKDAY($A60,2),"Mo","Di","Mi","Do","Fr","Sa","So")) | D60: =IF($C60="","",IFERROR(INDEX(Mitarbeiter!$C$5:$C$9,MATCH($C60,Mitarbeiter!$B$5:$B$9,0)),"")) | I60: =IF($A60="","",IF(OR($E60="Arbeit",$E60="Fortbildung"),MAX(0,($G60-$F60-$H60)*24),$J60)) | J60: =IF($A60="","",IF(WEEKDAY($A60,2)>=6,0,IFERROR(INDEX(Mitarbeiter!$F$5:$F$9,MATCH($C60,Mitarbeiter!$B$5:$B$9,0)),0))) | K60: =IF($A60="","",$I60-$J60)
B61: =IF($A61="","",CHOOSE(WEEKDAY($A61,2),"Mo","Di","Mi","Do","Fr","Sa","So")) | D61: =IF($C61="","",IFERROR(INDEX(Mitarbeiter!$C$5:$C$9,MATCH($C61,Mitarbeiter!$B$5:$B$9,0)),"")) | I61: =IF($A61="","",IF(OR($E61="Arbeit",$E61="Fortbildung"),MAX(0,($G61-$F61-$H61)*24),$J61)) | J61: =IF($A61="","",IF(WEEKDAY($A61,2)>=6,0,IFERROR(INDEX(Mitarbeiter!$F$5:$F$9,MATCH($C61,Mitarbeiter!$B$5:$B$9,0)),0))) | K61: =IF($A61="","",$I61-$J61)
B62: =IF($A62="","",CHOOSE(WEEKDAY($A62,2),"Mo","Di","Mi","Do","Fr","Sa","So")) | D62: =IF($C62="","",IFERROR(INDEX(Mitarbeiter!$C$5:$C$9,MATCH($C62,Mitarbeiter!$B$5:$B$9,0)),"")) | I62: =IF($A62="","",IF(OR($E62="Arbeit",$E62="Fortbildung"),MAX(0,($G62-$F62-$H62)*24),$J62)) | J62: =IF($A62="","",IF(WEEKDAY($A62,2)>=6,0,IFERROR(INDEX(Mitarbeiter!$F$5:$F$9,MATCH($C62,Mitarbeiter!$B$5:$B$9,0)),0))) | K62: =IF($A62="","",$I62-$J62)
B63: =IF($A63="","",CHOOSE(WEEKDAY($A63,2),"Mo","Di","Mi","Do","Fr","Sa","So")) | D63: =IF($C63="","",IFERROR(INDEX(Mitarbeiter!$C$5:$C$9,MATCH($C63,Mitarbeiter!$B$5:$B$9,0)),"")) | I63: =IF($A63="","",IF(OR($E63="Arbeit",$E63="Fortbildung"),MAX(0,($G63-$F63-$H63)*24),$J63)) | J63: =IF($A63="","",IF(WEEKDAY($A63,2)>=6,0,IFERROR(INDEX(Mitarbeiter!$F$5:$F$9,MATCH($C63,Mitarbeiter!$B$5:$B$9,0)),0))) | K63: =IF($A63="","",$I63-$J63)
B64: =IF($A64="","",CHOOSE(WEEKDAY($A64,2),"Mo","Di","Mi","Do","Fr","Sa","So")) | D64: =IF($C64="","",IFERROR(INDEX(Mitarbeiter!$C$5:$C$9,MATCH($C64,Mitarbeiter!$B$5:$B$9,0)),"")) | I64: =IF($A64="","",IF(OR($E64="Arbeit",$E64="Fortbildung"),MAX(0,($G64-$F64-$H64)*24),$J64)) | J64: =IF($A64="","",IF(WEEKDAY($A64,2)>=6,0,IFERROR(INDEX(Mitarbeiter!$F$5:$F$9,MATCH($C64,Mitarbeiter!$B$5:$B$9,0)),0))) | K64: =IF($A64="","",$I64-$J64)
B65: =IF($A65="","",CHOOSE(WEEKDAY($A65,2),"Mo","Di","Mi","Do","Fr","Sa","So")) | D65: =IF($C65="","",IFERROR(INDEX(Mitarbeiter!$C$5:$C$9,MATCH($C65,Mitarbeiter!$B$5:$B$9,0)),"")) | I65: =IF($A65="","",IF(OR($E65="Arbeit",$E65="Fortbildung"),MAX(0,($G65-$F65-$H65)*24),$J65)) | J65: =IF($A65="","",IF(WEEKDAY($A65,2)>=6,0,IFERROR(INDEX(Mitarbeiter!$F$5:$F$9,MATCH($C65,Mitarbeiter!$B$5:$B$9,0)),0))) | K65: =IF($A65="","",$I65-$J65)
B66: =IF($A66="","",CHOOSE(WEEKDAY($A66,2),"Mo","Di","Mi","Do","Fr","Sa","So")) | D66: =IF($C66="","",IFERROR(INDEX(Mitarbeiter!$C$5:$C$9,MATCH($C66,Mitarbeiter!$B$5:$B$9,0)),"")) | I66: =IF($A66="","",IF(OR($E66="Arbeit",$E66="Fortbildung"),MAX(0,($G66-$F66-$H66)*24),$J66)) | J66: =IF($A66="","",IF(WEEKDAY($A66,2)>=6,0,IFERROR(INDEX(Mitarbeiter!$F$5:$F$9,MATCH($C66,Mitarbeiter!$B$5:$B$9,0)),0))) | K66: =IF($A66="","",$I66-$J66)
B67: =IF($A67="","",CHOOSE(WEEKDAY($A67,2),"Mo","Di","Mi","Do","Fr","Sa","So")) | D67: =IF($C67="","",IFERROR(INDEX(Mitarbeiter!$C$5:$C$9,MATCH($C67,Mitarbeiter!$B$5:$B$9,0)),"")) | I67: =IF($A67="","",IF(OR($E67="Arbeit",$E67="Fortbildung"),MAX(0,($G67-$F67-$H67)*24),$J67)) | J67: =IF($A67="","",IF(WEEKDAY($A67,2)>=6,0,IFERROR(INDEX(Mitarbeiter!$F$5:$F$9,MATCH($C67,Mitarbeiter!$B$5:$B$9,0)),0))) | K67: =IF($A67="","",$I67-$J67)
B68: =IF($A68="","",CHOOSE(WEEKDAY($A68,2),"Mo","Di","Mi","Do","Fr","Sa","So")) | D68: =IF($C68="","",IFERROR(INDEX(Mitarbeiter!$C$5:$C$9,MATCH($C68,Mitarbeiter!$B$5:$B$9,0)),"")) | I68: =IF($A68="","",IF(OR($E68="Arbeit",$E68="Fortbildung"),MAX(0,($G68-$F68-$H68)*24),$J68)) | J68: =IF($A68="","",IF(WEEKDAY($A68,2)>=6,0,IFERROR(INDEX(Mitarbeiter!$F$5:$F$9,MATCH($C68,Mitarbeiter!$B$5:$B$9,0)),0))) | K68: =IF($A68="","",$I68-$J68)
B69: =IF($A69="","",CHOOSE(WEEKDAY($A69,2),"Mo","Di","Mi","Do","Fr","Sa","So")) | D69: =IF($C69="","",IFERROR(INDEX(Mitarbeiter!$C$5:$C$9,MATCH($C69,Mitarbeiter!$B$5:$B$9,0)),"")) | I69: =IF($A69="","",IF(OR($E69="Arbeit",$E69="Fortbildung"),MAX(0,($G69-$F69-$H69)*24),$J69)) | J69: =IF($A69="","",IF(WEEKDAY($A69,2)>=6,0,IFERROR(INDEX(Mitarbeiter!$F$5:$F$9,MATCH($C69,Mitarbeiter!$B$5:$B$9,0)),0))) | K69: =IF($A69="","",$I69-$J69)
B70: =IF($A70="","",CHOOSE(WEEKDAY($A70,2),"Mo","Di","Mi","Do","Fr","Sa","So")) | D70: =IF($C70="","",IFERROR(INDEX(Mitarbeiter!$C$5:$C$9,MATCH($C70,Mitarbeiter!$B$5:$B$9,0)),"")) | I70: =IF($A70="","",IF(OR($E70="Arbeit",$E70="Fortbildung"),MAX(0,($G70-$F70-$H70)*24),$J70)) | J70: =IF($A70="","",IF(WEEKDAY($A70,2)>=6,0,IFERROR(INDEX(Mitarbeiter!$F$5:$F$9,MATCH($C70,Mitarbeiter!$B$5:$B$9,0)),0))) | K70: =IF($A70="","",$I70-$J70)
B71: =IF($A71="","",CHOOSE(WEEKDAY($A71,2),"Mo","Di","Mi","Do","Fr","Sa","So")) | D71: =IF($C71="","",IFERROR(INDEX(Mitarbeiter!$C$5:$C$9,MATCH($C71,Mitarbeiter!$B$5:$B$9,0)),"")) | I71: =IF($A71="","",IF(OR($E71="Arbeit",$E71="Fortbildung"),MAX(0,($G71-$F71-$H71)*24),$J71)) | J71: =IF($A71="","",IF(WEEKDAY($A71,2)>=6,0,IFERROR(INDEX(Mitarbeiter!$F$5:$F$9,MATCH($C71,Mitarbeiter!$B$5:$B$9,0)),0))) | K71: =IF($A71="","",$I71-$J71)
... B74: =IF($A74="","",CHOOSE(WEEKDAY($A74,2),"Mo","Di","Mi","Do","Fr","Sa","So")) | D74: =IF($C74="","",IFERROR(INDEX(Mitarbeiter!$C$5:$C$9,MATCH($C74,Mitarbeiter!$B$5:$B$9,0)),"")) | I74: =IF($A74="","",IF(OR($E74="Arbeit",$E74="Fortbildung"),MAX(0,($G74-$F74-$H74)*24),$J74)) | J74: =IF($A74="","",IF(WEEKDAY($A74,2)>=6,0,IFERROR(INDEX(Mitarbeiter!$F$5:$F$9,MATCH($C74,Mitarbeiter!$B$5:$B$9,0)),0))) | K74: =IF($A74="","",$I74-$J74)

Sheet Mitarbeiter
A1: STAMMDATEN · MITARBEITER
A2: Muster GmbH · Personalverwaltung · Geschäftsjahr 2026
A4: Personalnr. | B4: Name | C4: Abteilung | D4: Position | E4: Wochenstd. | F4: Tagessoll (Std.) | G4: Eintrittsdatum | H4: Urlaubsanspruch (Tage)
A5: 1001 | B5: Anna Bergmann | C5: Verwaltung | D5: Sachbearbeiterin | E5: 40 | F5: =IF($E5="","",$E5/5) -> 8 | G5: 43525 | H5: 30
A6: 1002 | B6: Thomas Vogel | C6: Vertrieb | D6: Vertriebsmitarbeiter | E6: 40 | F6: =IF($E6="","",$E6/5) -> 8 | G6: 44454 | H6: 30
A7: 1003 | B7: Sabine Krüger | C7: Produktion | D7: Teamleiterin | E7: 35 | F7: =IF($E7="","",$E7/5) -> 7 | G7: 42522 | H7: 30
A8: 1004 | B8: Michael Wagner | C8: IT | D8: Systemadministrator | E8: 40 | F8: =IF($E8="","",$E8/5) -> 8 | G8: 44571 | H8: 28
A9: 1005 | B9: Julia Hoffmann | C9: Verwaltung | D9: Assistenz (Teilzeit) | E9: 30 | F9: =IF($E9="","",$E9/5) -> 6 | G9: 45019 | H9: 22
A11: Hinweis: Gelb hinterlegte Zellen bearbeiten. Das Tagessoll wird automatisch aus den Wochenstunden berechnet (Wochenstd. ÷ 5).
