Workbook
Name Arbeitscodes: Konfiguration!$A$5:$A$9
Name Feiertage: Konfiguration!$A$17:$A$25
Name Nettostunden: Konfiguration!$F$5:$F$13
Name Schichtcodes: Konfiguration!$A$5:$A$13

Sheet Dienstplan
A1: ="Dienstplan · "&CHOOSE(C3,"Januar","Februar","März","April","Mai","Juni","Juli","August","September","Oktober","November","Dezember")&" "&C4 -> Dienstplan · April 2027
A2: Musterbetrieb GmbH · Musterstraße 1 · 12345 Musterstadt ‹ Firmenname / Standort hier eintragen ›
B3: Monat | C3: 4 | E3: GEPLANTE STD | L3: SOLL-STD | S3: SALDO | Z3: URLAUBSTAGE | AG3: KRANKTAGE
B4: Jahr | C4: 2027 | E4: =SUM(AJ7:AJ18) -> 1326 | L4: =SUM(AK7:AK18) -> 1555.4 | S4: =SUM(AJ7:AJ18)-SUM(AK7:AK18) -> -229.4 | Z4: =SUM(AN7:AN18) -> 9 | AG4: =SUM(AO7:AO18) -> 2
A5: Nr. | B5: Mitarbeiter | C5: Funktion | D5: Wo.-Std | E5: =IF(1<=DAY(EOMONTH(DATE(C4,C3,1),0)),1,"") -> 1 | F5: =IF(2<=DAY(EOMONTH(DATE(C4,C3,1),0)),2,"") -> 2 | G5: =IF(3<=DAY(EOMONTH(DATE(C4,C3,1),0)),3,"") -> 3 | H5: =IF(4<=DAY(EOMONTH(DATE(C4,C3,1),0)),4,"") -> 4 | I5: =IF(5<=DAY(EOMONTH(DATE(C4,C3,1),0)),5,"") -> 5 | J5: =IF(6<=DAY(EOMONTH(DATE(C4,C3,1),0)),6,"") -> 6 | K5: =IF(7<=DAY(EOMONTH(DATE(C4,C3,1),0)),7,"") -> 7 | L5: =IF(8<=DAY(EOMONTH(DATE(C4,C3,1),0)),8,"") -> 8 | M5: =IF(9<=DAY(EOMONTH(DATE(C4,C3,1),0)),9,"") -> 9 | N5: =IF(10<=DAY(EOMONTH(DATE(C4,C3,1),0)),10,"") -> 10 | O5: =IF(11<=DAY(EOMONTH(DATE(C4,C3,1),0)),11,"") -> 11 | P5: =IF(12<=DAY(EOMONTH(DATE(C4,C3,1),0)),12,"") -> 12 | Q5: =IF(13<=DAY(EOMONTH(DATE(C4,C3,1),0)),13,"") -> 13 | R5: =IF(14<=DAY(EOMONTH(DATE(C4,C3,1),0)),14,"") -> 14 | S5: =IF(15<=DAY(EOMONTH(DATE(C4,C3,1),0)),15,"") -> 15 | T5: =IF(16<=DAY(EOMONTH(DATE(C4,C3,1),0)),16,"") -> 16 | U5: =IF(17<=DAY(EOMONTH(DATE(C4,C3,1),0)),17,"") -> 17 | V5: =IF(18<=DAY(EOMONTH(DATE(C4,C3,1),0)),18,"") -> 18 | W5: =IF(19<=DAY(EOMONTH(DATE(C4,C3,1),0)),19,"") -> 19 | X5: =IF(20<=DAY(EOMONTH(DATE(C4,C3,1),0)),20,"") -> 20 | Y5: =IF(21<=DAY(EOMONTH(DATE(C4,C3,1),0)),21,"") -> 21 | Z5: =IF(22<=DAY(EOMONTH(DATE(C4,C3,1),0)),22,"") -> 22 | AA5: =IF(23<=DAY(EOMONTH(DATE(C4,C3,1),0)),23,"") -> 23 | AB5: =IF(24<=DAY(EOMONTH(DATE(C4,C3,1),0)),24,"") -> 24 | AC5: =IF(25<=DAY(EOMONTH(DATE(C4,C3,1),0)),25,"") -> 25 | AD5: =IF(26<=DAY(EOMONTH(DATE(C4,C3,1),0)),26,"") -> 26 | AE5: =IF(27<=DAY(EOMONTH(DATE(C4,C3,1),0)),27,"") -> 27 | AF5: =IF(28<=DAY(EOMONTH(DATE(C4,C3,1),0)),28,"") -> 28 | AG5: =IF(29<=DAY(EOMONTH(DATE(C4,C3,1),0)),29,"") -> 29 | AH5: =IF(30<=DAY(EOMONTH(DATE(C4,C3,1),0)),30,"") -> 30 | AI5: =IF(31<=DAY(EOMONTH(DATE(C4,C3,1),0)),31,"") | AJ5: Ist-Std | AK5: Soll-Std | AL5: Saldo | AM5: Dienste | AN5: Urlaub | AO5: Krank
E6: =IF(E5="","",CHOOSE(WEEKDAY(DATE(C4,C3,E5),2),"Mo","Di","Mi","Do","Fr","Sa","So")) -> Do | F6: =IF(F5="","",CHOOSE(WEEKDAY(DATE(C4,C3,F5),2),"Mo","Di","Mi","Do","Fr","Sa","So")) -> Fr | G6: =IF(G5="","",CHOOSE(WEEKDAY(DATE(C4,C3,G5),2),"Mo","Di","Mi","Do","Fr","Sa","So")) -> Sa | H6: =IF(H5="","",CHOOSE(WEEKDAY(DATE(C4,C3,H5),2),"Mo","Di","Mi","Do","Fr","Sa","So")) -> So | I6: =IF(I5="","",CHOOSE(WEEKDAY(DATE(C4,C3,I5),2),"Mo","Di","Mi","Do","Fr","Sa","So")) -> Mo | J6: =IF(J5="","",CHOOSE(WEEKDAY(DATE(C4,C3,J5),2),"Mo","Di","Mi","Do","Fr","Sa","So")) -> Di | K6: =IF(K5="","",CHOOSE(WEEKDAY(DATE(C4,C3,K5),2),"Mo","Di","Mi","Do","Fr","Sa","So")) -> Mi | L6: =IF(L5="","",CHOOSE(WEEKDAY(DATE(C4,C3,L5),2),"Mo","Di","Mi","Do","Fr","Sa","So")) -> Do | M6: =IF(M5="","",CHOOSE(WEEKDAY(DATE(C4,C3,M5),2),"Mo","Di","Mi","Do","Fr","Sa","So")) -> Fr | N6: =IF(N5="","",CHOOSE(WEEKDAY(DATE(C4,C3,N5),2),"Mo","Di","Mi","Do","Fr","Sa","So")) -> Sa | O6: =IF(O5="","",CHOOSE(WEEKDAY(DATE(C4,C3,O5),2),"Mo","Di","Mi","Do","Fr","Sa","So")) -> So | P6: =IF(P5="","",CHOOSE(WEEKDAY(DATE(C4,C3,P5),2),"Mo","Di","Mi","Do","Fr","Sa","So")) -> Mo | Q6: =IF(Q5="","",CHOOSE(WEEKDAY(DATE(C4,C3,Q5),2),"Mo","Di","Mi","Do","Fr","Sa","So")) -> Di | R6: =IF(R5="","",CHOOSE(WEEKDAY(DATE(C4,C3,R5),2),"Mo","Di","Mi","Do","Fr","Sa","So")) -> Mi | S6: =IF(S5="","",CHOOSE(WEEKDAY(DATE(C4,C3,S5),2),"Mo","Di","Mi","Do","Fr","Sa","So")) -> Do | T6: =IF(T5="","",CHOOSE(WEEKDAY(DATE(C4,C3,T5),2),"Mo","Di","Mi","Do","Fr","Sa","So")) -> Fr | U6: =IF(U5="","",CHOOSE(WEEKDAY(DATE(C4,C3,U5),2),"Mo","Di","Mi","Do","Fr","Sa","So")) -> Sa | V6: =IF(V5="","",CHOOSE(WEEKDAY(DATE(C4,C3,V5),2),"Mo","Di","Mi","Do","Fr","Sa","So")) -> So | W6: =IF(W5="","",CHOOSE(WEEKDAY(DATE(C4,C3,W5),2),"Mo","Di","Mi","Do","Fr","Sa","So")) -> Mo | X6: =IF(X5="","",CHOOSE(WEEKDAY(DATE(C4,C3,X5),2),"Mo","Di","Mi","Do","Fr","Sa","So")) -> Di | Y6: =IF(Y5="","",CHOOSE(WEEKDAY(DATE(C4,C3,Y5),2),"Mo","Di","Mi","Do","Fr","Sa","So")) -> Mi | Z6: =IF(Z5="","",CHOOSE(WEEKDAY(DATE(C4,C3,Z5),2),"Mo","Di","Mi","Do","Fr","Sa","So")) -> Do | AA6: =IF(AA5="","",CHOOSE(WEEKDAY(DATE(C4,C3,AA5),2),"Mo","Di","Mi","Do","Fr","Sa","So")) -> Fr | AB6: =IF(AB5="","",CHOOSE(WEEKDAY(DATE(C4,C3,AB5),2),"Mo","Di","Mi","Do","Fr","Sa","So")) -> Sa | AC6: =IF(AC5="","",CHOOSE(WEEKDAY(DATE(C4,C3,AC5),2),"Mo","Di","Mi","Do","Fr","Sa","So")) -> So | AD6: =IF(AD5="","",CHOOSE(WEEKDAY(DATE(C4,C3,AD5),2),"Mo","Di","Mi","Do","Fr","Sa","So")) -> Mo | AE6: =IF(AE5="","",CHOOSE(WEEKDAY(DATE(C4,C3,AE5),2),"Mo","Di","Mi","Do","Fr","Sa","So")) -> Di | AF6: =IF(AF5="","",CHOOSE(WEEKDAY(DATE(C4,C3,AF5),2),"Mo","Di","Mi","Do","Fr","Sa","So")) -> Mi | AG6: =IF(AG5="","",CHOOSE(WEEKDAY(DATE(C4,C3,AG5),2),"Mo","Di","Mi","Do","Fr","Sa","So")) -> Do | AH6: =IF(AH5="","",CHOOSE(WEEKDAY(DATE(C4,C3,AH5),2),"Mo","Di","Mi","Do","Fr","Sa","So")) -> Fr | AI6: =IF(AI5="","",CHOOSE(WEEKDAY(DATE(C4,C3,AI5),2),"Mo","Di","Mi","Do","Fr","Sa","So"))
A7: 1 | B7: Anna Bergmann | C7: Teamleitung | D7: 40 | E7: T | F7: T | G7: FT | H7: FR | I7: FR | J7: FT | K7: T | L7: T | M7: T | N7: T | O7: FR | P7: FR | Q7: T | R7: T | S7: T | T7: T | U7: T | V7: FR | W7: FR | X7: U | Y7: U | Z7: U | AA7: U | AB7: U | AC7: FR | AD7: FR | AE7: T | AF7: T | AG7: T | AH7: T | AJ7: =IF($B7="","",SUMPRODUCT(COUNTIF($E7:$AI7,Schichtcodes),Nettostunden)) -> 120 | AK7: =IF($B7="","",$D7/5*NETWORKDAYS(DATE(C4,C3,1),EOMONTH(DATE(C4,C3,1),0),Feiertage)) -> 176 | AL7: =IF($B7="","",AJ7-AK7) -> -56 | AM7: =IF($B7="","",SUMPRODUCT(COUNTIF($E7:$AI7,Arbeitscodes))) -> 15 | AN7: =IF($B7="","",COUNTIF($E7:$AI7,"U")) -> 5 | AO7: =IF($B7="","",COUNTIF($E7:$AI7,"K")) -> 0
A8: 2 | B8: Lukas Hoffmann | C8: Fachkraft | D8: 40 | E8: F | F8: F | G8: FT | H8: S | I8: FR | J8: FT | K8: S | L8: S | M8: S | N8: S | O8: FR | P8: FR | Q8: N | R8: N | S8: N | T8: N | U8: N | V8: F | W8: FR | X8: F | Y8: F | Z8: F | AA8: F | AB8: F | AC8: FR | AD8: FR | AE8: F | AF8: F | AG8: F | AH8: F | AJ8: =IF($B8="","",SUMPRODUCT(COUNTIF($E8:$AI8,Schichtcodes),Nettostunden)) -> 165 | AK8: =IF($B8="","",$D8/5*NETWORKDAYS(DATE(C4,C3,1),EOMONTH(DATE(C4,C3,1),0),Feiertage)) -> 176 | AL8: =IF($B8="","",AJ8-AK8) -> -11 | AM8: =IF($B8="","",SUMPRODUCT(COUNTIF($E8:$AI8,Arbeitscodes))) -> 22 | AN8: =IF($B8="","",COUNTIF($E8:$AI8,"U")) -> 0 | AO8: =IF($B8="","",COUNTIF($E8:$AI8,"K")) -> 0
A9: 3 | B9: Sophie Wagner | C9: Fachkraft | D9: 38.5 | E9: F | F9: F | G9: FT | H9: FR | I9: FR | J9: FT | K9: S | L9: U | M9: U | N9: U | O9: FR | P9: FR | Q9: U | R9: F | S9: F | T9: F | U9: F | V9: FR | W9: FR | X9: F | Y9: S | Z9: S | AA9: S | AB9: S | AC9: FR | AD9: FR | AE9: S | AF9: F | AG9: F | AH9: F | AJ9: =IF($B9="","",SUMPRODUCT(COUNTIF($E9:$AI9,Schichtcodes),Nettostunden)) -> 120 | AK9: =IF($B9="","",$D9/5*NETWORKDAYS(DATE(C4,C3,1),EOMONTH(DATE(C4,C3,1),0),Feiertage)) -> 169.4 | AL9: =IF($B9="","",AJ9-AK9) -> -49.4 | AM9: =IF($B9="","",SUMPRODUCT(COUNTIF($E9:$AI9,Arbeitscodes))) -> 16 | AN9: =IF($B9="","",COUNTIF($E9:$AI9,"U")) -> 4 | AO9: =IF($B9="","",COUNTIF($E9:$AI9,"K")) -> 0
A10: 4 | B10: Mehmet Yılmaz | C10: Fachkraft | D10: 40 | E10: N | F10: N | G10: FT | H10: FR | I10: N | J10: FT | K10: N | L10: N | M10: N | N10: N | O10: FR | P10: FR | Q10: S | R10: S | S10: S | T10: S | U10: S | V10: FR | W10: S | X10: S | Y10: S | Z10: S | AA10: S | AB10: S | AC10: FR | AD10: FR | AE10: N | AF10: N | AG10: N | AH10: N | AJ10: =IF($B10="","",SUMPRODUCT(COUNTIF($E10:$AI10,Schichtcodes),Nettostunden)) -> 165 | AK10: =IF($B10="","",$D10/5*NETWORKDAYS(DATE(C4,C3,1),EOMONTH(DATE(C4,C3,1),0),Feiertage)) -> 176 | AL10: =IF($B10="","",AJ10-AK10) -> -11 | AM10: =IF($B10="","",SUMPRODUCT(COUNTIF($E10:$AI10,Arbeitscodes))) -> 22 | AN10: =IF($B10="","",COUNTIF($E10:$AI10,"U")) -> 0 | AO10: =IF($B10="","",COUNTIF($E10:$AI10,"K")) -> 0
A11: 5 | B11: Julia Schneider | C11: Fachkraft | D11: 30 | E11: FR | F11: F | G11: FT | H11: FR | I11: FR | J11: FT | K11: F | L11: FR | M11: F | N11: F | O11: FR | P11: FR | Q11: F | R11: F | S11: FR | T11: F | U11: F | V11: FR | W11: FR | X11: F | Y11: F | Z11: FR | AA11: F | AB11: F | AC11: FR | AD11: FR | AE11: F | AF11: F | AG11: FR | AH11: F | AJ11: =IF($B11="","",SUMPRODUCT(COUNTIF($E11:$AI11,Schichtcodes),Nettostunden)) -> 112.5 | AK11: =IF($B11="","",$D11/5*NETWORKDAYS(DATE(C4,C3,1),EOMONTH(DATE(C4,C3,1),0),Feiertage)) -> 132 | AL11: =IF($B11="","",AJ11-AK11) -> -19.5 | AM11: =IF($B11="","",SUMPRODUCT(COUNTIF($E11:$AI11,Arbeitscodes))) -> 15 | AN11: =IF($B11="","",COUNTIF($E11:$AI11,"U")) -> 0 | AO11: =IF($B11="","",COUNTIF($E11:$AI11,"K")) -> 0
A12: 6 | B12: David Klein | C12: Aushilfe | D12: 20 | E12: FR | F12: FR | G12: FR | H12: S | I12: FR | J12: FR | K12: FR | L12: FR | M12: FR | N12: S | O12: S | P12: FR | Q12: FR | R12: FR | S12: FR | T12: FR | U12: S | V12: S | W12: FR | X12: FR | Y12: FR | Z12: FR | AA12: FR | AB12: S | AC12: S | AD12: FR | AE12: FR | AF12: FR | AG12: FR | AH12: FR | AJ12: =IF($B12="","",SUMPRODUCT(COUNTIF($E12:$AI12,Schichtcodes),Nettostunden)) -> 52.5 | AK12: =IF($B12="","",$D12/5*NETWORKDAYS(DATE(C4,C3,1),EOMONTH(DATE(C4,C3,1),0),Feiertage)) -> 88 | AL12: =IF($B12="","",AJ12-AK12) -> -35.5 | AM12: =IF($B12="","",SUMPRODUCT(COUNTIF($E12:$AI12,Arbeitscodes))) -> 7 | AN12: =IF($B12="","",COUNTIF($E12:$AI12,"U")) -> 0 | AO12: =IF($B12="","",COUNTIF($E12:$AI12,"K")) -> 0
A13: 7 | B13: Laura Fischer | C13: Fachkraft | D13: 40 | E13: S | F13: S | G13: FT | H13: FR | I13: FR | J13: FT | K13: F | L13: F | M13: F | N13: F | O13: F | P13: FR | Q13: N | R13: N | S13: N | T13: N | U13: N | V13: FR | W13: FR | X13: F | Y13: F | Z13: F | AA13: F | AB13: F | AC13: S | AD13: FR | AE13: S | AF13: S | AG13: S | AH13: S | AJ13: =IF($B13="","",SUMPRODUCT(COUNTIF($E13:$AI13,Schichtcodes),Nettostunden)) -> 165 | AK13: =IF($B13="","",$D13/5*NETWORKDAYS(DATE(C4,C3,1),EOMONTH(DATE(C4,C3,1),0),Feiertage)) -> 176 | AL13: =IF($B13="","",AJ13-AK13) -> -11 | AM13: =IF($B13="","",SUMPRODUCT(COUNTIF($E13:$AI13,Arbeitscodes))) -> 22 | AN13: =IF($B13="","",COUNTIF($E13:$AI13,"U")) -> 0 | AO13: =IF($B13="","",COUNTIF($E13:$AI13,"K")) -> 0
A14: 8 | B14: Jonas Weber | C14: Fachkraft | D14: 40 | E14: F | F14: S | G14: FT | H14: FR | I14: FR | J14: FT | K14: F | L14: S | M14: K | N14: K | O14: FR | P14: FR | Q14: F | R14: S | S14: F | T14: S | U14: F | V14: FR | W14: FR | X14: S | Y14: F | Z14: S | AA14: F | AB14: S | AC14: FR | AD14: FR | AE14: F | AF14: S | AG14: F | AH14: S | AJ14: =IF($B14="","",SUMPRODUCT(COUNTIF($E14:$AI14,Schichtcodes),Nettostunden)) -> 135 | AK14: =IF($B14="","",$D14/5*NETWORKDAYS(DATE(C4,C3,1),EOMONTH(DATE(C4,C3,1),0),Feiertage)) -> 176 | AL14: =IF($B14="","",AJ14-AK14) -> -41 | AM14: =IF($B14="","",SUMPRODUCT(COUNTIF($E14:$AI14,Arbeitscodes))) -> 18 | AN14: =IF($B14="","",COUNTIF($E14:$AI14,"U")) -> 0 | AO14: =IF($B14="","",COUNTIF($E14:$AI14,"K")) -> 2
A15: 9 | B15: Emine Demir | C15: Fachkraft | D15: 30 | E15: T | F15: T | G15: FT | H15: FR | I15: FR | J15: FT | K15: T | L15: T | M15: T | N15: FR | O15: FR | P15: FR | Q15: T | R15: T | S15: T | T15: T | U15: FR | V15: FR | W15: FR | X15: T | Y15: T | Z15: T | AA15: T | AB15: FR | AC15: FR | AD15: FR | AE15: T | AF15: T | AG15: T | AH15: T | AJ15: =IF($B15="","",SUMPRODUCT(COUNTIF($E15:$AI15,Schichtcodes),Nettostunden)) -> 136 | AK15: =IF($B15="","",$D15/5*NETWORKDAYS(DATE(C4,C3,1),EOMONTH(DATE(C4,C3,1),0),Feiertage)) -> 132 | AL15: =IF($B15="","",AJ15-AK15) -> 4 | AM15: =IF($B15="","",SUMPRODUCT(COUNTIF($E15:$AI15,Arbeitscodes))) -> 17 | AN15: =IF($B15="","",COUNTIF($E15:$AI15,"U")) -> 0 | AO15: =IF($B15="","",COUNTIF($E15:$AI15,"K")) -> 0
A16: 10 | B16: Felix Braun | C16: Auszubildender | D16: 35 | E16: FB | F16: T | G16: FT | H16: FR | I16: FR | J16: FT | K16: T | L16: FB | M16: T | N16: T | O16: FR | P16: FR | Q16: T | R16: T | S16: FB | T16: T | U16: T | V16: FR | W16: FR | X16: T | Y16: T | Z16: FB | AA16: T | AB16: T | AC16: FR | AD16: FR | AE16: T | AF16: T | AG16: FB | AH16: T | AJ16: =IF($B16="","",SUMPRODUCT(COUNTIF($E16:$AI16,Schichtcodes),Nettostunden)) -> 155 | AK16: =IF($B16="","",$D16/5*NETWORKDAYS(DATE(C4,C3,1),EOMONTH(DATE(C4,C3,1),0),Feiertage)) -> 154 | AL16: =IF($B16="","",AJ16-AK16) -> 1 | AM16: =IF($B16="","",SUMPRODUCT(COUNTIF($E16:$AI16,Arbeitscodes))) -> 20 | AN16: =IF($B16="","",COUNTIF($E16:$AI16,"U")) -> 0 | AO16: =IF($B16="","",COUNTIF($E16:$AI16,"K")) -> 0
A17: 11 | AJ17: =IF($B17="","",SUMPRODUCT(COUNTIF($E17:$AI17,Schichtcodes),Nettostunden)) | AK17: =IF($B17="","",$D17/5*NETWORKDAYS(DATE(C4,C3,1),EOMONTH(DATE(C4,C3,1),0),Feiertage)) | AL17: =IF($B17="","",AJ17-AK17) | AM17: =IF($B17="","",SUMPRODUCT(COUNTIF($E17:$AI17,Arbeitscodes))) | AN17: =IF($B17="","",COUNTIF($E17:$AI17,"U")) | AO17: =IF($B17="","",COUNTIF($E17:$AI17,"K"))
A18: 12 | AJ18: =IF($B18="","",SUMPRODUCT(COUNTIF($E18:$AI18,Schichtcodes),Nettostunden)) | AK18: =IF($B18="","",$D18/5*NETWORKDAYS(DATE(C4,C3,1),EOMONTH(DATE(C4,C3,1),0),Feiertage)) | AL18: =IF($B18="","",AJ18-AK18) | AM18: =IF($B18="","",SUMPRODUCT(COUNTIF($E18:$AI18,Arbeitscodes))) | AN18: =IF($B18="","",COUNTIF($E18:$AI18,"U")) | AO18: =IF($B18="","",COUNTIF($E18:$AI18,"K"))
B19: Besetzung (im Dienst) | E19: =IF(E5="","",SUMPRODUCT(COUNTIF(E7:E18,Arbeitscodes))) -> 8 | F19: =IF(F5="","",SUMPRODUCT(COUNTIF(F7:F18,Arbeitscodes))) -> 9 | G19: =IF(G5="","",SUMPRODUCT(COUNTIF(G7:G18,Arbeitscodes))) -> 0 | H19: =IF(H5="","",SUMPRODUCT(COUNTIF(H7:H18,Arbeitscodes))) -> 2 | I19: =IF(I5="","",SUMPRODUCT(COUNTIF(I7:I18,Arbeitscodes))) -> 1 | J19: =IF(J5="","",SUMPRODUCT(COUNTIF(J7:J18,Arbeitscodes))) -> 0 | K19: =IF(K5="","",SUMPRODUCT(COUNTIF(K7:K18,Arbeitscodes))) -> 9 | L19: =IF(L5="","",SUMPRODUCT(COUNTIF(L7:L18,Arbeitscodes))) -> 7 | ... AI19: =IF(AI5="","",SUMPRODUCT(COUNTIF(AI7:AI18,Arbeitscodes)))
B20: Geplante Std / Tag | E20: =IF(E5="","",SUMPRODUCT(COUNTIF(E7:E18,Schichtcodes),Nettostunden)) -> 60.5 | F20: =IF(F5="","",SUMPRODUCT(COUNTIF(F7:F18,Schichtcodes),Nettostunden)) -> 69 | G20: =IF(G5="","",SUMPRODUCT(COUNTIF(G7:G18,Schichtcodes),Nettostunden)) -> 0 | H20: =IF(H5="","",SUMPRODUCT(COUNTIF(H7:H18,Schichtcodes),Nettostunden)) -> 15 | I20: =IF(I5="","",SUMPRODUCT(COUNTIF(I7:I18,Schichtcodes),Nettostunden)) -> 7.5 | J20: =IF(J5="","",SUMPRODUCT(COUNTIF(J7:J18,Schichtcodes),Nettostunden)) -> 0 | K20: =IF(K5="","",SUMPRODUCT(COUNTIF(K7:K18,Schichtcodes),Nettostunden)) -> 69 | L20: =IF(L5="","",SUMPRODUCT(COUNTIF(L7:L18,Schichtcodes),Nettostunden)) -> 53 | ... AI20: =IF(AI5="","",SUMPRODUCT(COUNTIF(AI7:AI18,Schichtcodes),Nettostunden))
B22: Legende
B23: F | C23: =Konfiguration!B5&IF(Konfiguration!F5>0," ("&TEXT(Konfiguration!F5,"0.0")&" Std)","") -> Frühdienst (07 Std) | H23: T | I23: =Konfiguration!B8&IF(Konfiguration!F8>0," ("&TEXT(Konfiguration!F8,"0.0")&" Std)","") -> Tagdienst (08 Std) | N23: K | O23: =Konfiguration!B11&IF(Konfiguration!F11>0," ("&TEXT(Konfiguration!F11,"0.0")&" Std)","") -> Krank
B24: S | C24: =Konfiguration!B6&IF(Konfiguration!F6>0," ("&TEXT(Konfiguration!F6,"0.0")&" Std)","") -> Spätdienst (08 Std) | H24: FB | I24: =Konfiguration!B9&IF(Konfiguration!F9>0," ("&TEXT(Konfiguration!F9,"0.0")&" Std)","") -> Fortbildung (07 Std) | N24: FR | O24: =Konfiguration!B12&IF(Konfiguration!F12>0," ("&TEXT(Konfiguration!F12,"0.0")&" Std)","") -> Frei
B25: N | C25: =Konfiguration!B7&IF(Konfiguration!F7>0," ("&TEXT(Konfiguration!F7,"0.0")&" Std)","") -> Nachtdienst (07 Std) | H25: U | I25: =Konfiguration!B10&IF(Konfiguration!F10>0," ("&TEXT(Konfiguration!F10,"0.0")&" Std)","") -> Urlaub | N25: FT | O25: =Konfiguration!B13&IF(Konfiguration!F13>0," ("&TEXT(Konfiguration!F13,"0.0")&" Std)","") -> Feiertag
B27: So funktioniert's: Kürzel je Mitarbeiter und Tag über das Dropdown wählen. Ist-Stunden, Saldo, Dienste und Besetzung berechnen sich automatisch. Schichtzeiten und Feiertage im Blatt »Konfiguration« pflegen.

Sheet Konfiguration
A1: Konfiguration – Schichtarten, Zeiten & Feiertage
A2: Passen Sie hier Zeiten und Pausen an – die Stunden im Dienstplan aktualisieren sich automatisch. Kürzel nicht umbenennen, wenn bereits geplant wurde.
A3: Schichtarten
A4: Kürzel | B4: Bezeichnung | C4: Beginn | D4: Ende | E4: Pause (Std) | F4: Nettostunden
A5: F | B5: Frühdienst | C5: 0.25 | D5: 0.58333333 | E5: 0.5 | F5: =IF(OR(ISBLANK(C5),ISBLANK(D5)),0,MOD(D5-C5,1)*24-E5) -> 7.5
A6: S | B6: Spätdienst | C6: 0.58333333 | D6: 0.91666667 | E6: 0.5 | F6: =IF(OR(ISBLANK(C6),ISBLANK(D6)),0,MOD(D6-C6,1)*24-E6) -> 7.5
A7: N | B7: Nachtdienst | C7: 0.91666667 | D7: 0.25 | E7: 0.5 | F7: =IF(OR(ISBLANK(C7),ISBLANK(D7)),0,MOD(D7-C7,1)*24-E7) -> 7.5
A8: T | B8: Tagdienst | C8: 0.33333333 | D8: 0.6875 | E8: 0.5 | F8: =IF(OR(ISBLANK(C8),ISBLANK(D8)),0,MOD(D8-C8,1)*24-E8) -> 8
A9: FB | B9: Fortbildung | C9: 0.375 | D9: 0.70833333 | E9: 1 | F9: =IF(OR(ISBLANK(C9),ISBLANK(D9)),0,MOD(D9-C9,1)*24-E9) -> 7
A10: U | B10: Urlaub | F10: =IF(OR(ISBLANK(C10),ISBLANK(D10)),0,MOD(D10-C10,1)*24-E10) -> 0
A11: K | B11: Krank | F11: =IF(OR(ISBLANK(C11),ISBLANK(D11)),0,MOD(D11-C11,1)*24-E11) -> 0
A12: FR | B12: Frei | F12: =IF(OR(ISBLANK(C12),ISBLANK(D12)),0,MOD(D12-C12,1)*24-E12) -> 0
A13: FT | B13: Feiertag | F13: =IF(OR(ISBLANK(C13),ISBLANK(D13)),0,MOD(D13-C13,1)*24-E13) -> 0
A15: Feiertage (bundeseinheitlich)
A16: Datum | B16: Bezeichnung
A17: 46023 | B17: Neujahr
A18: 46115 | B18: Karfreitag
A19: 46118 | B19: Ostermontag
A20: 46143 | B20: Tag der Arbeit
A21: 46156 | B21: Christi Himmelfahrt
A22: 46167 | B22: Pfingstmontag
A23: 46298 | B23: Tag der Deutschen Einheit
A24: 46381 | B24: 1. Weihnachtstag
A25: 46382 | B25: 2. Weihnachtstag
A27: Hinweis: Für ein anderes Jahr die Feiertagsdaten oben aktualisieren.
