Workbook

Sheet Ishikawa-Diagramm
A1: ISHIKAWA-DIAGRAMM (Ursache-Wirkungs-Diagramm)
A2: Fischgrätendiagramm nach der 6M-Methode · Vorlage · Stand 2026
A4: Problem / Wirkung | H4: Steigende Fehlerquote im Prozess (Beispiel) | W4: Analyse-Nr. | AB4: ISH-2026-001
A5: Zielzustand | H5: Fehlerquote nachhaltig auf < 1 % senken | W5: Datum | AB5: 09.03.2026
A6: Bereich / Prozess | H6: Allgemeiner Beispielprozess | W6: Moderation | AB6: QM-Team · Max Mustermann
C11: Mensch | K11: Maschine | S11: Material
C14: =COUNTIF(Ursachenanalyse!$B$7:$B$24,"Mensch")&" Ursachen" -> 4 Ursachen | K14: =COUNTIF(Ursachenanalyse!$B$7:$B$24,"Maschine")&" Ursachen" -> 3 Ursachen | S14: =COUNTIF(Ursachenanalyse!$B$7:$B$24,"Material")&" Ursachen" -> 3 Ursachen
AF18: PROBLEM / WIRKUNG
AF19: =H4 -> Steigende Fehlerquote im Prozess (Beispiel)
B31: Methode | J31: Messung | R31: Mitwelt
B34: =COUNTIF(Ursachenanalyse!$B$7:$B$24,"Methode")&" Ursachen" -> 3 Ursachen | J34: =COUNTIF(Ursachenanalyse!$B$7:$B$24,"Messung")&" Ursachen" -> 2 Ursachen | R34: =COUNTIF(Ursachenanalyse!$B$7:$B$24,"Mitwelt")&" Ursachen" -> 3 Ursachen
A37: 6M-METHODE
A38: Kopf = Problem/Wirkung · Gräten = Ursachenkategorien (Mensch · Maschine · Material · Methode · Messung · Mitwelt). Ursachen je Kategorie, Bewertung und Priorisierung im Tabellenblatt „Ursachenanalyse“ erfassen.

Sheet Ursachenanalyse
A1: ISHIKAWA-DIAGRAMM · URSACHE-WIRKUNGS-ANALYSE
A2: Ursachen strukturiert erfassen, bewerten und priorisieren · Methode 6M (Mensch · Maschine · Material · Methode · Messung · Mitwelt)
A4: Analysiertes Problem | C4: ='Ishikawa-Diagramm'!H4 -> Steigende Fehlerquote im Prozess (Beispiel) | I4: Zielzustand | K4: ='Ishikawa-Diagramm'!H5 -> Fehlerquote nachhaltig auf < 1 % senken
A6: Nr. | B6: Kategorie (6M) | C6: Ursache / Grät | D6: Mögliche Grundursache (Detail) | E6: Auswir- kung (1–5) | F6: Wahr- schein. (1–5) | G6: Prio- Zahl | H6: Prioritäts- stufe | I6: Rang | J6: Maßnahme | K6: Verant- wortlich | L6: Termin | M6: Status | O6: LEGENDE & BEWERTUNG
A7: 1 | B7: Mensch | C7: Unzureichende Einarbeitung neuer Mitarbeiter | D7: Kein strukturierter Einarbeitungsplan vorhanden | E7: 5 | F7: 4 | G7: =IF(OR($E7="",$F7=""),"",$E7*$F7) -> 20 | H7: =IF($G7="","",IF($G7>=15,"Hoch",IF($G7>=8,"Mittel","Niedrig"))) -> Hoch | I7: =IF($G7="","",RANK($G7,$G$7:$G$24)) -> 2 | J7: Strukturierten Einarbeitungsplan mit Paten-System einführen | K7: Teamleitung | L7: 31.03.2026 | M7: In Bearbeitung | O7: Bewertungsskala 1–5
A8: 2 | B8: Mensch | C8: Fehlende Schulung zur Arbeitsanweisung | D8: Schulungen finden unregelmäßig statt | E8: 3 | F8: 3 | G8: =IF(OR($E8="",$F8=""),"",$E8*$F8) -> 9 | H8: =IF($G8="","",IF($G8>=15,"Hoch",IF($G8>=8,"Mittel","Niedrig"))) -> Mittel | I8: =IF($G8="","",RANK($G8,$G$7:$G$24)) -> 8 | J8: Jährlichen Schulungsplan festlegen und dokumentieren | K8: Personalentw. | L8: 30.04.2026 | M8: Offen | O8: 1 | P8: sehr gering
A9: 3 | B9: Mensch | C9: Hohe Arbeitsbelastung / Zeitdruck | D9: Personalkapazität in Spitzenzeiten zu gering | E9: 3 | F9: 4 | G9: =IF(OR($E9="",$F9=""),"",$E9*$F9) -> 12 | H9: =IF($G9="","",IF($G9>=15,"Hoch",IF($G9>=8,"Mittel","Niedrig"))) -> Mittel | I9: =IF($G9="","",RANK($G9,$G$7:$G$24)) -> 5 | J9: Kapazitätsplanung prüfen, Puffer einplanen | K9: Teamleitung | L9: 15.05.2026 | M9: Offen | O9: 2 | P9: gering
A10: 4 | B10: Mensch | C10: Unklare Verantwortlichkeiten | D10: Zuständigkeiten nicht eindeutig geregelt | E10: 3 | F10: 3 | G10: =IF(OR($E10="",$F10=""),"",$E10*$F10) -> 9 | H10: =IF($G10="","",IF($G10>=15,"Hoch",IF($G10>=8,"Mittel","Niedrig"))) -> Mittel | I10: =IF($G10="","",RANK($G10,$G$7:$G$24)) -> 8 | J10: Rollen in der Prozessbeschreibung festlegen | K10: Prozessmanager | L10: 28.02.2026 | M10: Umgesetzt | O10: 3 | P10: mittel
A11: 5 | B11: Maschine | C11: Fehlende vorbeugende Wartung | D11: Wartung erfolgt nur reaktiv bei Ausfall | E11: 4 | F11: 4 | G11: =IF(OR($E11="",$F11=""),"",$E11*$F11) -> 16 | H11: =IF($G11="","",IF($G11>=15,"Hoch",IF($G11>=8,"Mittel","Niedrig"))) -> Hoch | I11: =IF($G11="","",RANK($G11,$G$7:$G$24)) -> 3 | J11: Wartungsplan (TPM) einführen und einhalten | K11: Instandhaltung | L11: 30.04.2026 | M11: In Bearbeitung | O11: 4 | P11: hoch
A12: 6 | B12: Maschine | C12: Veraltete Ausrüstung | D12: Anlage entspricht nicht mehr dem Stand der Technik | E12: 3 | F12: 2 | G12: =IF(OR($E12="",$F12=""),"",$E12*$F12) -> 6 | H12: =IF($G12="","",IF($G12>=15,"Hoch",IF($G12>=8,"Mittel","Niedrig"))) -> Niedrig | I12: =IF($G12="","",RANK($G12,$G$7:$G$24)) -> 15 | J12: Investitionsbedarf prüfen, Ersatzbeschaffung planen | K12: Betriebsleitung | L12: 30.09.2026 | M12: Offen | O12: 5 | P12: sehr hoch
A13: 7 | B13: Maschine | C13: Häufige Rüstfehler | D13: Rüstvorgang nicht standardisiert | E13: 4 | F13: 3 | G13: =IF(OR($E13="",$F13=""),"",$E13*$F13) -> 12 | H13: =IF($G13="","",IF($G13>=15,"Hoch",IF($G13>=8,"Mittel","Niedrig"))) -> Mittel | I13: =IF($G13="","",RANK($G13,$G$7:$G$24)) -> 5 | J13: Rüstprozess standardisieren (SMED), Checkliste erstellen | K13: Fertigung | L13: 15.06.2026 | M13: Offen
A14: 8 | B14: Material | C14: Schwankende Qualität von Zulieferteilen | D14: Lieferantenqualität nicht ausreichend gesichert | E14: 5 | F14: 5 | G14: =IF(OR($E14="",$F14=""),"",$E14*$F14) -> 25 | H14: =IF($G14="","",IF($G14>=15,"Hoch",IF($G14>=8,"Mittel","Niedrig"))) -> Hoch | I14: =IF($G14="","",RANK($G14,$G$7:$G$24)) -> 1 | J14: Lieferantenbewertung und Reklamationsprozess etablieren | K14: Einkauf | L14: 31.03.2026 | M14: In Bearbeitung | O14: Prio-Zahl | P14: Auswirkung × Wahrscheinlichkeit
A15: 9 | B15: Material | C15: Fehlende Wareneingangsprüfung | D15: Kein verbindlicher Prüfplan im Wareneingang | E15: 4 | F15: 2 | G15: =IF(OR($E15="",$F15=""),"",$E15*$F15) -> 8 | H15: =IF($G15="","",IF($G15>=15,"Hoch",IF($G15>=8,"Mittel","Niedrig"))) -> Mittel | I15: =IF($G15="","",RANK($G15,$G$7:$G$24)) -> 13 | J15: Wareneingangsprüfung mit Stichprobenplan einführen | K15: Qualitätssich. | L15: 30.04.2026 | M15: Offen | O15: Hoch | P15: Prio-Zahl 15–25
A16: 10 | B16: Material | C16: Unklare Materialkennzeichnung | D16: Kennzeichnung uneinheitlich und unvollständig | E16: 2 | F16: 2 | G16: =IF(OR($E16="",$F16=""),"",$E16*$F16) -> 4 | H16: =IF($G16="","",IF($G16>=15,"Hoch",IF($G16>=8,"Mittel","Niedrig"))) -> Niedrig | I16: =IF($G16="","",RANK($G16,$G$7:$G$24)) -> 17 | J16: Eindeutige Etikettierung / Kennzeichnung einführen | K16: Logistik | L16: 31.05.2026 | M16: Offen | O16: Mittel | P16: Prio-Zahl 8–14
A17: 11 | B17: Methode | C17: Veraltete / unklare Arbeitsanweisungen | D17: Dokumente nicht aktuell und schwer verständlich | E17: 5 | F17: 3 | G17: =IF(OR($E17="",$F17=""),"",$E17*$F17) -> 15 | H17: =IF($G17="","",IF($G17>=15,"Hoch",IF($G17>=8,"Mittel","Niedrig"))) -> Hoch | I17: =IF($G17="","",RANK($G17,$G$7:$G$24)) -> 4 | J17: Arbeitsanweisungen aktualisieren und visualisieren | K17: QM | L17: 30.06.2026 | M17: Offen | O17: Niedrig | P17: Prio-Zahl 1–7
A18: 12 | B18: Methode | C18: Fehlende Standardisierung | D18: Abläufe je nach Person unterschiedlich | E18: 4 | F18: 3 | G18: =IF(OR($E18="",$F18=""),"",$E18*$F18) -> 12 | H18: =IF($G18="","",IF($G18>=15,"Hoch",IF($G18>=8,"Mittel","Niedrig"))) -> Mittel | I18: =IF($G18="","",RANK($G18,$G$7:$G$24)) -> 5 | J18: Prozessstandards definieren und schulen | K18: Prozessmanager | L18: 31.07.2026 | M18: Offen
A19: 13 | B19: Methode | C19: Kein definierter Prüfschritt | D19: Qualitätsprüfung nicht fest im Ablauf verankert | E19: 3 | F19: 3 | G19: =IF(OR($E19="",$F19=""),"",$E19*$F19) -> 9 | H19: =IF($G19="","",IF($G19>=15,"Hoch",IF($G19>=8,"Mittel","Niedrig"))) -> Mittel | I19: =IF($G19="","",RANK($G19,$G$7:$G$24)) -> 8 | J19: Verbindlichen Prüfschritt in den Ablauf integrieren | K19: QM | L19: 31.05.2026 | M19: In Bearbeitung | O19: Eingabefelder | P19: weiße Zellen ausfüllen
A20: 14 | B20: Messung | C20: Nicht kalibrierte Messmittel | D20: Kalibrierintervalle nicht definiert | E20: 4 | F20: 2 | G20: =IF(OR($E20="",$F20=""),"",$E20*$F20) -> 8 | H20: =IF($G20="","",IF($G20>=15,"Hoch",IF($G20>=8,"Mittel","Niedrig"))) -> Mittel | I20: =IF($G20="","",RANK($G20,$G$7:$G$24)) -> 13 | J20: Kalibrierintervalle festlegen und dokumentieren | K20: Qualitätssich. | L20: 28.02.2026 | M20: Umgesetzt | O20: Berechnet | P20: Prio-Zahl, Stufe, Rang
A21: 15 | B21: Messung | C21: Fehlende Kennzahlen / Monitoring | D21: Prozessleistung wird nicht regelmäßig gemessen | E21: 3 | F21: 3 | G21: =IF(OR($E21="",$F21=""),"",$E21*$F21) -> 9 | H21: =IF($G21="","",IF($G21>=15,"Hoch",IF($G21>=8,"Mittel","Niedrig"))) -> Mittel | I21: =IF($G21="","",RANK($G21,$G$7:$G$24)) -> 8 | J21: Kennzahlen-Dashboard einführen, regelmäßig auswerten | K21: Controlling | L21: 30.06.2026 | M21: Offen
A22: 16 | B22: Mitwelt | C22: Schlechte Beleuchtung am Arbeitsplatz | D22: Lichtverhältnisse nicht normgerecht | E22: 2 | F22: 3 | G22: =IF(OR($E22="",$F22=""),"",$E22*$F22) -> 6 | H22: =IF($G22="","",IF($G22>=15,"Hoch",IF($G22>=8,"Mittel","Niedrig"))) -> Niedrig | I22: =IF($G22="","",RANK($G22,$G$7:$G$24)) -> 15 | J22: Beleuchtung gemäß Norm verbessern | K22: Facility Mgmt. | L22: 30.04.2026 | M22: Offen | O22: So arbeiten Sie mit der Vorlage: 1) Problem im Blatt „Ishikawa-Diagramm“ eintragen. 2) Ursachen je Kategorie hier erfassen. 3) Auswirkung & Wahrscheinlichkeit bewerten. 4) Nach Prio-Zahl / Rang Maßnahmen ableiten.
A23: 17 | B23: Mitwelt | C23: Störende Geräuschkulisse | D23: Lärm beeinträchtigt Konzentration | E23: 2 | F23: 2 | G23: =IF(OR($E23="",$F23=""),"",$E23*$F23) -> 4 | H23: =IF($G23="","",IF($G23>=15,"Hoch",IF($G23>=8,"Mittel","Niedrig"))) -> Niedrig | I23: =IF($G23="","",RANK($G23,$G$7:$G$24)) -> 17 | J23: Lärmquellen reduzieren, Trennwände prüfen | K23: Facility Mgmt. | L23: 31.08.2026 | M23: Verworfen
A24: 18 | B24: Mitwelt | C24: Unordnung am Arbeitsplatz | D24: 5S nicht eingeführt | E24: 3 | F24: 3 | G24: =IF(OR($E24="",$F24=""),"",$E24*$F24) -> 9 | H24: =IF($G24="","",IF($G24>=15,"Hoch",IF($G24>=8,"Mittel","Niedrig"))) -> Mittel | I24: =IF($G24="","",RANK($G24,$G$7:$G$24)) -> 8 | J24: 5S-Methode einführen und regelmäßige Audits | K24: Teamleitung | L24: 31.05.2026 | M24: In Bearbeitung
A27: AUSWERTUNG
A29: Ursachen je Kategorie
A30: Kategorie | C30: Anzahl | D30: Verteilung
A31: Mensch | C31: =COUNTIF($B$7:$B$24,A31) -> 4 | D31: =IF(C31=0,"",REPT("|",C31)) -> ||||
A32: Maschine | C32: =COUNTIF($B$7:$B$24,A32) -> 3 | D32: =IF(C32=0,"",REPT("|",C32)) -> |||
A33: Material | C33: =COUNTIF($B$7:$B$24,A33) -> 3 | D33: =IF(C33=0,"",REPT("|",C33)) -> |||
A34: Methode | C34: =COUNTIF($B$7:$B$24,A34) -> 3 | D34: =IF(C34=0,"",REPT("|",C34)) -> |||
A35: Messung | C35: =COUNTIF($B$7:$B$24,A35) -> 2 | D35: =IF(C35=0,"",REPT("|",C35)) -> ||
A36: Mitwelt | C36: =COUNTIF($B$7:$B$24,A36) -> 3 | D36: =IF(C36=0,"",REPT("|",C36)) -> |||
A38: Status-Übersicht | F38: Top-Prioritäten (höchste Prio-Zahl)
A39: Status | C39: Anzahl | D39: Anteil | F39: Rang | G39: Kategorie | I39: Ursache | M39: Prio
A40: Offen | C40: =COUNTIF($M$7:$M$24,A40) -> 10 | D40: =IFERROR(C40/COUNTA($M$7:$M$24),0) -> 0.55555556 | F40: 1 | G40: =IFERROR(INDEX($B$7:$B$24,MATCH(LARGE($G$7:$G$24,1),$G$7:$G$24,0)),"") -> Material | I40: =IFERROR(INDEX($C$7:$C$24,MATCH(LARGE($G$7:$G$24,1),$G$7:$G$24,0)),"") -> Schwankende Qualität von Zulieferteilen | M40: =LARGE($G$7:$G$24,1) -> 25
A41: In Bearbeitung | C41: =COUNTIF($M$7:$M$24,A41) -> 5 | D41: =IFERROR(C41/COUNTA($M$7:$M$24),0) -> 0.27777778 | F41: 2 | G41: =IFERROR(INDEX($B$7:$B$24,MATCH(LARGE($G$7:$G$24,2),$G$7:$G$24,0)),"") -> Mensch | I41: =IFERROR(INDEX($C$7:$C$24,MATCH(LARGE($G$7:$G$24,2),$G$7:$G$24,0)),"") -> Unzureichende Einarbeitung neuer Mitarbeiter | M41: =LARGE($G$7:$G$24,2) -> 20
A42: Umgesetzt | C42: =COUNTIF($M$7:$M$24,A42) -> 2 | D42: =IFERROR(C42/COUNTA($M$7:$M$24),0) -> 0.11111111 | F42: 3 | G42: =IFERROR(INDEX($B$7:$B$24,MATCH(LARGE($G$7:$G$24,3),$G$7:$G$24,0)),"") -> Maschine | I42: =IFERROR(INDEX($C$7:$C$24,MATCH(LARGE($G$7:$G$24,3),$G$7:$G$24,0)),"") -> Fehlende vorbeugende Wartung | M42: =LARGE($G$7:$G$24,3) -> 16
A43: Verworfen | C43: =COUNTIF($M$7:$M$24,A43) -> 1 | D43: =IFERROR(C43/COUNTA($M$7:$M$24),0) -> 0.055555556
