Workbook

Sheet Ishikawa-Diagramm
B1: ISHIKAWA-DIAGRAMM
B2: URSACHE-WIRKUNGS-ANALYSE NACH DEN 6 M · 2026
C4: ="1 · MENSCH ("&COUNTIF(Ursachenanalyse!$B$3:$B$60,"Mensch")&")" -> 1 · MENSCH (3) | O4: ="2 · MASCHINE ("&COUNTIF(Ursachenanalyse!$B$3:$B$60,"Maschine")&")" -> 2 · MASCHINE (3) | AA4: ="3 · MATERIAL ("&COUNTIF(Ursachenanalyse!$B$3:$B$60,"Material")&")" -> 3 · MATERIAL (3)
C6: {=IFERROR(INDEX(Ursachenanalyse!$C$3:$C$60,SMALL(IF(Ursachenanalyse!$B$3:$B$60="Mensch",ROW(Ursachenanalyse!$B$3:$B$60)-2),1)),"")} -> Überlastung der Mitarbeiter | O6: {=IFERROR(INDEX(Ursachenanalyse!$C$3:$C$60,SMALL(IF(Ursachenanalyse!$B$3:$B$60="Maschine",ROW(Ursachenanalyse!$B$3:$B$60)-2),1)),"")} -> Instabile Software-Tools | AA6: {=IFERROR(INDEX(Ursachenanalyse!$C$3:$C$60,SMALL(IF(Ursachenanalyse!$B$3:$B$60="Material",ROW(Ursachenanalyse!$B$3:$B$60)-2),1)),"")} -> Verspätete Zulieferungen
C8: {=IFERROR(INDEX(Ursachenanalyse!$C$3:$C$60,SMALL(IF(Ursachenanalyse!$B$3:$B$60="Mensch",ROW(Ursachenanalyse!$B$3:$B$60)-2),2)),"")} -> Fehlende Fachkenntnisse | O8: {=IFERROR(INDEX(Ursachenanalyse!$C$3:$C$60,SMALL(IF(Ursachenanalyse!$B$3:$B$60="Maschine",ROW(Ursachenanalyse!$B$3:$B$60)-2),2)),"")} -> Unzureichende IT-Ausstattung | AA8: {=IFERROR(INDEX(Ursachenanalyse!$C$3:$C$60,SMALL(IF(Ursachenanalyse!$B$3:$B$60="Material",ROW(Ursachenanalyse!$B$3:$B$60)-2),2)),"")} -> Unvollständige Vorgaben
C10: {=IFERROR(INDEX(Ursachenanalyse!$C$3:$C$60,SMALL(IF(Ursachenanalyse!$B$3:$B$60="Mensch",ROW(Ursachenanalyse!$B$3:$B$60)-2),3)),"")} -> Krankheitsbedingte Ausfälle | O10: {=IFERROR(INDEX(Ursachenanalyse!$C$3:$C$60,SMALL(IF(Ursachenanalyse!$B$3:$B$60="Maschine",ROW(Ursachenanalyse!$B$3:$B$60)-2),3)),"")} -> Systemausfälle | AA10: {=IFERROR(INDEX(Ursachenanalyse!$C$3:$C$60,SMALL(IF(Ursachenanalyse!$B$3:$B$60="Material",ROW(Ursachenanalyse!$B$3:$B$60)-2),3)),"")} -> Fehlende Ressourcen
C12: {=IFERROR(INDEX(Ursachenanalyse!$C$3:$C$60,SMALL(IF(Ursachenanalyse!$B$3:$B$60="Mensch",ROW(Ursachenanalyse!$B$3:$B$60)-2),4)),"")} | O12: {=IFERROR(INDEX(Ursachenanalyse!$C$3:$C$60,SMALL(IF(Ursachenanalyse!$B$3:$B$60="Maschine",ROW(Ursachenanalyse!$B$3:$B$60)-2),4)),"")} | AA12: {=IFERROR(INDEX(Ursachenanalyse!$C$3:$C$60,SMALL(IF(Ursachenanalyse!$B$3:$B$60="Material",ROW(Ursachenanalyse!$B$3:$B$60)-2),4)),"")}
AY18: WIRKUNG / PROBLEM
AY20: Häufige Verzögerungen bei Projektterminen
F36: {=IFERROR(INDEX(Ursachenanalyse!$C$3:$C$60,SMALL(IF(Ursachenanalyse!$B$3:$B$60="Methode",ROW(Ursachenanalyse!$B$3:$B$60)-2),4)),"")} | R36: {=IFERROR(INDEX(Ursachenanalyse!$C$3:$C$60,SMALL(IF(Ursachenanalyse!$B$3:$B$60="Messung",ROW(Ursachenanalyse!$B$3:$B$60)-2),4)),"")} | AD36: {=IFERROR(INDEX(Ursachenanalyse!$C$3:$C$60,SMALL(IF(Ursachenanalyse!$B$3:$B$60="Mitwelt",ROW(Ursachenanalyse!$B$3:$B$60)-2),4)),"")}
F38: {=IFERROR(INDEX(Ursachenanalyse!$C$3:$C$60,SMALL(IF(Ursachenanalyse!$B$3:$B$60="Methode",ROW(Ursachenanalyse!$B$3:$B$60)-2),3)),"")} -> Unklare Anforderungen | R38: {=IFERROR(INDEX(Ursachenanalyse!$C$3:$C$60,SMALL(IF(Ursachenanalyse!$B$3:$B$60="Messung",ROW(Ursachenanalyse!$B$3:$B$60)-2),3)),"")} -> Ungenaue Aufwandsschätzung | AD38: {=IFERROR(INDEX(Ursachenanalyse!$C$3:$C$60,SMALL(IF(Ursachenanalyse!$B$3:$B$60="Mitwelt",ROW(Ursachenanalyse!$B$3:$B$60)-2),3)),"")} -> Abhängigkeit von Externen
F40: {=IFERROR(INDEX(Ursachenanalyse!$C$3:$C$60,SMALL(IF(Ursachenanalyse!$B$3:$B$60="Methode",ROW(Ursachenanalyse!$B$3:$B$60)-2),2)),"")} -> Fehlendes Projektcontrolling | R40: {=IFERROR(INDEX(Ursachenanalyse!$C$3:$C$60,SMALL(IF(Ursachenanalyse!$B$3:$B$60="Messung",ROW(Ursachenanalyse!$B$3:$B$60)-2),2)),"")} -> Fehlende Meilensteine | AD40: {=IFERROR(INDEX(Ursachenanalyse!$C$3:$C$60,SMALL(IF(Ursachenanalyse!$B$3:$B$60="Mitwelt",ROW(Ursachenanalyse!$B$3:$B$60)-2),2)),"")} -> Störungen im Großraumbüro
F42: {=IFERROR(INDEX(Ursachenanalyse!$C$3:$C$60,SMALL(IF(Ursachenanalyse!$B$3:$B$60="Methode",ROW(Ursachenanalyse!$B$3:$B$60)-2),1)),"")} -> Unrealistische Zeitpläne | R42: {=IFERROR(INDEX(Ursachenanalyse!$C$3:$C$60,SMALL(IF(Ursachenanalyse!$B$3:$B$60="Messung",ROW(Ursachenanalyse!$B$3:$B$60)-2),1)),"")} -> Kein Fortschrittstracking | AD42: {=IFERROR(INDEX(Ursachenanalyse!$C$3:$C$60,SMALL(IF(Ursachenanalyse!$B$3:$B$60="Mitwelt",ROW(Ursachenanalyse!$B$3:$B$60)-2),1)),"")} -> Häufige Prioritätswechsel
F44: ="4 · METHODE ("&COUNTIF(Ursachenanalyse!$B$3:$B$60,"Methode")&")" -> 4 · METHODE (3) | R44: ="5 · MESSUNG ("&COUNTIF(Ursachenanalyse!$B$3:$B$60,"Messung")&")" -> 5 · MESSUNG (3) | AD44: ="6 · MITWELT ("&COUNTIF(Ursachenanalyse!$B$3:$B$60,"Mitwelt")&")" -> 6 · MITWELT (3)
B48: Ursachen im Register »Ursachenanalyse« erfassen – die Äste und Zähler füllen sich automatisch je Kategorie. Das Problem im Fischkopf ist frei überschreibbar; die 6 M lassen sich umbenennen.

Sheet Ursachenanalyse
A1: URSACHENANALYSE
A2: Ursachen · Priorität · Grundursachen · Maßnahmen — Geschäftsjahr 2026
A3: 1 | B3: Mensch | C3: Überlastung der Mitarbeiter | D3: Zu viele parallele Projekte | E3: Hoch | F3: Ja | G3: Auslastung steuern, WIP begrenzen | H3: K. Vogt | I3: 46307 | J3: In Umsetzung
A4: 2 | B4: Mensch | C4: Fehlende Fachkenntnisse | D4: Neue Technologien im Einsatz | E4: Mittel | F4: Nein | G4: Gezielte Weiterbildung planen | H4: K. Vogt | I4: 46344 | J4: Offen
A5: 3 | B5: Mensch | C5: Krankheitsbedingte Ausfälle | D5: Keine Vertretungsregelung | E5: Mittel | F5: Nein | G5: Vertretungsplan einführen | H5: R. Adler | I5: 46294 | J5: Erledigt
A6: 4 | B6: Maschine | C6: Instabile Software-Tools | D6: Häufige Abstürze | E6: Hoch | F6: Ja | G6: Toolchain evaluieren | H6: D. Frei | I6: 46300 | J6: In Umsetzung
A7: 5 | B7: Maschine | C7: Unzureichende IT-Ausstattung | D7: Veraltete Hardware | E7: Mittel | F7: Nein | G7: Hardware-Rollout planen | H7: D. Frei | I7: 46366 | J7: Offen
A8: 6 | B8: Maschine | C8: Systemausfälle | D8: Wartungsfenster unklar | E8: Niedrig | F8: Nein | G8: Wartungsfenster definieren | H8: D. Frei | I8: 46328 | J8: Offen
A9: 7 | B9: Material | C9: Verspätete Zulieferungen | D9: Externe Gewerke zu spät | E9: Hoch | F9: Nein | G9: Liefertermine vertraglich fixieren | H9: P. Sandmann | I9: 46317 | J9: Offen
A10: 8 | B10: Material | C10: Unvollständige Vorgaben | D10: Briefings lückenhaft | E10: Hoch | F10: Ja | G10: Briefing-Checkliste einführen | H10: P. Sandmann | I10: 46289 | J10: In Umsetzung
A11: 9 | B11: Material | C11: Fehlende Ressourcen | D11: Budget zu knapp geplant | E11: Mittel | F11: Nein | G11: Ressourcenplanung schärfen | H11: M. Bauer | I11: 46340 | J11: Offen
A12: 10 | B12: Methode | C12: Unrealistische Zeitpläne | D12: Puffer fehlen | E12: Hoch | F12: Ja | G12: Schätzung mit Puffern | H12: L. Sommer | I12: 46303 | J12: In Umsetzung
A13: 11 | B13: Methode | C13: Fehlendes Projektcontrolling | D13: Kein Soll-Ist-Vergleich | E13: Mittel | F13: Nein | G13: Wöchentliches Controlling | H13: L. Sommer | I13: 46351 | J13: Offen
A14: 12 | B14: Methode | C14: Unklare Anforderungen | D14: Scope schwankt | E14: Hoch | F14: Nein | G14: Anforderungen freigeben lassen | H14: L. Sommer | I14: 46325 | J14: Offen
... A20: 18 | B20: Mitwelt | C20: Abhängigkeit von Externen | D20: Externe nicht steuerbar | E20: Mittel | F20: Nein | G20: Eskalationswege definieren | H20: M. Bauer | I20: 46359 | J20: Offen

Sheet Übersicht
B2: ISHIKAWA · AUSWERTUNG
B3: URSACHE-WIRKUNGS-ANALYSE · KENNZAHLEN & MASSNAHMENSTAND · 2026
B5: PROBLEM | H5: STAND
B6: =SUBSTITUTE('Ishikawa-Diagramm'!AY20,CHAR(10)," ") -> Häufige Verzögerungen bei Projektterminen | H6: =TODAY() -> 46272
B8: KENNZAHLEN
B10: URSACHEN GESAMT | D10: GRUNDURSACHEN | F10: HOHE PRIORITÄT | H10: KATEGORIEN
B11: =COUNTIF(Ursachenanalyse!$C$3:$C$60,"<>") -> 18 | D11: =COUNTIF(Ursachenanalyse!$F$3:$F$60,"Ja") -> 5 | F11: =COUNTIF(Ursachenanalyse!$E$3:$E$60,"Hoch") -> 8 | H11: =SUMPRODUCT(--(C20:C25>0)) -> 6
B15: MASSNAHMEN OFFEN | D15: IN UMSETZUNG | F15: ERLEDIGT | H15: UMSETZUNGSQUOTE
B16: =COUNTIFS(Ursachenanalyse!$J$3:$J$60,"<>Erledigt",Ursachenanalyse!$C$3:$C$60,"<>") -> 16 | D16: =COUNTIF(Ursachenanalyse!$J$3:$J$60,"In Umsetzung") -> 5 | F16: =COUNTIF(Ursachenanalyse!$J$3:$J$60,"Erledigt") -> 2 | H16: =IFERROR(COUNTIF(Ursachenanalyse!$J$3:$J$60,"Erledigt")/COUNTIF(Ursachenanalyse!$C$3:$C$60,"<>"),0) -> 0.11111111
B18: AUSWERTUNG JE KATEGORIE
B19: Kategorie | C19: Ursachen | D19: Grundursachen | E19: Hohe Priorität | K19: Prio | L19: n
B20: Mensch | C20: =COUNTIF(Ursachenanalyse!$B$3:$B$60,$B20) -> 3 | D20: =COUNTIFS(Ursachenanalyse!$B$3:$B$60,$B20,Ursachenanalyse!$F$3:$F$60,"Ja") -> 1 | E20: =COUNTIFS(Ursachenanalyse!$B$3:$B$60,$B20,Ursachenanalyse!$E$3:$E$60,"Hoch") -> 1 | K20: Hoch | L20: =COUNTIF(Ursachenanalyse!$E$3:$E$60,"Hoch") -> 8
B21: Maschine | C21: =COUNTIF(Ursachenanalyse!$B$3:$B$60,$B21) -> 3 | D21: =COUNTIFS(Ursachenanalyse!$B$3:$B$60,$B21,Ursachenanalyse!$F$3:$F$60,"Ja") -> 1 | E21: =COUNTIFS(Ursachenanalyse!$B$3:$B$60,$B21,Ursachenanalyse!$E$3:$E$60,"Hoch") -> 1 | K21: Mittel | L21: =COUNTIF(Ursachenanalyse!$E$3:$E$60,"Mittel") -> 8
B22: Material | C22: =COUNTIF(Ursachenanalyse!$B$3:$B$60,$B22) -> 3 | D22: =COUNTIFS(Ursachenanalyse!$B$3:$B$60,$B22,Ursachenanalyse!$F$3:$F$60,"Ja") -> 1 | E22: =COUNTIFS(Ursachenanalyse!$B$3:$B$60,$B22,Ursachenanalyse!$E$3:$E$60,"Hoch") -> 2 | K22: Niedrig | L22: =COUNTIF(Ursachenanalyse!$E$3:$E$60,"Niedrig") -> 2
B23: Methode | C23: =COUNTIF(Ursachenanalyse!$B$3:$B$60,$B23) -> 3 | D23: =COUNTIFS(Ursachenanalyse!$B$3:$B$60,$B23,Ursachenanalyse!$F$3:$F$60,"Ja") -> 1 | E23: =COUNTIFS(Ursachenanalyse!$B$3:$B$60,$B23,Ursachenanalyse!$E$3:$E$60,"Hoch") -> 2
B24: Messung | C24: =COUNTIF(Ursachenanalyse!$B$3:$B$60,$B24) -> 3 | D24: =COUNTIFS(Ursachenanalyse!$B$3:$B$60,$B24,Ursachenanalyse!$F$3:$F$60,"Ja") -> 1 | E24: =COUNTIFS(Ursachenanalyse!$B$3:$B$60,$B24,Ursachenanalyse!$E$3:$E$60,"Hoch") -> 1
B25: Mitwelt | C25: =COUNTIF(Ursachenanalyse!$B$3:$B$60,$B25) -> 3 | D25: =COUNTIFS(Ursachenanalyse!$B$3:$B$60,$B25,Ursachenanalyse!$F$3:$F$60,"Ja") -> 0 | E25: =COUNTIFS(Ursachenanalyse!$B$3:$B$60,$B25,Ursachenanalyse!$E$3:$E$60,"Hoch") -> 1
B42: HINWEISE
B43: • Ursachen im Register »Ursachenanalyse« je Kategorie (6 M) mit Priorität, Grundursache und Maßnahme erfassen.
B44: • Das »Ishikawa-Diagramm« und diese Auswertung aktualisieren sich automatisch aus der Tabelle.
B45: • Farbcode Priorität: Rot = hoch · Gelb = mittel · Grau = niedrig. Amber markierte Ursachen sind Grundursachen.
B46: • Das Problem im Fischkopf ist frei überschreibbar; grau/dunkel hinterlegte Auswertungsfelder nicht überschreiben.

Sheet Listen
A1: Kategorie | B1: Prioritaet | C1: JaNein | D1: Verantwortlich | E1: Status
A2: Mensch | B2: Hoch | C2: Ja | D2: M. Bauer | E2: Offen
A3: Maschine | B3: Mittel | C3: Nein | D3: K. Vogt | E3: In Umsetzung
A4: Material | B4: Niedrig | D4: R. Adler | E4: Erledigt
A5: Methode | D5: D. Frei
A6: Messung | D6: P. Sandmann
A7: Mitwelt | D7: L. Sommer
