Workbook
Name KAT_ALLE: Kategorien!$A$5:$A$22
Name ZAHLARTEN: Kategorien!$D$5:$D$10

Sheet Kassenbuch
A1: KASSENBUCH VEREINE
A2: ="Geschäftsjahr "&TEXT(Jahresübersicht!$G$4,"0")&" · "&Jahresübersicht!$B$4 -> Geschäftsjahr 2026 · Musterverein e.V.
A4: Nr. | B4: Datum | C4: Beleg-Nr. | D4: Beschreibung | E4: Kategorie | F4: Zahlungsart | G4: Einnahme | H4: Ausgabe | I4: Kassenbestand | J4: Bemerkung
B5: =DATE(Jahresübersicht!$G$4,1,1) -> 46023 | D5: Anfangsbestand zum Jahresbeginn | I5: =Jahresübersicht!$B$6 -> 3250
A6: =IF($B6="","",COUNT($B$6:$B6)) -> 1 | B6: 46027 | C6: 2026-001 | D6: Mitgliedsbeiträge Q1 (Sammelbuchung) | E6: Mitgliedsbeiträge | F6: SEPA-Lastschrift | G6: 1840 | I6: =IF(AND($G6="",$H6=""),"",Jahresübersicht!$B$6+SUM($G$6:$G6)-SUM($H$6:$H6)) -> 5090
A7: =IF($B7="","",COUNT($B$6:$B7)) -> 2 | B7: 46030 | C7: 2026-002 | D7: Miete Vereinsheim Januar | E7: Miete/Raumkosten | F7: Überweisung | H7: 420 | I7: =IF(AND($G7="",$H7=""),"",Jahresübersicht!$B$6+SUM($G$6:$G7)-SUM($H$6:$H7)) -> 4670
A8: =IF($B8="","",COUNT($B$6:$B8)) -> 3 | B8: 46034 | C8: 2026-003 | D8: Bürobedarf (Ordner, Papier) | E8: Porto/Büro | F8: Bar | H8: 47.8 | I8: =IF(AND($G8="",$H8=""),"",Jahresübersicht!$B$6+SUM($G$6:$G8)-SUM($H$6:$H8)) -> 4622.2
A9: =IF($B9="","",COUNT($B$6:$B9)) -> 4 | B9: 46042 | C9: 2026-004 | D9: Zuwendung Fördermitglied | E9: Spenden | F9: Überweisung | G9: 500 | I9: =IF(AND($G9="",$H9=""),"",Jahresübersicht!$B$6+SUM($G$6:$G9)-SUM($H$6:$H9)) -> 5122.2
A10: =IF($B10="","",COUNT($B$6:$B10)) -> 5 | B10: 46055 | C10: 2026-005 | D10: Miete Vereinsheim Februar | E10: Miete/Raumkosten | F10: Überweisung | H10: 420 | I10: =IF(AND($G10="",$H10=""),"",Jahresübersicht!$B$6+SUM($G$6:$G10)-SUM($H$6:$H10)) -> 4702.2
A11: =IF($B11="","",COUNT($B$6:$B11)) -> 6 | B11: 46062 | C11: 2026-006 | D11: Haftpflicht Jahresbeitrag | E11: Versicherungen | F11: SEPA-Lastschrift | H11: 289 | I11: =IF(AND($G11="",$H11=""),"",Jahresübersicht!$B$6+SUM($G$6:$G11)-SUM($H$6:$H11)) -> 4413.2
A12: =IF($B12="","",COUNT($B$6:$B12)) -> 7 | B12: 46067 | C12: 2026-007 | D12: Winterfest – Eintritt & Getränke | E12: Veranstaltungen | F12: Bar | G12: 765.5 | I12: =IF(AND($G12="",$H12=""),"",Jahresübersicht!$B$6+SUM($G$6:$G12)-SUM($H$6:$H12)) -> 5178.7
A13: =IF($B13="","",COUNT($B$6:$B13)) -> 8 | B13: 46067 | C13: 2026-008 | D13: Winterfest – Bewirtungskosten | E13: Veranstaltungskosten | F13: Bar | H13: 312.4 | I13: =IF(AND($G13="",$H13=""),"",Jahresübersicht!$B$6+SUM($G$6:$G13)-SUM($H$6:$H13)) -> 4866.3
A14: =IF($B14="","",COUNT($B$6:$B14)) -> 9 | B14: 46080 | C14: 2026-009 | D14: Fahrtkostenerstattung Vorstand | E14: Fahrtkosten | F14: Überweisung | H14: 86.2 | I14: =IF(AND($G14="",$H14=""),"",Jahresübersicht!$B$6+SUM($G$6:$G14)-SUM($H$6:$H14)) -> 4780.1
A15: =IF($B15="","",COUNT($B$6:$B15)) -> 10 | B15: 46084 | C15: 2026-010 | D15: Miete Vereinsheim März | E15: Miete/Raumkosten | F15: Überweisung | H15: 420 | I15: =IF(AND($G15="",$H15=""),"",Jahresübersicht!$B$6+SUM($G$6:$G15)-SUM($H$6:$H15)) -> 4360.1
A16: =IF($B16="","",COUNT($B$6:$B16)) -> 11 | B16: 46096 | C16: 2026-011 | D16: Sponsoring Lokalunternehmen | E16: Sponsoring | F16: Überweisung | G16: 750 | I16: =IF(AND($G16="",$H16=""),"",Jahresübersicht!$B$6+SUM($G$6:$G16)-SUM($H$6:$H16)) -> 5110.1
A17: =IF($B17="","",COUNT($B$6:$B17)) -> 12 | B17: 46103 | C17: 2026-012 | D17: Materialkosten Vereinsprojekt | E17: Material | F17: EC-Karte | H17: 158.9 | I17: =IF(AND($G17="",$H17=""),"",Jahresübersicht!$B$6+SUM($G$6:$G17)-SUM($H$6:$H17)) -> 4951.2
A18: =IF($B18="","",COUNT($B$6:$B18)) -> 13 | B18: 46116 | C18: 2026-013 | D18: Miete Vereinsheim April | E18: Miete/Raumkosten | F18: Überweisung | H18: 420 | I18: =IF(AND($G18="",$H18=""),"",Jahresübersicht!$B$6+SUM($G$6:$G18)-SUM($H$6:$H18)) -> 4531.2
A19: =IF($B19="","",COUNT($B$6:$B19)) -> 14 | B19: 46122 | C19: 2026-014 | D19: Zuschuss Gemeinde | E19: Zuschüsse | F19: Überweisung | G19: 1200 | I19: =IF(AND($G19="",$H19=""),"",Jahresübersicht!$B$6+SUM($G$6:$G19)-SUM($H$6:$H19)) -> 5731.2
A20: =IF($B20="","",COUNT($B$6:$B20)) -> 15 | B20: 46130 | C20: 2026-015 | D20: Portokosten Einladungen | E20: Porto/Büro | F20: Bar | H20: 34.5 | I20: =IF(AND($G20="",$H20=""),"",Jahresübersicht!$B$6+SUM($G$6:$G20)-SUM($H$6:$H20)) -> 5696.7
A21: =IF($B21="","",COUNT($B$6:$B21)) -> 16 | B21: 46148 | C21: 2026-016 | D21: Miete Vereinsheim Mai | E21: Miete/Raumkosten | F21: Überweisung | H21: 420 | I21: =IF(AND($G21="",$H21=""),"",Jahresübersicht!$B$6+SUM($G$6:$G21)-SUM($H$6:$H21)) -> 5276.7
A22: =IF($B22="","",COUNT($B$6:$B22)) -> 17 | B22: 46158 | C22: 2026-017 | D22: Mitgliedsbeiträge Q2 (Sammelbuchung) | E22: Mitgliedsbeiträge | F22: SEPA-Lastschrift | G22: 1780 | I22: =IF(AND($G22="",$H22=""),"",Jahresübersicht!$B$6+SUM($G$6:$G22)-SUM($H$6:$H22)) -> 7056.7
A23: =IF($B23="","",COUNT($B$6:$B23)) -> 18 | B23: 46166 | C23: 2026-018 | D23: Verkauf Vereinsartikel (Textilien) | E23: Verkaufserlöse | F23: PayPal | G23: 246 | I23: =IF(AND($G23="",$H23=""),"",Jahresübersicht!$B$6+SUM($G$6:$G23)-SUM($H$6:$H23)) -> 7302.7
A24: =IF($B24="","",COUNT($B$6:$B24)) -> 19 | B24: 46176 | C24: 2026-019 | D24: Miete Vereinsheim Juni | E24: Miete/Raumkosten | F24: Überweisung | H24: 420 | I24: =IF(AND($G24="",$H24=""),"",Jahresübersicht!$B$6+SUM($G$6:$G24)-SUM($H$6:$H24)) -> 6882.7
A25: =IF($B25="","",COUNT($B$6:$B25)) -> 20 | B25: 46193 | C25: 2026-020 | D25: Sommerfest – Eintritt & Verkauf | E25: Veranstaltungen | F25: Bar | G25: 1320 | I25: =IF(AND($G25="",$H25=""),"",Jahresübersicht!$B$6+SUM($G$6:$G25)-SUM($H$6:$H25)) -> 8202.7
A26: =IF($B26="","",COUNT($B$6:$B26)) -> 21 | B26: 46193 | C26: 2026-021 | D26: Sommerfest – Zelt & GEMA | E26: Veranstaltungskosten | F26: Überweisung | H26: 645.3 | I26: =IF(AND($G26="",$H26=""),"",Jahresübersicht!$B$6+SUM($G$6:$G26)-SUM($H$6:$H26)) -> 7557.4
A27: =IF($B27="","",COUNT($B$6:$B27)) -> 22 | B27: 46203 | C27: 2026-022 | D27: Kontoführungsgebühren 1. Halbjahr | E27: Gebühren/Beiträge | F27: SEPA-Lastschrift | H27: 42 | I27: =IF(AND($G27="",$H27=""),"",Jahresübersicht!$B$6+SUM($G$6:$G27)-SUM($H$6:$H27)) -> 7515.4
A28: =IF($B28="","",COUNT($B$6:$B28)) -> 23 | B28: 46208 | C28: 2026-023 | D28: Miete Vereinsheim Juli | E28: Miete/Raumkosten | F28: Überweisung | H28: 420 | I28: =IF(AND($G28="",$H28=""),"",Jahresübersicht!$B$6+SUM($G$6:$G28)-SUM($H$6:$H28)) -> 7095.4
A29: =IF($B29="","",COUNT($B$6:$B29)) -> 24 | B29: 46222 | C29: 2026-024 | D29: Spende Mitgliederkreis | E29: Spenden | F29: Bar | G29: 150 | I29: =IF(AND($G29="",$H29=""),"",Jahresübersicht!$B$6+SUM($G$6:$G29)-SUM($H$6:$H29)) -> 7245.4
A30: =IF($B30="","",COUNT($B$6:$B30)) -> 25 | B30: 46267 | C30: 2026-025 | D30: Miete Vereinsheim September | E30: Miete/Raumkosten | F30: Überweisung | H30: 420 | I30: =IF(AND($G30="",$H30=""),"",Jahresübersicht!$B$6+SUM($G$6:$G30)-SUM($H$6:$H30)) -> 6825.4
A31: =IF($B31="","",COUNT($B$6:$B31)) -> 26 | B31: 46277 | C31: 2026-026 | D31: Anschaffung Vereinsbedarf | E31: Vereinsbedarf | F31: EC-Karte | H31: 213.75 | I31: =IF(AND($G31="",$H31=""),"",Jahresübersicht!$B$6+SUM($G$6:$G31)-SUM($H$6:$H31)) -> 6611.65
A32: =IF($B32="","",COUNT($B$6:$B32)) -> 27 | B32: 46293 | C32: 2026-027 | D32: Mitgliedsbeiträge Q3 (Sammelbuchung) | E32: Mitgliedsbeiträge | F32: SEPA-Lastschrift | G32: 1760 | I32: =IF(AND($G32="",$H32=""),"",Jahresübersicht!$B$6+SUM($G$6:$G32)-SUM($H$6:$H32)) -> 8371.65
A33: =IF($B33="","",COUNT($B$6:$B33)) -> 28 | B33: 46302 | C33: 2026-028 | D33: Miete Vereinsheim Oktober | E33: Miete/Raumkosten | F33: Überweisung | H33: 420 | I33: =IF(AND($G33="",$H33=""),"",Jahresübersicht!$B$6+SUM($G$6:$G33)-SUM($H$6:$H33)) -> 7951.65
A34: =IF($B34="","",COUNT($B$6:$B34)) -> 29 | B34: 46310 | C34: 2026-029 | D34: Zinsgutschrift Vereinskonto | E34: Zinserträge | F34: Überweisung | G34: 12.45 | I34: =IF(AND($G34="",$H34=""),"",Jahresübersicht!$B$6+SUM($G$6:$G34)-SUM($H$6:$H34)) -> 7964.1
A35: =IF($B35="","",COUNT($B$6:$B35)) -> 30 | B35: 46347 | C35: 2026-030 | D35: Herbstbasar – Einnahmen | E35: Veranstaltungen | F35: Bar | G35: 543.2 | I35: =IF(AND($G35="",$H35=""),"",Jahresübersicht!$B$6+SUM($G$6:$G35)-SUM($H$6:$H35)) -> 8507.3
A36: =IF($B36="","",COUNT($B$6:$B36)) -> 31 | B36: 46361 | C36: 2026-031 | D36: Miete Vereinsheim Dezember | E36: Miete/Raumkosten | F36: Überweisung | H36: 420 | I36: =IF(AND($G36="",$H36=""),"",Jahresübersicht!$B$6+SUM($G$6:$G36)-SUM($H$6:$H36)) -> 8087.3
A37: =IF($B37="","",COUNT($B$6:$B37)) -> 32 | B37: 46368 | C37: 2026-032 | D37: Weihnachtsfeier – Bewirtung | E37: Bewirtung | F37: Bar | H37: 268.6 | I37: =IF(AND($G37="",$H37=""),"",Jahresübersicht!$B$6+SUM($G$6:$G37)-SUM($H$6:$H37)) -> 7818.7
A38: =IF($B38="","",COUNT($B$6:$B38)) -> 33 | B38: 46374 | C38: 2026-033 | D38: Jahresendspende | E38: Spenden | F38: Überweisung | G38: 300 | I38: =IF(AND($G38="",$H38=""),"",Jahresübersicht!$B$6+SUM($G$6:$G38)-SUM($H$6:$H38)) -> 8118.7
A39: =IF($B39="","",COUNT($B$6:$B39)) | I39: =IF(AND($G39="",$H39=""),"",Jahresübersicht!$B$6+SUM($G$6:$G39)-SUM($H$6:$H39))
A40: =IF($B40="","",COUNT($B$6:$B40)) | I40: =IF(AND($G40="",$H40=""),"",Jahresübersicht!$B$6+SUM($G$6:$G40)-SUM($H$6:$H40))
A41: =IF($B41="","",COUNT($B$6:$B41)) | I41: =IF(AND($G41="",$H41=""),"",Jahresübersicht!$B$6+SUM($G$6:$G41)-SUM($H$6:$H41))
...

Sheet Jahresübersicht
A1: VEREINSKASSENBUCH
A2: Einnahmen-Ausgaben-Rechnung · Jahresübersicht
A4: Verein: | B4: Musterverein e.V. | F4: Geschäftsjahr: | G4: 2026
A5: Kassenwart/in: | B5: Max Mustermann | F5: Erstellt am: | G5: 46023
A6: Anfangsbestand: | B6: 3250 | F6: Stand: | G6: Entwurf
A8: SUMME EINNAHMEN | C8: SUMME AUSGABEN | E8: JAHRESERGEBNIS | G8: KASSENBESTAND
A9: =SUM(Kassenbuch!$G$6:$G$53) -> 11167.15 | C9: =SUM(Kassenbuch!$H$6:$H$53) -> 6298.45 | E9: =SUM(Kassenbuch!$G$6:$G$53)-SUM(Kassenbuch!$H$6:$H$53) -> 4868.7 | G9: =$B$6+SUM(Kassenbuch!$G$6:$G$53)-SUM(Kassenbuch!$H$6:$H$53) -> 8118.7
A11: Monat | B11: Einnahmen | C11: Ausgaben | D11: Saldo | E11: Bestand (Monatsende) | F11: Einnahmen nach Kategorie
A12: =DATE($G$4,1,1) -> 46023 | B12: =SUMIFS(Kassenbuch!$G:$G,Kassenbuch!$B:$B,">="&$A12,Kassenbuch!$B:$B,"<="&EOMONTH($A12,0)) -> 2340 | C12: =SUMIFS(Kassenbuch!$H:$H,Kassenbuch!$B:$B,">="&$A12,Kassenbuch!$B:$B,"<="&EOMONTH($A12,0)) -> 467.8 | D12: =B12-C12 -> 1872.2 | E12: =$B$6+SUM($B$12:B12)-SUM($C$12:C12) -> 5122.2 | F12: Mitgliedsbeiträge | G12: =SUMIF(Kassenbuch!$E:$E,$F12,Kassenbuch!$G:$G) -> 5380 | H12: =IFERROR($G12/$A$9,0) -> 0.48177019
A13: =DATE($G$4,2,1) -> 46054 | B13: =SUMIFS(Kassenbuch!$G:$G,Kassenbuch!$B:$B,">="&$A13,Kassenbuch!$B:$B,"<="&EOMONTH($A13,0)) -> 765.5 | C13: =SUMIFS(Kassenbuch!$H:$H,Kassenbuch!$B:$B,">="&$A13,Kassenbuch!$B:$B,"<="&EOMONTH($A13,0)) -> 1107.6 | D13: =B13-C13 -> -342.1 | E13: =$B$6+SUM($B$12:B13)-SUM($C$12:C13) -> 4780.1 | F13: Spenden | G13: =SUMIF(Kassenbuch!$E:$E,$F13,Kassenbuch!$G:$G) -> 950 | H13: =IFERROR($G13/$A$9,0) -> 0.085070945
A14: =DATE($G$4,3,1) -> 46082 | B14: =SUMIFS(Kassenbuch!$G:$G,Kassenbuch!$B:$B,">="&$A14,Kassenbuch!$B:$B,"<="&EOMONTH($A14,0)) -> 750 | C14: =SUMIFS(Kassenbuch!$H:$H,Kassenbuch!$B:$B,">="&$A14,Kassenbuch!$B:$B,"<="&EOMONTH($A14,0)) -> 578.9 | D14: =B14-C14 -> 171.1 | E14: =$B$6+SUM($B$12:B14)-SUM($C$12:C14) -> 4951.2 | F14: Zuschüsse | G14: =SUMIF(Kassenbuch!$E:$E,$F14,Kassenbuch!$G:$G) -> 1200 | H14: =IFERROR($G14/$A$9,0) -> 0.10745804
A15: =DATE($G$4,4,1) -> 46113 | B15: =SUMIFS(Kassenbuch!$G:$G,Kassenbuch!$B:$B,">="&$A15,Kassenbuch!$B:$B,"<="&EOMONTH($A15,0)) -> 1200 | C15: =SUMIFS(Kassenbuch!$H:$H,Kassenbuch!$B:$B,">="&$A15,Kassenbuch!$B:$B,"<="&EOMONTH($A15,0)) -> 454.5 | D15: =B15-C15 -> 745.5 | E15: =$B$6+SUM($B$12:B15)-SUM($C$12:C15) -> 5696.7 | F15: Sponsoring | G15: =SUMIF(Kassenbuch!$E:$E,$F15,Kassenbuch!$G:$G) -> 750 | H15: =IFERROR($G15/$A$9,0) -> 0.067161272
A16: =DATE($G$4,5,1) -> 46143 | B16: =SUMIFS(Kassenbuch!$G:$G,Kassenbuch!$B:$B,">="&$A16,Kassenbuch!$B:$B,"<="&EOMONTH($A16,0)) -> 2026 | C16: =SUMIFS(Kassenbuch!$H:$H,Kassenbuch!$B:$B,">="&$A16,Kassenbuch!$B:$B,"<="&EOMONTH($A16,0)) -> 420 | D16: =B16-C16 -> 1606 | E16: =$B$6+SUM($B$12:B16)-SUM($C$12:C16) -> 7302.7 | F16: Veranstaltungen | G16: =SUMIF(Kassenbuch!$E:$E,$F16,Kassenbuch!$G:$G) -> 2628.7 | H16: =IFERROR($G16/$A$9,0) -> 0.23539578
A17: =DATE($G$4,6,1) -> 46174 | B17: =SUMIFS(Kassenbuch!$G:$G,Kassenbuch!$B:$B,">="&$A17,Kassenbuch!$B:$B,"<="&EOMONTH($A17,0)) -> 1320 | C17: =SUMIFS(Kassenbuch!$H:$H,Kassenbuch!$B:$B,">="&$A17,Kassenbuch!$B:$B,"<="&EOMONTH($A17,0)) -> 1107.3 | D17: =B17-C17 -> 212.7 | E17: =$B$6+SUM($B$12:B17)-SUM($C$12:C17) -> 7515.4 | F17: Verkaufserlöse | G17: =SUMIF(Kassenbuch!$E:$E,$F17,Kassenbuch!$G:$G) -> 246 | H17: =IFERROR($G17/$A$9,0) -> 0.022028897
A18: =DATE($G$4,7,1) -> 46204 | B18: =SUMIFS(Kassenbuch!$G:$G,Kassenbuch!$B:$B,">="&$A18,Kassenbuch!$B:$B,"<="&EOMONTH($A18,0)) -> 150 | C18: =SUMIFS(Kassenbuch!$H:$H,Kassenbuch!$B:$B,">="&$A18,Kassenbuch!$B:$B,"<="&EOMONTH($A18,0)) -> 420 | D18: =B18-C18 -> -270 | E18: =$B$6+SUM($B$12:B18)-SUM($C$12:C18) -> 7245.4 | F18: Zinserträge | G18: =SUMIF(Kassenbuch!$E:$E,$F18,Kassenbuch!$G:$G) -> 12.45 | H18: =IFERROR($G18/$A$9,0) -> 0.0011148771
A19: =DATE($G$4,8,1) -> 46235 | B19: =SUMIFS(Kassenbuch!$G:$G,Kassenbuch!$B:$B,">="&$A19,Kassenbuch!$B:$B,"<="&EOMONTH($A19,0)) -> 0 | C19: =SUMIFS(Kassenbuch!$H:$H,Kassenbuch!$B:$B,">="&$A19,Kassenbuch!$B:$B,"<="&EOMONTH($A19,0)) -> 0 | D19: =B19-C19 -> 0 | E19: =$B$6+SUM($B$12:B19)-SUM($C$12:C19) -> 7245.4 | F19: Sonstige Einnahmen | G19: =SUMIF(Kassenbuch!$E:$E,$F19,Kassenbuch!$G:$G) -> 0 | H19: =IFERROR($G19/$A$9,0) -> 0
A20: =DATE($G$4,9,1) -> 46266 | B20: =SUMIFS(Kassenbuch!$G:$G,Kassenbuch!$B:$B,">="&$A20,Kassenbuch!$B:$B,"<="&EOMONTH($A20,0)) -> 1760 | C20: =SUMIFS(Kassenbuch!$H:$H,Kassenbuch!$B:$B,">="&$A20,Kassenbuch!$B:$B,"<="&EOMONTH($A20,0)) -> 633.75 | D20: =B20-C20 -> 1126.25 | E20: =$B$6+SUM($B$12:B20)-SUM($C$12:C20) -> 8371.65 | F20: Summe Einnahmen | G20: =SUM(G12:G19) -> 11167.15
A21: =DATE($G$4,10,1) -> 46296 | B21: =SUMIFS(Kassenbuch!$G:$G,Kassenbuch!$B:$B,">="&$A21,Kassenbuch!$B:$B,"<="&EOMONTH($A21,0)) -> 12.45 | C21: =SUMIFS(Kassenbuch!$H:$H,Kassenbuch!$B:$B,">="&$A21,Kassenbuch!$B:$B,"<="&EOMONTH($A21,0)) -> 420 | D21: =B21-C21 -> -407.55 | E21: =$B$6+SUM($B$12:B21)-SUM($C$12:C21) -> 7964.1
A22: =DATE($G$4,11,1) -> 46327 | B22: =SUMIFS(Kassenbuch!$G:$G,Kassenbuch!$B:$B,">="&$A22,Kassenbuch!$B:$B,"<="&EOMONTH($A22,0)) -> 543.2 | C22: =SUMIFS(Kassenbuch!$H:$H,Kassenbuch!$B:$B,">="&$A22,Kassenbuch!$B:$B,"<="&EOMONTH($A22,0)) -> 0 | D22: =B22-C22 -> 543.2 | E22: =$B$6+SUM($B$12:B22)-SUM($C$12:C22) -> 8507.3 | F22: Ausgaben nach Kategorie
A23: =DATE($G$4,12,1) -> 46357 | B23: =SUMIFS(Kassenbuch!$G:$G,Kassenbuch!$B:$B,">="&$A23,Kassenbuch!$B:$B,"<="&EOMONTH($A23,0)) -> 300 | C23: =SUMIFS(Kassenbuch!$H:$H,Kassenbuch!$B:$B,">="&$A23,Kassenbuch!$B:$B,"<="&EOMONTH($A23,0)) -> 688.6 | D23: =B23-C23 -> -388.6 | E23: =$B$6+SUM($B$12:B23)-SUM($C$12:C23) -> 8118.7 | F23: Miete/Raumkosten | G23: =SUMIF(Kassenbuch!$E:$E,$F23,Kassenbuch!$H:$H) -> 4200 | H23: =IFERROR($G23/$C$9,0) -> 0.66683073
A24: Gesamt | B24: =SUM(B12:B23) -> 11167.15 | C24: =SUM(C12:C23) -> 6298.45 | D24: =B24-C24 -> 4868.7 | E24: =E23 -> 8118.7 | F24: Material | G24: =SUMIF(Kassenbuch!$E:$E,$F24,Kassenbuch!$H:$H) -> 158.9 | H24: =IFERROR($G24/$C$9,0) -> 0.025228429
F25: Veranstaltungskosten | G25: =SUMIF(Kassenbuch!$E:$E,$F25,Kassenbuch!$H:$H) -> 957.7 | H25: =IFERROR($G25/$C$9,0) -> 0.15205328
F26: Versicherungen | G26: =SUMIF(Kassenbuch!$E:$E,$F26,Kassenbuch!$H:$H) -> 289 | H26: =IFERROR($G26/$C$9,0) -> 0.045884305
F27: Porto/Büro | G27: =SUMIF(Kassenbuch!$E:$E,$F27,Kassenbuch!$H:$H) -> 82.3 | H27: =IFERROR($G27/$C$9,0) -> 0.013066707
F28: Fahrtkosten | G28: =SUMIF(Kassenbuch!$E:$E,$F28,Kassenbuch!$H:$H) -> 86.2 | H28: =IFERROR($G28/$C$9,0) -> 0.013685907
F29: Gebühren/Beiträge | G29: =SUMIF(Kassenbuch!$E:$E,$F29,Kassenbuch!$H:$H) -> 42 | H29: =IFERROR($G29/$C$9,0) -> 0.0066683073
F30: Vereinsbedarf | G30: =SUMIF(Kassenbuch!$E:$E,$F30,Kassenbuch!$H:$H) -> 213.75 | H30: =IFERROR($G30/$C$9,0) -> 0.033936921
F31: Bewirtung | G31: =SUMIF(Kassenbuch!$E:$E,$F31,Kassenbuch!$H:$H) -> 268.6 | H31: =IFERROR($G31/$C$9,0) -> 0.042645413
F32: Sonstige Ausgaben | G32: =SUMIF(Kassenbuch!$E:$E,$F32,Kassenbuch!$H:$H) -> 0 | H32: =IFERROR($G32/$C$9,0) -> 0
F33: Summe Ausgaben | G33: =SUM(G23:G32) -> 6298.45
A44: Hinweise zur Nutzung
A45: · Gelb hinterlegte Felder sind Eingabefelder: Verein, Kassenwart/in, Geschäftsjahr und Anfangsbestand hier anpassen.
A46: · Buchungen im Blatt „Kassenbuch“ erfassen: Datum, Beleg-Nr., Beschreibung, Kategorie und Zahlungsart (Dropdown) sowie Betrag als Einnahme ODER Ausgabe.
A47: · Spalten „Nr.“ und „Kassenbestand“ enthalten Formeln – bitte nicht überschreiben. Der Saldo baut sich automatisch auf.
A48: · Kategorien und Zahlungsarten im Blatt „Kategorien“ pflegen; die Dropdowns aktualisieren sich automatisch.
A49: · Ein negativer Kassenbestand wird rot markiert; fehlt bei einer Buchung die Beleg-Nr., wird das Feld hervorgehoben.
A50: · Belegnummern fortlaufend und lückenlos je Jahr vergeben (z. B. 2026-001).

Sheet Kategorien
A1: KATEGORIEN & ZAHLUNGSARTEN
A2: Diese Listen steuern die Dropdown-Menüs im Kassenbuch. Neue Einträge einfach ergänzen – Überschriften nicht ändern.
A4: Kategorie (Auswahl) | B4: Typ | D4: Zahlungsart
A5: Mitgliedsbeiträge | B5: Einnahme | D5: Bar
A6: Spenden | B6: Einnahme | D6: Überweisung
A7: Zuschüsse | B7: Einnahme | D7: SEPA-Lastschrift
A8: Sponsoring | B8: Einnahme | D8: PayPal
A9: Veranstaltungen | B9: Einnahme | D9: EC-Karte
A10: Verkaufserlöse | B10: Einnahme | D10: Kartenzahlung
A11: Zinserträge | B11: Einnahme
A12: Sonstige Einnahmen | B12: Einnahme
A13: Miete/Raumkosten | B13: Ausgabe
A14: Material | B14: Ausgabe
A15: Veranstaltungskosten | B15: Ausgabe
A16: Versicherungen | B16: Ausgabe
A17: Porto/Büro | B17: Ausgabe
A18: Fahrtkosten | B18: Ausgabe
A19: Gebühren/Beiträge | B19: Ausgabe
A20: Vereinsbedarf | B20: Ausgabe
A21: Bewirtung | B21: Ausgabe
A22: Sonstige Ausgaben | B22: Ausgabe
