Workbook

Sheet Oktober 2026
A1: DIENSTPLAN · MONATSPLANUNG 2026
A2: Personalplanung · Schichtübersicht · Monatsauswertung
A3: Abteilung: | F3: Muster-Abteilung GmbH | M3: Monat / Jahr: | S3: Oktober 2026 | Y3: Erstellt von: | AE3: M. Mustermann | AK3: Stand: 02.09.2026
A5: Nr. | B5: Nachname | C5: Vorname | D5: Stelle | E5: Präferenz | F5: 1 | G5: 2 | H5: 3 | I5: 4 | J5: 5 | K5: 6 | L5: 7 | M5: 8 | N5: 9 | O5: 10 | P5: 11 | Q5: 12 | R5: 13 | S5: 14 | T5: 15 | U5: 16 | V5: 17 | W5: 18 | X5: 19 | Y5: 20 | Z5: 21 | AA5: 22 | AB5: 23 | AC5: 24 | AD5: 25 | AE5: 26 | AF5: 27 | AG5: 28 | AH5: 29 | AI5: 30 | AJ5: 31 | AK5: ∑ Tage | AL5: ∑ Std. | AM5: Urlaub | AN5: Krank
F6: Do | G6: Fr | H6: FT | I6: So | J6: Mo | K6: Di | L6: Mi | M6: Do | N6: Fr | O6: Sa | P6: So | Q6: Mo | R6: Di | S6: Mi | T6: Do | U6: Fr | V6: Sa | W6: So | X6: Mo | Y6: Di | Z6: Mi | AA6: Do | AB6: Fr | AC6: Sa | AD6: So | AE6: Mo | AF6: Di | AG6: Mi | AH6: Do | AI6: Fr | AJ6: Sa
A7: 1 | B7: Müller | C7: Anna | D7: Vollzeit | E7: Früh | F7: F | G7: F | H7: FT | J7: U | K7: U | L7: U | M7: F | N7: F | P7: U | Q7: F | S7: S | T7: F | U7: F | X7: F | AA7: F | AD7: U | AE7: S | AF7: F | AG7: S | AI7: F | AK7: =COUNTIF(F7:AJ7,"F")+COUNTIF(F7:AJ7,"S")+COUNTIF(F7:AJ7,"N")+COUNTIF(F7:AJ7,"B") -> 14 | AL7: =COUNTIF(F7:AJ7,"F")*8+COUNTIF(F7:AJ7,"S")*8+COUNTIF(F7:AJ7,"N")*10+COUNTIF(F7:AJ7,"B")*12 -> 112 | AM7: =COUNTIF(F7:AJ7,"U") -> 5 | AN7: =COUNTIF(F7:AJ7,"K") -> 0
A8: 2 | B8: Schneider | C8: Klaus | D8: Vollzeit | E8: Spät | F8: S | G8: U | H8: K | I8: K | J8: S | K8: S | L8: S | M8: S | N8: S | Q8: F | R8: S | S8: S | T8: S | V8: F | X8: U | Y8: F | AA8: S | AB8: F | AD8: U | AE8: S | AF8: U | AH8: S | AK8: =COUNTIF(F8:AJ8,"F")+COUNTIF(F8:AJ8,"S")+COUNTIF(F8:AJ8,"N")+COUNTIF(F8:AJ8,"B") -> 16 | AL8: =COUNTIF(F8:AJ8,"F")*8+COUNTIF(F8:AJ8,"S")*8+COUNTIF(F8:AJ8,"N")*10+COUNTIF(F8:AJ8,"B")*12 -> 128 | AM8: =COUNTIF(F8:AJ8,"U") -> 4 | AN8: =COUNTIF(F8:AJ8,"K") -> 2
A9: 3 | B9: Weber | C9: Sandra | D9: Teilzeit | E9: Früh | F9: U | G9: F | H9: FT | J9: U | K9: F | L9: F | M9: F | N9: F | O9: U | P9: S | Q9: F | R9: S | S9: U | T9: F | U9: F | V9: F | W9: F | X9: F | Y9: U | Z9: F | AA9: U | AB9: U | AD9: U | AE9: U | AF9: F | AH9: U | AI9: F | AK9: =COUNTIF(F9:AJ9,"F")+COUNTIF(F9:AJ9,"S")+COUNTIF(F9:AJ9,"N")+COUNTIF(F9:AJ9,"B") -> 16 | AL9: =COUNTIF(F9:AJ9,"F")*8+COUNTIF(F9:AJ9,"S")*8+COUNTIF(F9:AJ9,"N")*10+COUNTIF(F9:AJ9,"B")*12 -> 128 | AM9: =COUNTIF(F9:AJ9,"U") -> 10 | AN9: =COUNTIF(F9:AJ9,"K") -> 0
A10: 4 | B10: Fischer | C10: Thomas | D10: Vollzeit | E10: Nacht | H10: FT | I10: F | J10: U | K10: U | L10: K | M10: N | N10: U | O10: F | P10: N | Q10: N | R10: N | S10: N | U10: N | X10: K | Y10: U | Z10: N | AA10: N | AB10: U | AC10: S | AD10: S | AE10: U | AG10: N | AH10: N | AI10: N | AK10: =COUNTIF(F10:AJ10,"F")+COUNTIF(F10:AJ10,"S")+COUNTIF(F10:AJ10,"N")+COUNTIF(F10:AJ10,"B") -> 15 | AL10: =COUNTIF(F10:AJ10,"F")*8+COUNTIF(F10:AJ10,"S")*8+COUNTIF(F10:AJ10,"N")*10+COUNTIF(F10:AJ10,"B")*12 -> 142 | AM10: =COUNTIF(F10:AJ10,"U") -> 6 | AN10: =COUNTIF(F10:AJ10,"K") -> 2
A11: 5 | B11: Braun | C11: Julia | D11: Vollzeit | E11: Früh | F11: U | H11: FT | I11: U | J11: F | K11: U | M11: S | O11: S | P11: F | Q11: F | R11: F | T11: S | U11: F | X11: F | Y11: U | Z11: F | AA11: U | AB11: S | AC11: U | AE11: S | AF11: S | AH11: S | AJ11: F | AK11: =COUNTIF(F11:AJ11,"F")+COUNTIF(F11:AJ11,"S")+COUNTIF(F11:AJ11,"N")+COUNTIF(F11:AJ11,"B") -> 15 | AL11: =COUNTIF(F11:AJ11,"F")*8+COUNTIF(F11:AJ11,"S")*8+COUNTIF(F11:AJ11,"N")*10+COUNTIF(F11:AJ11,"B")*12 -> 120 | AM11: =COUNTIF(F11:AJ11,"U") -> 6 | AN11: =COUNTIF(F11:AJ11,"K") -> 0
A12: 6 | B12: Hoffmann | C12: Marcus | D12: Teilzeit | E12: Spät | G12: S | H12: FT | J12: U | L12: S | M12: U | N12: S | P12: F | Q12: F | R12: S | S12: F | T12: S | U12: U | V12: F | W12: U | X12: S | Z12: S | AA12: U | AB12: S | AC12: U | AD12: U | AE12: S | AF12: S | AG12: S | AH12: S | AJ12: U | AK12: =COUNTIF(F12:AJ12,"F")+COUNTIF(F12:AJ12,"S")+COUNTIF(F12:AJ12,"N")+COUNTIF(F12:AJ12,"B") -> 16 | AL12: =COUNTIF(F12:AJ12,"F")*8+COUNTIF(F12:AJ12,"S")*8+COUNTIF(F12:AJ12,"N")*10+COUNTIF(F12:AJ12,"B")*12 -> 128 | AM12: =COUNTIF(F12:AJ12,"U") -> 8 | AN12: =COUNTIF(F12:AJ12,"K") -> 0
A13: 7 | B13: Koch | C13: Petra | D13: Vollzeit | E13: Früh | F13: F | H13: FT | I13: F | J13: S | K13: F | L13: F | M13: F | N13: F | Q13: F | S13: F | T13: F | U13: U | V13: S | Y13: F | Z13: F | AA13: U | AB13: S | AC13: U | AE13: F | AH13: S | AI13: F | AJ13: U | AK13: =COUNTIF(F13:AJ13,"F")+COUNTIF(F13:AJ13,"S")+COUNTIF(F13:AJ13,"N")+COUNTIF(F13:AJ13,"B") -> 17 | AL13: =COUNTIF(F13:AJ13,"F")*8+COUNTIF(F13:AJ13,"S")*8+COUNTIF(F13:AJ13,"N")*10+COUNTIF(F13:AJ13,"B")*12 -> 136 | AM13: =COUNTIF(F13:AJ13,"U") -> 4 | AN13: =COUNTIF(F13:AJ13,"K") -> 0
A14: 8 | B14: Bauer | C14: Stefan | D14: Vollzeit | E14: Nacht | F14: U | G14: U | H14: FT | J14: U | K14: N | M14: U | N14: U | O14: F | P14: S | Q14: K | S14: N | T14: N | U14: B | W14: F | X14: N | Y14: K | Z14: K | AA14: N | AB14: K | AE14: N | AF14: U | AG14: U | AH14: N | AI14: N | AK14: =COUNTIF(F14:AJ14,"F")+COUNTIF(F14:AJ14,"S")+COUNTIF(F14:AJ14,"N")+COUNTIF(F14:AJ14,"B") -> 12 | AL14: =COUNTIF(F14:AJ14,"F")*8+COUNTIF(F14:AJ14,"S")*8+COUNTIF(F14:AJ14,"N")*10+COUNTIF(F14:AJ14,"B")*12 -> 116 | AM14: =COUNTIF(F14:AJ14,"U") -> 7 | AN14: =COUNTIF(F14:AJ14,"K") -> 4
A15: 9 | B15: Richter | C15: Laura | D15: Vollzeit | E15: Spät | F15: S | G15: S | H15: FT | K15: S | L15: S | M15: U | N15: F | P15: U | Q15: S | R15: U | U15: F | W15: S | X15: F | Y15: S | Z15: S | AA15: S | AB15: U | AC15: S | AD15: F | AE15: F | AF15: F | AG15: F | AH15: U | AI15: S | AK15: =COUNTIF(F15:AJ15,"F")+COUNTIF(F15:AJ15,"S")+COUNTIF(F15:AJ15,"N")+COUNTIF(F15:AJ15,"B") -> 18 | AL15: =COUNTIF(F15:AJ15,"F")*8+COUNTIF(F15:AJ15,"S")*8+COUNTIF(F15:AJ15,"N")*10+COUNTIF(F15:AJ15,"B")*12 -> 144 | AM15: =COUNTIF(F15:AJ15,"U") -> 5 | AN15: =COUNTIF(F15:AJ15,"K") -> 0
A16: 10 | B16: Klein | C16: Michael | D16: Teilzeit | E16: Früh | F16: F | G16: S | H16: FT | I16: F | J16: F | K16: F | L16: F | M16: F | O16: S | Q16: S | R16: F | S16: F | T16: S | U16: F | W16: S | Y16: F | Z16: F | AA16: U | AB16: K | AE16: F | AF16: F | AG16: S | AH16: S | AI16: S | AK16: =COUNTIF(F16:AJ16,"F")+COUNTIF(F16:AJ16,"S")+COUNTIF(F16:AJ16,"N")+COUNTIF(F16:AJ16,"B") -> 21 | AL16: =COUNTIF(F16:AJ16,"F")*8+COUNTIF(F16:AJ16,"S")*8+COUNTIF(F16:AJ16,"N")*10+COUNTIF(F16:AJ16,"B")*12 -> 168 | AM16: =COUNTIF(F16:AJ16,"U") -> 1 | AN16: =COUNTIF(F16:AJ16,"K") -> 1
A18: ∑ Dienste / Tag | F18: =COUNTIF(F7:F16,"F")+COUNTIF(F7:F16,"S")+COUNTIF(F7:F16,"N")+COUNTIF(F7:F16,"B") -> 5 | G18: =COUNTIF(G7:G16,"F")+COUNTIF(G7:G16,"S")+COUNTIF(G7:G16,"N")+COUNTIF(G7:G16,"B") -> 5 | H18: =COUNTIF(H7:H16,"F")+COUNTIF(H7:H16,"S")+COUNTIF(H7:H16,"N")+COUNTIF(H7:H16,"B") -> 0 | I18: =COUNTIF(I7:I16,"F")+COUNTIF(I7:I16,"S")+COUNTIF(I7:I16,"N")+COUNTIF(I7:I16,"B") -> 3 | J18: =COUNTIF(J7:J16,"F")+COUNTIF(J7:J16,"S")+COUNTIF(J7:J16,"N")+COUNTIF(J7:J16,"B") -> 4 | K18: =COUNTIF(K7:K16,"F")+COUNTIF(K7:K16,"S")+COUNTIF(K7:K16,"N")+COUNTIF(K7:K16,"B") -> 6 | L18: =COUNTIF(L7:L16,"F")+COUNTIF(L7:L16,"S")+COUNTIF(L7:L16,"N")+COUNTIF(L7:L16,"B") -> 6 | M18: =COUNTIF(M7:M16,"F")+COUNTIF(M7:M16,"S")+COUNTIF(M7:M16,"N")+COUNTIF(M7:M16,"B") -> 7 | ... AJ18: =COUNTIF(AJ7:AJ16,"F")+COUNTIF(AJ7:AJ16,"S")+COUNTIF(AJ7:AJ16,"N")+COUNTIF(AJ7:AJ16,"B") -> 1
A19: Davon: Früh (F) | F19: =COUNTIF(F7:F16,"F") -> 3 | G19: =COUNTIF(G7:G16,"F") -> 2 | H19: =COUNTIF(H7:H16,"F") -> 0 | I19: =COUNTIF(I7:I16,"F") -> 3 | J19: =COUNTIF(J7:J16,"F") -> 2 | K19: =COUNTIF(K7:K16,"F") -> 3 | L19: =COUNTIF(L7:L16,"F") -> 3 | M19: =COUNTIF(M7:M16,"F") -> 4 | ... AJ19: =COUNTIF(AJ7:AJ16,"F") -> 1
A20: Davon: Spät (S) | F20: =COUNTIF(F7:F16,"S") -> 2 | G20: =COUNTIF(G7:G16,"S") -> 3 | H20: =COUNTIF(H7:H16,"S") -> 0 | I20: =COUNTIF(I7:I16,"S") -> 0 | J20: =COUNTIF(J7:J16,"S") -> 2 | K20: =COUNTIF(K7:K16,"S") -> 2 | L20: =COUNTIF(L7:L16,"S") -> 3 | M20: =COUNTIF(M7:M16,"S") -> 2 | ... AJ20: =COUNTIF(AJ7:AJ16,"S") -> 0
A21: Davon: Nacht (N) | F21: =COUNTIF(F7:F16,"N") -> 0 | G21: =COUNTIF(G7:G16,"N") -> 0 | H21: =COUNTIF(H7:H16,"N") -> 0 | I21: =COUNTIF(I7:I16,"N") -> 0 | J21: =COUNTIF(J7:J16,"N") -> 0 | K21: =COUNTIF(K7:K16,"N") -> 1 | L21: =COUNTIF(L7:L16,"N") -> 0 | M21: =COUNTIF(M7:M16,"N") -> 1 | ... AJ21: =COUNTIF(AJ7:AJ16,"N") -> 0
A23: LEGENDE · Schichtcodes & Abwesenheiten
A24: F | B24: Frühschicht | K24: S | L24: Spätschicht | U24: N | V24: Nachtschicht | AE24: B | AF24: Bereitschaft
A25: U | B25: Urlaub | K25: K | L25: Krank | U25: FT | V25: Feiertag | AE25: – | AF25: Frei / n.a.

Sheet Stammdaten
A1: MITARBEITERSTAMMDATEN · Dienstplan Vorlage
A2: Bitte Stammdaten vollständig ausfüllen · Gelb markierte Felder = Pflichtangaben
A4: Nr. | B4: Nachname | C4: Vorname | D4: Personal-Nr. | E4: Anstellungsart | F4: Wochenstunden | G4: Schichtgruppe | H4: Eintrittsdatum | I4: Urlaubsanspruch (Tage/Jahr) | J4: Telefon (intern) | K4: E-Mail | L4: Bemerkungen
A5: 1 | B5: Müller | C5: Anna | D5: MA-001 | E5: Vollzeit | F5: 40 | G5: Früh | H5: 01.03.2019 | I5: 28 | J5: 101 | K5: a.mueller@muster.de | L5: Teamleiterin
A6: 2 | B6: Schneider | C6: Klaus | D6: MA-002 | E6: Vollzeit | F6: 40 | G6: Spät | H6: 15.07.2018 | I6: 30 | J6: 102 | K6: k.schneider@muster.de
A7: 3 | B7: Weber | C7: Sandra | D7: MA-003 | E7: Teilzeit | F7: 20 | G7: Früh | H7: 01.09.2021 | I7: 24 | J7: 103 | K7: s.weber@muster.de | L7: Elternzeit bis 03/27
A8: 4 | B8: Fischer | C8: Thomas | D8: MA-004 | E8: Vollzeit | F8: 40 | G8: Nacht | H8: 10.02.2020 | I8: 28 | J8: 104 | K8: t.fischer@muster.de
A9: 5 | B9: Braun | C9: Julia | D9: MA-005 | E9: Vollzeit | F9: 40 | G9: Früh | H9: 01.06.2022 | I9: 25 | J9: 105 | K9: j.braun@muster.de
A10: 6 | B10: Hoffmann | C10: Marcus | D10: MA-006 | E10: Teilzeit | F10: 25 | G10: Spät | H10: 01.01.2023 | I10: 20 | J10: 106 | K10: m.hoffmann@muster.de
A11: 7 | B11: Koch | C11: Petra | D11: MA-007 | E11: Vollzeit | F11: 40 | G11: Früh | H11: 15.04.2017 | I11: 30 | J11: 107 | K11: p.koch@muster.de | L11: Springer
A12: 8 | B12: Bauer | C12: Stefan | D12: MA-008 | E12: Vollzeit | F12: 40 | G12: Nacht | H12: 01.08.2021 | I12: 27 | J12: 108 | K12: s.bauer@muster.de
A13: 9 | B13: Richter | C13: Laura | D13: MA-009 | E13: Vollzeit | F13: 40 | G13: Spät | H13: 01.11.2020 | I13: 28 | J13: 109 | K13: l.richter@muster.de
A14: 10 | B14: Klein | C14: Michael | D14: MA-010 | E14: Teilzeit | F14: 15 | G14: Früh | H14: 01.05.2024 | I14: 20 | J14: 110 | K14: m.klein@muster.de | L14: Aushilfe

Sheet Monatsauswertung
A1: MONATSAUSWERTUNG · Oktober 2026
A2: Automatische Zusammenfassung aller Schichten und Abwesenheiten des Monats
A4: Nr. | B4: Name | C4: Vorname | D4: F Früh | E4: S Spät | F4: N Nacht | G4: B Bereit. | H4: Σ Dienste | I4: Σ Stunden | J4: Urlaub | K4: Krank | L4: Feiertag | M4: Soll-Std. | N4: Δ Stunden
A5: 1 | B5: Müller | C5: Anna | D5: =COUNTIF('Oktober 2026'!F7:AJ7,"F") -> 11 | E5: =COUNTIF('Oktober 2026'!F7:AJ7,"S") -> 3 | F5: =COUNTIF('Oktober 2026'!F7:AJ7,"N") -> 0 | G5: =COUNTIF('Oktober 2026'!F7:AJ7,"B") -> 0 | H5: =COUNTIF('Oktober 2026'!F7:AJ7,"F")+COUNTIF('Oktober 2026'!F7:AJ7,"S")+COUNTIF('Oktober 2026'!F7:AJ7,"N")+COUNTIF('Oktober 2026'!F7:AJ7,"B") -> 14 | I5: =COUNTIF('Oktober 2026'!F7:AJ7,"F")*8+COUNTIF('Oktober 2026'!F7:AJ7,"S")*8+COUNTIF('Oktober 2026'!F7:AJ7,"N")*10+COUNTIF('Oktober 2026'!F7:AJ7,"B")*12 -> 112 | J5: =COUNTIF('Oktober 2026'!F7:AJ7,"U") -> 5 | K5: =COUNTIF('Oktober 2026'!F7:AJ7,"K") -> 0 | L5: =COUNTIF('Oktober 2026'!F7:AJ7,"FT") -> 1 | M5: 168 | N5: =I5-M5 -> -56
A6: 2 | B6: Schneider | C6: Klaus | D6: =COUNTIF('Oktober 2026'!F8:AJ8,"F") -> 4 | E6: =COUNTIF('Oktober 2026'!F8:AJ8,"S") -> 12 | F6: =COUNTIF('Oktober 2026'!F8:AJ8,"N") -> 0 | G6: =COUNTIF('Oktober 2026'!F8:AJ8,"B") -> 0 | H6: =COUNTIF('Oktober 2026'!F8:AJ8,"F")+COUNTIF('Oktober 2026'!F8:AJ8,"S")+COUNTIF('Oktober 2026'!F8:AJ8,"N")+COUNTIF('Oktober 2026'!F8:AJ8,"B") -> 16 | I6: =COUNTIF('Oktober 2026'!F8:AJ8,"F")*8+COUNTIF('Oktober 2026'!F8:AJ8,"S")*8+COUNTIF('Oktober 2026'!F8:AJ8,"N")*10+COUNTIF('Oktober 2026'!F8:AJ8,"B")*12 -> 128 | J6: =COUNTIF('Oktober 2026'!F8:AJ8,"U") -> 4 | K6: =COUNTIF('Oktober 2026'!F8:AJ8,"K") -> 2 | L6: =COUNTIF('Oktober 2026'!F8:AJ8,"FT") -> 0 | M6: 168 | N6: =I6-M6 -> -40
A7: 3 | B7: Weber | C7: Sandra | D7: =COUNTIF('Oktober 2026'!F9:AJ9,"F") -> 14 | E7: =COUNTIF('Oktober 2026'!F9:AJ9,"S") -> 2 | F7: =COUNTIF('Oktober 2026'!F9:AJ9,"N") -> 0 | G7: =COUNTIF('Oktober 2026'!F9:AJ9,"B") -> 0 | H7: =COUNTIF('Oktober 2026'!F9:AJ9,"F")+COUNTIF('Oktober 2026'!F9:AJ9,"S")+COUNTIF('Oktober 2026'!F9:AJ9,"N")+COUNTIF('Oktober 2026'!F9:AJ9,"B") -> 16 | I7: =COUNTIF('Oktober 2026'!F9:AJ9,"F")*8+COUNTIF('Oktober 2026'!F9:AJ9,"S")*8+COUNTIF('Oktober 2026'!F9:AJ9,"N")*10+COUNTIF('Oktober 2026'!F9:AJ9,"B")*12 -> 128 | J7: =COUNTIF('Oktober 2026'!F9:AJ9,"U") -> 10 | K7: =COUNTIF('Oktober 2026'!F9:AJ9,"K") -> 0 | L7: =COUNTIF('Oktober 2026'!F9:AJ9,"FT") -> 1 | M7: 60 | N7: =I7-M7 -> 68
A8: 4 | B8: Fischer | C8: Thomas | D8: =COUNTIF('Oktober 2026'!F10:AJ10,"F") -> 2 | E8: =COUNTIF('Oktober 2026'!F10:AJ10,"S") -> 2 | F8: =COUNTIF('Oktober 2026'!F10:AJ10,"N") -> 11 | G8: =COUNTIF('Oktober 2026'!F10:AJ10,"B") -> 0 | H8: =COUNTIF('Oktober 2026'!F10:AJ10,"F")+COUNTIF('Oktober 2026'!F10:AJ10,"S")+COUNTIF('Oktober 2026'!F10:AJ10,"N")+COUNTIF('Oktober 2026'!F10:AJ10,"B") -> 15 | I8: =COUNTIF('Oktober 2026'!F10:AJ10,"F")*8+COUNTIF('Oktober 2026'!F10:AJ10,"S")*8+COUNTIF('Oktober 2026'!F10:AJ10,"N")*10+COUNTIF('Oktober 2026'!F10:AJ10,"B")*12 -> 142 | J8: =COUNTIF('Oktober 2026'!F10:AJ10,"U") -> 6 | K8: =COUNTIF('Oktober 2026'!F10:AJ10,"K") -> 2 | L8: =COUNTIF('Oktober 2026'!F10:AJ10,"FT") -> 1 | M8: 168 | N8: =I8-M8 -> -26
A9: 5 | B9: Braun | C9: Julia | D9: =COUNTIF('Oktober 2026'!F11:AJ11,"F") -> 8 | E9: =COUNTIF('Oktober 2026'!F11:AJ11,"S") -> 7 | F9: =COUNTIF('Oktober 2026'!F11:AJ11,"N") -> 0 | G9: =COUNTIF('Oktober 2026'!F11:AJ11,"B") -> 0 | H9: =COUNTIF('Oktober 2026'!F11:AJ11,"F")+COUNTIF('Oktober 2026'!F11:AJ11,"S")+COUNTIF('Oktober 2026'!F11:AJ11,"N")+COUNTIF('Oktober 2026'!F11:AJ11,"B") -> 15 | I9: =COUNTIF('Oktober 2026'!F11:AJ11,"F")*8+COUNTIF('Oktober 2026'!F11:AJ11,"S")*8+COUNTIF('Oktober 2026'!F11:AJ11,"N")*10+COUNTIF('Oktober 2026'!F11:AJ11,"B")*12 -> 120 | J9: =COUNTIF('Oktober 2026'!F11:AJ11,"U") -> 6 | K9: =COUNTIF('Oktober 2026'!F11:AJ11,"K") -> 0 | L9: =COUNTIF('Oktober 2026'!F11:AJ11,"FT") -> 1 | M9: 168 | N9: =I9-M9 -> -48
A10: 6 | B10: Hoffmann | C10: Marcus | D10: =COUNTIF('Oktober 2026'!F12:AJ12,"F") -> 4 | E10: =COUNTIF('Oktober 2026'!F12:AJ12,"S") -> 12 | F10: =COUNTIF('Oktober 2026'!F12:AJ12,"N") -> 0 | G10: =COUNTIF('Oktober 2026'!F12:AJ12,"B") -> 0 | H10: =COUNTIF('Oktober 2026'!F12:AJ12,"F")+COUNTIF('Oktober 2026'!F12:AJ12,"S")+COUNTIF('Oktober 2026'!F12:AJ12,"N")+COUNTIF('Oktober 2026'!F12:AJ12,"B") -> 16 | I10: =COUNTIF('Oktober 2026'!F12:AJ12,"F")*8+COUNTIF('Oktober 2026'!F12:AJ12,"S")*8+COUNTIF('Oktober 2026'!F12:AJ12,"N")*10+COUNTIF('Oktober 2026'!F12:AJ12,"B")*12 -> 128 | J10: =COUNTIF('Oktober 2026'!F12:AJ12,"U") -> 8 | K10: =COUNTIF('Oktober 2026'!F12:AJ12,"K") -> 0 | L10: =COUNTIF('Oktober 2026'!F12:AJ12,"FT") -> 1 | M10: 60 | N10: =I10-M10 -> 68
A11: 7 | B11: Koch | C11: Petra | D11: =COUNTIF('Oktober 2026'!F13:AJ13,"F") -> 13 | E11: =COUNTIF('Oktober 2026'!F13:AJ13,"S") -> 4 | F11: =COUNTIF('Oktober 2026'!F13:AJ13,"N") -> 0 | G11: =COUNTIF('Oktober 2026'!F13:AJ13,"B") -> 0 | H11: =COUNTIF('Oktober 2026'!F13:AJ13,"F")+COUNTIF('Oktober 2026'!F13:AJ13,"S")+COUNTIF('Oktober 2026'!F13:AJ13,"N")+COUNTIF('Oktober 2026'!F13:AJ13,"B") -> 17 | I11: =COUNTIF('Oktober 2026'!F13:AJ13,"F")*8+COUNTIF('Oktober 2026'!F13:AJ13,"S")*8+COUNTIF('Oktober 2026'!F13:AJ13,"N")*10+COUNTIF('Oktober 2026'!F13:AJ13,"B")*12 -> 136 | J11: =COUNTIF('Oktober 2026'!F13:AJ13,"U") -> 4 | K11: =COUNTIF('Oktober 2026'!F13:AJ13,"K") -> 0 | L11: =COUNTIF('Oktober 2026'!F13:AJ13,"FT") -> 1 | M11: 168 | N11: =I11-M11 -> -32
A12: 8 | B12: Bauer | C12: Stefan | D12: =COUNTIF('Oktober 2026'!F14:AJ14,"F") -> 2 | E12: =COUNTIF('Oktober 2026'!F14:AJ14,"S") -> 1 | F12: =COUNTIF('Oktober 2026'!F14:AJ14,"N") -> 8 | G12: =COUNTIF('Oktober 2026'!F14:AJ14,"B") -> 1 | H12: =COUNTIF('Oktober 2026'!F14:AJ14,"F")+COUNTIF('Oktober 2026'!F14:AJ14,"S")+COUNTIF('Oktober 2026'!F14:AJ14,"N")+COUNTIF('Oktober 2026'!F14:AJ14,"B") -> 12 | I12: =COUNTIF('Oktober 2026'!F14:AJ14,"F")*8+COUNTIF('Oktober 2026'!F14:AJ14,"S")*8+COUNTIF('Oktober 2026'!F14:AJ14,"N")*10+COUNTIF('Oktober 2026'!F14:AJ14,"B")*12 -> 116 | J12: =COUNTIF('Oktober 2026'!F14:AJ14,"U") -> 7 | K12: =COUNTIF('Oktober 2026'!F14:AJ14,"K") -> 4 | L12: =COUNTIF('Oktober 2026'!F14:AJ14,"FT") -> 1 | M12: 168 | N12: =I12-M12 -> -52
A13: 9 | B13: Richter | C13: Laura | D13: =COUNTIF('Oktober 2026'!F15:AJ15,"F") -> 7 | E13: =COUNTIF('Oktober 2026'!F15:AJ15,"S") -> 11 | F13: =COUNTIF('Oktober 2026'!F15:AJ15,"N") -> 0 | G13: =COUNTIF('Oktober 2026'!F15:AJ15,"B") -> 0 | H13: =COUNTIF('Oktober 2026'!F15:AJ15,"F")+COUNTIF('Oktober 2026'!F15:AJ15,"S")+COUNTIF('Oktober 2026'!F15:AJ15,"N")+COUNTIF('Oktober 2026'!F15:AJ15,"B") -> 18 | I13: =COUNTIF('Oktober 2026'!F15:AJ15,"F")*8+COUNTIF('Oktober 2026'!F15:AJ15,"S")*8+COUNTIF('Oktober 2026'!F15:AJ15,"N")*10+COUNTIF('Oktober 2026'!F15:AJ15,"B")*12 -> 144 | J13: =COUNTIF('Oktober 2026'!F15:AJ15,"U") -> 5 | K13: =COUNTIF('Oktober 2026'!F15:AJ15,"K") -> 0 | L13: =COUNTIF('Oktober 2026'!F15:AJ15,"FT") -> 1 | M13: 168 | N13: =I13-M13 -> -24
A14: 10 | B14: Klein | C14: Michael | D14: =COUNTIF('Oktober 2026'!F16:AJ16,"F") -> 13 | E14: =COUNTIF('Oktober 2026'!F16:AJ16,"S") -> 8 | F14: =COUNTIF('Oktober 2026'!F16:AJ16,"N") -> 0 | G14: =COUNTIF('Oktober 2026'!F16:AJ16,"B") -> 0 | H14: =COUNTIF('Oktober 2026'!F16:AJ16,"F")+COUNTIF('Oktober 2026'!F16:AJ16,"S")+COUNTIF('Oktober 2026'!F16:AJ16,"N")+COUNTIF('Oktober 2026'!F16:AJ16,"B") -> 21 | I14: =COUNTIF('Oktober 2026'!F16:AJ16,"F")*8+COUNTIF('Oktober 2026'!F16:AJ16,"S")*8+COUNTIF('Oktober 2026'!F16:AJ16,"N")*10+COUNTIF('Oktober 2026'!F16:AJ16,"B")*12 -> 168 | J14: =COUNTIF('Oktober 2026'!F16:AJ16,"U") -> 1 | K14: =COUNTIF('Oktober 2026'!F16:AJ16,"K") -> 1 | L14: =COUNTIF('Oktober 2026'!F16:AJ16,"FT") -> 1 | M14: 60 | N14: =I14-M14 -> 108
A16: GESAMT | D16: =SUM(D5:D14) -> 78 | E16: =SUM(E5:E14) -> 62 | F16: =SUM(F5:F14) -> 19 | G16: =SUM(G5:G14) -> 1 | H16: =SUM(H5:H14) -> 160 | I16: =SUM(I5:I14) -> 1322 | J16: =SUM(J5:J14) -> 56 | K16: =SUM(K5:K14) -> 9

Sheet Legende & Hinweise
A1: LEGENDE · Hinweise zur Nutzung der Dienstplan-Vorlage
A2: Diese Seite enthält alle Schichtcodes, Zeitmodelle und Bedienungshinweise
A4: SCHICHTCODES – Erklärung & Zeitmodelle
A5: Code | B5: Bezeichnung | C5: Von | D5: Bis | E5: Stunden | F5: Farbe | G5: Hinweis
A6: F | B6: Frühschicht | C6: 06:00 | D6: 14:00 | E6: 8,0 h | F6: Grün | G6: Standard Frühdienst
A7: S | B7: Spätschicht | C7: 14:00 | D7: 22:00 | E7: 8,0 h | F7: Blau | G7: Standard Spätdienst
A8: N | B8: Nachtschicht | C8: 22:00 | D8: 06:00 | E8: 10,0 h | F8: Lila | G8: Inkl. Nachtzuschlag prüfen
A9: B | B9: Bereitschaft | C9: – | D9: – | E9: 12,0 h | F9: Orange | G9: Rufbereitschaft od. Volldienst
A10: U | B10: Urlaub | C10: – | D10: – | E10: 0 h | F10: Gelb | G10: Genehmigter Erholungsurlaub
A11: K | B11: Krank | C11: – | D11: – | E11: 0 h | F11: Rot | G11: Krankschreibung / AU-Pflicht
A12: FT | B12: Feiertag | C12: – | D12: – | E12: 0 h | F12: Amber | G12: Gesetzlicher Feiertag
B13: Frei / keine | C13: – | D13: – | E13: 0 h | F13: Weiß | G13: Freier Tag oder nicht besetzt
A16: BEDIENUNGSHINWEISE – So verwenden Sie diese Vorlage
A17: 1 | B17: Stammdaten pflegen | D17: Tragen Sie zuerst alle Mitarbeiter im Tabellenblatt 'Stammdaten' ein. Passen Sie Name, Stelle und Schichtpräferenz an.
A18: 2 | B18: Monat auswählen | D18: Öffnen Sie das gewünschte Monatsblatt (z.B. 'Oktober 2026'). Schichtcodes direkt in die farbigen Tageszellen eintragen.
A19: 3 | B19: Schichtcodes eintragen | D19: Verwenden Sie ausschließlich die Kürzel aus der Legende: F, S, N, B, U, K oder FT. Leere Zelle = freier Tag.
A20: 4 | B20: Auswertung prüfen | D20: Die Spalten Σ Tage, Σ Std., Urlaub und Krank werden automatisch berechnet. Prüfen Sie die Monatsauswertung.
A21: 5 | B21: Vorlage anpassen | D21: Schichtzeiten, Stundenwerte und Farben können in der Legende und im Code angepasst werden. Keine Formeln löschen!
A22: 6 | B22: Neue Monate anlegen | D22: Kopieren Sie ein bestehendes Monatsblatt und passen Sie Monat, Jahr und Feiertage in Zeile 6 (FT) an.
