Workbook

Sheet Passwörter
A1: 🔒 | C1: PASSWORT-TRESOR
C3: Zentrale Verwaltung Ihrer Zugangsdaten · Vorlage 2026
A6: Nr. | B6: Kategorie | C6: Dienst / Anbieter | D6: Webadresse | E6: Benutzername / E-Mail | F6: Passwort | G6: Stärke (0–100) | H6: 2FA | I6: Letzte Änderung | J6: Nächste Änderung | K6: Status | L6: Notizen
A7: =IF(C7="","",ROW()-6) -> 1 | B7: E-Mail | C7: Outlook | D7: https://outlook.live.com | E7: laura.beispiel@outlook.de | F7: Tr7#kLmn!qWz | G7: =IF(F7="","",MIN(40,LEN(F7)*4)+15*--(NOT(EXACT(F7,LOWER(F7))))+15*--(NOT(EXACT(F7,UPPER(F7))))+15*--(SUMPRODUCT(--ISNUMBER(SEARCH({"0";"1";"2";"3";"4";"5";"6";"7";"8";"9"},F7)))>0)+15*--(SUMPRODUCT(--ISNUMBER(SEARCH({"!";"#";"$";"%";"&";"/";"(";")";"=";"+";"-";"_";".";"@";";";":"},F7)))>0)) -> 100 | H7: Ja | I7: 46275 | J7: =IF(I7="","",I7+180) -> 46455 | K7: =IF(I7="","",IF(TODAY()>J7,"Überfällig",IF(TODAY()>J7-30,"Bald fällig","Aktuell"))) -> Aktuell | L7: Wiederherstellungscode notiert
A8: =IF(C8="","",ROW()-6) -> 2 | B8: E-Mail | C8: Posteo | D8: https://posteo.de | E8: laura.beispiel | F8: herbst-Blatt-2026 | G8: =IF(F8="","",MIN(40,LEN(F8)*4)+15*--(NOT(EXACT(F8,LOWER(F8))))+15*--(NOT(EXACT(F8,UPPER(F8))))+15*--(SUMPRODUCT(--ISNUMBER(SEARCH({"0";"1";"2";"3";"4";"5";"6";"7";"8";"9"},F8)))>0)+15*--(SUMPRODUCT(--ISNUMBER(SEARCH({"!";"#";"$";"%";"&";"/";"(";")";"=";"+";"-";"_";".";"@";";";":"},F8)))>0)) -> 100 | H8: Ja | I8: 46256 | J8: =IF(I8="","",I8+180) -> 46436 | K8: =IF(I8="","",IF(TODAY()>J8,"Überfällig",IF(TODAY()>J8-30,"Bald fällig","Aktuell"))) -> Aktuell | L8: Verschlüsseltes Postfach
A9: =IF(C9="","",ROW()-6) -> 3 | B9: Soziale Medien | C9: LinkedIn | D9: https://linkedin.com | E9: laura.beispiel@outlook.de | F9: Netzwerk#2026Pro | G9: =IF(F9="","",MIN(40,LEN(F9)*4)+15*--(NOT(EXACT(F9,LOWER(F9))))+15*--(NOT(EXACT(F9,UPPER(F9))))+15*--(SUMPRODUCT(--ISNUMBER(SEARCH({"0";"1";"2";"3";"4";"5";"6";"7";"8";"9"},F9)))>0)+15*--(SUMPRODUCT(--ISNUMBER(SEARCH({"!";"#";"$";"%";"&";"/";"(";")";"=";"+";"-";"_";".";"@";";";":"},F9)))>0)) -> 100 | H9: Ja | I9: 46208 | J9: =IF(I9="","",I9+180) -> 46388 | K9: =IF(I9="","",IF(TODAY()>J9,"Überfällig",IF(TODAY()>J9-30,"Bald fällig","Aktuell"))) -> Aktuell | L9: Berufliches Profil
A10: =IF(C10="","",ROW()-6) -> 4 | B10: Soziale Medien | C10: X (Twitter) | D10: https://x.com | E10: @laura_b | F10: vogel123 | G10: =IF(F10="","",MIN(40,LEN(F10)*4)+15*--(NOT(EXACT(F10,LOWER(F10))))+15*--(NOT(EXACT(F10,UPPER(F10))))+15*--(SUMPRODUCT(--ISNUMBER(SEARCH({"0";"1";"2";"3";"4";"5";"6";"7";"8";"9"},F10)))>0)+15*--(SUMPRODUCT(--ISNUMBER(SEARCH({"!";"#";"$";"%";"&";"/";"(";")";"=";"+";"-";"_";".";"@";";";":"},F10)))>0)) -> 62 | H10: Nein | I10: 46040 | J10: =IF(I10="","",I10+180) -> 46220 | K10: =IF(I10="","",IF(TODAY()>J10,"Überfällig",IF(TODAY()>J10-30,"Bald fällig","Aktuell"))) -> Überfällig | L10: Schwach – bitte erneuern
A11: =IF(C11="","",ROW()-6) -> 5 | B11: Banking/Finanzen | C11: ING | D11: https://ing.de | E11: Kundennr. 88213445 | F11: G8!vRt#2pLxQ | G11: =IF(F11="","",MIN(40,LEN(F11)*4)+15*--(NOT(EXACT(F11,LOWER(F11))))+15*--(NOT(EXACT(F11,UPPER(F11))))+15*--(SUMPRODUCT(--ISNUMBER(SEARCH({"0";"1";"2";"3";"4";"5";"6";"7";"8";"9"},F11)))>0)+15*--(SUMPRODUCT(--ISNUMBER(SEARCH({"!";"#";"$";"%";"&";"/";"(";")";"=";"+";"-";"_";".";"@";";";":"},F11)))>0)) -> 100 | H11: Ja | I11: 46266 | J11: =IF(I11="","",I11+180) -> 46446 | K11: =IF(I11="","",IF(TODAY()>J11,"Überfällig",IF(TODAY()>J11-30,"Bald fällig","Aktuell"))) -> Aktuell | L11: Freigabe per Banking-App
A12: =IF(C12="","",ROW()-6) -> 6 | B12: Banking/Finanzen | C12: PayPal | D12: https://paypal.com | E12: laura.beispiel@outlook.de | F12: Zahlung_Sicher_88 | G12: =IF(F12="","",MIN(40,LEN(F12)*4)+15*--(NOT(EXACT(F12,LOWER(F12))))+15*--(NOT(EXACT(F12,UPPER(F12))))+15*--(SUMPRODUCT(--ISNUMBER(SEARCH({"0";"1";"2";"3";"4";"5";"6";"7";"8";"9"},F12)))>0)+15*--(SUMPRODUCT(--ISNUMBER(SEARCH({"!";"#";"$";"%";"&";"/";"(";")";"=";"+";"-";"_";".";"@";";";":"},F12)))>0)) -> 100 | H12: Ja | I12: 46187 | J12: =IF(I12="","",I12+180) -> 46367 | K12: =IF(I12="","",IF(TODAY()>J12,"Überfällig",IF(TODAY()>J12-30,"Bald fällig","Aktuell"))) -> Aktuell | L12: Mit Girokonto verknüpft
A13: =IF(C13="","",ROW()-6) -> 7 | B13: Shopping | C13: Otto | D13: https://otto.de | E13: laura.beispiel@outlook.de | F13: ottoShop2026 | G13: =IF(F13="","",MIN(40,LEN(F13)*4)+15*--(NOT(EXACT(F13,LOWER(F13))))+15*--(NOT(EXACT(F13,UPPER(F13))))+15*--(SUMPRODUCT(--ISNUMBER(SEARCH({"0";"1";"2";"3";"4";"5";"6";"7";"8";"9"},F13)))>0)+15*--(SUMPRODUCT(--ISNUMBER(SEARCH({"!";"#";"$";"%";"&";"/";"(";")";"=";"+";"-";"_";".";"@";";";":"},F13)))>0)) -> 85 | H13: Nein | I13: 46083 | J13: =IF(I13="","",I13+180) -> 46263 | K13: =IF(I13="","",IF(TODAY()>J13,"Überfällig",IF(TODAY()>J13-30,"Bald fällig","Aktuell"))) -> Überfällig | L13: Ratenkauf aktiv
A14: =IF(C14="","",ROW()-6) -> 8 | B14: Shopping | C14: MediaMarkt | D14: https://mediamarkt.de | E14: laura.b | F14: markt | G14: =IF(F14="","",MIN(40,LEN(F14)*4)+15*--(NOT(EXACT(F14,LOWER(F14))))+15*--(NOT(EXACT(F14,UPPER(F14))))+15*--(SUMPRODUCT(--ISNUMBER(SEARCH({"0";"1";"2";"3";"4";"5";"6";"7";"8";"9"},F14)))>0)+15*--(SUMPRODUCT(--ISNUMBER(SEARCH({"!";"#";"$";"%";"&";"/";"(";")";"=";"+";"-";"_";".";"@";";";":"},F14)))>0)) -> 35 | H14: Nein | I14: 46063 | J14: =IF(I14="","",I14+180) -> 46243 | K14: =IF(I14="","",IF(TODAY()>J14,"Überfällig",IF(TODAY()>J14-30,"Bald fällig","Aktuell"))) -> Überfällig | L14: Sehr schwach – dringend ändern
A15: =IF(C15="","",ROW()-6) -> 9 | B15: Streaming | C15: Disney+ | D15: https://disneyplus.com | E15: familie.beispiel@outlook.de | F15: Disney2026 | G15: =IF(F15="","",MIN(40,LEN(F15)*4)+15*--(NOT(EXACT(F15,LOWER(F15))))+15*--(NOT(EXACT(F15,UPPER(F15))))+15*--(SUMPRODUCT(--ISNUMBER(SEARCH({"0";"1";"2";"3";"4";"5";"6";"7";"8";"9"},F15)))>0)+15*--(SUMPRODUCT(--ISNUMBER(SEARCH({"!";"#";"$";"%";"&";"/";"(";")";"=";"+";"-";"_";".";"@";";";":"},F15)))>0)) -> 85 | H15: Nein | I15: 46123 | J15: =IF(I15="","",I15+180) -> 46303 | K15: =IF(I15="","",IF(TODAY()>J15,"Überfällig",IF(TODAY()>J15-30,"Bald fällig","Aktuell"))) -> Bald fällig | L15: Familien-Abo, 4 Profile
A16: =IF(C16="","",ROW()-6) -> 10 | B16: Streaming | C16: DAZN | D16: https://dazn.com | E16: laura.beispiel@outlook.de | F16: Sport!Stream#42 | G16: =IF(F16="","",MIN(40,LEN(F16)*4)+15*--(NOT(EXACT(F16,LOWER(F16))))+15*--(NOT(EXACT(F16,UPPER(F16))))+15*--(SUMPRODUCT(--ISNUMBER(SEARCH({"0";"1";"2";"3";"4";"5";"6";"7";"8";"9"},F16)))>0)+15*--(SUMPRODUCT(--ISNUMBER(SEARCH({"!";"#";"$";"%";"&";"/";"(";")";"=";"+";"-";"_";".";"@";";";":"},F16)))>0)) -> 100 | H16: Nein | I16: 46161 | J16: =IF(I16="","",I16+180) -> 46341 | K16: =IF(I16="","",IF(TODAY()>J16,"Überfällig",IF(TODAY()>J16-30,"Bald fällig","Aktuell"))) -> Aktuell | L16: Jahresabo
A17: =IF(C17="","",ROW()-6) -> 11 | B17: Cloud/Speicher | C17: Google Drive | D17: https://drive.google.com | E17: laura.beispiel@gmail.com | F17: Wolke$Backup_77x | G17: =IF(F17="","",MIN(40,LEN(F17)*4)+15*--(NOT(EXACT(F17,LOWER(F17))))+15*--(NOT(EXACT(F17,UPPER(F17))))+15*--(SUMPRODUCT(--ISNUMBER(SEARCH({"0";"1";"2";"3";"4";"5";"6";"7";"8";"9"},F17)))>0)+15*--(SUMPRODUCT(--ISNUMBER(SEARCH({"!";"#";"$";"%";"&";"/";"(";")";"=";"+";"-";"_";".";"@";";";":"},F17)))>0)) -> 100 | H17: Ja | I17: 46264 | J17: =IF(I17="","",I17+180) -> 46444 | K17: =IF(I17="","",IF(TODAY()>J17,"Überfällig",IF(TODAY()>J17-30,"Bald fällig","Aktuell"))) -> Aktuell | L17: Automatisches Foto-Backup
A18: =IF(C18="","",ROW()-6) -> 12 | B18: Arbeit | C18: Slack | D18: https://slack.com | E18: l.beispiel@beispiel-gmbh.de | F18: Team&Chat!2026xQ | G18: =IF(F18="","",MIN(40,LEN(F18)*4)+15*--(NOT(EXACT(F18,LOWER(F18))))+15*--(NOT(EXACT(F18,UPPER(F18))))+15*--(SUMPRODUCT(--ISNUMBER(SEARCH({"0";"1";"2";"3";"4";"5";"6";"7";"8";"9"},F18)))>0)+15*--(SUMPRODUCT(--ISNUMBER(SEARCH({"!";"#";"$";"%";"&";"/";"(";")";"=";"+";"-";"_";".";"@";";";":"},F18)))>0)) -> 100 | H18: Ja | I18: 46280 | J18: =IF(I18="","",I18+180) -> 46460 | K18: =IF(I18="","",IF(TODAY()>J18,"Überfällig",IF(TODAY()>J18-30,"Bald fällig","Aktuell"))) -> Aktuell | L18: Nur mit Firmengerät
... A21: =IF(C21="","",ROW()-6) -> 15 | B21: Sonstiges | C21: Kleinanzeigen | D21: https://kleinanzeigen.de | E21: laura.beispiel@outlook.de | F21: kleinanzeige | G21: =IF(F21="","",MIN(40,LEN(F21)*4)+15*--(NOT(EXACT(F21,LOWER(F21))))+15*--(NOT(EXACT(F21,UPPER(F21))))+15*--(SUMPRODUCT(--ISNUMBER(SEARCH({"0";"1";"2";"3";"4";"5";"6";"7";"8";"9"},F21)))>0)+15*--(SUMPRODUCT(--ISNUMBER(SEARCH({"!";"#";"$";"%";"&";"/";"(";")";"=";"+";"-";"_";".";"@";";";":"},F21)))>0)) -> 55 | H21: Nein | I21: 46078 | J21: =IF(I21="","",I21+180) -> 46258 | K21: =IF(I21="","",IF(TODAY()>J21,"Überfällig",IF(TODAY()>J21-30,"Bald fällig","Aktuell"))) -> Überfällig | L21: Selten genutzt
A22: =IF(C22="","",ROW()-6) | G22: =IF(F22="","",MIN(40,LEN(F22)*4)+15*--(NOT(EXACT(F22,LOWER(F22))))+15*--(NOT(EXACT(F22,UPPER(F22))))+15*--(SUMPRODUCT(--ISNUMBER(SEARCH({"0";"1";"2";"3";"4";"5";"6";"7";"8";"9"},F22)))>0)+15*--(SUMPRODUCT(--ISNUMBER(SEARCH({"!";"#";"$";"%";"&";"/";"(";")";"=";"+";"-";"_";".";"@";";";":"},F22)))>0)) | J22: =IF(I22="","",I22+180) | K22: =IF(I22="","",IF(TODAY()>J22,"Überfällig",IF(TODAY()>J22-30,"Bald fällig","Aktuell")))
A23: =IF(C23="","",ROW()-6) | G23: =IF(F23="","",MIN(40,LEN(F23)*4)+15*--(NOT(EXACT(F23,LOWER(F23))))+15*--(NOT(EXACT(F23,UPPER(F23))))+15*--(SUMPRODUCT(--ISNUMBER(SEARCH({"0";"1";"2";"3";"4";"5";"6";"7";"8";"9"},F23)))>0)+15*--(SUMPRODUCT(--ISNUMBER(SEARCH({"!";"#";"$";"%";"&";"/";"(";")";"=";"+";"-";"_";".";"@";";";":"},F23)))>0)) | J23: =IF(I23="","",I23+180) | K23: =IF(I23="","",IF(TODAY()>J23,"Überfällig",IF(TODAY()>J23-30,"Bald fällig","Aktuell")))
A24: =IF(C24="","",ROW()-6) | G24: =IF(F24="","",MIN(40,LEN(F24)*4)+15*--(NOT(EXACT(F24,LOWER(F24))))+15*--(NOT(EXACT(F24,UPPER(F24))))+15*--(SUMPRODUCT(--ISNUMBER(SEARCH({"0";"1";"2";"3";"4";"5";"6";"7";"8";"9"},F24)))>0)+15*--(SUMPRODUCT(--ISNUMBER(SEARCH({"!";"#";"$";"%";"&";"/";"(";")";"=";"+";"-";"_";".";"@";";";":"},F24)))>0)) | J24: =IF(I24="","",I24+180) | K24: =IF(I24="","",IF(TODAY()>J24,"Überfällig",IF(TODAY()>J24-30,"Bald fällig","Aktuell")))
A25: =IF(C25="","",ROW()-6) | G25: =IF(F25="","",MIN(40,LEN(F25)*4)+15*--(NOT(EXACT(F25,LOWER(F25))))+15*--(NOT(EXACT(F25,UPPER(F25))))+15*--(SUMPRODUCT(--ISNUMBER(SEARCH({"0";"1";"2";"3";"4";"5";"6";"7";"8";"9"},F25)))>0)+15*--(SUMPRODUCT(--ISNUMBER(SEARCH({"!";"#";"$";"%";"&";"/";"(";")";"=";"+";"-";"_";".";"@";";";":"},F25)))>0)) | J25: =IF(I25="","",I25+180) | K25: =IF(I25="","",IF(TODAY()>J25,"Überfällig",IF(TODAY()>J25-30,"Bald fällig","Aktuell")))
A26: =IF(C26="","",ROW()-6) | G26: =IF(F26="","",MIN(40,LEN(F26)*4)+15*--(NOT(EXACT(F26,LOWER(F26))))+15*--(NOT(EXACT(F26,UPPER(F26))))+15*--(SUMPRODUCT(--ISNUMBER(SEARCH({"0";"1";"2";"3";"4";"5";"6";"7";"8";"9"},F26)))>0)+15*--(SUMPRODUCT(--ISNUMBER(SEARCH({"!";"#";"$";"%";"&";"/";"(";")";"=";"+";"-";"_";".";"@";";";":"},F26)))>0)) | J26: =IF(I26="","",I26+180) | K26: =IF(I26="","",IF(TODAY()>J26,"Überfällig",IF(TODAY()>J26-30,"Bald fällig","Aktuell")))
A27: =IF(C27="","",ROW()-6) | G27: =IF(F27="","",MIN(40,LEN(F27)*4)+15*--(NOT(EXACT(F27,LOWER(F27))))+15*--(NOT(EXACT(F27,UPPER(F27))))+15*--(SUMPRODUCT(--ISNUMBER(SEARCH({"0";"1";"2";"3";"4";"5";"6";"7";"8";"9"},F27)))>0)+15*--(SUMPRODUCT(--ISNUMBER(SEARCH({"!";"#";"$";"%";"&";"/";"(";")";"=";"+";"-";"_";".";"@";";";":"},F27)))>0)) | J27: =IF(I27="","",I27+180) | K27: =IF(I27="","",IF(TODAY()>J27,"Überfällig",IF(TODAY()>J27-30,"Bald fällig","Aktuell")))
A28: =IF(C28="","",ROW()-6) | G28: =IF(F28="","",MIN(40,LEN(F28)*4)+15*--(NOT(EXACT(F28,LOWER(F28))))+15*--(NOT(EXACT(F28,UPPER(F28))))+15*--(SUMPRODUCT(--ISNUMBER(SEARCH({"0";"1";"2";"3";"4";"5";"6";"7";"8";"9"},F28)))>0)+15*--(SUMPRODUCT(--ISNUMBER(SEARCH({"!";"#";"$";"%";"&";"/";"(";")";"=";"+";"-";"_";".";"@";";";":"},F28)))>0)) | J28: =IF(I28="","",I28+180) | K28: =IF(I28="","",IF(TODAY()>J28,"Überfällig",IF(TODAY()>J28-30,"Bald fällig","Aktuell")))
A29: =IF(C29="","",ROW()-6) | G29: =IF(F29="","",MIN(40,LEN(F29)*4)+15*--(NOT(EXACT(F29,LOWER(F29))))+15*--(NOT(EXACT(F29,UPPER(F29))))+15*--(SUMPRODUCT(--ISNUMBER(SEARCH({"0";"1";"2";"3";"4";"5";"6";"7";"8";"9"},F29)))>0)+15*--(SUMPRODUCT(--ISNUMBER(SEARCH({"!";"#";"$";"%";"&";"/";"(";")";"=";"+";"-";"_";".";"@";";";":"},F29)))>0)) | J29: =IF(I29="","",I29+180) | K29: =IF(I29="","",IF(TODAY()>J29,"Überfällig",IF(TODAY()>J29-30,"Bald fällig","Aktuell")))
A30: =IF(C30="","",ROW()-6) | G30: =IF(F30="","",MIN(40,LEN(F30)*4)+15*--(NOT(EXACT(F30,LOWER(F30))))+15*--(NOT(EXACT(F30,UPPER(F30))))+15*--(SUMPRODUCT(--ISNUMBER(SEARCH({"0";"1";"2";"3";"4";"5";"6";"7";"8";"9"},F30)))>0)+15*--(SUMPRODUCT(--ISNUMBER(SEARCH({"!";"#";"$";"%";"&";"/";"(";")";"=";"+";"-";"_";".";"@";";";":"},F30)))>0)) | J30: =IF(I30="","",I30+180) | K30: =IF(I30="","",IF(TODAY()>J30,"Überfällig",IF(TODAY()>J30-30,"Bald fällig","Aktuell")))
A31: =IF(C31="","",ROW()-6) | G31: =IF(F31="","",MIN(40,LEN(F31)*4)+15*--(NOT(EXACT(F31,LOWER(F31))))+15*--(NOT(EXACT(F31,UPPER(F31))))+15*--(SUMPRODUCT(--ISNUMBER(SEARCH({"0";"1";"2";"3";"4";"5";"6";"7";"8";"9"},F31)))>0)+15*--(SUMPRODUCT(--ISNUMBER(SEARCH({"!";"#";"$";"%";"&";"/";"(";")";"=";"+";"-";"_";".";"@";";";":"},F31)))>0)) | J31: =IF(I31="","",I31+180) | K31: =IF(I31="","",IF(TODAY()>J31,"Überfällig",IF(TODAY()>J31-30,"Bald fällig","Aktuell")))
A32: =IF(C32="","",ROW()-6) | G32: =IF(F32="","",MIN(40,LEN(F32)*4)+15*--(NOT(EXACT(F32,LOWER(F32))))+15*--(NOT(EXACT(F32,UPPER(F32))))+15*--(SUMPRODUCT(--ISNUMBER(SEARCH({"0";"1";"2";"3";"4";"5";"6";"7";"8";"9"},F32)))>0)+15*--(SUMPRODUCT(--ISNUMBER(SEARCH({"!";"#";"$";"%";"&";"/";"(";")";"=";"+";"-";"_";".";"@";";";":"},F32)))>0)) | J32: =IF(I32="","",I32+180) | K32: =IF(I32="","",IF(TODAY()>J32,"Überfällig",IF(TODAY()>J32-30,"Bald fällig","Aktuell")))
A33: =IF(C33="","",ROW()-6) | G33: =IF(F33="","",MIN(40,LEN(F33)*4)+15*--(NOT(EXACT(F33,LOWER(F33))))+15*--(NOT(EXACT(F33,UPPER(F33))))+15*--(SUMPRODUCT(--ISNUMBER(SEARCH({"0";"1";"2";"3";"4";"5";"6";"7";"8";"9"},F33)))>0)+15*--(SUMPRODUCT(--ISNUMBER(SEARCH({"!";"#";"$";"%";"&";"/";"(";")";"=";"+";"-";"_";".";"@";";";":"},F33)))>0)) | J33: =IF(I33="","",I33+180) | K33: =IF(I33="","",IF(TODAY()>J33,"Überfällig",IF(TODAY()>J33-30,"Bald fällig","Aktuell")))
... A46: =IF(C46="","",ROW()-6) | G46: =IF(F46="","",MIN(40,LEN(F46)*4)+15*--(NOT(EXACT(F46,LOWER(F46))))+15*--(NOT(EXACT(F46,UPPER(F46))))+15*--(SUMPRODUCT(--ISNUMBER(SEARCH({"0";"1";"2";"3";"4";"5";"6";"7";"8";"9"},F46)))>0)+15*--(SUMPRODUCT(--ISNUMBER(SEARCH({"!";"#";"$";"%";"&";"/";"(";")";"=";"+";"-";"_";".";"@";";";":"},F46)))>0)) | J46: =IF(I46="","",I46+180) | K46: =IF(I46="","",IF(TODAY()>J46,"Überfällig",IF(TODAY()>J46-30,"Bald fällig","Aktuell")))

Sheet Übersicht
A1: SICHERHEITS-DASHBOARD
A3: Automatische Auswertung Ihrer Passwortliste – Stand heute
B6: Einträge gesamt | D6: Ø Passwortstärke | F6: Schwache (<50) | H6: Überfällig | J6: 2FA-Quote
B7: =COUNTA(Passwörter!$C$7:$C$46) -> 15 | D7: =IFERROR(ROUND(AVERAGE(Passwörter!$G$7:$G$46),0),0) -> 88 | F7: =COUNTIF(Passwörter!$G$7:$G$46,"<50") -> 1 | H7: =COUNTIF(Passwörter!$K$7:$K$46,"Überfällig") -> 4 | J7: =IFERROR(COUNTIF(Passwörter!$H$7:$H$46,"Ja")/COUNTA(Passwörter!$C$7:$C$46),0) -> 0.6
B11: Einträge je Kategorie | H11: Passwortstärke-Verteilung
B30: Datengrundlage
B31: Kategorie | C31: Anzahl | H31: Stärke | I31: Anzahl
B32: E-Mail | C32: =COUNTIF(Passwörter!$B$7:$B$46,"E-Mail") -> 2 | H32: Schwach (<50) | I32: =COUNTIF(Passwörter!$G$7:$G$46,"<50") -> 1
B33: Soziale Medien | C33: =COUNTIF(Passwörter!$B$7:$B$46,"Soziale Medien") -> 2 | H33: Mittel (50–69) | I33: =COUNTIFS(Passwörter!$G$7:$G$46,">=50",Passwörter!$G$7:$G$46,"<70") -> 2
B34: Banking/Finanzen | C34: =COUNTIF(Passwörter!$B$7:$B$46,"Banking/Finanzen") -> 2 | H34: Stark (70–89) | I34: =COUNTIFS(Passwörter!$G$7:$G$46,">=70",Passwörter!$G$7:$G$46,"<90") -> 2
B35: Shopping | C35: =COUNTIF(Passwörter!$B$7:$B$46,"Shopping") -> 2 | H35: Sehr stark (90+) | I35: =COUNTIF(Passwörter!$G$7:$G$46,">=90") -> 10
B36: Streaming | C36: =COUNTIF(Passwörter!$B$7:$B$46,"Streaming") -> 2
B37: Cloud/Speicher | C37: =COUNTIF(Passwörter!$B$7:$B$46,"Cloud/Speicher") -> 1
B38: Arbeit | C38: =COUNTIF(Passwörter!$B$7:$B$46,"Arbeit") -> 2
B39: Sonstiges | C39: =COUNTIF(Passwörter!$B$7:$B$46,"Sonstiges") -> 2

Sheet Anleitung
A1: ANLEITUNG & SICHERHEITSHINWEISE
B5: So verwenden Sie die Vorlage
B6: Blatt „Passwörter“ | C6: Ihre zentrale Liste. Tragen Sie pro Zeile einen Zugang ein.
B7: Weiße Felder ausfüllen | C7: Kategorie, Dienst, Webadresse, Benutzername, Passwort, 2FA und „Letzte Änderung“.
B8: Automatische Spalten | C8: „Nr.“, „Stärke“, „Nächste Änderung“ und „Status“ berechnen sich selbst – nicht überschreiben.
B9: Dropdowns | C9: Kategorie und 2FA werden über Auswahllisten gepflegt.
B10: Blatt „Übersicht“ | C10: Zeigt Kennzahlen und Diagramme automatisch auf Basis Ihrer Einträge.
B11: Beispieldaten | C11: Die 15 Beispielzeilen sind frei erfunden – einfach überschreiben oder löschen.
B13: Spalten im Detail
B14: Stärke (0–100) | C14: Bewertung aus Länge und Zeichenvielfalt (Groß-/Kleinbuchstaben, Zahlen, Sonderzeichen). Balken zeigt den Wert.
B15: Status | C15: „Aktuell“ (grün), „Bald fällig“ (gelb, < 30 Tage) oder „Überfällig“ (rot) – bezogen auf „Nächste Änderung“.
B16: Nächste Änderung | C16: Letzte Änderung + 180 Tage. Passen Sie den Zyklus bei Bedarf in der Formel an.
B18: Empfehlungen für sichere Passwörter
B19: ● Für jedes Konto ein eigenes Passwort mit mindestens 12 Zeichen.
B20: ● Groß- und Kleinbuchstaben, Zahlen und Sonderzeichen kombinieren.
B21: ● Zwei-Faktor-Authentifizierung (2FA) überall aktivieren, wo möglich.
B22: ● Überfällige Passwörter zeitnah erneuern und das Datum aktualisieren.
B23: ● Diese Datei mit Passwort schützen: Datei ▸ Informationen ▸ Arbeitsmappe schützen ▸ Mit Kennwort verschlüsseln.
B24: ● Die Datei nicht ungeschützt per E-Mail oder in offenen Cloud-Ordnern ablegen.
B26: Hinweis: Excel bietet keinen hochsicheren Schutz. Für viele Zugänge empfiehlt sich zusätzlich ein dedizierter Passwort-Manager.

Sheet Listen
A1: Kategorien | C1: 2FA
A2: E-Mail | C2: Ja
A3: Soziale Medien | C3: Nein
A4: Banking/Finanzen
A5: Shopping
A6: Streaming
A7: Cloud/Speicher
A8: Arbeit
A9: Sonstiges
