Workbook

Sheet Schichtplan
B2: SCHICHTPLAN | N2: Monatsübersicht · Personaleinsatzplanung | AA2: Muster GmbH
B5: UNTERNEHMEN | F5: ABTEILUNG | L5: PLANUNGSMONAT | S5: STARTDATUM | X5: VERANTWORTLICH | AE5: STAND
B6: Muster GmbH | F6: Betrieb / Team A | L6: =CHOOSE(MONTH($S$6),"Januar","Februar","März","April","Mai","Juni","Juli","August","September","Oktober","November","Dezember")&" "&YEAR($S$6) -> März 2027 | S6: 46447 | X6: Schichtleitung | AE6: =TODAY() -> 46270
B8: F | C8: Frühdienst | H8: S | I8: Spätdienst | N8: N | O8: Nachtdienst | T8: U | U8: Urlaub | Z8: K | AA8: Krank | AF8: FR | AG8: Frei
G9: =$S$6 -> 46447 | H9: =G9+1 -> 46448 | I9: =H9+1 -> 46449 | J9: =I9+1 -> 46450 | K9: =J9+1 -> 46451 | L9: =K9+1 -> 46452 | M9: =L9+1 -> 46453 | N9: =M9+1 -> 46454 | O9: =N9+1 -> 46455 | ... AK9: =AJ9+1 -> 46477
B10: Nr. | C10: Mitarbeiter/in | D10: Funktion | E10: Std./Wo. | F10: €/Std | G10: =CHOOSE(WEEKDAY(G9,2),"Mo","Di","Mi","Do","Fr","Sa","So") -> Mo | H10: =CHOOSE(WEEKDAY(H9,2),"Mo","Di","Mi","Do","Fr","Sa","So") -> Di | I10: =CHOOSE(WEEKDAY(I9,2),"Mo","Di","Mi","Do","Fr","Sa","So") -> Mi | J10: =CHOOSE(WEEKDAY(J9,2),"Mo","Di","Mi","Do","Fr","Sa","So") -> Do | K10: =CHOOSE(WEEKDAY(K9,2),"Mo","Di","Mi","Do","Fr","Sa","So") -> Fr | L10: =CHOOSE(WEEKDAY(L9,2),"Mo","Di","Mi","Do","Fr","Sa","So") -> Sa | M10: =CHOOSE(WEEKDAY(M9,2),"Mo","Di","Mi","Do","Fr","Sa","So") -> So | N10: =CHOOSE(WEEKDAY(N9,2),"Mo","Di","Mi","Do","Fr","Sa","So") -> Mo | ... AK10: =CHOOSE(WEEKDAY(AK9,2),"Mo","Di","Mi","Do","Fr","Sa","So") -> Mi | AL10: Schichten | AM10: Ist-Std. | AN10: Urlaub | AO10: Krank | AP10: Brutto €
G11: =DAY(G9) -> 1 | H11: =DAY(H9) -> 2 | I11: =DAY(I9) -> 3 | J11: =DAY(J9) -> 4 | K11: =DAY(K9) -> 5 | L11: =DAY(L9) -> 6 | M11: =DAY(M9) -> 7 | N11: =DAY(N9) -> 8 | ... AK11: =DAY(AK9) -> 31
B12: 1 | C12: Anna Berger | D12: Schichtleitung | E12: 38.5 | F12: 22.5 | G12: F | H12: F | I12: F | J12: F | K12: F | L12: FR | M12: FR | N12: S | O12: S | P12: S | Q12: S | R12: S | S12: FR | T12: FR | U12: N | V12: N | W12: N | X12: N | Y12: N | Z12: FR | AA12: FR | AB12: F | AC12: F | AD12: F | AE12: F | AF12: F | AG12: FR | AH12: FR | AI12: S | AJ12: S | AK12: S | AL12: =SUMPRODUCT(COUNTIF(G12:AK12,'Legende & Einstellungen'!$B$7:$B$9)) -> 23 | AM12: =SUMPRODUCT(COUNTIF(G12:AK12,'Legende & Einstellungen'!$B$7:$B$12),'Legende & Einstellungen'!$F$7:$F$12) -> 184 | AN12: =COUNTIF(G12:AK12,'Legende & Einstellungen'!$B$10) -> 0 | AO12: =COUNTIF(G12:AK12,'Legende & Einstellungen'!$B$11) -> 0 | AP12: =AM12*F12 -> 4140
B13: 2 | C13: Jonas Keller | D13: Fachkraft | E13: 38.5 | F13: 18 | G13: S | H13: FR | I13: FR | J13: S | K13: S | L13: S | M13: S | N13: N | O13: FR | P13: FR | Q13: N | R13: N | S13: N | T13: N | U13: F | V13: FR | W13: FR | X13: F | Y13: F | Z13: F | AA13: F | AB13: S | AC13: FR | AD13: FR | AE13: S | AF13: S | AG13: S | AH13: S | AI13: N | AJ13: FR | AK13: FR | AL13: =SUMPRODUCT(COUNTIF(G13:AK13,'Legende & Einstellungen'!$B$7:$B$9)) -> 21 | AM13: =SUMPRODUCT(COUNTIF(G13:AK13,'Legende & Einstellungen'!$B$7:$B$12),'Legende & Einstellungen'!$F$7:$F$12) -> 168 | AN13: =COUNTIF(G13:AK13,'Legende & Einstellungen'!$B$10) -> 0 | AO13: =COUNTIF(G13:AK13,'Legende & Einstellungen'!$B$11) -> 0 | AP13: =AM13*F13 -> 3024
B14: 3 | C14: Pelin Aydın | D14: Fachkraft | E14: 38.5 | F14: 18 | G14: N | H14: N | I14: N | J14: N | K14: FR | L14: FR | M14: N | N14: F | O14: F | P14: F | Q14: F | R14: FR | S14: FR | T14: F | U14: S | V14: S | W14: S | X14: S | Y14: FR | Z14: FR | AA14: S | AB14: N | AC14: N | AD14: N | AE14: N | AF14: FR | AG14: FR | AH14: N | AI14: F | AJ14: F | AK14: F | AL14: =SUMPRODUCT(COUNTIF(G14:AK14,'Legende & Einstellungen'!$B$7:$B$9)) -> 23 | AM14: =SUMPRODUCT(COUNTIF(G14:AK14,'Legende & Einstellungen'!$B$7:$B$12),'Legende & Einstellungen'!$F$7:$F$12) -> 184 | AN14: =COUNTIF(G14:AK14,'Legende & Einstellungen'!$B$10) -> 0 | AO14: =COUNTIF(G14:AK14,'Legende & Einstellungen'!$B$11) -> 0 | AP14: =AM14*F14 -> 3312
B15: 4 | C15: Markus Schröder | D15: Springer | E15: 38.5 | F15: 19.5 | G15: FR | H15: FR | I15: F | J15: F | K15: F | L15: F | M15: F | N15: FR | O15: U | P15: U | Q15: U | R15: U | S15: U | T15: U | U15: U | V15: FR | W15: N | X15: N | Y15: N | Z15: N | AA15: N | AB15: FR | AC15: FR | AD15: F | AE15: F | AF15: F | AG15: F | AH15: F | AI15: FR | AJ15: FR | AK15: S | AL15: =SUMPRODUCT(COUNTIF(G15:AK15,'Legende & Einstellungen'!$B$7:$B$9)) -> 16 | AM15: =SUMPRODUCT(COUNTIF(G15:AK15,'Legende & Einstellungen'!$B$7:$B$12),'Legende & Einstellungen'!$F$7:$F$12) -> 128 | AN15: =COUNTIF(G15:AK15,'Legende & Einstellungen'!$B$10) -> 7 | AO15: =COUNTIF(G15:AK15,'Legende & Einstellungen'!$B$11) -> 0 | AP15: =AM15*F15 -> 2496
B16: 5 | C16: Lena Hoffmann | D16: Fachkraft | E16: 30 | F16: 17.25 | G16: S | H16: S | I16: S | J16: FR | K16: FR | L16: S | M16: S | N16: N | O16: N | P16: N | Q16: FR | R16: FR | S16: N | T16: N | U16: F | V16: F | W16: F | X16: FR | Y16: FR | Z16: F | AA16: F | AB16: S | AC16: S | AD16: S | AE16: FR | AF16: FR | AG16: S | AH16: S | AI16: N | AJ16: N | AK16: N | AL16: =SUMPRODUCT(COUNTIF(G16:AK16,'Legende & Einstellungen'!$B$7:$B$9)) -> 23 | AM16: =SUMPRODUCT(COUNTIF(G16:AK16,'Legende & Einstellungen'!$B$7:$B$12),'Legende & Einstellungen'!$F$7:$F$12) -> 184 | AN16: =COUNTIF(G16:AK16,'Legende & Einstellungen'!$B$10) -> 0 | AO16: =COUNTIF(G16:AK16,'Legende & Einstellungen'!$B$11) -> 0 | AP16: =AM16*F16 -> 3174
B17: 6 | C17: David Neumann | D17: Fachkraft | E17: 38.5 | F17: 18 | G17: FR | H17: N | I17: N | J17: K | K17: K | L17: N | M17: FR | N17: FR | O17: F | P17: F | Q17: F | R17: F | S17: F | T17: FR | U17: FR | V17: S | W17: S | X17: S | Y17: S | Z17: S | AA17: FR | AB17: FR | AC17: N | AD17: N | AE17: N | AF17: N | AG17: N | AH17: FR | AI17: FR | AJ17: F | AK17: F | AL17: =SUMPRODUCT(COUNTIF(G17:AK17,'Legende & Einstellungen'!$B$7:$B$9)) -> 20 | AM17: =SUMPRODUCT(COUNTIF(G17:AK17,'Legende & Einstellungen'!$B$7:$B$12),'Legende & Einstellungen'!$F$7:$F$12) -> 160 | AN17: =COUNTIF(G17:AK17,'Legende & Einstellungen'!$B$10) -> 0 | AO17: =COUNTIF(G17:AK17,'Legende & Einstellungen'!$B$11) -> 2 | AP17: =AM17*F17 -> 2880
B18: 7 | C18: Sofia Wagner | D18: Auszubildende/r | E18: 20 | F18: 14.2 | G18: F | H18: F | I18: FR | J18: FR | K18: F | L18: F | M18: F | N18: S | O18: S | P18: FR | Q18: FR | R18: S | S18: S | T18: S | U18: N | V18: N | W18: FR | X18: K | Y18: N | Z18: N | AA18: N | AB18: F | AC18: F | AD18: FR | AE18: FR | AF18: F | AG18: F | AH18: F | AI18: S | AJ18: S | AK18: FR | AL18: =SUMPRODUCT(COUNTIF(G18:AK18,'Legende & Einstellungen'!$B$7:$B$9)) -> 22 | AM18: =SUMPRODUCT(COUNTIF(G18:AK18,'Legende & Einstellungen'!$B$7:$B$12),'Legende & Einstellungen'!$F$7:$F$12) -> 176 | AN18: =COUNTIF(G18:AK18,'Legende & Einstellungen'!$B$10) -> 0 | AO18: =COUNTIF(G18:AK18,'Legende & Einstellungen'!$B$11) -> 1 | AP18: =AM18*F18 -> 2499.2
B19: 8 | C19: Tobias Fischer | D19: Fachkraft | E19: 38.5 | F19: 18 | G19: S | H19: S | I19: S | J19: S | K19: S | L19: FR | M19: FR | N19: N | O19: N | P19: N | Q19: N | R19: N | S19: FR | T19: FR | U19: F | V19: F | W19: F | X19: F | Y19: F | Z19: FR | AA19: FR | AB19: S | AC19: S | AD19: S | AE19: S | AF19: S | AG19: FR | AH19: FR | AI19: N | AJ19: N | AK19: N | AL19: =SUMPRODUCT(COUNTIF(G19:AK19,'Legende & Einstellungen'!$B$7:$B$9)) -> 23 | AM19: =SUMPRODUCT(COUNTIF(G19:AK19,'Legende & Einstellungen'!$B$7:$B$12),'Legende & Einstellungen'!$F$7:$F$12) -> 184 | AN19: =COUNTIF(G19:AK19,'Legende & Einstellungen'!$B$10) -> 0 | AO19: =COUNTIF(G19:AK19,'Legende & Einstellungen'!$B$11) -> 0 | AP19: =AM19*F19 -> 3312
B20: 9 | C20: Mira Lindqvist | D20: Aushilfe | E20: 12 | F20: 13.9 | G20: N | H20: FR | I20: FR | J20: N | K20: N | L20: N | M20: N | N20: F | O20: FR | P20: FR | Q20: F | R20: F | S20: F | T20: F | U20: S | V20: FR | W20: FR | X20: S | Y20: S | Z20: S | AA20: U | AB20: U | AC20: U | AD20: U | AE20: U | AF20: N | AG20: N | AH20: N | AI20: F | AJ20: FR | AK20: FR | AL20: =SUMPRODUCT(COUNTIF(G20:AK20,'Legende & Einstellungen'!$B$7:$B$9)) -> 18 | AM20: =SUMPRODUCT(COUNTIF(G20:AK20,'Legende & Einstellungen'!$B$7:$B$12),'Legende & Einstellungen'!$F$7:$F$12) -> 144 | AN20: =COUNTIF(G20:AK20,'Legende & Einstellungen'!$B$10) -> 5 | AO20: =COUNTIF(G20:AK20,'Legende & Einstellungen'!$B$11) -> 0 | AP20: =AM20*F20 -> 2001.6
B21: 10 | C21: Felix Braun | D21: Fachkraft | E21: 38.5 | F21: 18 | G21: F | H21: F | I21: F | J21: F | K21: FR | L21: FR | M21: F | N21: S | O21: S | P21: S | Q21: S | R21: FR | S21: FR | T21: S | U21: N | V21: N | W21: N | X21: N | Y21: FR | Z21: FR | AA21: N | AB21: F | AC21: F | AD21: F | AE21: F | AF21: FR | AG21: FR | AH21: F | AI21: S | AJ21: S | AK21: S | AL21: =SUMPRODUCT(COUNTIF(G21:AK21,'Legende & Einstellungen'!$B$7:$B$9)) -> 23 | AM21: =SUMPRODUCT(COUNTIF(G21:AK21,'Legende & Einstellungen'!$B$7:$B$12),'Legende & Einstellungen'!$F$7:$F$12) -> 184 | AN21: =COUNTIF(G21:AK21,'Legende & Einstellungen'!$B$10) -> 0 | AO21: =COUNTIF(G21:AK21,'Legende & Einstellungen'!$B$11) -> 0 | AP21: =AM21*F21 -> 3312
B22: GESAMT / MONAT | AL22: =SUM(AL12:AL21) -> 212 | AM22: =SUM(AM12:AM21) -> 1696 | AN22: =SUM(AN12:AN21) -> 12 | AO22: =SUM(AO12:AO21) -> 3 | AP22: =SUM(AP12:AP21) -> 30150.8
B24: BESETZUNG JE TAG (Ist / Minimum) | AL24: Summe Monat
B25: Frühdienst (F) | F25: ='Legende & Einstellungen'!$D$16 -> 2 | G25: =COUNTIF(G$12:G$21,'Legende & Einstellungen'!$B$7) -> 3 | H25: =COUNTIF(H$12:H$21,'Legende & Einstellungen'!$B$7) -> 3 | I25: =COUNTIF(I$12:I$21,'Legende & Einstellungen'!$B$7) -> 3 | J25: =COUNTIF(J$12:J$21,'Legende & Einstellungen'!$B$7) -> 3 | K25: =COUNTIF(K$12:K$21,'Legende & Einstellungen'!$B$7) -> 3 | L25: =COUNTIF(L$12:L$21,'Legende & Einstellungen'!$B$7) -> 2 | M25: =COUNTIF(M$12:M$21,'Legende & Einstellungen'!$B$7) -> 3 | N25: =COUNTIF(N$12:N$21,'Legende & Einstellungen'!$B$7) -> 2 | ... AK25: =COUNTIF(AK$12:AK$21,'Legende & Einstellungen'!$B$7) -> 2 | AL25: =SUM(G25:AK25) -> 76
B26: Spätdienst (S) | F26: ='Legende & Einstellungen'!$D$17 -> 2 | G26: =COUNTIF(G$12:G$21,'Legende & Einstellungen'!$B$8) -> 3 | H26: =COUNTIF(H$12:H$21,'Legende & Einstellungen'!$B$8) -> 2 | I26: =COUNTIF(I$12:I$21,'Legende & Einstellungen'!$B$8) -> 2 | J26: =COUNTIF(J$12:J$21,'Legende & Einstellungen'!$B$8) -> 2 | K26: =COUNTIF(K$12:K$21,'Legende & Einstellungen'!$B$8) -> 2 | L26: =COUNTIF(L$12:L$21,'Legende & Einstellungen'!$B$8) -> 2 | M26: =COUNTIF(M$12:M$21,'Legende & Einstellungen'!$B$8) -> 2 | N26: =COUNTIF(N$12:N$21,'Legende & Einstellungen'!$B$8) -> 3 | ... AK26: =COUNTIF(AK$12:AK$21,'Legende & Einstellungen'!$B$8) -> 3 | AL26: =SUM(G26:AK26) -> 68
B27: Nachtdienst (N) | F27: ='Legende & Einstellungen'!$D$18 -> 1 | G27: =COUNTIF(G$12:G$21,'Legende & Einstellungen'!$B$9) -> 2 | H27: =COUNTIF(H$12:H$21,'Legende & Einstellungen'!$B$9) -> 2 | I27: =COUNTIF(I$12:I$21,'Legende & Einstellungen'!$B$9) -> 2 | J27: =COUNTIF(J$12:J$21,'Legende & Einstellungen'!$B$9) -> 2 | K27: =COUNTIF(K$12:K$21,'Legende & Einstellungen'!$B$9) -> 1 | L27: =COUNTIF(L$12:L$21,'Legende & Einstellungen'!$B$9) -> 2 | M27: =COUNTIF(M$12:M$21,'Legende & Einstellungen'!$B$9) -> 2 | N27: =COUNTIF(N$12:N$21,'Legende & Einstellungen'!$B$9) -> 3 | ... AK27: =COUNTIF(AK$12:AK$21,'Legende & Einstellungen'!$B$9) -> 2 | AL27: =SUM(G27:AK27) -> 68
B28: Anwesend gesamt | G28: =SUM(G25:G27) -> 8 | H28: =SUM(H25:H27) -> 7 | I28: =SUM(I25:I27) -> 7 | J28: =SUM(J25:J27) -> 7 | K28: =SUM(K25:K27) -> 6 | L28: =SUM(L25:L27) -> 6 | M28: =SUM(M25:M27) -> 7 | N28: =SUM(N25:N27) -> 8 | ... AK28: =SUM(AK25:AK27) -> 7 | AL28: =SUM(G28:AK28) -> 212
B30: Kürzel je Tag per Dropdown wählen · Zellen färben sich automatisch · eine rote Besetzungszahl liegt unter der Mindestbesetzung. Codes, Zeiten und Mindestbesetzung im Blatt „Legende & Einstellungen“ anpassen.
B31: Hinweis: allgemeine Orientierungshilfe, keine arbeitsrechtliche Beratung. Beispieldaten – bitte durch eigene Werte ersetzen.

Sheet Legende & Einstellungen
B2: LEGENDE & EINSTELLUNGEN
B5: 1 · Schichtcodes & Zeiten
B6: Code | C6: Bezeichnung | D6: Von | E6: Bis | F6: Std./Schicht | G6: Anrechnung
B7: F | C7: Frühdienst | D7: 06:00 | E7: 14:00 | F7: 8 | G7: Arbeitszeit
B8: S | C8: Spätdienst | D8: 14:00 | E8: 22:00 | F8: 8 | G8: Arbeitszeit
B9: N | C9: Nachtdienst | D9: 22:00 | E9: 06:00 | F9: 8 | G9: Arbeitszeit
B10: U | C10: Urlaub | D10: – | E10: – | F10: 0 | G10: Abwesenheit
B11: K | C11: Krank | D11: – | E11: – | F11: 0 | G11: Abwesenheit
B12: FR | C12: Frei | D12: – | E12: – | F12: 0 | G12: frei
C13: Std./Schicht bearbeiten → Ist-Stunden & Kosten im Plan rechnen automatisch nach.
B15: 2 · Mindestbesetzung je Schicht
B16: Frühdienst | C16: F | D16: 2 | E16: Diese Werte steuern die rote Warnung in der Besetzungszeile des Plans.
B17: Spätdienst | C17: S | D17: 2
B18: Nachtdienst | C18: N | D18: 1
B20: 3 · Berechnung & Kosten
B21: • Ist-Stunden = Anzahl geplanter Schichten × Std./Schicht (Codes F, S, N).
B22: • Brutto/Monat = Ist-Stunden × €/Std der Person (Beispielwerte, bitte anpassen).
B23: • U (Urlaub) und K (Krank) zählen als Abwesenheit mit 0 Arbeitsstunden.
B25: 4 · Rechtliche Kurzhinweise (ArbZG)
B26: • Höchstarbeitszeit i. d. R. 8 Std./Werktag, vorübergehend bis 10 Std. mit Ausgleich.
B27: • Mindestruhezeit von 11 Stunden zwischen zwei Schichten.
B28: • Ruhepausen: ab 6 Std. mind. 30 Min., ab 9 Std. mind. 45 Min.
B29: • Nachtarbeit nach § 6 ArbZG gesondert regeln (Ausgleich, arbeitsmed. Vorsorge).
B30: • Ausgehängte Pläne möglichst mit Vorlauf ändern und mit Betroffenen abstimmen.
B31: Allgemeine Hinweise – ersetzen keine rechtliche Beratung im Einzelfall.
B33: 5 · So nutzen Sie die Vorlage
... B38: 5. Für einen neuen Monat die Datei kopieren und nur das Startdatum ändern.
