Workbook

Sheet Blutzucker-Tagebuch
A1: Blutzucker-Tagebuch
A2: Tägliche Selbstkontrolle · Dokumentationsvorlage 2026
A4: STAMMDATEN | G4: ORIENTIERUNGS-ZIELBEREICHE
A5: Name | B5: Mustermann, Max | D5: Diabetes-Typ | E5: Typ 2 | G5: Nüchtern / vor dem Essen: 80 – 130 mg/dl
A6: Zeitraum | B6: 01.–14.09.2026 | D6: Messeinheit | E6: mg/dl | G6: 1 – 2 Std. nach dem Essen: unter 180 mg/dl
A7: Insulin-Schema | B7: Basal-Bolus (ICT) | D7: Praxis / Arzt | E7: — | G7: Unterzuckerung: unter 70 mg/dl · darüber: Rücksprache Praxis
A9: Ø BLUTZUCKER (mg/dl) | C9: IM ZIELBEREICH | E9: UNTERZUCKERUNGEN | G9: ÜBER ZIELBEREICH | I9: MESSUNGEN GESAMT
A10: =IFERROR(ROUND(AVERAGE($F$15:$F$1000),0),"–") -> 138 | C10: =IFERROR(COUNTIF($G$15:$G$1000,"Im Zielbereich")/COUNT($F$15:$F$1000),"–") -> 0.70588235 | E10: =COUNTIF($G$15:$G$1000,"Unterzucker") -> 2 | G10: =COUNTIF($G$15:$G$1000,"Erhöht")+COUNTIF($G$15:$G$1000,"Hoch") -> 13 | I10: =COUNT($F$15:$F$1000) -> 51
A11: Tiefstwert | B11: =IFERROR(MIN($F$15:$F$1000),"–") -> 58 | C11: Höchstwert | D11: =IFERROR(MAX($F$15:$F$1000),"–") -> 238 | E11: Ø Insulin (I.E.) | F11: =IFERROR(ROUND(AVERAGE($H$15:$H$1000),1),"–") -> 8.8 | G11: Ø KE je Eintrag | H11: =IFERROR(ROUND(AVERAGE($J$15:$J$1000),1),"–") -> 3.9 | I11: Werte dienen der Orientierung.
A13: Legende | B13: Im Zielbereich | D13: Erhöht | E13: Hoch | F13: Unterzucker | H13: Keine ärztliche Beratung · Zielwerte individuell abstimmen
A14: Datum | B14: Wochen- tag | C14: Uhrzeit | D14: Tageszeit | E14: Situation | F14: Blutzucker (mg/dl) | G14: Bewertung | H14: Insulin (I.E.) | I14: Insulinart | J14: KE | K14: Bemerkung
A15: 46266 | B15: =IF(A15="","",CHOOSE(WEEKDAY(A15,2),"Mo","Di","Mi","Do","Fr","Sa","So")) -> Di | C15: 0.30555556 | D15: Morgens | E15: Nüchtern | F15: 112 | G15: =IF(F15="","",IF(F15<70,"Unterzucker",IF(E15="Nach dem Essen",IF(F15<=180,"Im Zielbereich",IF(F15<=250,"Erhöht","Hoch")),IF(F15<=130,"Im Zielbereich",IF(F15<=180,"Erhöht","Hoch"))))) -> Im Zielbereich | H15: 16 | I15: Basal (lang)
A16: 46266 | B16: =IF(A16="","",CHOOSE(WEEKDAY(A16,2),"Mo","Di","Mi","Do","Fr","Sa","So")) -> Di | C16: 0.55208333 | D16: Mittags | E16: Nach dem Essen | F16: 168 | G16: =IF(F16="","",IF(F16<70,"Unterzucker",IF(E16="Nach dem Essen",IF(F16<=180,"Im Zielbereich",IF(F16<=250,"Erhöht","Hoch")),IF(F16<=130,"Im Zielbereich",IF(F16<=180,"Erhöht","Hoch"))))) -> Im Zielbereich | H16: 6 | I16: Bolus (schnell) | J16: 4 | K16: Mittagsmenü Kantine
A17: 46266 | B17: =IF(A17="","",CHOOSE(WEEKDAY(A17,2),"Mo","Di","Mi","Do","Fr","Sa","So")) -> Di | C17: 0.79861111 | D17: Abends | E17: Vor dem Essen | F17: 119 | G17: =IF(F17="","",IF(F17<70,"Unterzucker",IF(E17="Nach dem Essen",IF(F17<=180,"Im Zielbereich",IF(F17<=250,"Erhöht","Hoch")),IF(F17<=130,"Im Zielbereich",IF(F17<=180,"Erhöht","Hoch"))))) -> Im Zielbereich | H17: 5 | I17: Bolus (schnell) | J17: 3.5
A18: 46266 | B18: =IF(A18="","",CHOOSE(WEEKDAY(A18,2),"Mo","Di","Mi","Do","Fr","Sa","So")) -> Di | C18: 0.94444444 | D18: Nachts | E18: Vor dem Schlafengehen | F18: 128 | G18: =IF(F18="","",IF(F18<70,"Unterzucker",IF(E18="Nach dem Essen",IF(F18<=180,"Im Zielbereich",IF(F18<=250,"Erhöht","Hoch")),IF(F18<=130,"Im Zielbereich",IF(F18<=180,"Erhöht","Hoch"))))) -> Im Zielbereich | H18: 14 | I18: Basal (lang)
A19: 46267 | B19: =IF(A19="","",CHOOSE(WEEKDAY(A19,2),"Mo","Di","Mi","Do","Fr","Sa","So")) -> Mi | C19: 0.29513889 | D19: Morgens | E19: Nüchtern | F19: 124 | G19: =IF(F19="","",IF(F19<70,"Unterzucker",IF(E19="Nach dem Essen",IF(F19<=180,"Im Zielbereich",IF(F19<=250,"Erhöht","Hoch")),IF(F19<=130,"Im Zielbereich",IF(F19<=180,"Erhöht","Hoch"))))) -> Im Zielbereich | H19: 16 | I19: Basal (lang)
A20: 46267 | B20: =IF(A20="","",CHOOSE(WEEKDAY(A20,2),"Mo","Di","Mi","Do","Fr","Sa","So")) -> Mi | C20: 0.39583333 | D20: Vormittags | E20: Nach dem Essen | F20: 176 | G20: =IF(F20="","",IF(F20<70,"Unterzucker",IF(E20="Nach dem Essen",IF(F20<=180,"Im Zielbereich",IF(F20<=250,"Erhöht","Hoch")),IF(F20<=130,"Im Zielbereich",IF(F20<=180,"Erhöht","Hoch"))))) -> Im Zielbereich | H20: 5 | I20: Bolus (schnell) | J20: 3 | K20: Vollkornbrot
A21: 46267 | B21: =IF(A21="","",CHOOSE(WEEKDAY(A21,2),"Mo","Di","Mi","Do","Fr","Sa","So")) -> Mi | C21: 0.56944444 | D21: Mittags | E21: Nach dem Essen | F21: 205 | G21: =IF(F21="","",IF(F21<70,"Unterzucker",IF(E21="Nach dem Essen",IF(F21<=180,"Im Zielbereich",IF(F21<=250,"Erhöht","Hoch")),IF(F21<=130,"Im Zielbereich",IF(F21<=180,"Erhöht","Hoch"))))) -> Erhöht | H21: 7 | I21: Bolus (schnell) | J21: 5 | K21: Nudeln, größere Portion
A22: 46267 | B22: =IF(A22="","",CHOOSE(WEEKDAY(A22,2),"Mo","Di","Mi","Do","Fr","Sa","So")) -> Mi | C22: 0.80555556 | D22: Abends | E22: Vor dem Essen | F22: 108 | G22: =IF(F22="","",IF(F22<70,"Unterzucker",IF(E22="Nach dem Essen",IF(F22<=180,"Im Zielbereich",IF(F22<=250,"Erhöht","Hoch")),IF(F22<=130,"Im Zielbereich",IF(F22<=180,"Erhöht","Hoch"))))) -> Im Zielbereich | H22: 4 | I22: Bolus (schnell) | J22: 3
A23: 46268 | B23: =IF(A23="","",CHOOSE(WEEKDAY(A23,2),"Mo","Di","Mi","Do","Fr","Sa","So")) -> Do | C23: 0.30208333 | D23: Morgens | E23: Nüchtern | F23: 98 | G23: =IF(F23="","",IF(F23<70,"Unterzucker",IF(E23="Nach dem Essen",IF(F23<=180,"Im Zielbereich",IF(F23<=250,"Erhöht","Hoch")),IF(F23<=130,"Im Zielbereich",IF(F23<=180,"Erhöht","Hoch"))))) -> Im Zielbereich | H23: 16 | I23: Basal (lang)
A24: 46268 | B24: =IF(A24="","",CHOOSE(WEEKDAY(A24,2),"Mo","Di","Mi","Do","Fr","Sa","So")) -> Do | C24: 0.53472222 | D24: Mittags | E24: Vor dem Essen | F24: 104 | G24: =IF(F24="","",IF(F24<70,"Unterzucker",IF(E24="Nach dem Essen",IF(F24<=180,"Im Zielbereich",IF(F24<=250,"Erhöht","Hoch")),IF(F24<=130,"Im Zielbereich",IF(F24<=180,"Erhöht","Hoch"))))) -> Im Zielbereich | H24: 5 | I24: Bolus (schnell) | J24: 4
A25: 46268 | B25: =IF(A25="","",CHOOSE(WEEKDAY(A25,2),"Mo","Di","Mi","Do","Fr","Sa","So")) -> Do | C25: 0.66666667 | D25: Nachmittags | E25: Sport | F25: 84 | G25: =IF(F25="","",IF(F25<70,"Unterzucker",IF(E25="Nach dem Essen",IF(F25<=180,"Im Zielbereich",IF(F25<=250,"Erhöht","Hoch")),IF(F25<=130,"Im Zielbereich",IF(F25<=180,"Erhöht","Hoch"))))) -> Im Zielbereich | H25: 0 | I25: – | K25: 45 Min. Radfahren
A26: 46268 | B26: =IF(A26="","",CHOOSE(WEEKDAY(A26,2),"Mo","Di","Mi","Do","Fr","Sa","So")) -> Do | C26: 0.8125 | D26: Abends | E26: Nach dem Essen | F26: 159 | G26: =IF(F26="","",IF(F26<70,"Unterzucker",IF(E26="Nach dem Essen",IF(F26<=180,"Im Zielbereich",IF(F26<=250,"Erhöht","Hoch")),IF(F26<=130,"Im Zielbereich",IF(F26<=180,"Erhöht","Hoch"))))) -> Im Zielbereich | H26: 6 | I26: Bolus (schnell) | J26: 4
A27: 46269 | B27: =IF(A27="","",CHOOSE(WEEKDAY(A27,2),"Mo","Di","Mi","Do","Fr","Sa","So")) -> Fr | C27: 0.29166667 | D27: Morgens | E27: Nüchtern | F27: 132 | G27: =IF(F27="","",IF(F27<70,"Unterzucker",IF(E27="Nach dem Essen",IF(F27<=180,"Im Zielbereich",IF(F27<=250,"Erhöht","Hoch")),IF(F27<=130,"Im Zielbereich",IF(F27<=180,"Erhöht","Hoch"))))) -> Erhöht | H27: 16 | I27: Basal (lang)
A28: 46269 | B28: =IF(A28="","",CHOOSE(WEEKDAY(A28,2),"Mo","Di","Mi","Do","Fr","Sa","So")) -> Fr | C28: 0.54861111 | D28: Mittags | E28: Nach dem Essen | F28: 188 | G28: =IF(F28="","",IF(F28<70,"Unterzucker",IF(E28="Nach dem Essen",IF(F28<=180,"Im Zielbereich",IF(F28<=250,"Erhöht","Hoch")),IF(F28<=130,"Im Zielbereich",IF(F28<=180,"Erhöht","Hoch"))))) -> Erhöht | H28: 6 | I28: Bolus (schnell) | J28: 4.5
A29: 46269 | B29: =IF(A29="","",CHOOSE(WEEKDAY(A29,2),"Mo","Di","Mi","Do","Fr","Sa","So")) -> Fr | C29: 0.9375 | D29: Nachts | E29: Vor dem Schlafengehen | F29: 121 | G29: =IF(F29="","",IF(F29<70,"Unterzucker",IF(E29="Nach dem Essen",IF(F29<=180,"Im Zielbereich",IF(F29<=250,"Erhöht","Hoch")),IF(F29<=130,"Im Zielbereich",IF(F29<=180,"Erhöht","Hoch"))))) -> Im Zielbereich | H29: 14 | I29: Basal (lang)
A30: 46270 | B30: =IF(A30="","",CHOOSE(WEEKDAY(A30,2),"Mo","Di","Mi","Do","Fr","Sa","So")) -> Sa | C30: 0.28819444 | D30: Morgens | E30: Nüchtern | F30: 141 | G30: =IF(F30="","",IF(F30<70,"Unterzucker",IF(E30="Nach dem Essen",IF(F30<=180,"Im Zielbereich",IF(F30<=250,"Erhöht","Hoch")),IF(F30<=130,"Im Zielbereich",IF(F30<=180,"Erhöht","Hoch"))))) -> Erhöht | H30: 16 | I30: Basal (lang) | K30: unruhig geschlafen
A31: 46270 | B31: =IF(A31="","",CHOOSE(WEEKDAY(A31,2),"Mo","Di","Mi","Do","Fr","Sa","So")) -> Sa | C31: 0.55902778 | D31: Mittags | E31: Nach dem Essen | F31: 214 | G31: =IF(F31="","",IF(F31<70,"Unterzucker",IF(E31="Nach dem Essen",IF(F31<=180,"Im Zielbereich",IF(F31<=250,"Erhöht","Hoch")),IF(F31<=130,"Im Zielbereich",IF(F31<=180,"Erhöht","Hoch"))))) -> Erhöht | H31: 7 | I31: Bolus (schnell) | J31: 5 | K31: Restaurantbesuch
A32: 46270 | B32: =IF(A32="","",CHOOSE(WEEKDAY(A32,2),"Mo","Di","Mi","Do","Fr","Sa","So")) -> Sa | C32: 0.73958333 | D32: Nachmittags | E32: Sonstiges | F32: 96 | G32: =IF(F32="","",IF(F32<70,"Unterzucker",IF(E32="Nach dem Essen",IF(F32<=180,"Im Zielbereich",IF(F32<=250,"Erhöht","Hoch")),IF(F32<=130,"Im Zielbereich",IF(F32<=180,"Erhöht","Hoch"))))) -> Im Zielbereich | H32: 0 | I32: –
A33: 46270 | B33: =IF(A33="","",CHOOSE(WEEKDAY(A33,2),"Mo","Di","Mi","Do","Fr","Sa","So")) -> Sa | C33: 0.81944444 | D33: Abends | E33: Vor dem Essen | F33: 112 | G33: =IF(F33="","",IF(F33<70,"Unterzucker",IF(E33="Nach dem Essen",IF(F33<=180,"Im Zielbereich",IF(F33<=250,"Erhöht","Hoch")),IF(F33<=130,"Im Zielbereich",IF(F33<=180,"Erhöht","Hoch"))))) -> Im Zielbereich | H33: 5 | I33: Bolus (schnell) | J33: 3.5
A34: 46271 | B34: =IF(A34="","",CHOOSE(WEEKDAY(A34,2),"Mo","Di","Mi","Do","Fr","Sa","So")) -> So | C34: 0.34027778 | D34: Morgens | E34: Nüchtern | F34: 107 | G34: =IF(F34="","",IF(F34<70,"Unterzucker",IF(E34="Nach dem Essen",IF(F34<=180,"Im Zielbereich",IF(F34<=250,"Erhöht","Hoch")),IF(F34<=130,"Im Zielbereich",IF(F34<=180,"Erhöht","Hoch"))))) -> Im Zielbereich | H34: 16 | I34: Basal (lang)
A35: 46271 | B35: =IF(A35="","",CHOOSE(WEEKDAY(A35,2),"Mo","Di","Mi","Do","Fr","Sa","So")) -> So | C35: 0.47222222 | D35: Vormittags | E35: Nach dem Essen | F35: 63 | G35: =IF(F35="","",IF(F35<70,"Unterzucker",IF(E35="Nach dem Essen",IF(F35<=180,"Im Zielbereich",IF(F35<=250,"Erhöht","Hoch")),IF(F35<=130,"Im Zielbereich",IF(F35<=180,"Erhöht","Hoch"))))) -> Unterzucker | H35: 0 | I35: – | K35: leichte Unterzuckerung, Traubenzucker
A36: 46271 | B36: =IF(A36="","",CHOOSE(WEEKDAY(A36,2),"Mo","Di","Mi","Do","Fr","Sa","So")) -> So | C36: 0.57638889 | D36: Mittags | E36: Nach dem Essen | F36: 172 | G36: =IF(F36="","",IF(F36<70,"Unterzucker",IF(E36="Nach dem Essen",IF(F36<=180,"Im Zielbereich",IF(F36<=250,"Erhöht","Hoch")),IF(F36<=130,"Im Zielbereich",IF(F36<=180,"Erhöht","Hoch"))))) -> Im Zielbereich | H36: 6 | I36: Bolus (schnell) | J36: 4
A37: 46271 | B37: =IF(A37="","",CHOOSE(WEEKDAY(A37,2),"Mo","Di","Mi","Do","Fr","Sa","So")) -> So | C37: 0.95138889 | D37: Nachts | E37: Vor dem Schlafengehen | F37: 134 | G37: =IF(F37="","",IF(F37<70,"Unterzucker",IF(E37="Nach dem Essen",IF(F37<=180,"Im Zielbereich",IF(F37<=250,"Erhöht","Hoch")),IF(F37<=130,"Im Zielbereich",IF(F37<=180,"Erhöht","Hoch"))))) -> Erhöht | H37: 14 | I37: Basal (lang)
A38: 46272 | B38: =IF(A38="","",CHOOSE(WEEKDAY(A38,2),"Mo","Di","Mi","Do","Fr","Sa","So")) -> Mo | C38: 0.3125 | D38: Morgens | E38: Nüchtern | F38: 118 | G38: =IF(F38="","",IF(F38<70,"Unterzucker",IF(E38="Nach dem Essen",IF(F38<=180,"Im Zielbereich",IF(F38<=250,"Erhöht","Hoch")),IF(F38<=130,"Im Zielbereich",IF(F38<=180,"Erhöht","Hoch"))))) -> Im Zielbereich | H38: 16 | I38: Basal (lang)
A39: 46272 | B39: =IF(A39="","",CHOOSE(WEEKDAY(A39,2),"Mo","Di","Mi","Do","Fr","Sa","So")) -> Mo | C39: 0.54513889 | D39: Mittags | E39: Nach dem Essen | F39: 165 | G39: =IF(F39="","",IF(F39<70,"Unterzucker",IF(E39="Nach dem Essen",IF(F39<=180,"Im Zielbereich",IF(F39<=250,"Erhöht","Hoch")),IF(F39<=130,"Im Zielbereich",IF(F39<=180,"Erhöht","Hoch"))))) -> Im Zielbereich | H39: 6 | I39: Bolus (schnell) | J39: 4
A40: 46272 | B40: =IF(A40="","",CHOOSE(WEEKDAY(A40,2),"Mo","Di","Mi","Do","Fr","Sa","So")) -> Mo | C40: 0.80208333 | D40: Abends | E40: Nach dem Essen | F40: 181 | G40: =IF(F40="","",IF(F40<70,"Unterzucker",IF(E40="Nach dem Essen",IF(F40<=180,"Im Zielbereich",IF(F40<=250,"Erhöht","Hoch")),IF(F40<=130,"Im Zielbereich",IF(F40<=180,"Erhöht","Hoch"))))) -> Erhöht | H40: 6 | I40: Bolus (schnell) | J40: 4.5 | K40: spät gegessen
A41: 46273 | B41: =IF(A41="","",CHOOSE(WEEKDAY(A41,2),"Mo","Di","Mi","Do","Fr","Sa","So")) -> Di | C41: 0.29861111 | D41: Morgens | E41: Nüchtern | F41: 126 | G41: =IF(F41="","",IF(F41<70,"Unterzucker",IF(E41="Nach dem Essen",IF(F41<=180,"Im Zielbereich",IF(F41<=250,"Erhöht","Hoch")),IF(F41<=130,"Im Zielbereich",IF(F41<=180,"Erhöht","Hoch"))))) -> Im Zielbereich | H41: 17 | I41: Basal (lang)
A42: 46273 | B42: =IF(A42="","",CHOOSE(WEEKDAY(A42,2),"Mo","Di","Mi","Do","Fr","Sa","So")) -> Di | C42: 0.53125 | D42: Mittags | E42: Vor dem Essen | F42: 99 | G42: =IF(F42="","",IF(F42<70,"Unterzucker",IF(E42="Nach dem Essen",IF(F42<=180,"Im Zielbereich",IF(F42<=250,"Erhöht","Hoch")),IF(F42<=130,"Im Zielbereich",IF(F42<=180,"Erhöht","Hoch"))))) -> Im Zielbereich | H42: 5 | I42: Bolus (schnell) | J42: 3.5
A43: 46273 | B43: =IF(A43="","",CHOOSE(WEEKDAY(A43,2),"Mo","Di","Mi","Do","Fr","Sa","So")) -> Di | C43: 0.64583333 | D43: Nachmittags | E43: Nach dem Essen | F43: 154 | G43: =IF(F43="","",IF(F43<70,"Unterzucker",IF(E43="Nach dem Essen",IF(F43<=180,"Im Zielbereich",IF(F43<=250,"Erhöht","Hoch")),IF(F43<=130,"Im Zielbereich",IF(F43<=180,"Erhöht","Hoch"))))) -> Im Zielbereich | H43: 3 | I43: Bolus (schnell) | J43: 2 | K43: Kaffee & Gebäck
A44: 46273 | B44: =IF(A44="","",CHOOSE(WEEKDAY(A44,2),"Mo","Di","Mi","Do","Fr","Sa","So")) -> Di | C44: 0.80902778 | D44: Abends | E44: Vor dem Essen | F44: 113 | G44: =IF(F44="","",IF(F44<70,"Unterzucker",IF(E44="Nach dem Essen",IF(F44<=180,"Im Zielbereich",IF(F44<=250,"Erhöht","Hoch")),IF(F44<=130,"Im Zielbereich",IF(F44<=180,"Erhöht","Hoch"))))) -> Im Zielbereich | H44: 5 | I44: Bolus (schnell) | J44: 3.5
A45: 46274 | B45: =IF(A45="","",CHOOSE(WEEKDAY(A45,2),"Mo","Di","Mi","Do","Fr","Sa","So")) -> Mi | C45: 0.29166667 | D45: Morgens | E45: Nüchtern | F45: 149 | G45: =IF(F45="","",IF(F45<70,"Unterzucker",IF(E45="Nach dem Essen",IF(F45<=180,"Im Zielbereich",IF(F45<=250,"Erhöht","Hoch")),IF(F45<=130,"Im Zielbereich",IF(F45<=180,"Erhöht","Hoch"))))) -> Erhöht | H45: 17 | I45: Basal (lang) | K45: Erkältung
A46: 46274 | B46: =IF(A46="","",CHOOSE(WEEKDAY(A46,2),"Mo","Di","Mi","Do","Fr","Sa","So")) -> Mi | C46: 0.55555556 | D46: Mittags | E46: Nach dem Essen | F46: 238 | G46: =IF(F46="","",IF(F46<70,"Unterzucker",IF(E46="Nach dem Essen",IF(F46<=180,"Im Zielbereich",IF(F46<=250,"Erhöht","Hoch")),IF(F46<=130,"Im Zielbereich",IF(F46<=180,"Erhöht","Hoch"))))) -> Erhöht | H46: 8 | I46: Bolus (schnell) | J46: 5 | K46: Infekt, erhöhter Bedarf
A47: 46274 | B47: =IF(A47="","",CHOOSE(WEEKDAY(A47,2),"Mo","Di","Mi","Do","Fr","Sa","So")) -> Mi | C47: 0.8125 | D47: Abends | E47: Nach dem Essen | F47: 196 | G47: =IF(F47="","",IF(F47<70,"Unterzucker",IF(E47="Nach dem Essen",IF(F47<=180,"Im Zielbereich",IF(F47<=250,"Erhöht","Hoch")),IF(F47<=130,"Im Zielbereich",IF(F47<=180,"Erhöht","Hoch"))))) -> Erhöht | H47: 6 | I47: Bolus (schnell) | J47: 4
A48: 46274 | B48: =IF(A48="","",CHOOSE(WEEKDAY(A48,2),"Mo","Di","Mi","Do","Fr","Sa","So")) -> Mi | C48: 0.94444444 | D48: Nachts | E48: Vor dem Schlafengehen | F48: 158 | G48: =IF(F48="","",IF(F48<70,"Unterzucker",IF(E48="Nach dem Essen",IF(F48<=180,"Im Zielbereich",IF(F48<=250,"Erhöht","Hoch")),IF(F48<=130,"Im Zielbereich",IF(F48<=180,"Erhöht","Hoch"))))) -> Erhöht | H48: 14 | I48: Basal (lang)
A49: 46275 | B49: =IF(A49="","",CHOOSE(WEEKDAY(A49,2),"Mo","Di","Mi","Do","Fr","Sa","So")) -> Do | C49: 0.30902778 | D49: Morgens | E49: Nüchtern | F49: 137 | G49: =IF(F49="","",IF(F49<70,"Unterzucker",IF(E49="Nach dem Essen",IF(F49<=180,"Im Zielbereich",IF(F49<=250,"Erhöht","Hoch")),IF(F49<=130,"Im Zielbereich",IF(F49<=180,"Erhöht","Hoch"))))) -> Erhöht | H49: 17 | I49: Basal (lang) | K49: Erkältung
A50: 46275 | B50: =IF(A50="","",CHOOSE(WEEKDAY(A50,2),"Mo","Di","Mi","Do","Fr","Sa","So")) -> Do | C50: 0.54166667 | D50: Mittags | E50: Nach dem Essen | F50: 201 | G50: =IF(F50="","",IF(F50<70,"Unterzucker",IF(E50="Nach dem Essen",IF(F50<=180,"Im Zielbereich",IF(F50<=250,"Erhöht","Hoch")),IF(F50<=130,"Im Zielbereich",IF(F50<=180,"Erhöht","Hoch"))))) -> Erhöht | H50: 7 | I50: Bolus (schnell) | J50: 4.5
A51: 46275 | B51: =IF(A51="","",CHOOSE(WEEKDAY(A51,2),"Mo","Di","Mi","Do","Fr","Sa","So")) -> Do | C51: 0.79861111 | D51: Abends | E51: Vor dem Essen | F51: 122 | G51: =IF(F51="","",IF(F51<70,"Unterzucker",IF(E51="Nach dem Essen",IF(F51<=180,"Im Zielbereich",IF(F51<=250,"Erhöht","Hoch")),IF(F51<=130,"Im Zielbereich",IF(F51<=180,"Erhöht","Hoch"))))) -> Im Zielbereich | H51: 5 | I51: Bolus (schnell) | J51: 3.5
A52: 46276 | B52: =IF(A52="","",CHOOSE(WEEKDAY(A52,2),"Mo","Di","Mi","Do","Fr","Sa","So")) -> Fr | C52: 0.30208333 | D52: Morgens | E52: Nüchtern | F52: 115 | G52: =IF(F52="","",IF(F52<70,"Unterzucker",IF(E52="Nach dem Essen",IF(F52<=180,"Im Zielbereich",IF(F52<=250,"Erhöht","Hoch")),IF(F52<=130,"Im Zielbereich",IF(F52<=180,"Erhöht","Hoch"))))) -> Im Zielbereich | H52: 16 | I52: Basal (lang)
A53: 46276 | B53: =IF(A53="","",CHOOSE(WEEKDAY(A53,2),"Mo","Di","Mi","Do","Fr","Sa","So")) -> Fr | C53: 0.5625 | D53: Mittags | E53: Nach dem Essen | F53: 167 | G53: =IF(F53="","",IF(F53<70,"Unterzucker",IF(E53="Nach dem Essen",IF(F53<=180,"Im Zielbereich",IF(F53<=250,"Erhöht","Hoch")),IF(F53<=130,"Im Zielbereich",IF(F53<=180,"Erhöht","Hoch"))))) -> Im Zielbereich | H53: 6 | I53: Bolus (schnell) | J53: 4
A54: 46276 | B54: =IF(A54="","",CHOOSE(WEEKDAY(A54,2),"Mo","Di","Mi","Do","Fr","Sa","So")) -> Fr | C54: 0.75 | D54: Nachmittags | E54: Sport | F54: 88 | G54: =IF(F54="","",IF(F54<70,"Unterzucker",IF(E54="Nach dem Essen",IF(F54<=180,"Im Zielbereich",IF(F54<=250,"Erhöht","Hoch")),IF(F54<=130,"Im Zielbereich",IF(F54<=180,"Erhöht","Hoch"))))) -> Im Zielbereich | H54: 0 | I54: – | K54: Spaziergang 30 Min.
A55: 46276 | B55: =IF(A55="","",CHOOSE(WEEKDAY(A55,2),"Mo","Di","Mi","Do","Fr","Sa","So")) -> Fr | C55: 0.9375 | D55: Nachts | E55: Vor dem Schlafengehen | F55: 119 | G55: =IF(F55="","",IF(F55<70,"Unterzucker",IF(E55="Nach dem Essen",IF(F55<=180,"Im Zielbereich",IF(F55<=250,"Erhöht","Hoch")),IF(F55<=130,"Im Zielbereich",IF(F55<=180,"Erhöht","Hoch"))))) -> Im Zielbereich | H55: 14 | I55: Basal (lang)
A56: 46277 | B56: =IF(A56="","",CHOOSE(WEEKDAY(A56,2),"Mo","Di","Mi","Do","Fr","Sa","So")) -> Sa | C56: 0.29513889 | D56: Morgens | E56: Nüchtern | F56: 103 | G56: =IF(F56="","",IF(F56<70,"Unterzucker",IF(E56="Nach dem Essen",IF(F56<=180,"Im Zielbereich",IF(F56<=250,"Erhöht","Hoch")),IF(F56<=130,"Im Zielbereich",IF(F56<=180,"Erhöht","Hoch"))))) -> Im Zielbereich | H56: 16 | I56: Basal (lang)
A57: 46277 | B57: =IF(A57="","",CHOOSE(WEEKDAY(A57,2),"Mo","Di","Mi","Do","Fr","Sa","So")) -> Sa | C57: 0.55208333 | D57: Mittags | E57: Nach dem Essen | F57: 152 | G57: =IF(F57="","",IF(F57<70,"Unterzucker",IF(E57="Nach dem Essen",IF(F57<=180,"Im Zielbereich",IF(F57<=250,"Erhöht","Hoch")),IF(F57<=130,"Im Zielbereich",IF(F57<=180,"Erhöht","Hoch"))))) -> Im Zielbereich | H57: 5 | I57: Bolus (schnell) | J57: 3.5
A58: 46277 | B58: =IF(A58="","",CHOOSE(WEEKDAY(A58,2),"Mo","Di","Mi","Do","Fr","Sa","So")) -> Sa | C58: 0.80555556 | D58: Abends | E58: Nach dem Essen | F58: 174 | G58: =IF(F58="","",IF(F58<70,"Unterzucker",IF(E58="Nach dem Essen",IF(F58<=180,"Im Zielbereich",IF(F58<=250,"Erhöht","Hoch")),IF(F58<=130,"Im Zielbereich",IF(F58<=180,"Erhöht","Hoch"))))) -> Im Zielbereich | H58: 6 | I58: Bolus (schnell) | J58: 4
A59: 46278 | B59: =IF(A59="","",CHOOSE(WEEKDAY(A59,2),"Mo","Di","Mi","Do","Fr","Sa","So")) -> So | C59: 0.28472222 | D59: Morgens | E59: Nüchtern | F59: 58 | G59: =IF(F59="","",IF(F59<70,"Unterzucker",IF(E59="Nach dem Essen",IF(F59<=180,"Im Zielbereich",IF(F59<=250,"Erhöht","Hoch")),IF(F59<=130,"Im Zielbereich",IF(F59<=180,"Erhöht","Hoch"))))) -> Unterzucker | H59: 0 | I59: – | K59: Unterzuckerung morgens, Saft
A60: 46278 | B60: =IF(A60="","",CHOOSE(WEEKDAY(A60,2),"Mo","Di","Mi","Do","Fr","Sa","So")) -> So | C60: 0.38541667 | D60: Vormittags | E60: Nach dem Essen | F60: 143 | G60: =IF(F60="","",IF(F60<70,"Unterzucker",IF(E60="Nach dem Essen",IF(F60<=180,"Im Zielbereich",IF(F60<=250,"Erhöht","Hoch")),IF(F60<=130,"Im Zielbereich",IF(F60<=180,"Erhöht","Hoch"))))) -> Im Zielbereich | H60: 5 | I60: Bolus (schnell) | J60: 3.5
A61: 46278 | B61: =IF(A61="","",CHOOSE(WEEKDAY(A61,2),"Mo","Di","Mi","Do","Fr","Sa","So")) -> So | C61: 0.56944444 | D61: Mittags | E61: Nach dem Essen | F61: 169 | G61: =IF(F61="","",IF(F61<70,"Unterzucker",IF(E61="Nach dem Essen",IF(F61<=180,"Im Zielbereich",IF(F61<=250,"Erhöht","Hoch")),IF(F61<=130,"Im Zielbereich",IF(F61<=180,"Erhöht","Hoch"))))) -> Im Zielbereich | H61: 6 | I61: Bolus (schnell) | J61: 4
A62: 46278 | B62: =IF(A62="","",CHOOSE(WEEKDAY(A62,2),"Mo","Di","Mi","Do","Fr","Sa","So")) -> So | C62: 0.8125 | D62: Abends | E62: Vor dem Essen | F62: 110 | G62: =IF(F62="","",IF(F62<70,"Unterzucker",IF(E62="Nach dem Essen",IF(F62<=180,"Im Zielbereich",IF(F62<=250,"Erhöht","Hoch")),IF(F62<=130,"Im Zielbereich",IF(F62<=180,"Erhöht","Hoch"))))) -> Im Zielbereich | H62: 5 | I62: Bolus (schnell) | J62: 3
A63: 46279 | B63: =IF(A63="","",CHOOSE(WEEKDAY(A63,2),"Mo","Di","Mi","Do","Fr","Sa","So")) -> Mo | C63: 0.30555556 | D63: Morgens | E63: Nüchtern | F63: 121 | G63: =IF(F63="","",IF(F63<70,"Unterzucker",IF(E63="Nach dem Essen",IF(F63<=180,"Im Zielbereich",IF(F63<=250,"Erhöht","Hoch")),IF(F63<=130,"Im Zielbereich",IF(F63<=180,"Erhöht","Hoch"))))) -> Im Zielbereich | H63: 16 | I63: Basal (lang)
A64: 46279 | B64: =IF(A64="","",CHOOSE(WEEKDAY(A64,2),"Mo","Di","Mi","Do","Fr","Sa","So")) -> Mo | C64: 0.54861111 | D64: Mittags | E64: Nach dem Essen | F64: 178 | G64: =IF(F64="","",IF(F64<70,"Unterzucker",IF(E64="Nach dem Essen",IF(F64<=180,"Im Zielbereich",IF(F64<=250,"Erhöht","Hoch")),IF(F64<=130,"Im Zielbereich",IF(F64<=180,"Erhöht","Hoch"))))) -> Im Zielbereich | H64: 6 | I64: Bolus (schnell) | J64: 4.5
A65: 46279 | B65: =IF(A65="","",CHOOSE(WEEKDAY(A65,2),"Mo","Di","Mi","Do","Fr","Sa","So")) -> Mo | C65: 0.94791667 | D65: Nachts | E65: Vor dem Schlafengehen | F65: 126 | G65: =IF(F65="","",IF(F65<70,"Unterzucker",IF(E65="Nach dem Essen",IF(F65<=180,"Im Zielbereich",IF(F65<=250,"Erhöht","Hoch")),IF(F65<=130,"Im Zielbereich",IF(F65<=180,"Erhöht","Hoch"))))) -> Im Zielbereich | H65: 14 | I65: Basal (lang)
B66: =IF(A66="","",CHOOSE(WEEKDAY(A66,2),"Mo","Di","Mi","Do","Fr","Sa","So")) | G66: =IF(F66="","",IF(F66<70,"Unterzucker",IF(E66="Nach dem Essen",IF(F66<=180,"Im Zielbereich",IF(F66<=250,"Erhöht","Hoch")),IF(F66<=130,"Im Zielbereich",IF(F66<=180,"Erhöht","Hoch")))))
B67: =IF(A67="","",CHOOSE(WEEKDAY(A67,2),"Mo","Di","Mi","Do","Fr","Sa","So")) | G67: =IF(F67="","",IF(F67<70,"Unterzucker",IF(E67="Nach dem Essen",IF(F67<=180,"Im Zielbereich",IF(F67<=250,"Erhöht","Hoch")),IF(F67<=130,"Im Zielbereich",IF(F67<=180,"Erhöht","Hoch")))))
B68: =IF(A68="","",CHOOSE(WEEKDAY(A68,2),"Mo","Di","Mi","Do","Fr","Sa","So")) | G68: =IF(F68="","",IF(F68<70,"Unterzucker",IF(E68="Nach dem Essen",IF(F68<=180,"Im Zielbereich",IF(F68<=250,"Erhöht","Hoch")),IF(F68<=130,"Im Zielbereich",IF(F68<=180,"Erhöht","Hoch")))))
B69: =IF(A69="","",CHOOSE(WEEKDAY(A69,2),"Mo","Di","Mi","Do","Fr","Sa","So")) | G69: =IF(F69="","",IF(F69<70,"Unterzucker",IF(E69="Nach dem Essen",IF(F69<=180,"Im Zielbereich",IF(F69<=250,"Erhöht","Hoch")),IF(F69<=130,"Im Zielbereich",IF(F69<=180,"Erhöht","Hoch")))))
B70: =IF(A70="","",CHOOSE(WEEKDAY(A70,2),"Mo","Di","Mi","Do","Fr","Sa","So")) | G70: =IF(F70="","",IF(F70<70,"Unterzucker",IF(E70="Nach dem Essen",IF(F70<=180,"Im Zielbereich",IF(F70<=250,"Erhöht","Hoch")),IF(F70<=130,"Im Zielbereich",IF(F70<=180,"Erhöht","Hoch")))))
B71: =IF(A71="","",CHOOSE(WEEKDAY(A71,2),"Mo","Di","Mi","Do","Fr","Sa","So")) | G71: =IF(F71="","",IF(F71<70,"Unterzucker",IF(E71="Nach dem Essen",IF(F71<=180,"Im Zielbereich",IF(F71<=250,"Erhöht","Hoch")),IF(F71<=130,"Im Zielbereich",IF(F71<=180,"Erhöht","Hoch")))))
B72: =IF(A72="","",CHOOSE(WEEKDAY(A72,2),"Mo","Di","Mi","Do","Fr","Sa","So")) | G72: =IF(F72="","",IF(F72<70,"Unterzucker",IF(E72="Nach dem Essen",IF(F72<=180,"Im Zielbereich",IF(F72<=250,"Erhöht","Hoch")),IF(F72<=130,"Im Zielbereich",IF(F72<=180,"Erhöht","Hoch")))))
B73: =IF(A73="","",CHOOSE(WEEKDAY(A73,2),"Mo","Di","Mi","Do","Fr","Sa","So")) | G73: =IF(F73="","",IF(F73<70,"Unterzucker",IF(E73="Nach dem Essen",IF(F73<=180,"Im Zielbereich",IF(F73<=250,"Erhöht","Hoch")),IF(F73<=130,"Im Zielbereich",IF(F73<=180,"Erhöht","Hoch")))))
B74: =IF(A74="","",CHOOSE(WEEKDAY(A74,2),"Mo","Di","Mi","Do","Fr","Sa","So")) | G74: =IF(F74="","",IF(F74<70,"Unterzucker",IF(E74="Nach dem Essen",IF(F74<=180,"Im Zielbereich",IF(F74<=250,"Erhöht","Hoch")),IF(F74<=130,"Im Zielbereich",IF(F74<=180,"Erhöht","Hoch")))))
B75: =IF(A75="","",CHOOSE(WEEKDAY(A75,2),"Mo","Di","Mi","Do","Fr","Sa","So")) | G75: =IF(F75="","",IF(F75<70,"Unterzucker",IF(E75="Nach dem Essen",IF(F75<=180,"Im Zielbereich",IF(F75<=250,"Erhöht","Hoch")),IF(F75<=130,"Im Zielbereich",IF(F75<=180,"Erhöht","Hoch")))))
B76: =IF(A76="","",CHOOSE(WEEKDAY(A76,2),"Mo","Di","Mi","Do","Fr","Sa","So")) | G76: =IF(F76="","",IF(F76<70,"Unterzucker",IF(E76="Nach dem Essen",IF(F76<=180,"Im Zielbereich",IF(F76<=250,"Erhöht","Hoch")),IF(F76<=130,"Im Zielbereich",IF(F76<=180,"Erhöht","Hoch")))))
B77: =IF(A77="","",CHOOSE(WEEKDAY(A77,2),"Mo","Di","Mi","Do","Fr","Sa","So")) | G77: =IF(F77="","",IF(F77<70,"Unterzucker",IF(E77="Nach dem Essen",IF(F77<=180,"Im Zielbereich",IF(F77<=250,"Erhöht","Hoch")),IF(F77<=130,"Im Zielbereich",IF(F77<=180,"Erhöht","Hoch")))))
... B114: =IF(A114="","",CHOOSE(WEEKDAY(A114,2),"Mo","Di","Mi","Do","Fr","Sa","So")) | G114: =IF(F114="","",IF(F114<70,"Unterzucker",IF(E114="Nach dem Essen",IF(F114<=180,"Im Zielbereich",IF(F114<=250,"Erhöht","Hoch")),IF(F114<=130,"Im Zielbereich",IF(F114<=180,"Erhöht","Hoch")))))

Sheet Auswertung
A1: Auswertung & Verlauf
A2: Automatische Auswertung der eingetragenen Messwerte
A4: Ø BLUTZUCKER NACH TAGESZEIT
A5: Tageszeit | B5: Ø mg/dl | C5: Messungen
A6: Morgens | B6: =IFERROR(ROUND(AVERAGEIFS('Blutzucker-Tagebuch'!$F$15:$F$1000,'Blutzucker-Tagebuch'!$D$15:$D$1000,A6),0),"–") -> 117 | C6: =COUNTIFS('Blutzucker-Tagebuch'!$D$15:$D$1000,A6) -> 14
A7: Vormittags | B7: =IFERROR(ROUND(AVERAGEIFS('Blutzucker-Tagebuch'!$F$15:$F$1000,'Blutzucker-Tagebuch'!$D$15:$D$1000,A7),0),"–") -> 127 | C7: =COUNTIFS('Blutzucker-Tagebuch'!$D$15:$D$1000,A7) -> 3
A8: Mittags | B8: =IFERROR(ROUND(AVERAGEIFS('Blutzucker-Tagebuch'!$F$15:$F$1000,'Blutzucker-Tagebuch'!$D$15:$D$1000,A8),0),"–") -> 173 | C8: =COUNTIFS('Blutzucker-Tagebuch'!$D$15:$D$1000,A8) -> 14
A9: Nachmittags | B9: =IFERROR(ROUND(AVERAGEIFS('Blutzucker-Tagebuch'!$F$15:$F$1000,'Blutzucker-Tagebuch'!$D$15:$D$1000,A9),0),"–") -> 106 | C9: =COUNTIFS('Blutzucker-Tagebuch'!$D$15:$D$1000,A9) -> 4
A10: Abends | B10: =IFERROR(ROUND(AVERAGEIFS('Blutzucker-Tagebuch'!$F$15:$F$1000,'Blutzucker-Tagebuch'!$D$15:$D$1000,A10),0),"–") -> 139 | C10: =COUNTIFS('Blutzucker-Tagebuch'!$D$15:$D$1000,A10) -> 10
A11: Nachts | B11: =IFERROR(ROUND(AVERAGEIFS('Blutzucker-Tagebuch'!$F$15:$F$1000,'Blutzucker-Tagebuch'!$D$15:$D$1000,A11),0),"–") -> 131 | C11: =COUNTIFS('Blutzucker-Tagebuch'!$D$15:$D$1000,A11) -> 6
A13: VERTEILUNG DER BEWERTUNG
A14: Bewertung | B14: Anzahl | C14: Anteil
A15: Im Zielbereich | B15: =COUNTIF('Blutzucker-Tagebuch'!$G$15:$G$1000,"Im Zielbereich") -> 36 | C15: =IFERROR(COUNTIF('Blutzucker-Tagebuch'!$G$15:$G$1000,"Im Zielbereich")/COUNT('Blutzucker-Tagebuch'!$F$15:$F$1000),"–") -> 0.70588235
A16: Erhöht | B16: =COUNTIF('Blutzucker-Tagebuch'!$G$15:$G$1000,"Erhöht") -> 13 | C16: =IFERROR(COUNTIF('Blutzucker-Tagebuch'!$G$15:$G$1000,"Erhöht")/COUNT('Blutzucker-Tagebuch'!$F$15:$F$1000),"–") -> 0.25490196
A17: Hoch | B17: =COUNTIF('Blutzucker-Tagebuch'!$G$15:$G$1000,"Hoch") -> 0 | C17: =IFERROR(COUNTIF('Blutzucker-Tagebuch'!$G$15:$G$1000,"Hoch")/COUNT('Blutzucker-Tagebuch'!$F$15:$F$1000),"–") -> 0
A18: Unterzucker | B18: =COUNTIF('Blutzucker-Tagebuch'!$G$15:$G$1000,"Unterzucker") -> 2 | C18: =IFERROR(COUNTIF('Blutzucker-Tagebuch'!$G$15:$G$1000,"Unterzucker")/COUNT('Blutzucker-Tagebuch'!$F$15:$F$1000),"–") -> 0.039215686
A21: Hinweis: Diese Vorlage ersetzt keine medizinische Beratung. Individuelle Zielwerte, Messhäufigkeit und Therapie mit der behandelnden Praxis abstimmen.
