Workbook

Sheet Jahresübersicht
B2: URLAUBSPLANER 2026 | H2: Brunner & Seidel GmbH Personalabteilung · Musterstadt
B4: Teamübersicht, Urlaubskonten und Abwesenheiten · Kalenderjahr 2026
B6: TEAMÜBERSICHT & URLAUBSKONTEN
B7: Arbeitswoche: Mo–Fr · gesetzlicher Mindesturlaub gem. BUrlG: 20 Tage (5-Tage-Woche) · Werte in den Spalten „Genommen“, „Geplant“, „Krank“ und „Sonderurlaub“ werden automatisch aus dem Blatt „Kalender 2026“ ermittelt.
B8: Nr. | C8: Mitarbeiter/in | D8: Abteilung | E8: Jahres- anspruch | F8: Übertrag 2025 | G8: Gesamt- anspruch | H8: Genommen | I8: Geplant | J8: Rest- urlaub | K8: % genutzt | L8: Krank- tage | M8: Sonder- urlaub
B9: 1 | C9: Sandra Keller | D9: Verwaltung | E9: 30 | F9: 5 | G9: =E9+F9 -> 35 | H9: =COUNTIF('Kalender 2026'!$D$7:$ND$7,"U") -> 10 | I9: =COUNTIF('Kalender 2026'!$D$7:$ND$7,"P") -> 8 | J9: =G9-H9-I9 -> 17 | K9: =IF(G9=0,0,(H9+I9)/G9) -> 0.51428571 | L9: =COUNTIF('Kalender 2026'!$D$7:$ND$7,"K") -> 2 | M9: =COUNTIF('Kalender 2026'!$D$7:$ND$7,"S") -> 0
B10: 2 | C10: Tobias Frank | D10: Vertrieb | E10: 30 | F10: 3 | G10: =E10+F10 -> 33 | H10: =COUNTIF('Kalender 2026'!$D$8:$ND$8,"U") -> 14 | I10: =COUNTIF('Kalender 2026'!$D$8:$ND$8,"P") -> 0 | J10: =G10-H10-I10 -> 19 | K10: =IF(G10=0,0,(H10+I10)/G10) -> 0.42424242 | L10: =COUNTIF('Kalender 2026'!$D$8:$ND$8,"K") -> 0 | M10: =COUNTIF('Kalender 2026'!$D$8:$ND$8,"S") -> 0
B11: 3 | C11: Miriam Sauer | D11: Marketing | E11: 28 | F11: 0 | G11: =E11+F11 -> 28 | H11: =COUNTIF('Kalender 2026'!$D$9:$ND$9,"U") -> 5 | I11: =COUNTIF('Kalender 2026'!$D$9:$ND$9,"P") -> 3 | J11: =G11-H11-I11 -> 20 | K11: =IF(G11=0,0,(H11+I11)/G11) -> 0.28571429 | L11: =COUNTIF('Kalender 2026'!$D$9:$ND$9,"K") -> 1 | M11: =COUNTIF('Kalender 2026'!$D$9:$ND$9,"S") -> 1
B12: 4 | C12: Jonas Wolff | D12: IT | E12: 30 | F12: 8 | G12: =E12+F12 -> 38 | H12: =COUNTIF('Kalender 2026'!$D$10:$ND$10,"U") -> 10 | I12: =COUNTIF('Kalender 2026'!$D$10:$ND$10,"P") -> 0 | J12: =G12-H12-I12 -> 28 | K12: =IF(G12=0,0,(H12+I12)/G12) -> 0.26315789 | L12: =COUNTIF('Kalender 2026'!$D$10:$ND$10,"K") -> 3 | M12: =COUNTIF('Kalender 2026'!$D$10:$ND$10,"S") -> 0
B13: 5 | C13: Aylin Demir | D13: Personal | E13: 30 | F13: 2 | G13: =E13+F13 -> 32 | H13: =COUNTIF('Kalender 2026'!$D$11:$ND$11,"U") -> 7 | I13: =COUNTIF('Kalender 2026'!$D$11:$ND$11,"P") -> 0 | J13: =G13-H13-I13 -> 25 | K13: =IF(G13=0,0,(H13+I13)/G13) -> 0.21875 | L13: =COUNTIF('Kalender 2026'!$D$11:$ND$11,"K") -> 0 | M13: =COUNTIF('Kalender 2026'!$D$11:$ND$11,"S") -> 0
B14: 6 | C14: Philipp Baumann | D14: Einkauf | E14: 28 | F14: 4 | G14: =E14+F14 -> 32 | H14: =COUNTIF('Kalender 2026'!$D$12:$ND$12,"U") -> 10 | I14: =COUNTIF('Kalender 2026'!$D$12:$ND$12,"P") -> 5 | J14: =G14-H14-I14 -> 17 | K14: =IF(G14=0,0,(H14+I14)/G14) -> 0.46875 | L14: =COUNTIF('Kalender 2026'!$D$12:$ND$12,"K") -> 1 | M14: =COUNTIF('Kalender 2026'!$D$12:$ND$12,"S") -> 0
B15: 7 | C15: Nadia Richter | D15: Buchhaltung | E15: 30 | F15: 6 | G15: =E15+F15 -> 36 | H15: =COUNTIF('Kalender 2026'!$D$13:$ND$13,"U") -> 10 | I15: =COUNTIF('Kalender 2026'!$D$13:$ND$13,"P") -> 0 | J15: =G15-H15-I15 -> 26 | K15: =IF(G15=0,0,(H15+I15)/G15) -> 0.27777778 | L15: =COUNTIF('Kalender 2026'!$D$13:$ND$13,"K") -> 0 | M15: =COUNTIF('Kalender 2026'!$D$13:$ND$13,"S") -> 1
B16: 8 | C16: David Kern | D16: Projektleitung | E16: 30 | F16: 0 | G16: =E16+F16 -> 30 | H16: =COUNTIF('Kalender 2026'!$D$14:$ND$14,"U") -> 10 | I16: =COUNTIF('Kalender 2026'!$D$14:$ND$14,"P") -> 0 | J16: =G16-H16-I16 -> 20 | K16: =IF(G16=0,0,(H16+I16)/G16) -> 0.33333333 | L16: =COUNTIF('Kalender 2026'!$D$14:$ND$14,"K") -> 0 | M16: =COUNTIF('Kalender 2026'!$D$14:$ND$14,"S") -> 0
B17: TEAM GESAMT | E17: =SUM(E9:E16) -> 236 | F17: =SUM(F9:F16) -> 28 | G17: =SUM(G9:G16) -> 264 | H17: =SUM(H9:H16) -> 76 | I17: =SUM(I9:I16) -> 16 | J17: =SUM(J9:J16) -> 172 | K17: =IF(G17=0,0,(H17+I17)/G17) -> 0.34848485 | L17: =SUM(L9:L16) -> 7 | M17: =SUM(M9:M16) -> 2
B19: ZUSAMMENFASSUNG
B20: Gesamtanspruch (Tage) | E20: Genommen (Tage) | H20: Resturlaub (Tage) | K20: Ø Auslastung
B21: =G17 -> 264 | E21: =H17 -> 76 | H21: =J17 -> 172 | K21: =K17 -> 0.34848485
B23: LEGENDE DER KÜRZEL
B24: U | C24: Urlaub (genehmigt) | E24: K | F24: Krank | H24: B | I24: Fortbildung
B25: P | C25: Urlaub geplant / beantragt | E25: S | F25: Sonderurlaub | H25: G | I25: Gleittag / Überstundenabbau
B27: GESETZLICHE FEIERTAGE 2026 (BUNDESEINHEITLICH)
B28: Datum | D28: Feiertag | H28: Wochentag
B29: 46023 | D29: Neujahr | H29: Do
B30: 46115 | D30: Karfreitag | H30: Fr
B31: 46118 | D31: Ostermontag | H31: Mo
B32: 46143 | D32: Tag der Arbeit | H32: Fr
B33: 46156 | D33: Christi Himmelfahrt | H33: Do
B34: 46167 | D34: Pfingstmontag | H34: Mo
B35: 46298 | D35: Tag der Deutschen Einheit | H35: Sa
B36: 46381 | D36: 1. Weihnachtstag | H36: Fr
B37: 46382 | D37: 2. Weihnachtstag | H37: Sa

Sheet Kalender 2026
A2: KALENDER 2026 | D2: Kürzel: U = Urlaub P = geplant K = Krank S = Sonderurlaub B = Fortbildung G = Gleittag Wochenende & Feiertage sind grau/sand hinterlegt
A4: Nr. | B4: Mitarbeiter/in | C4: Abteilung | D4: Januar | AI4: Februar | BK4: März | CP4: April | DT4: Mai | EY4: Juni | GC4: Juli | HH4: August | IM4: September | JQ4: Oktober | KV4: November | LZ4: Dezember
D5: =CHOOSE(WEEKDAY(D6,2),"M","D","M","D","F","S","S") -> D | E5: =CHOOSE(WEEKDAY(E6,2),"M","D","M","D","F","S","S") -> F | F5: =CHOOSE(WEEKDAY(F6,2),"M","D","M","D","F","S","S") -> S | G5: =CHOOSE(WEEKDAY(G6,2),"M","D","M","D","F","S","S") -> S | H5: =CHOOSE(WEEKDAY(H6,2),"M","D","M","D","F","S","S") -> M | I5: =CHOOSE(WEEKDAY(I6,2),"M","D","M","D","F","S","S") -> D | J5: =CHOOSE(WEEKDAY(J6,2),"M","D","M","D","F","S","S") -> M | K5: =CHOOSE(WEEKDAY(K6,2),"M","D","M","D","F","S","S") -> D | ... ND5: =CHOOSE(WEEKDAY(ND6,2),"M","D","M","D","F","S","S") -> D
D6: 46023 | E6: 46024 | F6: 46025 | G6: 46026 | H6: 46027 | I6: 46028 | J6: 46029 | K6: 46030 | L6: 46031 | M6: 46032 | N6: 46033 | O6: 46034 | P6: 46035 | Q6: 46036 | R6: 46037 | S6: 46038 | T6: 46039 | U6: 46040 | V6: 46041 | W6: 46042 | X6: 46043 | Y6: 46044 | Z6: 46045 | AA6: 46046 | AB6: 46047 | AC6: 46048 | AD6: 46049 | AE6: 46050 | AF6: 46051 | AG6: 46052 | AH6: 46053 | AI6: 46054 | AJ6: 46055 | AK6: 46056 | AL6: 46057 | AM6: 46058 | AN6: 46059 | AO6: 46060 | AP6: 46061 | AQ6: 46062 | AR6: 46063 | AS6: 46064 | AT6: 46065 | AU6: 46066 | AV6: 46067 | AW6: 46068 | AX6: 46069 | AY6: 46070 | AZ6: 46071 | BA6: 46072 | BB6: 46073 | BC6: 46074 | BD6: 46075 | BE6: 46076 | BF6: 46077 | BG6: 46078 | BH6: 46079 | BI6: 46080 | BJ6: 46081 | BK6: 46082 | BL6: 46083 | BM6: 46084 | BN6: 46085 | BO6: 46086 | BP6: 46087 | BQ6: 46088 | BR6: 46089 | BS6: 46090 | BT6: 46091 | BU6: 46092 | BV6: 46093 | BW6: 46094 | BX6: 46095 | BY6: 46096 | BZ6: 46097 | CA6: 46098 | CB6: 46099 | CC6: 46100 | CD6: 46101 | CE6: 46102 | CF6: 46103 | CG6: 46104 | CH6: 46105 | CI6: 46106 | CJ6: 46107 | CK6: 46108 | CL6: 46109 | CM6: 46110 | CN6: 46111 | CO6: 46112 | CP6: 46113 | CQ6: 46114 | CR6: 46115 | CS6: 46116 | CT6: 46117 | CU6: 46118 | CV6: 46119 | CW6: 46120 | CX6: 46121 | CY6: 46122 | CZ6: 46123 | DA6: 46124 | DB6: 46125 | DC6: 46126 | DD6: 46127 | DE6: 46128 | DF6: 46129 | DG6: 46130 | DH6: 46131 | DI6: 46132 | DJ6: 46133 | DK6: 46134 | DL6: 46135 | DM6: 46136 | DN6: 46137 | DO6: 46138 | DP6: 46139 | DQ6: 46140 | DR6: 46141 | DS6: 46142 | DT6: 46143 | DU6: 46144 | DV6: 46145 | DW6: 46146 | DX6: 46147 | DY6: 46148 | DZ6: 46149 | EA6: 46150 | EB6: 46151 | EC6: 46152 | ED6: 46153 | EE6: 46154 | EF6: 46155 | EG6: 46156 | EH6: 46157 | EI6: 46158 | EJ6: 46159 | EK6: 46160 | EL6: 46161 | EM6: 46162 | EN6: 46163 | EO6: 46164 | EP6: 46165 | EQ6: 46166 | ER6: 46167 | ES6: 46168 | ET6: 46169 | EU6: 46170 | EV6: 46171 | EW6: 46172 | EX6: 46173 | EY6: 46174 | EZ6: 46175 | FA6: 46176 | FB6: 46177 | FC6: 46178 | FD6: 46179 | FE6: 46180 | FF6: 46181 | FG6: 46182 | FH6: 46183 | FI6: 46184 | FJ6: 46185 | FK6: 46186 | FL6: 46187 | FM6: 46188 | FN6: 46189 | FO6: 46190 | FP6: 46191 | FQ6: 46192 | FR6: 46193 | FS6: 46194 | FT6: 46195 | FU6: 46196 | FV6: 46197 | FW6: 46198 | FX6: 46199 | FY6: 46200 | FZ6: 46201 | GA6: 46202 | GB6: 46203 | GC6: 46204 | GD6: 46205 | GE6: 46206 | GF6: 46207 | GG6: 46208 | GH6: 46209 | GI6: 46210 | GJ6: 46211 | GK6: 46212 | GL6: 46213 | GM6: 46214 | GN6: 46215 | GO6: 46216 | GP6: 46217 | GQ6: 46218 | GR6: 46219 | GS6: 46220 | GT6: 46221 | GU6: 46222 | GV6: 46223 | GW6: 46224 | GX6: 46225 | GY6: 46226 | GZ6: 46227 | HA6: 46228 | HB6: 46229 | HC6: 46230 | HD6: 46231 | HE6: 46232 | HF6: 46233 | HG6: 46234 | HH6: 46235 | HI6: 46236 | HJ6: 46237 | HK6: 46238 | HL6: 46239 | HM6: 46240 | HN6: 46241 | HO6: 46242 | HP6: 46243 | HQ6: 46244 | HR6: 46245 | HS6: 46246 | HT6: 46247 | HU6: 46248 | HV6: 46249 | HW6: 46250 | HX6: 46251 | HY6: 46252 | HZ6: 46253 | IA6: 46254 | IB6: 46255 | IC6: 46256 | ID6: 46257 | IE6: 46258 | IF6: 46259 | IG6: 46260 | IH6: 46261 | II6: 46262 | IJ6: 46263 | IK6: 46264 | IL6: 46265 | IM6: 46266 | IN6: 46267 | IO6: 46268 | IP6: 46269 | IQ6: 46270 | IR6: 46271 | IS6: 46272 | IT6: 46273 | IU6: 46274 | IV6: 46275 | IW6: 46276 | IX6: 46277 | IY6: 46278 | IZ6: 46279 | JA6: 46280 | JB6: 46281 | JC6: 46282 | JD6: 46283 | JE6: 46284 | JF6: 46285 | JG6: 46286 | JH6: 46287 | JI6: 46288 | JJ6: 46289 | JK6: 46290 | JL6: 46291 | JM6: 46292 | JN6: 46293 | JO6: 46294 | JP6: 46295 | JQ6: 46296 | JR6: 46297 | JS6: 46298 | JT6: 46299 | JU6: 46300 | JV6: 46301 | JW6: 46302 | JX6: 46303 | JY6: 46304 | JZ6: 46305 | KA6: 46306 | KB6: 46307 | KC6: 46308 | KD6: 46309 | KE6: 46310 | KF6: 46311 | KG6: 46312 | KH6: 46313 | KI6: 46314 | KJ6: 46315 | KK6: 46316 | KL6: 46317 | KM6: 46318 | KN6: 46319 | KO6: 46320 | KP6: 46321 | KQ6: 46322 | KR6: 46323 | KS6: 46324 | KT6: 46325 | KU6: 46326 | KV6: 46327 | KW6: 46328 | KX6: 46329 | KY6: 46330 | KZ6: 46331 | LA6: 46332 | LB6: 46333 | LC6: 46334 | LD6: 46335 | LE6: 46336 | LF6: 46337 | LG6: 46338 | LH6: 46339 | LI6: 46340 | LJ6: 46341 | LK6: 46342 | LL6: 46343 | LM6: 46344 | LN6: 46345 | LO6: 46346 | LP6: 46347 | LQ6: 46348 | LR6: 46349 | LS6: 46350 | LT6: 46351 | LU6: 46352 | LV6: 46353 | LW6: 46354 | LX6: 46355 | LY6: 46356 | LZ6: 46357 | MA6: 46358 | MB6: 46359 | MC6: 46360 | MD6: 46361 | ME6: 46362 | MF6: 46363 | MG6: 46364 | MH6: 46365 | MI6: 46366 | MJ6: 46367 | MK6: 46368 | ML6: 46369 | MM6: 46370 | MN6: 46371 | MO6: 46372 | MP6: 46373 | MQ6: 46374 | MR6: 46375 | MS6: 46376 | MT6: 46377 | MU6: 46378 | MV6: 46379 | MW6: 46380 | MX6: 46381 | MY6: 46382 | MZ6: 46383 | NA6: 46384 | NB6: 46385 | NC6: 46386 | ND6: 46387
A7: 1 | B7: Sandra Keller | C7: Verwaltung | AT7: K | AU7: K | GO7: U | GP7: U | GQ7: U | GR7: U | GS7: U | GV7: U | GW7: U | GX7: U | GY7: U | GZ7: U | MT7: P | MU7: P | MV7: P | MW7: P | NA7: P | NB7: P | NC7: P | ND7: P
A8: 2 | B8: Tobias Frank | C8: Vertrieb | BO8: B | BP8: B | CV8: U | CW8: U | CX8: U | CY8: U | DB8: U | DC8: U | DD8: U | DE8: U | DF8: U | IE8: U | IF8: U | IG8: U | IH8: U | II8: U
A9: 3 | B9: Miriam Sauer | C9: Marketing | BL9: U | BM9: U | BN9: U | BO9: U | BP9: U | EM9: K | FM9: S | NA9: P | NB9: P | NC9: P
A10: 4 | B10: Jonas Wolff | C10: IT | HC10: U | HD10: U | HE10: U | HF10: U | HG10: U | HJ10: U | HK10: U | HL10: U | HM10: U | HN10: U | KT10: G | LD10: K | LE10: K | LF10: K
A11: 5 | B11: Aylin Demir | C11: Personal | ED11: U | EE11: U | EF11: U | EH11: U | JC11: B | JD11: B | MT11: U | MU11: U | MV11: U
A12: 6 | B12: Philipp Baumann | C12: Einkauf | AK12: K | HX12: U | HY12: U | HZ12: U | IA12: U | IB12: U | IE12: U | IF12: U | IG12: U | IH12: U | II12: U | MM12: P | MN12: P | MO12: P | MP12: P | MQ12: P
A13: 7 | B13: Nadia Richter | C13: Buchhaltung | AQ13: U | AR13: U | AS13: U | AT13: U | AU13: U | DW13: S | JU13: U | JV13: U | JW13: U | JX13: U | JY13: U
A14: 8 | B14: David Kern | C14: Projektleitung | BV14: B | BW14: B | DM14: G | GV14: U | GW14: U | GX14: U | GY14: U | GZ14: U | HC14: U | HD14: U | HE14: U | HF14: U | HG14: U
