Workbook

Sheet Kassenbuch
A1: VEREINSKASSENBUCH · EINNAHMEN-AUSGABEN-RECHNUNG | H1: Geschäftsjahr 2026
A2: Transparente Kassenführung mit automatischem Kassenbestand · Belege lückenlos erfassen · für Vorstand und Kassenprüfung
A4: Verein | C4: Musterverein e. V. | F4: Kassenwart/in | H4: S. Neumann
A5: Geschäftsjahr | C5: 2026 | F5: Anfangsbestand (01.01.2026) | H5: 1250
A6: Erstellt am | C6: =TODAY() -> 46267 | F6: Währung | H6: Euro (€)
A9: =SUM(G14:G43) -> 4680 | D9: =SUM(H14:H43) -> 1701.4 | G9: =$H$5+A9-D9 -> 4228.6 | I9: =COUNTA(B14:B43) -> 14
A10: Einnahmen gesamt | D10: Ausgaben gesamt | G10: Kassenbestand aktuell | I10: Anzahl Buchungen
A12: KASSENBUCH – BUCHUNGEN 2026
A13: Lfd. | B13: Datum | C13: Beleg-Nr. | D13: Beschreibung / Verwendungszweck | E13: Kategorie | F13: Zahlungsart | G13: Einnahme (€) | H13: Ausgabe (€) | I13: Kassenbestand (€) | J13: Bemerkung
A14: =IF(B14<>"",14-14+1,"") -> 1 | B14: 46027 | C14: B-2026-001 | D14: Mitgliedsbeiträge 1. Quartal | E14: Mitgliedsbeiträge | F14: Überweisung | G14: 840 | I14: =IF(AND(B14="",G14="",H14=""),"",$H$5+SUM($G$14:G14)-SUM($H$14:H14)) -> 2090
A15: =IF(B15<>"",15-14+1,"") -> 2 | B15: 46034 | C15: B-2026-002 | D15: Miete Vereinsheim Januar | E15: Miete / Raumkosten | F15: Lastschrift | H15: 220 | I15: =IF(AND(B15="",G15="",H15=""),"",$H$5+SUM($G$14:G15)-SUM($H$14:H15)) -> 1870
A16: =IF(B16<>"",16-14+1,"") -> 3 | B16: 46056 | C16: B-2026-003 | D16: Spende Fördermitglied | E16: Spenden | F16: Überweisung | G16: 500 | I16: =IF(AND(B16="",G16="",H16=""),"",$H$5+SUM($G$14:G16)-SUM($H$14:H16)) -> 2370
A17: =IF(B17<>"",17-14+1,"") -> 4 | B17: 46071 | C17: B-2026-004 | D17: Büromaterial & Porto | E17: Porto / Büro | F17: Bar | H17: 46.8 | I17: =IF(AND(B17="",G17="",H17=""),"",$H$5+SUM($G$14:G17)-SUM($H$14:H17)) -> 2323.2
A18: =IF(B18<>"",18-14+1,"") -> 5 | B18: 46083 | C18: B-2026-005 | D18: Miete Vereinsheim Februar | E18: Miete / Raumkosten | F18: Lastschrift | H18: 220 | I18: =IF(AND(B18="",G18="",H18=""),"",$H$5+SUM($G$14:G18)-SUM($H$14:H18)) -> 2103.2
A19: =IF(B19<>"",19-14+1,"") -> 6 | B19: 46096 | C19: B-2026-006 | D19: Frühlingsfest – Eintritt & Verkauf | E19: Veranstaltungen | F19: Bar | G19: 1180 | I19: =IF(AND(B19="",G19="",H19=""),"",$H$5+SUM($G$14:G19)-SUM($H$14:H19)) -> 3283.2
A20: =IF(B20<>"",20-14+1,"") -> 7 | B20: 46096 | C20: B-2026-007 | D20: Frühlingsfest – Materialkosten | E20: Veranstaltungskosten | F20: Bar | H20: 430.5 | I20: =IF(AND(B20="",G20="",H20=""),"",$H$5+SUM($G$14:G20)-SUM($H$14:H20)) -> 2852.7 | J20: Getränke, Deko
A21: =IF(B21<>"",21-14+1,"") -> 8 | B21: 46116 | C21: B-2026-008 | D21: Jahresbeitrag Haftpflicht | E21: Versicherung | F21: Überweisung | H21: 312 | I21: =IF(AND(B21="",G21="",H21=""),"",$H$5+SUM($G$14:G21)-SUM($H$14:H21)) -> 2540.7
A22: =IF(B22<>"",22-14+1,"") -> 9 | B22: 46134 | C22: B-2026-009 | D22: Sponsoring Sommeraktion | E22: Sponsoring | F22: Überweisung | G22: 750 | I22: =IF(AND(B22="",G22="",H22=""),"",$H$5+SUM($G$14:G22)-SUM($H$14:H22)) -> 3290.7
A23: =IF(B23<>"",23-14+1,"") -> 10 | B23: 46152 | C23: B-2026-010 | D23: Mitgliedsbeiträge 2. Quartal | E23: Mitgliedsbeiträge | F23: Überweisung | G23: 810 | I23: =IF(AND(B23="",G23="",H23=""),"",$H$5+SUM($G$14:G23)-SUM($H$14:H23)) -> 4100.7
A24: =IF(B24<>"",24-14+1,"") -> 11 | B24: 46162 | C24: B-2026-011 | D24: Fahrtkosten Vorstand | E24: Fahrtkosten | F24: Bar | H24: 64.2 | I24: =IF(AND(B24="",G24="",H24=""),"",$H$5+SUM($G$14:G24)-SUM($H$14:H24)) -> 4036.5
A25: =IF(B25<>"",25-14+1,"") -> 12 | B25: 46179 | C25: B-2026-012 | D25: Zuschuss Kommune Jugendarbeit | E25: Zuschüsse | F25: Überweisung | G25: 600 | I25: =IF(AND(B25="",G25="",H25=""),"",$H$5+SUM($G$14:G25)-SUM($H$14:H25)) -> 4636.5
A26: =IF(B26<>"",26-14+1,"") -> 13 | B26: 46187 | C26: B-2026-013 | D26: Anschaffung Pavillonzelt | E26: Material / Ausstattung | F26: Überweisung | H26: 389.9 | I26: =IF(AND(B26="",G26="",H26=""),"",$H$5+SUM($G$14:G26)-SUM($H$14:H26)) -> 4246.6
A27: =IF(B27<>"",27-14+1,"") -> 14 | B27: 46201 | C27: B-2026-014 | D27: Kontoführungsgebühren 1. Halbjahr | E27: Verwaltung / Gebühren | F27: Lastschrift | H27: 18 | I27: =IF(AND(B27="",G27="",H27=""),"",$H$5+SUM($G$14:G27)-SUM($H$14:H27)) -> 4228.6
A28: =IF(B28<>"",28-14+1,"") | I28: =IF(AND(B28="",G28="",H28=""),"",$H$5+SUM($G$14:G28)-SUM($H$14:H28))
A29: =IF(B29<>"",29-14+1,"") | I29: =IF(AND(B29="",G29="",H29=""),"",$H$5+SUM($G$14:G29)-SUM($H$14:H29))
A30: =IF(B30<>"",30-14+1,"") | I30: =IF(AND(B30="",G30="",H30=""),"",$H$5+SUM($G$14:G30)-SUM($H$14:H30))
A31: =IF(B31<>"",31-14+1,"") | I31: =IF(AND(B31="",G31="",H31=""),"",$H$5+SUM($G$14:G31)-SUM($H$14:H31))
A32: =IF(B32<>"",32-14+1,"") | I32: =IF(AND(B32="",G32="",H32=""),"",$H$5+SUM($G$14:G32)-SUM($H$14:H32))
A33: =IF(B33<>"",33-14+1,"") | I33: =IF(AND(B33="",G33="",H33=""),"",$H$5+SUM($G$14:G33)-SUM($H$14:H33))
A34: =IF(B34<>"",34-14+1,"") | I34: =IF(AND(B34="",G34="",H34=""),"",$H$5+SUM($G$14:G34)-SUM($H$14:H34))
A35: =IF(B35<>"",35-14+1,"") | I35: =IF(AND(B35="",G35="",H35=""),"",$H$5+SUM($G$14:G35)-SUM($H$14:H35))
A36: =IF(B36<>"",36-14+1,"") | I36: =IF(AND(B36="",G36="",H36=""),"",$H$5+SUM($G$14:G36)-SUM($H$14:H36))
A37: =IF(B37<>"",37-14+1,"") | I37: =IF(AND(B37="",G37="",H37=""),"",$H$5+SUM($G$14:G37)-SUM($H$14:H37))
A38: =IF(B38<>"",38-14+1,"") | I38: =IF(AND(B38="",G38="",H38=""),"",$H$5+SUM($G$14:G38)-SUM($H$14:H38))
A39: =IF(B39<>"",39-14+1,"") | I39: =IF(AND(B39="",G39="",H39=""),"",$H$5+SUM($G$14:G39)-SUM($H$14:H39))
A40: =IF(B40<>"",40-14+1,"") | I40: =IF(AND(B40="",G40="",H40=""),"",$H$5+SUM($G$14:G40)-SUM($H$14:H40))
A41: =IF(B41<>"",41-14+1,"") | I41: =IF(AND(B41="",G41="",H41=""),"",$H$5+SUM($G$14:G41)-SUM($H$14:H41))
A42: =IF(B42<>"",42-14+1,"") | I42: =IF(AND(B42="",G42="",H42=""),"",$H$5+SUM($G$14:G42)-SUM($H$14:H42))
A43: =IF(B43<>"",43-14+1,"") | I43: =IF(AND(B43="",G43="",H43=""),"",$H$5+SUM($G$14:G43)-SUM($H$14:H43))
A44: Summe Einnahmen / Ausgaben · Endbestand | G44: =SUM(G14:G43) -> 4680 | H44: =SUM(H14:H43) -> 1701.4 | I44: =$H$5+G44-H44 -> 4228.6
...

Sheet Jahresübersicht
B1: JAHRESÜBERSICHT 2026 | G1: Auswertung für den Kassenbericht
B2: Summen je Monat und je Kategorie · automatisch aus dem Kassenbuch berechnet
B4: Monatsübersicht | G4: Auswertung nach Kategorie
B5: Monat | C5: Einnahmen (€) | D5: Ausgaben (€) | E5: Saldo (€) | G5: Einnahmen | H5: Betrag (€) | I5: Anteil
B6: Januar | C6: =SUMIFS(Kassenbuch!$G$14:$G$43,Kassenbuch!$B$14:$B$43,">="&DATE(Kassenbuch!$C$5,1,1),Kassenbuch!$B$14:$B$43,"<"&DATE(Kassenbuch!$C$5,2,1)) -> 840 | D6: =SUMIFS(Kassenbuch!$H$14:$H$43,Kassenbuch!$B$14:$B$43,">="&DATE(Kassenbuch!$C$5,1,1),Kassenbuch!$B$14:$B$43,"<"&DATE(Kassenbuch!$C$5,2,1)) -> 220 | E6: =C6-D6 -> 620 | G6: =Kategorien!$B$5 -> Mitgliedsbeiträge | H6: =SUMIF(Kassenbuch!$E$14:$E$43,Kategorien!$B$5,Kassenbuch!$G$14:$G$43) -> 1650 | I6: =IFERROR(H6/$C$18,0) -> 0.3525641
B7: Februar | C7: =SUMIFS(Kassenbuch!$G$14:$G$43,Kassenbuch!$B$14:$B$43,">="&DATE(Kassenbuch!$C$5,2,1),Kassenbuch!$B$14:$B$43,"<"&DATE(Kassenbuch!$C$5,3,1)) -> 500 | D7: =SUMIFS(Kassenbuch!$H$14:$H$43,Kassenbuch!$B$14:$B$43,">="&DATE(Kassenbuch!$C$5,2,1),Kassenbuch!$B$14:$B$43,"<"&DATE(Kassenbuch!$C$5,3,1)) -> 46.8 | E7: =C7-D7 -> 453.2 | G7: =Kategorien!$B$6 -> Spenden | H7: =SUMIF(Kassenbuch!$E$14:$E$43,Kategorien!$B$6,Kassenbuch!$G$14:$G$43) -> 500 | I7: =IFERROR(H7/$C$18,0) -> 0.10683761
B8: März | C8: =SUMIFS(Kassenbuch!$G$14:$G$43,Kassenbuch!$B$14:$B$43,">="&DATE(Kassenbuch!$C$5,3,1),Kassenbuch!$B$14:$B$43,"<"&DATE(Kassenbuch!$C$5,4,1)) -> 1180 | D8: =SUMIFS(Kassenbuch!$H$14:$H$43,Kassenbuch!$B$14:$B$43,">="&DATE(Kassenbuch!$C$5,3,1),Kassenbuch!$B$14:$B$43,"<"&DATE(Kassenbuch!$C$5,4,1)) -> 650.5 | E8: =C8-D8 -> 529.5 | G8: =Kategorien!$B$7 -> Veranstaltungen | H8: =SUMIF(Kassenbuch!$E$14:$E$43,Kategorien!$B$7,Kassenbuch!$G$14:$G$43) -> 1180 | I8: =IFERROR(H8/$C$18,0) -> 0.25213675
B9: April | C9: =SUMIFS(Kassenbuch!$G$14:$G$43,Kassenbuch!$B$14:$B$43,">="&DATE(Kassenbuch!$C$5,4,1),Kassenbuch!$B$14:$B$43,"<"&DATE(Kassenbuch!$C$5,5,1)) -> 750 | D9: =SUMIFS(Kassenbuch!$H$14:$H$43,Kassenbuch!$B$14:$B$43,">="&DATE(Kassenbuch!$C$5,4,1),Kassenbuch!$B$14:$B$43,"<"&DATE(Kassenbuch!$C$5,5,1)) -> 312 | E9: =C9-D9 -> 438 | G9: =Kategorien!$B$8 -> Sponsoring | H9: =SUMIF(Kassenbuch!$E$14:$E$43,Kategorien!$B$8,Kassenbuch!$G$14:$G$43) -> 750 | I9: =IFERROR(H9/$C$18,0) -> 0.16025641
B10: Mai | C10: =SUMIFS(Kassenbuch!$G$14:$G$43,Kassenbuch!$B$14:$B$43,">="&DATE(Kassenbuch!$C$5,5,1),Kassenbuch!$B$14:$B$43,"<"&DATE(Kassenbuch!$C$5,6,1)) -> 810 | D10: =SUMIFS(Kassenbuch!$H$14:$H$43,Kassenbuch!$B$14:$B$43,">="&DATE(Kassenbuch!$C$5,5,1),Kassenbuch!$B$14:$B$43,"<"&DATE(Kassenbuch!$C$5,6,1)) -> 64.2 | E10: =C10-D10 -> 745.8 | G10: =Kategorien!$B$9 -> Zuschüsse | H10: =SUMIF(Kassenbuch!$E$14:$E$43,Kategorien!$B$9,Kassenbuch!$G$14:$G$43) -> 600 | I10: =IFERROR(H10/$C$18,0) -> 0.12820513
B11: Juni | C11: =SUMIFS(Kassenbuch!$G$14:$G$43,Kassenbuch!$B$14:$B$43,">="&DATE(Kassenbuch!$C$5,6,1),Kassenbuch!$B$14:$B$43,"<"&DATE(Kassenbuch!$C$5,7,1)) -> 600 | D11: =SUMIFS(Kassenbuch!$H$14:$H$43,Kassenbuch!$B$14:$B$43,">="&DATE(Kassenbuch!$C$5,6,1),Kassenbuch!$B$14:$B$43,"<"&DATE(Kassenbuch!$C$5,7,1)) -> 407.9 | E11: =C11-D11 -> 192.1 | G11: =Kategorien!$B$10 -> Sonstige Einnahmen | H11: =SUMIF(Kassenbuch!$E$14:$E$43,Kategorien!$B$10,Kassenbuch!$G$14:$G$43) -> 0 | I11: =IFERROR(H11/$C$18,0) -> 0
B12: Juli | C12: =SUMIFS(Kassenbuch!$G$14:$G$43,Kassenbuch!$B$14:$B$43,">="&DATE(Kassenbuch!$C$5,7,1),Kassenbuch!$B$14:$B$43,"<"&DATE(Kassenbuch!$C$5,8,1)) -> 0 | D12: =SUMIFS(Kassenbuch!$H$14:$H$43,Kassenbuch!$B$14:$B$43,">="&DATE(Kassenbuch!$C$5,7,1),Kassenbuch!$B$14:$B$43,"<"&DATE(Kassenbuch!$C$5,8,1)) -> 0 | E12: =C12-D12 -> 0
B13: August | C13: =SUMIFS(Kassenbuch!$G$14:$G$43,Kassenbuch!$B$14:$B$43,">="&DATE(Kassenbuch!$C$5,8,1),Kassenbuch!$B$14:$B$43,"<"&DATE(Kassenbuch!$C$5,9,1)) -> 0 | D13: =SUMIFS(Kassenbuch!$H$14:$H$43,Kassenbuch!$B$14:$B$43,">="&DATE(Kassenbuch!$C$5,8,1),Kassenbuch!$B$14:$B$43,"<"&DATE(Kassenbuch!$C$5,9,1)) -> 0 | E13: =C13-D13 -> 0 | G13: Ausgaben | H13: Betrag (€) | I13: Anteil
B14: September | C14: =SUMIFS(Kassenbuch!$G$14:$G$43,Kassenbuch!$B$14:$B$43,">="&DATE(Kassenbuch!$C$5,9,1),Kassenbuch!$B$14:$B$43,"<"&DATE(Kassenbuch!$C$5,10,1)) -> 0 | D14: =SUMIFS(Kassenbuch!$H$14:$H$43,Kassenbuch!$B$14:$B$43,">="&DATE(Kassenbuch!$C$5,9,1),Kassenbuch!$B$14:$B$43,"<"&DATE(Kassenbuch!$C$5,10,1)) -> 0 | E14: =C14-D14 -> 0 | G14: =Kategorien!$B$11 -> Miete / Raumkosten | H14: =SUMIF(Kassenbuch!$E$14:$E$43,Kategorien!$B$11,Kassenbuch!$H$14:$H$43) -> 440 | I14: =IFERROR(H14/$D$18,0) -> 0.25861056
B15: Oktober | C15: =SUMIFS(Kassenbuch!$G$14:$G$43,Kassenbuch!$B$14:$B$43,">="&DATE(Kassenbuch!$C$5,10,1),Kassenbuch!$B$14:$B$43,"<"&DATE(Kassenbuch!$C$5,11,1)) -> 0 | D15: =SUMIFS(Kassenbuch!$H$14:$H$43,Kassenbuch!$B$14:$B$43,">="&DATE(Kassenbuch!$C$5,10,1),Kassenbuch!$B$14:$B$43,"<"&DATE(Kassenbuch!$C$5,11,1)) -> 0 | E15: =C15-D15 -> 0 | G15: =Kategorien!$B$12 -> Material / Ausstattung | H15: =SUMIF(Kassenbuch!$E$14:$E$43,Kategorien!$B$12,Kassenbuch!$H$14:$H$43) -> 389.9 | I15: =IFERROR(H15/$D$18,0) -> 0.22916422
B16: November | C16: =SUMIFS(Kassenbuch!$G$14:$G$43,Kassenbuch!$B$14:$B$43,">="&DATE(Kassenbuch!$C$5,11,1),Kassenbuch!$B$14:$B$43,"<"&DATE(Kassenbuch!$C$5,12,1)) -> 0 | D16: =SUMIFS(Kassenbuch!$H$14:$H$43,Kassenbuch!$B$14:$B$43,">="&DATE(Kassenbuch!$C$5,11,1),Kassenbuch!$B$14:$B$43,"<"&DATE(Kassenbuch!$C$5,12,1)) -> 0 | E16: =C16-D16 -> 0 | G16: =Kategorien!$B$13 -> Veranstaltungskosten | H16: =SUMIF(Kassenbuch!$E$14:$E$43,Kategorien!$B$13,Kassenbuch!$H$14:$H$43) -> 430.5 | I16: =IFERROR(H16/$D$18,0) -> 0.25302692
B17: Dezember | C17: =SUMIFS(Kassenbuch!$G$14:$G$43,Kassenbuch!$B$14:$B$43,">="&DATE(Kassenbuch!$C$5,12,1),Kassenbuch!$B$14:$B$43,"<"&DATE(Kassenbuch!$C$5,13,1)) -> 0 | D17: =SUMIFS(Kassenbuch!$H$14:$H$43,Kassenbuch!$B$14:$B$43,">="&DATE(Kassenbuch!$C$5,12,1),Kassenbuch!$B$14:$B$43,"<"&DATE(Kassenbuch!$C$5,13,1)) -> 0 | E17: =C17-D17 -> 0 | G17: =Kategorien!$B$14 -> Versicherung | H17: =SUMIF(Kassenbuch!$E$14:$E$43,Kategorien!$B$14,Kassenbuch!$H$14:$H$43) -> 312 | I17: =IFERROR(H17/$D$18,0) -> 0.18337839
B18: Summe Jahr | C18: =SUM(C6:C17) -> 4680 | D18: =SUM(D6:D17) -> 1701.4 | E18: =SUM(E6:E17) -> 2978.6 | G18: =Kategorien!$B$15 -> Verwaltung / Gebühren | H18: =SUMIF(Kassenbuch!$E$14:$E$43,Kategorien!$B$15,Kassenbuch!$H$14:$H$43) -> 18 | I18: =IFERROR(H18/$D$18,0) -> 0.010579523
G19: =Kategorien!$B$16 -> Fahrtkosten | H19: =SUMIF(Kassenbuch!$E$14:$E$43,Kategorien!$B$16,Kassenbuch!$H$14:$H$43) -> 64.2 | I19: =IFERROR(H19/$D$18,0) -> 0.037733631
B20: Anfangsbestand (01.01.2026) | E20: =Kassenbuch!$H$5 -> 1250 | G20: =Kategorien!$B$17 -> Porto / Büro | H20: =SUMIF(Kassenbuch!$E$14:$E$43,Kategorien!$B$17,Kassenbuch!$H$14:$H$43) -> 46.8 | I20: =IFERROR(H20/$D$18,0) -> 0.027506759
B21: Einnahmen gesamt | E21: =C18 -> 4680 | G21: =Kategorien!$B$18 -> Sonstige Ausgaben | H21: =SUMIF(Kassenbuch!$E$14:$E$43,Kategorien!$B$18,Kassenbuch!$H$14:$H$43) -> 0 | I21: =IFERROR(H21/$D$18,0) -> 0
B22: Ausgaben gesamt | E22: =D18 -> 1701.4
B23: Jahresergebnis (Überschuss/Fehlbetrag) | E23: =C18-D18 -> 2978.6
B24: Endbestand (31.12.2026) | E24: =Kassenbuch!$H$5+C18-D18 -> 4228.6

Sheet Kategorien
B1: KATEGORIEN & ZAHLUNGSARTEN
B2: Diese Listen steuern die Dropdown-Auswahl im Kassenbuch. Bezeichnungen anpassen – Überschriften nicht ändern.
B4: Kategorie | C4: Typ | E4: Zahlungsart
B5: Mitgliedsbeiträge | C5: Einnahme | E5: Bar
B6: Spenden | C6: Einnahme | E6: Überweisung
B7: Veranstaltungen | C7: Einnahme | E7: Lastschrift
B8: Sponsoring | C8: Einnahme | E8: PayPal
B9: Zuschüsse | C9: Einnahme | E9: EC-Karte
B10: Sonstige Einnahmen | C10: Einnahme
B11: Miete / Raumkosten | C11: Ausgabe
B12: Material / Ausstattung | C12: Ausgabe
B13: Veranstaltungskosten | C13: Ausgabe
B14: Versicherung | C14: Ausgabe
B15: Verwaltung / Gebühren | C15: Ausgabe
B16: Fahrtkosten | C16: Ausgabe
B17: Porto / Büro | C17: Ausgabe
B18: Sonstige Ausgaben | C18: Ausgabe
B20: Tipp: Liste schlank halten (5–10 je Seite). Zum Ergänzen Zeilen einfügen und den Namensbereich „Kategorien_Liste“ erweitern.
