Workbook

Sheet Dashboard
B1: FUHRPARKVERWALTUNG
B2: Cockpit · Musterbetrieb GmbH · Kennzahlen, Kosten und Fälligkeiten auf einen Blick
B4: Auswertungsjahr: | D4: 2026 | F4: Werte aktualisieren sich automatisch aus den Tabellenblättern
B7: =COUNTIF(Fahrzeuge!$B$6:$B$40,"?*") -> 13 | E7: =COUNTIF(Fahrzeuge!$N$6:$N$40,"Aktiv") -> 11 | H7: =SUM(Fahrzeuge!$K$6:$K$40) -> 1205830 | K7: =SUM(Fahrzeuge!$J$6:$J$40) -> 489900
B8: Fahrzeuge gesamt | E8: Aktive Fahrzeuge | H8: Gesamtlaufleistung | K8: Anschaffungswert gesamt
B11: =SUMIFS(Kostenerfassung!$J$6:$J$80,Kostenerfassung!$B$6:$B$80,">="&DATE($D$4,1,1),Kostenerfassung!$B$6:$B$80,"<="&DATE($D$4,12,31)) -> 13018.04 | E11: =IF(B7=0,0,B11/B7) -> 1001.3877 | H11: =SUM(Fahrzeuge!$S$6:$S$40) -> 3533 | K11: =COUNTIF('Wartung & Termine'!$J$6:$J$40,"Überfällig")+COUNTIF(Fahrzeuge!$V$6:$V$40,"Überfällig") -> 4
B12: Laufende Kosten (lfd. Jahr) | E12: Ø Kosten je Fahrzeug | H12: Leasing-/Finanzraten p. M. | K12: Überfällige Termine
B14: Kosten nach Kategorie · lfd. Jahr | E14: Auswertung grafisch
B15: Kategorie | C15: Brutto
B16: Kraftstoff | C16: =SUMIFS(Kostenerfassung!$J$6:$J$80,Kostenerfassung!$D$6:$D$80,"Kraftstoff",Kostenerfassung!$B$6:$B$80,">="&DATE($D$4,1,1),Kostenerfassung!$B$6:$B$80,"<="&DATE($D$4,12,31)) -> 1874.14
B17: Wartung & Reparatur | C17: =SUMIFS(Kostenerfassung!$J$6:$J$80,Kostenerfassung!$D$6:$D$80,"Wartung & Reparatur",Kostenerfassung!$B$6:$B$80,">="&DATE($D$4,1,1),Kostenerfassung!$B$6:$B$80,"<="&DATE($D$4,12,31)) -> 4091.34
B18: Versicherung | C18: =SUMIFS(Kostenerfassung!$J$6:$J$80,Kostenerfassung!$D$6:$D$80,"Versicherung",Kostenerfassung!$B$6:$B$80,">="&DATE($D$4,1,1),Kostenerfassung!$B$6:$B$80,"<="&DATE($D$4,12,31)) -> 2114
B19: Kfz-Steuer | C19: =SUMIFS(Kostenerfassung!$J$6:$J$80,Kostenerfassung!$D$6:$D$80,"Kfz-Steuer",Kostenerfassung!$B$6:$B$80,">="&DATE($D$4,1,1),Kostenerfassung!$B$6:$B$80,"<="&DATE($D$4,12,31)) -> 528
B20: Leasing/Finanzierung | C20: =SUMIFS(Kostenerfassung!$J$6:$J$80,Kostenerfassung!$D$6:$D$80,"Leasing/Finanzierung",Kostenerfassung!$B$6:$B$80,">="&DATE($D$4,1,1),Kostenerfassung!$B$6:$B$80,"<="&DATE($D$4,12,31)) -> 2081.31
B21: Reifen | C21: =SUMIFS(Kostenerfassung!$J$6:$J$80,Kostenerfassung!$D$6:$D$80,"Reifen",Kostenerfassung!$B$6:$B$80,">="&DATE($D$4,1,1),Kostenerfassung!$B$6:$B$80,"<="&DATE($D$4,12,31)) -> 1589.84
B22: Maut & Parken | C22: =SUMIFS(Kostenerfassung!$J$6:$J$80,Kostenerfassung!$D$6:$D$80,"Maut & Parken",Kostenerfassung!$B$6:$B$80,">="&DATE($D$4,1,1),Kostenerfassung!$B$6:$B$80,"<="&DATE($D$4,12,31)) -> 387.17
B23: Reinigung/Pflege | C23: =SUMIFS(Kostenerfassung!$J$6:$J$80,Kostenerfassung!$D$6:$D$80,"Reinigung/Pflege",Kostenerfassung!$B$6:$B$80,">="&DATE($D$4,1,1),Kostenerfassung!$B$6:$B$80,"<="&DATE($D$4,12,31)) -> 152.32
B24: Sonstiges | C24: =SUMIFS(Kostenerfassung!$J$6:$J$80,Kostenerfassung!$D$6:$D$80,"Sonstiges",Kostenerfassung!$B$6:$B$80,">="&DATE($D$4,1,1),Kostenerfassung!$B$6:$B$80,"<="&DATE($D$4,12,31)) -> 199.92
B25: Gesamt | C25: =SUM(C16:C24) -> 13018.04
B27: Fälligkeiten (Wartung & HU)
B28: Status | C28: Anzahl
B29: Überfällig | C29: =COUNTIF('Wartung & Termine'!$J$6:$J$40,"Überfällig")+COUNTIF(Fahrzeuge!$V$6:$V$40,"Überfällig") -> 4
B30: Bald fällig | C30: =COUNTIF('Wartung & Termine'!$J$6:$J$40,"Bald fällig")+COUNTIF(Fahrzeuge!$V$6:$V$40,"Bald fällig") -> 6
B31: Geplant / OK | C31: =COUNTIF('Wartung & Termine'!$J$6:$J$40,"Geplant")+COUNTIF(Fahrzeuge!$V$6:$V$40,"OK") -> 18
B32: Erledigt | C32: =COUNTIF('Wartung & Termine'!$J$6:$J$40,"Erledigt") -> 3
B34: Kosten je Fahrzeug · lfd. Jahr (Brutto)
B35: Kennzeichen | C35: Brutto
B36: =Fahrzeuge!B6 -> OL-AB 123 | C36: =SUMIFS(Kostenerfassung!$J$6:$J$80,Kostenerfassung!$C$6:$C$80,B36,Kostenerfassung!$B$6:$B$80,">="&DATE($D$4,1,1),Kostenerfassung!$B$6:$B$80,"<="&DATE($D$4,12,31)) -> 1698.13
B37: =Fahrzeuge!B7 -> OL-AB 124 | C37: =SUMIFS(Kostenerfassung!$J$6:$J$80,Kostenerfassung!$C$6:$C$80,B37,Kostenerfassung!$B$6:$B$80,">="&DATE($D$4,1,1),Kostenerfassung!$B$6:$B$80,"<="&DATE($D$4,12,31)) -> 1211.98
B38: =Fahrzeuge!B8 -> OL-CD 210 | C38: =SUMIFS(Kostenerfassung!$J$6:$J$80,Kostenerfassung!$C$6:$C$80,B38,Kostenerfassung!$B$6:$B$80,">="&DATE($D$4,1,1),Kostenerfassung!$B$6:$B$80,"<="&DATE($D$4,12,31)) -> 288.58
B39: =Fahrzeuge!B9 -> OL-CD 211 | C39: =SUMIFS(Kostenerfassung!$J$6:$J$80,Kostenerfassung!$C$6:$C$80,B39,Kostenerfassung!$B$6:$B$80,">="&DATE($D$4,1,1),Kostenerfassung!$B$6:$B$80,"<="&DATE($D$4,12,31)) -> 1748.15
B40: =Fahrzeuge!B10 -> HB-EF 88 | C40: =SUMIFS(Kostenerfassung!$J$6:$J$80,Kostenerfassung!$C$6:$C$80,B40,Kostenerfassung!$B$6:$B$80,">="&DATE($D$4,1,1),Kostenerfassung!$B$6:$B$80,"<="&DATE($D$4,12,31)) -> 1882.82
B41: =Fahrzeuge!B11 -> HB-EF 89 | C41: =SUMIFS(Kostenerfassung!$J$6:$J$80,Kostenerfassung!$C$6:$C$80,B41,Kostenerfassung!$B$6:$B$80,">="&DATE($D$4,1,1),Kostenerfassung!$B$6:$B$80,"<="&DATE($D$4,12,31)) -> 952.72
B42: =Fahrzeuge!B12 -> OL-GH 45 | C42: =SUMIFS(Kostenerfassung!$J$6:$J$80,Kostenerfassung!$C$6:$C$80,B42,Kostenerfassung!$B$6:$B$80,">="&DATE($D$4,1,1),Kostenerfassung!$B$6:$B$80,"<="&DATE($D$4,12,31)) -> 1353.5
B43: =Fahrzeuge!B13 -> OL-GH 46 | C43: =SUMIFS(Kostenerfassung!$J$6:$J$80,Kostenerfassung!$C$6:$C$80,B43,Kostenerfassung!$B$6:$B$80,">="&DATE($D$4,1,1),Kostenerfassung!$B$6:$B$80,"<="&DATE($D$4,12,31)) -> 805.63
B44: =Fahrzeuge!B14 -> OL-IJ 7 | C44: =SUMIFS(Kostenerfassung!$J$6:$J$80,Kostenerfassung!$C$6:$C$80,B44,Kostenerfassung!$B$6:$B$80,">="&DATE($D$4,1,1),Kostenerfassung!$B$6:$B$80,"<="&DATE($D$4,12,31)) -> 147.44
B45: =Fahrzeuge!B15 -> OL-IJ 8 | C45: =SUMIFS(Kostenerfassung!$J$6:$J$80,Kostenerfassung!$C$6:$C$80,B45,Kostenerfassung!$B$6:$B$80,">="&DATE($D$4,1,1),Kostenerfassung!$B$6:$B$80,"<="&DATE($D$4,12,31)) -> 128.4
B46: =Fahrzeuge!B16 -> WHV-KL 33 | C46: =SUMIFS(Kostenerfassung!$J$6:$J$80,Kostenerfassung!$C$6:$C$80,B46,Kostenerfassung!$B$6:$B$80,">="&DATE($D$4,1,1),Kostenerfassung!$B$6:$B$80,"<="&DATE($D$4,12,31)) -> 234.79
B47: =Fahrzeuge!B17 -> OL-MN 500 | C47: =SUMIFS(Kostenerfassung!$J$6:$J$80,Kostenerfassung!$C$6:$C$80,B47,Kostenerfassung!$B$6:$B$80,">="&DATE($D$4,1,1),Kostenerfassung!$B$6:$B$80,"<="&DATE($D$4,12,31)) -> 1899.78
B48: =Fahrzeuge!B18 -> OL-MN 12 | C48: =SUMIFS(Kostenerfassung!$J$6:$J$80,Kostenerfassung!$C$6:$C$80,B48,Kostenerfassung!$B$6:$B$80,">="&DATE($D$4,1,1),Kostenerfassung!$B$6:$B$80,"<="&DATE($D$4,12,31)) -> 666.12
B56: Legende: Ampel = Überfällig · Bald fällig · Geplant/OK · Erledigt | Blau hinterlegte Zellen sind Eingabefelder – alle übrigen Werte berechnen sich automatisch.

Sheet Fahrzeuge
A1: FUHRPARKVERWALTUNG
A2: Fahrzeugstammdaten · Musterbetrieb GmbH · Wirtschaftsjahr 2026
A4: ◤ Fahrzeugübersicht | F4: Blau hinterlegte Felder = Eingabe · übrige Spalten berechnen sich automatisch
A5: Nr. | B5: Kennzeichen | C5: Hersteller | D5: Modell | E5: Fahrzeugtyp | F5: Kraftstoff | G5: FIN (17-stellig) | H5: Erstzulassung | I5: Anschaffung | J5: Anschaffungs- wert | K5: km-Stand | L5: Fahrer / Halter | M5: Kostenstelle | N5: Status | O5: HU/AU fällig | P5: Versicherung fällig | Q5: Nächster Service | R5: Finanzierung | S5: Rate / Monat | T5: Alter | U5: Tage bis HU | V5: HU-Status | W5: Kosten erfasst | X5: Kosten je km
A6: =IF(B6="","",ROW()-5) -> 1 | B6: OL-AB 123 | C6: Volkswagen | D6: Golf VIII | E6: PKW | F6: Diesel | G6: WVWZZZ1KZAW000123 | H6: 44270 | I6: 44275 | J6: 29800 | K6: 68240 | L6: M. Krüger | M6: Vertrieb | N6: Aktiv | O6: 46447 | P6: 46388 | Q6: 46336 | R6: Leasing | S6: 289 | T6: =IF(H6="","",ROUND((TODAY()-H6)/365.25,1)) -> 5.5 | U6: =IF(O6="","",O6-TODAY()) -> 152 | V6: =IF(O6="","",IF(O6-TODAY()<0,"Überfällig",IF(O6-TODAY()<=60,"Bald fällig","OK"))) -> OK | W6: =IF(B6="","",SUMIF(Kostenerfassung!$C$6:$C$80,B6,Kostenerfassung!$J$6:$J$80)) -> 1698.13 | X6: =IF(OR(B6="",K6=""),"",IF(K6=0,0,W6/K6)) -> 0.024884672
A7: =IF(B7="","",ROW()-5) -> 2 | B7: OL-AB 124 | C7: Volkswagen | D7: Passat Variant | E7: Kombi | F7: Diesel | G7: WVWZZZ3CZBE000124 | H7: 43983 | I7: 43987 | J7: 36500 | K7: 112380 | L7: Pool Vertrieb | M7: Vertrieb | N7: Aktiv | O7: 46315 | P7: 46357 | Q7: 46300 | R7: Leasing | S7: 329 | T7: =IF(H7="","",ROUND((TODAY()-H7)/365.25,1)) -> 6.3 | U7: =IF(O7="","",O7-TODAY()) -> 20 | V7: =IF(O7="","",IF(O7-TODAY()<0,"Überfällig",IF(O7-TODAY()<=60,"Bald fällig","OK"))) -> Bald fällig | W7: =IF(B7="","",SUMIF(Kostenerfassung!$C$6:$C$80,B7,Kostenerfassung!$J$6:$J$80)) -> 1211.98 | X7: =IF(OR(B7="",K7=""),"",IF(K7=0,0,W7/K7)) -> 0.010784659
A8: =IF(B8="","",ROW()-5) -> 3 | B8: OL-CD 210 | C8: Škoda | D8: Octavia Combi | E8: Kombi | F8: Benzin | G8: TMBJJ7NE1L0000210 | H8: 44816 | I8: 44819 | J8: 27400 | K8: 41250 | L8: S. Bauer | M8: Verwaltung | N8: Aktiv | O8: 46631 | P8: 46478 | Q8: 46419 | R8: Kauf | T8: =IF(H8="","",ROUND((TODAY()-H8)/365.25,1)) -> 4 | U8: =IF(O8="","",O8-TODAY()) -> 336 | V8: =IF(O8="","",IF(O8-TODAY()<0,"Überfällig",IF(O8-TODAY()<=60,"Bald fällig","OK"))) -> OK | W8: =IF(B8="","",SUMIF(Kostenerfassung!$C$6:$C$80,B8,Kostenerfassung!$J$6:$J$80)) -> 288.58 | X8: =IF(OR(B8="",K8=""),"",IF(K8=0,0,W8/K8)) -> 0.0069958788
A9: =IF(B9="","",ROW()-5) -> 4 | B9: OL-CD 211 | C9: Ford | D9: Transit Kastenwagen | E9: Transporter | F9: Diesel | G9: WF0XXXTTGXKS00211 | H9: 43563 | I9: 43565 | J9: 34200 | K9: 158900 | L9: Pool Service | M9: Service/Montage | N9: Aktiv | O9: 46249 | P9: 46327 | Q9: 46285 | R9: Kauf | T9: =IF(H9="","",ROUND((TODAY()-H9)/365.25,1)) -> 7.5 | U9: =IF(O9="","",O9-TODAY()) -> -46 | V9: =IF(O9="","",IF(O9-TODAY()<0,"Überfällig",IF(O9-TODAY()<=60,"Bald fällig","OK"))) -> Überfällig | W9: =IF(B9="","",SUMIF(Kostenerfassung!$C$6:$C$80,B9,Kostenerfassung!$J$6:$J$80)) -> 1748.15 | X9: =IF(OR(B9="",K9=""),"",IF(K9=0,0,W9/K9)) -> 0.011001573
A10: =IF(B10="","",ROW()-5) -> 5 | B10: HB-EF 88 | C10: Mercedes-Benz | D10: Sprinter 315 | E10: Transporter | F10: Diesel | G10: WDB9066331S000088 | H10: 44502 | I10: 44508 | J10: 44900 | K10: 96110 | L10: T. Neumann | M10: Service/Montage | N10: Aktiv | O10: 46508 | P10: 46461 | Q10: 46357 | R10: Finanzierung | S10: 412 | T10: =IF(H10="","",ROUND((TODAY()-H10)/365.25,1)) -> 4.9 | U10: =IF(O10="","",O10-TODAY()) -> 213 | V10: =IF(O10="","",IF(O10-TODAY()<0,"Überfällig",IF(O10-TODAY()<=60,"Bald fällig","OK"))) -> OK | W10: =IF(B10="","",SUMIF(Kostenerfassung!$C$6:$C$80,B10,Kostenerfassung!$J$6:$J$80)) -> 1882.82 | X10: =IF(OR(B10="",K10=""),"",IF(K10=0,0,W10/K10)) -> 0.019590261
A11: =IF(B11="","",ROW()-5) -> 6 | B11: HB-EF 89 | C11: Opel | D11: Vivaro | E11: Transporter | F11: Diesel | G11: W0LF7ACA6L1000089 | H11: 44612 | I11: 44617 | J11: 31200 | K11: 73400 | L11: Pool Service | M11: Logistik | N11: In Werkstatt | O11: 46419 | P11: 46419 | Q11: 46307 | R11: Leasing | S11: 255 | T11: =IF(H11="","",ROUND((TODAY()-H11)/365.25,1)) -> 4.6 | U11: =IF(O11="","",O11-TODAY()) -> 124 | V11: =IF(O11="","",IF(O11-TODAY()<0,"Überfällig",IF(O11-TODAY()<=60,"Bald fällig","OK"))) -> OK | W11: =IF(B11="","",SUMIF(Kostenerfassung!$C$6:$C$80,B11,Kostenerfassung!$J$6:$J$80)) -> 952.72 | X11: =IF(OR(B11="",K11=""),"",IF(K11=0,0,W11/K11)) -> 0.012979837
A12: =IF(B12="","",ROW()-5) -> 7 | B12: OL-GH 45 | C12: BMW | D12: 320d Limousine | E12: PKW | F12: Diesel | G12: WBA5A11020G000045 | H12: 44060 | I12: 44063 | J12: 41800 | K12: 121750 | L12: A. Wolf | M12: Geschäftsleitung | N12: Aktiv | O12: 46600 | P12: 46539 | Q12: 46402 | R12: Leasing | S12: 468 | T12: =IF(H12="","",ROUND((TODAY()-H12)/365.25,1)) -> 6.1 | U12: =IF(O12="","",O12-TODAY()) -> 305 | V12: =IF(O12="","",IF(O12-TODAY()<0,"Überfällig",IF(O12-TODAY()<=60,"Bald fällig","OK"))) -> OK | W12: =IF(B12="","",SUMIF(Kostenerfassung!$C$6:$C$80,B12,Kostenerfassung!$J$6:$J$80)) -> 1353.5 | X12: =IF(OR(B12="",K12=""),"",IF(K12=0,0,W12/K12)) -> 0.011117043
A13: =IF(B13="","",ROW()-5) -> 8 | B13: OL-GH 46 | C13: Audi | D13: A4 Avant | E13: Kombi | F13: Diesel | G13: WAUZZZ8K0BA000046 | H13: 44321 | I13: 44326 | J13: 43600 | K13: 88920 | L13: C. Richter | M13: Vertrieb | N13: Aktiv | O13: 46478 | P13: 46508 | Q13: 46351 | R13: Leasing | S13: 439 | T13: =IF(H13="","",ROUND((TODAY()-H13)/365.25,1)) -> 5.4 | U13: =IF(O13="","",O13-TODAY()) -> 183 | V13: =IF(O13="","",IF(O13-TODAY()<0,"Überfällig",IF(O13-TODAY()<=60,"Bald fällig","OK"))) -> OK | W13: =IF(B13="","",SUMIF(Kostenerfassung!$C$6:$C$80,B13,Kostenerfassung!$J$6:$J$80)) -> 805.63 | X13: =IF(OR(B13="",K13=""),"",IF(K13=0,0,W13/K13)) -> 0.0090601664
A14: =IF(B14="","",ROW()-5) -> 9 | B14: OL-IJ 7 | C14: Tesla | D14: Model 3 | E14: PKW | F14: Elektro | G14: LRW3E7EA8KC000007 | H14: 44944 | I14: 44948 | J14: 46900 | K14: 52340 | L14: A. Wolf | M14: Geschäftsleitung | N14: Aktiv | O14: 46388 | P14: 46388 | Q14: 46397 | R14: Leasing | S14: 519 | T14: =IF(H14="","",ROUND((TODAY()-H14)/365.25,1)) -> 3.7 | U14: =IF(O14="","",O14-TODAY()) -> 93 | V14: =IF(O14="","",IF(O14-TODAY()<0,"Überfällig",IF(O14-TODAY()<=60,"Bald fällig","OK"))) -> OK | W14: =IF(B14="","",SUMIF(Kostenerfassung!$C$6:$C$80,B14,Kostenerfassung!$J$6:$J$80)) -> 147.44 | X14: =IF(OR(B14="",K14=""),"",IF(K14=0,0,W14/K14)) -> 0.002816966
A15: =IF(B15="","",ROW()-5) -> 10 | B15: OL-IJ 8 | C15: Renault | D15: Kangoo E-Tech | E15: Transporter | F15: Elektro | G15: VF1FW0ZBX48000008 | H15: 45110 | I15: 45113 | J15: 38400 | K15: 18760 | L15: Pool Service | M15: Service/Montage | N15: Aktiv | O15: 46569 | P15: 46569 | Q15: 46371 | R15: Leasing | S15: 298 | T15: =IF(H15="","",ROUND((TODAY()-H15)/365.25,1)) -> 3.2 | U15: =IF(O15="","",O15-TODAY()) -> 274 | V15: =IF(O15="","",IF(O15-TODAY()<0,"Überfällig",IF(O15-TODAY()<=60,"Bald fällig","OK"))) -> OK | W15: =IF(B15="","",SUMIF(Kostenerfassung!$C$6:$C$80,B15,Kostenerfassung!$J$6:$J$80)) -> 128.4 | X15: =IF(OR(B15="",K15=""),"",IF(K15=0,0,W15/K15)) -> 0.0068443497
A16: =IF(B16="","",ROW()-5) -> 11 | B16: WHV-KL 33 | C16: Toyota | D16: Corolla TS Hybrid | E16: Kombi | F16: Hybrid | G16: SB1KW3JE10E000033 | H16: 44680 | I16: 44683 | J16: 30100 | K16: 64180 | L16: J. Schmitt | M16: Vertrieb | N16: Aktiv | O16: 46327 | P16: 46447 | Q16: 46407 | R16: Kauf | T16: =IF(H16="","",ROUND((TODAY()-H16)/365.25,1)) -> 4.4 | U16: =IF(O16="","",O16-TODAY()) -> 32 | V16: =IF(O16="","",IF(O16-TODAY()<0,"Überfällig",IF(O16-TODAY()<=60,"Bald fällig","OK"))) -> Bald fällig | W16: =IF(B16="","",SUMIF(Kostenerfassung!$C$6:$C$80,B16,Kostenerfassung!$J$6:$J$80)) -> 234.79 | X16: =IF(OR(B16="",K16=""),"",IF(K16=0,0,W16/K16)) -> 0.0036583048
A17: =IF(B17="","",ROW()-5) -> 12 | B17: OL-MN 500 | C17: MAN | D17: TGE 3.180 | E17: LKW | F17: Diesel | G17: WMAN06ZZ0M0000500 | H17: 44118 | I17: 44124 | J17: 51200 | K17: 142060 | L17: R. Peters | M17: Logistik | N17: Aktiv | O17: 46357 | P17: 46433 | Q17: 46325 | R17: Finanzierung | S17: 524 | T17: =IF(H17="","",ROUND((TODAY()-H17)/365.25,1)) -> 6 | U17: =IF(O17="","",O17-TODAY()) -> 62 | V17: =IF(O17="","",IF(O17-TODAY()<0,"Überfällig",IF(O17-TODAY()<=60,"Bald fällig","OK"))) -> OK | W17: =IF(B17="","",SUMIF(Kostenerfassung!$C$6:$C$80,B17,Kostenerfassung!$J$6:$J$80)) -> 1899.78 | X17: =IF(OR(B17="",K17=""),"",IF(K17=0,0,W17/K17)) -> 0.013373082
A18: =IF(B18="","",ROW()-5) -> 13 | B18: OL-MN 12 | C18: Fiat | D18: Ducato | E18: Transporter | F18: Diesel | G18: ZFA25000002000012 | H18: 43717 | I18: 43720 | J18: 33900 | K18: 167540 | L18: Pool Service | M18: Logistik | N18: Stillgelegt | O18: 46204 | P18: 46266 | Q18: 46218 | R18: Kauf | T18: =IF(H18="","",ROUND((TODAY()-H18)/365.25,1)) -> 7.1 | U18: =IF(O18="","",O18-TODAY()) -> -91 | V18: =IF(O18="","",IF(O18-TODAY()<0,"Überfällig",IF(O18-TODAY()<=60,"Bald fällig","OK"))) -> Überfällig | W18: =IF(B18="","",SUMIF(Kostenerfassung!$C$6:$C$80,B18,Kostenerfassung!$J$6:$J$80)) -> 666.12 | X18: =IF(OR(B18="",K18=""),"",IF(K18=0,0,W18/K18)) -> 0.0039758864
A19: =IF(B19="","",ROW()-5) | T19: =IF(H19="","",ROUND((TODAY()-H19)/365.25,1)) | U19: =IF(O19="","",O19-TODAY()) | V19: =IF(O19="","",IF(O19-TODAY()<0,"Überfällig",IF(O19-TODAY()<=60,"Bald fällig","OK"))) | W19: =IF(B19="","",SUMIF(Kostenerfassung!$C$6:$C$80,B19,Kostenerfassung!$J$6:$J$80)) | X19: =IF(OR(B19="",K19=""),"",IF(K19=0,0,W19/K19))
A20: =IF(B20="","",ROW()-5) | T20: =IF(H20="","",ROUND((TODAY()-H20)/365.25,1)) | U20: =IF(O20="","",O20-TODAY()) | V20: =IF(O20="","",IF(O20-TODAY()<0,"Überfällig",IF(O20-TODAY()<=60,"Bald fällig","OK"))) | W20: =IF(B20="","",SUMIF(Kostenerfassung!$C$6:$C$80,B20,Kostenerfassung!$J$6:$J$80)) | X20: =IF(OR(B20="",K20=""),"",IF(K20=0,0,W20/K20))
A21: =IF(B21="","",ROW()-5) | T21: =IF(H21="","",ROUND((TODAY()-H21)/365.25,1)) | U21: =IF(O21="","",O21-TODAY()) | V21: =IF(O21="","",IF(O21-TODAY()<0,"Überfällig",IF(O21-TODAY()<=60,"Bald fällig","OK"))) | W21: =IF(B21="","",SUMIF(Kostenerfassung!$C$6:$C$80,B21,Kostenerfassung!$J$6:$J$80)) | X21: =IF(OR(B21="",K21=""),"",IF(K21=0,0,W21/K21))
A22: =IF(B22="","",ROW()-5) | T22: =IF(H22="","",ROUND((TODAY()-H22)/365.25,1)) | U22: =IF(O22="","",O22-TODAY()) | V22: =IF(O22="","",IF(O22-TODAY()<0,"Überfällig",IF(O22-TODAY()<=60,"Bald fällig","OK"))) | W22: =IF(B22="","",SUMIF(Kostenerfassung!$C$6:$C$80,B22,Kostenerfassung!$J$6:$J$80)) | X22: =IF(OR(B22="",K22=""),"",IF(K22=0,0,W22/K22))
A23: =IF(B23="","",ROW()-5) | T23: =IF(H23="","",ROUND((TODAY()-H23)/365.25,1)) | U23: =IF(O23="","",O23-TODAY()) | V23: =IF(O23="","",IF(O23-TODAY()<0,"Überfällig",IF(O23-TODAY()<=60,"Bald fällig","OK"))) | W23: =IF(B23="","",SUMIF(Kostenerfassung!$C$6:$C$80,B23,Kostenerfassung!$J$6:$J$80)) | X23: =IF(OR(B23="",K23=""),"",IF(K23=0,0,W23/K23))
A24: =IF(B24="","",ROW()-5) | T24: =IF(H24="","",ROUND((TODAY()-H24)/365.25,1)) | U24: =IF(O24="","",O24-TODAY()) | V24: =IF(O24="","",IF(O24-TODAY()<0,"Überfällig",IF(O24-TODAY()<=60,"Bald fällig","OK"))) | W24: =IF(B24="","",SUMIF(Kostenerfassung!$C$6:$C$80,B24,Kostenerfassung!$J$6:$J$80)) | X24: =IF(OR(B24="",K24=""),"",IF(K24=0,0,W24/K24))
A25: =IF(B25="","",ROW()-5) | T25: =IF(H25="","",ROUND((TODAY()-H25)/365.25,1)) | U25: =IF(O25="","",O25-TODAY()) | V25: =IF(O25="","",IF(O25-TODAY()<0,"Überfällig",IF(O25-TODAY()<=60,"Bald fällig","OK"))) | W25: =IF(B25="","",SUMIF(Kostenerfassung!$C$6:$C$80,B25,Kostenerfassung!$J$6:$J$80)) | X25: =IF(OR(B25="",K25=""),"",IF(K25=0,0,W25/K25))
A26: =IF(B26="","",ROW()-5) | T26: =IF(H26="","",ROUND((TODAY()-H26)/365.25,1)) | U26: =IF(O26="","",O26-TODAY()) | V26: =IF(O26="","",IF(O26-TODAY()<0,"Überfällig",IF(O26-TODAY()<=60,"Bald fällig","OK"))) | W26: =IF(B26="","",SUMIF(Kostenerfassung!$C$6:$C$80,B26,Kostenerfassung!$J$6:$J$80)) | X26: =IF(OR(B26="",K26=""),"",IF(K26=0,0,W26/K26))
A27: =IF(B27="","",ROW()-5) | T27: =IF(H27="","",ROUND((TODAY()-H27)/365.25,1)) | U27: =IF(O27="","",O27-TODAY()) | V27: =IF(O27="","",IF(O27-TODAY()<0,"Überfällig",IF(O27-TODAY()<=60,"Bald fällig","OK"))) | W27: =IF(B27="","",SUMIF(Kostenerfassung!$C$6:$C$80,B27,Kostenerfassung!$J$6:$J$80)) | X27: =IF(OR(B27="",K27=""),"",IF(K27=0,0,W27/K27))
A28: =IF(B28="","",ROW()-5) | T28: =IF(H28="","",ROUND((TODAY()-H28)/365.25,1)) | U28: =IF(O28="","",O28-TODAY()) | V28: =IF(O28="","",IF(O28-TODAY()<0,"Überfällig",IF(O28-TODAY()<=60,"Bald fällig","OK"))) | W28: =IF(B28="","",SUMIF(Kostenerfassung!$C$6:$C$80,B28,Kostenerfassung!$J$6:$J$80)) | X28: =IF(OR(B28="",K28=""),"",IF(K28=0,0,W28/K28))
A29: =IF(B29="","",ROW()-5) | T29: =IF(H29="","",ROUND((TODAY()-H29)/365.25,1)) | U29: =IF(O29="","",O29-TODAY()) | V29: =IF(O29="","",IF(O29-TODAY()<0,"Überfällig",IF(O29-TODAY()<=60,"Bald fällig","OK"))) | W29: =IF(B29="","",SUMIF(Kostenerfassung!$C$6:$C$80,B29,Kostenerfassung!$J$6:$J$80)) | X29: =IF(OR(B29="",K29=""),"",IF(K29=0,0,W29/K29))
A30: =IF(B30="","",ROW()-5) | T30: =IF(H30="","",ROUND((TODAY()-H30)/365.25,1)) | U30: =IF(O30="","",O30-TODAY()) | V30: =IF(O30="","",IF(O30-TODAY()<0,"Überfällig",IF(O30-TODAY()<=60,"Bald fällig","OK"))) | W30: =IF(B30="","",SUMIF(Kostenerfassung!$C$6:$C$80,B30,Kostenerfassung!$J$6:$J$80)) | X30: =IF(OR(B30="",K30=""),"",IF(K30=0,0,W30/K30))
... A40: =IF(B40="","",ROW()-5) | T40: =IF(H40="","",ROUND((TODAY()-H40)/365.25,1)) | U40: =IF(O40="","",O40-TODAY()) | V40: =IF(O40="","",IF(O40-TODAY()<0,"Überfällig",IF(O40-TODAY()<=60,"Bald fällig","OK"))) | W40: =IF(B40="","",SUMIF(Kostenerfassung!$C$6:$C$80,B40,Kostenerfassung!$J$6:$J$80)) | X40: =IF(OR(B40="",K40=""),"",IF(K40=0,0,W40/K40))

Sheet Kostenerfassung
A1: FUHRPARKVERWALTUNG
A2: Kostenerfassung · alle Betriebs- und Unterhaltskosten je Fahrzeug · 2026
A4: ◤ Kostenbuchungen | G4: USt-Betrag und Brutto berechnen sich automatisch
A5: Nr. | B5: Datum | C5: Kennzeichen | D5: Kategorie | E5: Beschreibung | F5: km-Stand | G5: Netto | H5: USt-Satz | I5: USt-Betrag | J5: Brutto | K5: Beleg-Nr. | L5: Bemerkung
A6: =IF(C6="","",ROW()-5) -> 1 | B6: 46030 | C6: OL-AB 123 | D6: Versicherung | E6: Kfz-Haftpflicht + Kasko (Jahresbeitrag) | G6: 1128 | H6: 0 | I6: =IF(G6="","",ROUND(G6*H6,2)) -> 0 | J6: =IF(G6="","",G6+I6) -> 1128 | K6: VS-2026-014 | L6: Jahrespolice
A7: =IF(C7="","",ROW()-5) -> 2 | B7: 46031 | C7: OL-CD 211 | D7: Kfz-Steuer | E7: Kraftfahrzeugsteuer 2026 | G7: 286 | H7: 0 | I7: =IF(G7="","",ROUND(G7*H7,2)) -> 0 | J7: =IF(G7="","",G7+I7) -> 286 | K7: HZA-2026-221 | L7: Hauptzollamt
A8: =IF(C8="","",ROW()-5) -> 3 | B8: 46034 | C8: OL-AB 123 | D8: Kraftstoff | E8: Dieseltankung | F8: 68960 | G8: 72.4 | H8: 0.19 | I8: =IF(G8="","",ROUND(G8*H8,2)) -> 13.76 | J8: =IF(G8="","",G8+I8) -> 86.16 | K8: T-100341
A9: =IF(C9="","",ROW()-5) -> 4 | B9: 46037 | C9: HB-EF 88 | D9: Kraftstoff | E9: Dieseltankung Flottenkarte | F9: 92110 | G9: 118.9 | H9: 0.19 | I9: =IF(G9="","",ROUND(G9*H9,2)) -> 22.59 | J9: =IF(G9="","",G9+I9) -> 141.49 | K9: FK-55021
A10: =IF(C10="","",ROW()-5) -> 5 | B10: 46042 | C10: OL-GH 45 | D10: Leasing/Finanzierung | E10: Leasingrate Januar | G10: 468 | H10: 0.19 | I10: =IF(G10="","",ROUND(G10*H10,2)) -> 88.92 | J10: =IF(G10="","",G10+I10) -> 556.92 | K10: LS-0145
A11: =IF(C11="","",ROW()-5) -> 6 | B11: 46049 | C11: OL-CD 211 | D11: Wartung & Reparatur | E11: Inspektion + Ölwechsel | F11: 156200 | G11: 412.6 | H11: 0.19 | I11: =IF(G11="","",ROUND(G11*H11,2)) -> 78.39 | J11: =IF(G11="","",G11+I11) -> 490.99 | K11: WS-3390 | L11: Freie Werkstatt
A12: =IF(C12="","",ROW()-5) -> 7 | B12: 46056 | C12: OL-IJ 7 | D12: Kraftstoff | E12: Ladestrom Firmenwallbox | F12: 50210 | G12: 41.8 | H12: 0.19 | I12: =IF(G12="","",ROUND(G12*H12,2)) -> 7.94 | J12: =IF(G12="","",G12+I12) -> 49.74 | K12: STR-2026-02 | L12: Stromkosten
A13: =IF(C13="","",ROW()-5) -> 8 | B13: 46063 | C13: OL-AB 124 | D13: Kraftstoff | E13: Dieseltankung | F13: 109800 | G13: 96.2 | H13: 0.19 | I13: =IF(G13="","",ROUND(G13*H13,2)) -> 18.28 | J13: =IF(G13="","",G13+I13) -> 114.48 | K13: T-100512
A14: =IF(C14="","",ROW()-5) -> 9 | B14: 46067 | C14: HB-EF 89 | D14: Reifen | E14: 4x Winterreifen inkl. Montage | F14: 71980 | G14: 624 | H14: 0.19 | I14: =IF(G14="","",ROUND(G14*H14,2)) -> 118.56 | J14: =IF(G14="","",G14+I14) -> 742.56 | K14: RF-2201
A15: =IF(C15="","",ROW()-5) -> 10 | B15: 46071 | C15: OL-MN 500 | D15: Maut & Parken | E15: LKW-Maut (Toll Collect) | G15: 214.35 | H15: 0.19 | I15: =IF(G15="","",ROUND(G15*H15,2)) -> 40.73 | J15: =IF(G15="","",G15+I15) -> 255.08 | K15: TC-778120
A16: =IF(C16="","",ROW()-5) -> 11 | B16: 46078 | C16: OL-GH 46 | D16: Kraftstoff | E16: Dieseltankung | F16: 86300 | G16: 88.7 | H16: 0.19 | I16: =IF(G16="","",ROUND(G16*H16,2)) -> 16.85 | J16: =IF(G16="","",G16+I16) -> 105.55 | K16: T-100640
A17: =IF(C17="","",ROW()-5) -> 12 | B17: 46083 | C17: OL-AB 123 | D17: Leasing/Finanzierung | E17: Leasingrate März | G17: 289 | H17: 0.19 | I17: =IF(G17="","",ROUND(G17*H17,2)) -> 54.91 | J17: =IF(G17="","",G17+I17) -> 343.91 | K17: LS-0146
A18: =IF(C18="","",ROW()-5) -> 13 | B18: 46090 | C18: OL-CD 211 | D18: Kraftstoff | E18: Dieseltankung | F18: 157400 | G18: 104.1 | H18: 0.19 | I18: =IF(G18="","",ROUND(G18*H18,2)) -> 19.78 | J18: =IF(G18="","",G18+I18) -> 123.88 | K18: T-100781
A19: =IF(C19="","",ROW()-5) -> 14 | B19: 46096 | C19: OL-MN 500 | D19: Wartung & Reparatur | E19: Bremsen vorne + HU-Vorbereitung | F19: 140900 | G19: 689.9 | H19: 0.19 | I19: =IF(G19="","",ROUND(G19*H19,2)) -> 131.08 | J19: =IF(G19="","",G19+I19) -> 820.98 | K19: WS-3455
A20: =IF(C20="","",ROW()-5) -> 15 | B20: 46103 | C20: WHV-KL 33 | D20: Kraftstoff | E20: Benzintankung | F20: 63200 | G20: 58.3 | H20: 0.19 | I20: =IF(G20="","",ROUND(G20*H20,2)) -> 11.08 | J20: =IF(G20="","",G20+I20) -> 69.38 | K20: T-100844
A21: =IF(C21="","",ROW()-5) -> 16 | B21: 46109 | C21: OL-IJ 8 | D21: Reinigung/Pflege | E21: Fahrzeugaufbereitung | F21: 18100 | G21: 79 | H21: 0.19 | I21: =IF(G21="","",ROUND(G21*H21,2)) -> 15.01 | J21: =IF(G21="","",G21+I21) -> 94.01 | K21: RN-0091
A22: =IF(C22="","",ROW()-5) -> 17 | B22: 46117 | C22: OL-GH 45 | D22: Kraftstoff | E22: Dieseltankung | F22: 119200 | G22: 101.6 | H22: 0.19 | I22: =IF(G22="","",ROUND(G22*H22,2)) -> 19.3 | J22: =IF(G22="","",G22+I22) -> 120.9 | K22: T-100977
A23: =IF(C23="","",ROW()-5) -> 18 | B23: 46123 | C23: HB-EF 88 | D23: Wartung & Reparatur | E23: Turbolader-Reparatur | F23: 94800 | G23: 1342 | H23: 0.19 | I23: =IF(G23="","",ROUND(G23*H23,2)) -> 254.98 | J23: =IF(G23="","",G23+I23) -> 1596.98 | K23: WS-3510 | L23: Fachwerkstatt
A24: =IF(C24="","",ROW()-5) -> 19 | B24: 46129 | C24: OL-AB 124 | D24: Versicherung | E24: Kfz-Versicherung (Jahresbeitrag) | G24: 986 | H24: 0 | I24: =IF(G24="","",ROUND(G24*H24,2)) -> 0 | J24: =IF(G24="","",G24+I24) -> 986 | K24: VS-2026-058
A25: =IF(C25="","",ROW()-5) -> 20 | B25: 46136 | C25: OL-CD 210 | D25: Kraftstoff | E25: Benzintankung | F25: 39800 | G25: 74.5 | H25: 0.19 | I25: =IF(G25="","",ROUND(G25*H25,2)) -> 14.16 | J25: =IF(G25="","",G25+I25) -> 88.66 | K25: T-101090
A26: =IF(C26="","",ROW()-5) -> 21 | B26: 46146 | C26: OL-MN 12 | D26: Kfz-Steuer | E26: Kraftfahrzeugsteuer 2026 | G26: 242 | H26: 0 | I26: =IF(G26="","",ROUND(G26*H26,2)) -> 0 | J26: =IF(G26="","",G26+I26) -> 242 | K26: HZA-2026-410
A27: =IF(C27="","",ROW()-5) -> 22 | B27: 46151 | C27: OL-IJ 7 | D27: Kraftstoff | E27: Ladestrom öffentlich | F27: 51600 | G27: 33.1 | H27: 0.19 | I27: =IF(G27="","",ROUND(G27*H27,2)) -> 6.29 | J27: =IF(G27="","",G27+I27) -> 39.39 | K27: STR-2026-05
A28: =IF(C28="","",ROW()-5) -> 23 | B28: 46158 | C28: OL-GH 46 | D28: Wartung & Reparatur | E28: Inspektion lt. Herstellervorgabe | F28: 88100 | G28: 498.2 | H28: 0.19 | I28: =IF(G28="","",ROUND(G28*H28,2)) -> 94.66 | J28: =IF(G28="","",G28+I28) -> 592.86 | K28: WS-3588
A29: =IF(C29="","",ROW()-5) -> 24 | B29: 46165 | C29: HB-EF 89 | D29: Kraftstoff | E29: Dieseltankung | F29: 72900 | G29: 112.4 | H29: 0.19 | I29: =IF(G29="","",ROUND(G29*H29,2)) -> 21.36 | J29: =IF(G29="","",G29+I29) -> 133.76 | K29: T-101233
A30: =IF(C30="","",ROW()-5) -> 25 | B30: 46172 | C30: OL-AB 123 | D30: Maut & Parken | E30: Parkhaus / Anfahrten (Sammelbeleg) | G30: 46.8 | H30: 0.19 | I30: =IF(G30="","",ROUND(G30*H30,2)) -> 8.89 | J30: =IF(G30="","",G30+I30) -> 55.69 | K30: PK-0077
A31: =IF(C31="","",ROW()-5) -> 26 | B31: 46179 | C31: OL-MN 500 | D31: Kraftstoff | E31: Dieseltankung | F31: 141500 | G31: 168.2 | H31: 0.19 | I31: =IF(G31="","",ROUND(G31*H31,2)) -> 31.96 | J31: =IF(G31="","",G31+I31) -> 200.16 | K31: T-101377
A32: =IF(C32="","",ROW()-5) -> 27 | B32: 46186 | C32: OL-CD 211 | D32: Reifen | E32: 4x Sommerreifen inkl. Montage | F32: 157900 | G32: 712 | H32: 0.19 | I32: =IF(G32="","",ROUND(G32*H32,2)) -> 135.28 | J32: =IF(G32="","",G32+I32) -> 847.28 | K32: RF-2280
A33: =IF(C33="","",ROW()-5) -> 28 | B33: 46193 | C33: OL-GH 45 | D33: Leasing/Finanzierung | E33: Leasingrate Juni | G33: 468 | H33: 0.19 | I33: =IF(G33="","",ROUND(G33*H33,2)) -> 88.92 | J33: =IF(G33="","",G33+I33) -> 556.92 | K33: LS-0151
A34: =IF(C34="","",ROW()-5) -> 29 | B34: 46200 | C34: WHV-KL 33 | D34: Wartung & Reparatur | E34: Klimaservice | F34: 63800 | G34: 139 | H34: 0.19 | I34: =IF(G34="","",ROUND(G34*H34,2)) -> 26.41 | J34: =IF(G34="","",G34+I34) -> 165.41 | K34: WS-3640
A35: =IF(C35="","",ROW()-5) -> 30 | B35: 46207 | C35: OL-AB 124 | D35: Kraftstoff | E35: Dieseltankung | F35: 111100 | G35: 93.7 | H35: 0.19 | I35: =IF(G35="","",ROUND(G35*H35,2)) -> 17.8 | J35: =IF(G35="","",G35+I35) -> 111.5 | K35: T-101502
A36: =IF(C36="","",ROW()-5) -> 31 | B36: 46215 | C36: OL-IJ 8 | D36: Kraftstoff | E36: Ladestrom Firmenwallbox | F36: 18500 | G36: 28.9 | H36: 0.19 | I36: =IF(G36="","",ROUND(G36*H36,2)) -> 5.49 | J36: =IF(G36="","",G36+I36) -> 34.39 | K36: STR-2026-07
A37: =IF(C37="","",ROW()-5) -> 32 | B37: 46222 | C37: HB-EF 88 | D37: Kraftstoff | E37: Dieseltankung Flottenkarte | F37: 95600 | G37: 121.3 | H37: 0.19 | I37: =IF(G37="","",ROUND(G37*H37,2)) -> 23.05 | J37: =IF(G37="","",G37+I37) -> 144.35 | K37: FK-55890
A38: =IF(C38="","",ROW()-5) -> 33 | B38: 46229 | C38: OL-CD 210 | D38: Sonstiges | E38: Ersatzschlüssel + Codierung | F38: 40600 | G38: 168 | H38: 0.19 | I38: =IF(G38="","",ROUND(G38*H38,2)) -> 31.92 | J38: =IF(G38="","",G38+I38) -> 199.92 | K38: SO-0203
A39: =IF(C39="","",ROW()-5) -> 34 | B39: 46242 | C39: OL-GH 46 | D39: Kraftstoff | E39: Dieseltankung | F39: 88600 | G39: 90.1 | H39: 0.19 | I39: =IF(G39="","",ROUND(G39*H39,2)) -> 17.12 | J39: =IF(G39="","",G39+I39) -> 107.22 | K39: T-101655
A40: =IF(C40="","",ROW()-5) -> 35 | B40: 46249 | C40: OL-MN 12 | D40: Wartung & Reparatur | E40: Reparatur Schiebetür | F40: 167200 | G40: 356.4 | H40: 0.19 | I40: =IF(G40="","",ROUND(G40*H40,2)) -> 67.72 | J40: =IF(G40="","",G40+I40) -> 424.12 | K40: WS-3712
A41: =IF(C41="","",ROW()-5) -> 36 | B41: 46256 | C41: OL-AB 123 | D41: Kraftstoff | E41: Dieseltankung | F41: 69200 | G41: 70.9 | H41: 0.19 | I41: =IF(G41="","",ROUND(G41*H41,2)) -> 13.47 | J41: =IF(G41="","",G41+I41) -> 84.37 | K41: T-101780
A42: =IF(C42="","",ROW()-5) -> 37 | B42: 46268 | C42: OL-IJ 7 | D42: Reinigung/Pflege | E42: Innen- und Außenreinigung | F42: 52100 | G42: 49 | H42: 0.19 | I42: =IF(G42="","",ROUND(G42*H42,2)) -> 9.31 | J42: =IF(G42="","",G42+I42) -> 58.31 | K42: RN-0140
A43: =IF(C43="","",ROW()-5) -> 38 | B43: 46275 | C43: HB-EF 89 | D43: Maut & Parken | E43: Maut Ausland (Dienstfahrt) | G43: 64.2 | H43: 0.19 | I43: =IF(G43="","",ROUND(G43*H43,2)) -> 12.2 | J43: =IF(G43="","",G43+I43) -> 76.4 | K43: MT-0311
A44: =IF(C44="","",ROW()-5) -> 39 | B44: 46283 | C44: OL-GH 45 | D44: Kraftstoff | E44: Dieseltankung | F44: 121600 | G44: 99.8 | H44: 0.19 | I44: =IF(G44="","",ROUND(G44*H44,2)) -> 18.96 | J44: =IF(G44="","",G44+I44) -> 118.76 | K44: T-101922
A45: =IF(C45="","",ROW()-5) -> 40 | B45: 46289 | C45: OL-MN 500 | D45: Leasing/Finanzierung | E45: Finanzierungsrate September | G45: 524 | H45: 0.19 | I45: =IF(G45="","",ROUND(G45*H45,2)) -> 99.56 | J45: =IF(G45="","",G45+I45) -> 623.56 | K45: FN-0233
A46: =IF(C46="","",ROW()-5) | I46: =IF(G46="","",ROUND(G46*H46,2)) | J46: =IF(G46="","",G46+I46)
A47: =IF(C47="","",ROW()-5) | I47: =IF(G47="","",ROUND(G47*H47,2)) | J47: =IF(G47="","",G47+I47)
A48: =IF(C48="","",ROW()-5) | I48: =IF(G48="","",ROUND(G48*H48,2)) | J48: =IF(G48="","",G48+I48)
A49: =IF(C49="","",ROW()-5) | I49: =IF(G49="","",ROUND(G49*H49,2)) | J49: =IF(G49="","",G49+I49)
A50: =IF(C50="","",ROW()-5) | I50: =IF(G50="","",ROUND(G50*H50,2)) | J50: =IF(G50="","",G50+I50)
A51: =IF(C51="","",ROW()-5) | I51: =IF(G51="","",ROUND(G51*H51,2)) | J51: =IF(G51="","",G51+I51)
A52: =IF(C52="","",ROW()-5) | I52: =IF(G52="","",ROUND(G52*H52,2)) | J52: =IF(G52="","",G52+I52)
A53: =IF(C53="","",ROW()-5) | I53: =IF(G53="","",ROUND(G53*H53,2)) | J53: =IF(G53="","",G53+I53)
A54: =IF(C54="","",ROW()-5) | I54: =IF(G54="","",ROUND(G54*H54,2)) | J54: =IF(G54="","",G54+I54)
A55: =IF(C55="","",ROW()-5) | I55: =IF(G55="","",ROUND(G55*H55,2)) | J55: =IF(G55="","",G55+I55)
A56: =IF(C56="","",ROW()-5) | I56: =IF(G56="","",ROUND(G56*H56,2)) | J56: =IF(G56="","",G56+I56)
A57: =IF(C57="","",ROW()-5) | I57: =IF(G57="","",ROUND(G57*H57,2)) | J57: =IF(G57="","",G57+I57)
... A80: =IF(C80="","",ROW()-5) | I80: =IF(G80="","",ROUND(G80*H80,2)) | J80: =IF(G80="","",G80+I80)
B82: Summe | G82: =SUM(G6:G80) -> 11361.35 | I82: =SUM(I6:I80) -> 1656.69 | J82: =SUM(J6:J80) -> 13018.04

Sheet Wartung & Termine
A1: FUHRPARKVERWALTUNG
A2: Wartung & Termine · HU/AU, Inspektionen, Prüfungen und Fristen im Blick
A4: ◤ Termin- und Wartungsplan | F4: Status auf "Erledigt" setzen, sobald eine Maßnahme abgeschlossen ist
A5: Nr. | B5: Kennzeichen | C5: Maßnahme / Prüfung | D5: Fällig am | E5: Letzte Durchführung | F5: Intervall | G5: Kosten geplant | H5: Status | I5: Tage bis fällig | J5: Ampel | K5: Nächster Termin (berechnet) | L5: Bemerkung
A6: =IF(B6="","",ROW()-5) -> 1 | B6: OL-MN 12 | C6: HU/AU (Hauptuntersuchung) | D6: 46204 | E6: 45476 | F6: 24 | H6: Offen | I6: =IF(D6="","",IF(H6="Erledigt","",D6-TODAY())) -> -91 | J6: =IF(D6="","",IF(H6="Erledigt","Erledigt",IF(D6-TODAY()<0,"Überfällig",IF(D6-TODAY()<=30,"Bald fällig","Geplant")))) -> Überfällig | K6: =IF(OR(E6="",F6=""),"",IFERROR(EDATE(E6,F6),"")) -> 46206
A7: =IF(B7="","",ROW()-5) -> 2 | B7: OL-CD 211 | C7: HU/AU (Hauptuntersuchung) | D7: 46249 | E7: 45514 | F7: 24 | H7: Offen | I7: =IF(D7="","",IF(H7="Erledigt","",D7-TODAY())) -> -46 | J7: =IF(D7="","",IF(H7="Erledigt","Erledigt",IF(D7-TODAY()<0,"Überfällig",IF(D7-TODAY()<=30,"Bald fällig","Geplant")))) -> Überfällig | K7: =IF(OR(E7="",F7=""),"",IFERROR(EDATE(E7,F7),"")) -> 46244
A8: =IF(B8="","",ROW()-5) -> 3 | B8: WHV-KL 33 | C8: HU/AU (Hauptuntersuchung) | D8: 46327 | E8: 45600 | F8: 24 | G8: 120 | H8: Offen | I8: =IF(D8="","",IF(H8="Erledigt","",D8-TODAY())) -> 32 | J8: =IF(D8="","",IF(H8="Erledigt","Erledigt",IF(D8-TODAY()<0,"Überfällig",IF(D8-TODAY()<=30,"Bald fällig","Geplant")))) -> Geplant | K8: =IF(OR(E8="",F8=""),"",IFERROR(EDATE(E8,F8),"")) -> 46330
A9: =IF(B9="","",ROW()-5) -> 4 | B9: OL-MN 500 | C9: HU/AU (Hauptuntersuchung) | D9: 46357 | E9: 45624 | F9: 24 | G9: 150 | H9: Offen | I9: =IF(D9="","",IF(H9="Erledigt","",D9-TODAY())) -> 62 | J9: =IF(D9="","",IF(H9="Erledigt","Erledigt",IF(D9-TODAY()<0,"Überfällig",IF(D9-TODAY()<=30,"Bald fällig","Geplant")))) -> Geplant | K9: =IF(OR(E9="",F9=""),"",IFERROR(EDATE(E9,F9),"")) -> 46354
A10: =IF(B10="","",ROW()-5) -> 5 | B10: OL-AB 124 | C10: HU/AU (Hauptuntersuchung) | D10: 46315 | E10: 45580 | F10: 24 | G10: 120 | H10: Offen | I10: =IF(D10="","",IF(H10="Erledigt","",D10-TODAY())) -> 20 | J10: =IF(D10="","",IF(H10="Erledigt","Erledigt",IF(D10-TODAY()<0,"Überfällig",IF(D10-TODAY()<=30,"Bald fällig","Geplant")))) -> Bald fällig | K10: =IF(OR(E10="",F10=""),"",IFERROR(EDATE(E10,F10),"")) -> 46310
A11: =IF(B11="","",ROW()-5) -> 6 | B11: OL-AB 123 | C11: Inspektion (Wartung) | D11: 46336 | E11: 45973 | F11: 12 | G11: 280 | H11: Offen | I11: =IF(D11="","",IF(H11="Erledigt","",D11-TODAY())) -> 41 | J11: =IF(D11="","",IF(H11="Erledigt","Erledigt",IF(D11-TODAY()<0,"Überfällig",IF(D11-TODAY()<=30,"Bald fällig","Geplant")))) -> Geplant | K11: =IF(OR(E11="",F11=""),"",IFERROR(EDATE(E11,F11),"")) -> 46338
A12: =IF(B12="","",ROW()-5) -> 7 | B12: HB-EF 88 | C12: Inspektion (Wartung) | D12: 46357 | E12: 45996 | F12: 12 | G12: 350 | H12: Offen | I12: =IF(D12="","",IF(H12="Erledigt","",D12-TODAY())) -> 62 | J12: =IF(D12="","",IF(H12="Erledigt","Erledigt",IF(D12-TODAY()<0,"Überfällig",IF(D12-TODAY()<=30,"Bald fällig","Geplant")))) -> Geplant | K12: =IF(OR(E12="",F12=""),"",IFERROR(EDATE(E12,F12),"")) -> 46361
A13: =IF(B13="","",ROW()-5) -> 8 | B13: OL-CD 211 | C13: Inspektion (Wartung) | D13: 46049 | E13: 46049 | F13: 12 | G13: 410 | H13: Erledigt | I13: =IF(D13="","",IF(H13="Erledigt","",D13-TODAY())) | J13: =IF(D13="","",IF(H13="Erledigt","Erledigt",IF(D13-TODAY()<0,"Überfällig",IF(D13-TODAY()<=30,"Bald fällig","Geplant")))) -> Erledigt | K13: =IF(OR(E13="",F13=""),"",IFERROR(EDATE(E13,F13),"")) -> 46414
A14: =IF(B14="","",ROW()-5) -> 9 | B14: HB-EF 89 | C14: Reifenwechsel (Sommer→Winter) | D14: 46310 | E14: 46115 | F14: 6 | H14: Offen | I14: =IF(D14="","",IF(H14="Erledigt","",D14-TODAY())) -> 15 | J14: =IF(D14="","",IF(H14="Erledigt","Erledigt",IF(D14-TODAY()<0,"Überfällig",IF(D14-TODAY()<=30,"Bald fällig","Geplant")))) -> Bald fällig | K14: =IF(OR(E14="",F14=""),"",IFERROR(EDATE(E14,F14),"")) -> 46298
A15: =IF(B15="","",ROW()-5) -> 10 | B15: OL-CD 211 | C15: Reifenwechsel (Winter→Sommer) | D15: 46186 | E15: 46186 | F15: 6 | H15: Erledigt | I15: =IF(D15="","",IF(H15="Erledigt","",D15-TODAY())) | J15: =IF(D15="","",IF(H15="Erledigt","Erledigt",IF(D15-TODAY()<0,"Überfällig",IF(D15-TODAY()<=30,"Bald fällig","Geplant")))) -> Erledigt | K15: =IF(OR(E15="",F15=""),"",IFERROR(EDATE(E15,F15),"")) -> 46369
A16: =IF(B16="","",ROW()-5) -> 11 | B16: OL-MN 500 | C16: UVV-Prüfung (jährlich) | D16: 46325 | E16: 45955 | F16: 12 | G16: 95 | H16: Offen | I16: =IF(D16="","",IF(H16="Erledigt","",D16-TODAY())) -> 30 | J16: =IF(D16="","",IF(H16="Erledigt","Erledigt",IF(D16-TODAY()<0,"Überfällig",IF(D16-TODAY()<=30,"Bald fällig","Geplant")))) -> Bald fällig | K16: =IF(OR(E16="",F16=""),"",IFERROR(EDATE(E16,F16),"")) -> 46320
A17: =IF(B17="","",ROW()-5) -> 12 | B17: HB-EF 88 | C17: UVV-Prüfung (jährlich) | D17: 46402 | E17: 46034 | F17: 12 | G17: 95 | H17: Offen | I17: =IF(D17="","",IF(H17="Erledigt","",D17-TODAY())) -> 107 | J17: =IF(D17="","",IF(H17="Erledigt","Erledigt",IF(D17-TODAY()<0,"Überfällig",IF(D17-TODAY()<=30,"Bald fällig","Geplant")))) -> Geplant | K17: =IF(OR(E17="",F17=""),"",IFERROR(EDATE(E17,F17),"")) -> 46399
A18: =IF(B18="","",ROW()-5) -> 13 | B18: OL-AB 123 | C18: Führerscheinkontrolle Fahrer | D18: 46296 | E18: 46113 | F18: 6 | H18: Offen | I18: =IF(D18="","",IF(H18="Erledigt","",D18-TODAY())) -> 1 | J18: =IF(D18="","",IF(H18="Erledigt","Erledigt",IF(D18-TODAY()<0,"Überfällig",IF(D18-TODAY()<=30,"Bald fällig","Geplant")))) -> Bald fällig | K18: =IF(OR(E18="",F18=""),"",IFERROR(EDATE(E18,F18),"")) -> 46296
A19: =IF(B19="","",ROW()-5) -> 14 | B19: OL-GH 45 | C19: Führerscheinkontrolle Fahrer | D19: 46371 | E19: 46188 | F19: 6 | H19: Offen | I19: =IF(D19="","",IF(H19="Erledigt","",D19-TODAY())) -> 76 | J19: =IF(D19="","",IF(H19="Erledigt","Erledigt",IF(D19-TODAY()<0,"Überfällig",IF(D19-TODAY()<=30,"Bald fällig","Geplant")))) -> Geplant | K19: =IF(OR(E19="",F19=""),"",IFERROR(EDATE(E19,F19),"")) -> 46371
A20: =IF(B20="","",ROW()-5) -> 15 | B20: OL-IJ 7 | C20: Inspektion (Wartung) | D20: 46397 | E20: 46032 | F20: 12 | G20: 220 | H20: Offen | I20: =IF(D20="","",IF(H20="Erledigt","",D20-TODAY())) -> 102 | J20: =IF(D20="","",IF(H20="Erledigt","Erledigt",IF(D20-TODAY()<0,"Überfällig",IF(D20-TODAY()<=30,"Bald fällig","Geplant")))) -> Geplant | K20: =IF(OR(E20="",F20=""),"",IFERROR(EDATE(E20,F20),"")) -> 46397
A21: =IF(B21="","",ROW()-5) -> 16 | B21: OL-GH 46 | C21: Inspektion (Wartung) | D21: 46351 | E21: 45981 | F21: 12 | G21: 300 | H21: Offen | I21: =IF(D21="","",IF(H21="Erledigt","",D21-TODAY())) -> 56 | J21: =IF(D21="","",IF(H21="Erledigt","Erledigt",IF(D21-TODAY()<0,"Überfällig",IF(D21-TODAY()<=30,"Bald fällig","Geplant")))) -> Geplant | K21: =IF(OR(E21="",F21=""),"",IFERROR(EDATE(E21,F21),"")) -> 46346
A22: =IF(B22="","",ROW()-5) -> 17 | B22: OL-MN 12 | C22: Reparatur / Nachkontrolle | D22: 46280 | E22: 46249 | H22: Erledigt | I22: =IF(D22="","",IF(H22="Erledigt","",D22-TODAY())) | J22: =IF(D22="","",IF(H22="Erledigt","Erledigt",IF(D22-TODAY()<0,"Überfällig",IF(D22-TODAY()<=30,"Bald fällig","Geplant")))) -> Erledigt | K22: =IF(OR(E22="",F22=""),"",IFERROR(EDATE(E22,F22),""))
A23: =IF(B23="","",ROW()-5) -> 18 | B23: OL-IJ 8 | C23: Reifenwechsel (Sommer→Winter) | D23: 46371 | E23: 46122 | F23: 6 | H23: Offen | I23: =IF(D23="","",IF(H23="Erledigt","",D23-TODAY())) -> 76 | J23: =IF(D23="","",IF(H23="Erledigt","Erledigt",IF(D23-TODAY()<0,"Überfällig",IF(D23-TODAY()<=30,"Bald fällig","Geplant")))) -> Geplant | K23: =IF(OR(E23="",F23=""),"",IFERROR(EDATE(E23,F23),"")) -> 46305
A24: =IF(B24="","",ROW()-5) | I24: =IF(D24="","",IF(H24="Erledigt","",D24-TODAY())) | J24: =IF(D24="","",IF(H24="Erledigt","Erledigt",IF(D24-TODAY()<0,"Überfällig",IF(D24-TODAY()<=30,"Bald fällig","Geplant")))) | K24: =IF(OR(E24="",F24=""),"",IFERROR(EDATE(E24,F24),""))
A25: =IF(B25="","",ROW()-5) | I25: =IF(D25="","",IF(H25="Erledigt","",D25-TODAY())) | J25: =IF(D25="","",IF(H25="Erledigt","Erledigt",IF(D25-TODAY()<0,"Überfällig",IF(D25-TODAY()<=30,"Bald fällig","Geplant")))) | K25: =IF(OR(E25="",F25=""),"",IFERROR(EDATE(E25,F25),""))
A26: =IF(B26="","",ROW()-5) | I26: =IF(D26="","",IF(H26="Erledigt","",D26-TODAY())) | J26: =IF(D26="","",IF(H26="Erledigt","Erledigt",IF(D26-TODAY()<0,"Überfällig",IF(D26-TODAY()<=30,"Bald fällig","Geplant")))) | K26: =IF(OR(E26="",F26=""),"",IFERROR(EDATE(E26,F26),""))
A27: =IF(B27="","",ROW()-5) | I27: =IF(D27="","",IF(H27="Erledigt","",D27-TODAY())) | J27: =IF(D27="","",IF(H27="Erledigt","Erledigt",IF(D27-TODAY()<0,"Überfällig",IF(D27-TODAY()<=30,"Bald fällig","Geplant")))) | K27: =IF(OR(E27="",F27=""),"",IFERROR(EDATE(E27,F27),""))
A28: =IF(B28="","",ROW()-5) | I28: =IF(D28="","",IF(H28="Erledigt","",D28-TODAY())) | J28: =IF(D28="","",IF(H28="Erledigt","Erledigt",IF(D28-TODAY()<0,"Überfällig",IF(D28-TODAY()<=30,"Bald fällig","Geplant")))) | K28: =IF(OR(E28="",F28=""),"",IFERROR(EDATE(E28,F28),""))
A29: =IF(B29="","",ROW()-5) | I29: =IF(D29="","",IF(H29="Erledigt","",D29-TODAY())) | J29: =IF(D29="","",IF(H29="Erledigt","Erledigt",IF(D29-TODAY()<0,"Überfällig",IF(D29-TODAY()<=30,"Bald fällig","Geplant")))) | K29: =IF(OR(E29="",F29=""),"",IFERROR(EDATE(E29,F29),""))
A30: =IF(B30="","",ROW()-5) | I30: =IF(D30="","",IF(H30="Erledigt","",D30-TODAY())) | J30: =IF(D30="","",IF(H30="Erledigt","Erledigt",IF(D30-TODAY()<0,"Überfällig",IF(D30-TODAY()<=30,"Bald fällig","Geplant")))) | K30: =IF(OR(E30="",F30=""),"",IFERROR(EDATE(E30,F30),""))
A31: =IF(B31="","",ROW()-5) | I31: =IF(D31="","",IF(H31="Erledigt","",D31-TODAY())) | J31: =IF(D31="","",IF(H31="Erledigt","Erledigt",IF(D31-TODAY()<0,"Überfällig",IF(D31-TODAY()<=30,"Bald fällig","Geplant")))) | K31: =IF(OR(E31="",F31=""),"",IFERROR(EDATE(E31,F31),""))
A32: =IF(B32="","",ROW()-5) | I32: =IF(D32="","",IF(H32="Erledigt","",D32-TODAY())) | J32: =IF(D32="","",IF(H32="Erledigt","Erledigt",IF(D32-TODAY()<0,"Überfällig",IF(D32-TODAY()<=30,"Bald fällig","Geplant")))) | K32: =IF(OR(E32="",F32=""),"",IFERROR(EDATE(E32,F32),""))
A33: =IF(B33="","",ROW()-5) | I33: =IF(D33="","",IF(H33="Erledigt","",D33-TODAY())) | J33: =IF(D33="","",IF(H33="Erledigt","Erledigt",IF(D33-TODAY()<0,"Überfällig",IF(D33-TODAY()<=30,"Bald fällig","Geplant")))) | K33: =IF(OR(E33="",F33=""),"",IFERROR(EDATE(E33,F33),""))
A34: =IF(B34="","",ROW()-5) | I34: =IF(D34="","",IF(H34="Erledigt","",D34-TODAY())) | J34: =IF(D34="","",IF(H34="Erledigt","Erledigt",IF(D34-TODAY()<0,"Überfällig",IF(D34-TODAY()<=30,"Bald fällig","Geplant")))) | K34: =IF(OR(E34="",F34=""),"",IFERROR(EDATE(E34,F34),""))
A35: =IF(B35="","",ROW()-5) | I35: =IF(D35="","",IF(H35="Erledigt","",D35-TODAY())) | J35: =IF(D35="","",IF(H35="Erledigt","Erledigt",IF(D35-TODAY()<0,"Überfällig",IF(D35-TODAY()<=30,"Bald fällig","Geplant")))) | K35: =IF(OR(E35="",F35=""),"",IFERROR(EDATE(E35,F35),""))
... A40: =IF(B40="","",ROW()-5) | I40: =IF(D40="","",IF(H40="Erledigt","",D40-TODAY())) | J40: =IF(D40="","",IF(H40="Erledigt","Erledigt",IF(D40-TODAY()<0,"Überfällig",IF(D40-TODAY()<=30,"Bald fällig","Geplant")))) | K40: =IF(OR(E40="",F40=""),"",IFERROR(EDATE(E40,F40),""))
