Workbook

Sheet Cockpit
B2: Nordanker Services GmbH
B3: FUHRPARK-REPORTING
B5: =" Geschäftsjahr 2026 | Stand: "&TEXT(TODAY(),"DD.MM.YYYY")&" | Alle Kennzahlen automatisch berechnet" -> Geschäftsjahr 2026 | Stand: 30.09.YYYY | Alle Kennzahlen automatisch berechnet
B8: FAHRZEUGE GESAMT | F8: AKTIVE FAHRZEUGE | J8: E-ANTEIL FLOTTE | N8: IN WARTUNG
B9: =SUMPRODUCT(--(Flotte!$B$6:$B$23<>"")) -> 12 | F9: =COUNTIF(Flotte!$R$6:$R$23,"Aktiv") -> 9 | J9: =IFERROR(COUNTIF(Flotte!$G$6:$G$23,"Elektro")/MAX(1,SUMPRODUCT(--(Flotte!$B$6:$B$23<>""))),0) -> 0.33333333 | N9: =COUNTIF(Flotte!$R$6:$R$23,"In Wartung") -> 1
B10: im Bestand | F10: einsatzbereit | J10: rein elektrisch | N10: aktuell in der Werkstatt
B13: KOSTEN GESAMT | F13: Ø KOSTEN / FAHRZEUG | J13: TCO FLOTTE / MONAT | N13: OFFENE TERMINE
B14: =Analyse!$C$20 -> 10957.449 | F14: =IFERROR(Analyse!$C$20/MAX(1,COUNTIF(Flotte!$R$6:$R$23,"Aktiv")),0) -> 1217.4943 | J14: =Analyse!$F$67 -> 197830.86 | N14: =COUNTIF(Termine!$F$6:$F$27,"Überfällig")+COUNTIF(Termine!$F$6:$F$27,"Bald fällig") -> 9
B15: Brutto, YTD 2026 | F15: aktive Fahrzeuge | J15: inkl. Wertverlust | N15: überfällig + bald fällig
B17: Kosten nach Kategorie | J17: Kosten je Fahrzeug
B32: Monatlicher Kostenverlauf 2026
B48: Kritische Termine | J48: Statusübersicht Flotte
B49: Die dringendsten Fälligkeiten
B50: Kennzeichen | C50: Terminart | G50: Rest | J50: Status | K50: Anzahl | N50: Anteil
B51: =IFERROR(INDEX(Termine!$B$6:$B$27,MATCH(SMALL(Termine!$J$6:$J$27,1),Termine!$J$6:$J$27,0)),"") -> F-NA 360 | C51: =IFERROR(INDEX(Termine!$C$6:$C$27,MATCH(SMALL(Termine!$J$6:$J$27,1),Termine!$J$6:$J$27,0)),"") -> HU/AU (Hauptuntersuchung) | G51: =IFERROR(INDEX(Termine!$D$6:$D$27,MATCH(SMALL(Termine!$J$6:$J$27,1),Termine!$J$6:$J$27,0))-TODAY(),"") -> -14 | J51: Aktiv | K51: =COUNTIF(Flotte!$R$6:$R$23,J51) -> 9 | N51: =IFERROR(K51/MAX(1,SUMPRODUCT(--(Flotte!$B$6:$B$23<>""))),0) -> 0.75
B52: =IFERROR(INDEX(Termine!$B$6:$B$27,MATCH(SMALL(Termine!$J$6:$J$27,2),Termine!$J$6:$J$27,0)),"") -> S-NA 210 | C52: =IFERROR(INDEX(Termine!$C$6:$C$27,MATCH(SMALL(Termine!$J$6:$J$27,2),Termine!$J$6:$J$27,0)),"") -> HU/AU (Hauptuntersuchung) | G52: =IFERROR(INDEX(Termine!$D$6:$D$27,MATCH(SMALL(Termine!$J$6:$J$27,2),Termine!$J$6:$J$27,0))-TODAY(),"") -> -6 | J52: In Wartung | K52: =COUNTIF(Flotte!$R$6:$R$23,J52) -> 1 | N52: =IFERROR(K52/MAX(1,SUMPRODUCT(--(Flotte!$B$6:$B$23<>""))),0) -> 0.083333333
B53: =IFERROR(INDEX(Termine!$B$6:$B$27,MATCH(SMALL(Termine!$J$6:$J$27,3),Termine!$J$6:$J$27,0)),"") -> F-NA 415 | C53: =IFERROR(INDEX(Termine!$C$6:$C$27,MATCH(SMALL(Termine!$J$6:$J$27,3),Termine!$J$6:$J$27,0)),"") -> Sicherheitsprüfung (UVV) | G53: =IFERROR(INDEX(Termine!$D$6:$D$27,MATCH(SMALL(Termine!$J$6:$J$27,3),Termine!$J$6:$J$27,0))-TODAY(),"") -> -2 | J53: Reserviert | K53: =COUNTIF(Flotte!$R$6:$R$23,J53) -> 1 | N53: =IFERROR(K53/MAX(1,SUMPRODUCT(--(Flotte!$B$6:$B$23<>""))),0) -> 0.083333333
B54: =IFERROR(INDEX(Termine!$B$6:$B$27,MATCH(SMALL(Termine!$J$6:$J$27,4),Termine!$J$6:$J$27,0)),"") -> F-NA 320 | C54: =IFERROR(INDEX(Termine!$C$6:$C$27,MATCH(SMALL(Termine!$J$6:$J$27,4),Termine!$J$6:$J$27,0)),"") -> Versicherung | G54: =IFERROR(INDEX(Termine!$D$6:$D$27,MATCH(SMALL(Termine!$J$6:$J$27,4),Termine!$J$6:$J$27,0))-TODAY(),"") -> 4 | J54: Stillgelegt | K54: =COUNTIF(Flotte!$R$6:$R$23,J54) -> 1 | N54: =IFERROR(K54/MAX(1,SUMPRODUCT(--(Flotte!$B$6:$B$23<>""))),0) -> 0.083333333
B55: =IFERROR(INDEX(Termine!$B$6:$B$27,MATCH(SMALL(Termine!$J$6:$J$27,5),Termine!$J$6:$J$27,0)),"") -> N-NA 860 | C55: =IFERROR(INDEX(Termine!$C$6:$C$27,MATCH(SMALL(Termine!$J$6:$J$27,5),Termine!$J$6:$J$27,0)),"") -> HU/AU (Hauptuntersuchung) | G55: =IFERROR(INDEX(Termine!$D$6:$D$27,MATCH(SMALL(Termine!$J$6:$J$27,5),Termine!$J$6:$J$27,0))-TODAY(),"") -> 8 | J55: Verkauft | K55: =COUNTIF(Flotte!$R$6:$R$23,J55) -> 0 | N55: =IFERROR(K55/MAX(1,SUMPRODUCT(--(Flotte!$B$6:$B$23<>""))),0) -> 0
B56: =IFERROR(INDEX(Termine!$B$6:$B$27,MATCH(SMALL(Termine!$J$6:$J$27,6),Termine!$J$6:$J$27,0)),"") -> S-NA 210 | C56: =IFERROR(INDEX(Termine!$C$6:$C$27,MATCH(SMALL(Termine!$J$6:$J$27,6),Termine!$J$6:$J$27,0)),"") -> Vertragsende | G56: =IFERROR(INDEX(Termine!$D$6:$D$27,MATCH(SMALL(Termine!$J$6:$J$27,6),Termine!$J$6:$J$27,0))-TODAY(),"") -> 17
B58: Hinweis: Pflegen Sie Daten ausschließlich in den Blättern „Flotte“, „Kosten“ und „Termine“. Dieses Cockpit und die Analyse aktualisieren sich automatisch. Alle Beispieldaten sind frei erfunden.

Sheet Flotte
B2: FLOTTE
B3: Fahrzeugstammdaten – das Kennzeichen ist der eindeutige Schlüssel für Kosten, Termine und Analyse.
B5: Kennzeichen | C5: FIN | D5: Marke | E5: Modell | F5: Segment | G5: Antrieb | H5: Erstzulassung | I5: Vertragsart | J5: Vertragsende | K5: Fahrer / Halter | L5: Abteilung | M5: Standort | N5: Listenpreis | O5: Restwert | P5: Rate/Mon. | Q5: km-Stand | R5: Status
B6: S-NA 100E | C6: WVWZZZE1ZPP100100 | D6: VW | E6: ID. Buzz Cargo | F6: Transporter | G6: Elektro | H6: 45391 | I6: Leasing | J6: 46851 | K6: Poolfahrzeug | L6: Logistik | M6: Stuttgart | N6: 54800 | O6: 24100 | P6: 529 | Q6: 21400 | R6: Aktiv
B7: S-NA 210 | C7: TMBJJ7NX0P0210210 | D7: Škoda | E7: Octavia Combi | F7: Firmenwagen | G7: Diesel | H7: 44977 | I7: Leasing | J7: 46072 | K7: Brandt, Carla | L7: Vertrieb | M7: Stuttgart | N7: 38900 | O7: 15600 | P7: 362 | Q7: 68700 | R7: Aktiv
B8: S-NA 245 | C8: VR3E5FGERPY245245 | D8: Peugeot | E8: 308 SW | F8: Firmenwagen | G8: Benzin | H8: 45141 | I8: Finanzierung | J8: 46601 | K8: Roth, Sebastian | L8: Marketing | M8: Stuttgart | N8: 33400 | O8: 14800 | P8: 0 | Q8: 41200 | R8: Aktiv
B9: F-NA 320 | C9: WBA5A70090F320320 | D9: BMW | E9: 520e Touring | F9: Firmenwagen | G9: Plug-in-Hybrid | H9: 45306 | I9: Leasing | J9: 46766 | K9: Iversen, Malou | L9: Geschäftsleitung | M9: Frankfurt | N9: 61200 | O9: 28900 | P9: 614 | Q9: 27350 | R9: Aktiv
B10: F-NA 415 | C10: W1V4476931N415415 | D10: Mercedes-Benz | E10: eVito Kastenwagen | F10: Servicefahrzeug | G10: Elektro | H10: 45236 | I10: Leasing | J10: 46696 | K10: Keller, Jonas | L10: Service | M10: Frankfurt | N10: 49700 | O10: 21300 | P10: 468 | Q10: 33900 | R10: In Wartung
B11: F-NA 360 | C11: VF1MA000366360360 | D11: Renault | E11: Master L2H2 | F11: Transporter | G11: Diesel | H11: 44328 | I11: Kauf | K11: Fahrgemeinschaft | L11: Logistik | M11: Frankfurt | N11: 44200 | O11: 0 | P11: 0 | Q11: 156800 | R11: Aktiv
B12: D-NA 530 | C12: WF0XXXTTGXNC530530 | D12: Ford | E12: Transit Custom | F12: Transporter | G12: Diesel | H12: 44648 | I12: Leasing | J12: 46108 | K12: Schuster, Mira | L12: Service | M12: Düsseldorf | N12: 41800 | O12: 16400 | P12: 398 | Q12: 89600 | R12: Aktiv
B13: D-NA 640 | C13: SB1KZ3JE00E640640 | D13: Toyota | E13: Corolla TS | F13: Poolfahrzeug | G13: Hybrid | H13: 45096 | I13: Leasing | J13: 46191 | K13: Poolfahrzeug | L13: Allgemein | M13: Düsseldorf | N13: 34900 | O13: 15100 | P13: 318 | Q13: 52700 | R13: Aktiv
B14: N-NA 755 | C14: WAUZZZFZ2P0755755 | D14: Audi | E14: Q4 e-tron | F14: Firmenwagen | G14: Elektro | H14: 45537 | I14: Leasing | J14: 46997 | K14: Baumann, Lars | L14: Vertrieb | M14: Nürnberg | N14: 57300 | O14: 27600 | P14: 576 | Q14: 14900 | R14: Aktiv
B15: N-NA 860 | C15: WV2ZZZSKZP0860860 | D15: VW | E15: Caddy Cargo | F15: Servicefahrzeug | G15: Diesel | H15: 44848 | I15: Leasing | J15: 46308 | K15: Winkler, Frida | L15: Service | M15: Nürnberg | N15: 31600 | O15: 12900 | P15: 289 | Q15: 73100 | R15: Aktiv
B16: H-NA 970 | C16: WMA06XZZ0NP970970 | D16: MAN | E16: TGE 3.180 | F16: Transporter | G16: Diesel | H16: 44020 | I16: Kauf | K16: Fahrgemeinschaft | L16: Logistik | M16: Hannover | N16: 47600 | O16: 0 | P16: 0 | Q16: 198400 | R16: Stillgelegt
B17: H-NA 985 | C17: VSSZZZK1ZPR985985 | D17: Cupra | E17: Born | F17: Poolfahrzeug | G17: Elektro | H17: 45349 | I17: Leasing | J17: 46809 | K17: Poolfahrzeug | L17: Allgemein | M17: Hannover | N17: 42300 | O17: 19800 | P17: 441 | Q17: 19600 | R17: Reserviert

Sheet Kosten
B2: KOSTEN
B3: Alle laufenden Ausgaben. MwSt-Betrag und Brutto werden automatisch berechnet.
B5: Datum | C5: Kennzeichen | D5: Kategorie | E5: Beschreibung | F5: Netto | G5: MwSt % | H5: MwSt-Betrag | I5: Brutto | J5: km-Stand | K5: Beleg-Nr.
B6: 46029 | C6: S-NA 210 | D6: Kraftstoff & Ladung | E6: Diesel Flottenkarte | F6: 121.4 | G6: 0.19 | H6: =F6*G6 -> 23.066 | I6: =F6+H6 -> 144.466 | J6: 69100 | K6: BK26-0001
B7: 46031 | C7: F-NA 320 | D7: Kraftstoff & Ladung | E7: Ladestrom + Benzin | F7: 63.2 | G7: 0.19 | H7: =F7*G7 -> 12.008 | I7: =F7+H7 -> 75.208 | J7: 27600 | K7: BK26-0002
B8: 46035 | C8: D-NA 530 | D8: Wartung | E8: Inspektion 90.000 km | F8: 512 | G8: 0.19 | H8: =F8*G8 -> 97.28 | I8: =F8+H8 -> 609.28 | J8: 89900 | K8: BK26-0003
B9: 46038 | C9: S-NA 100E | D9: Kraftstoff & Ladung | E9: Ladestrom Depot | F9: 44.8 | G9: 0.19 | H9: =F9*G9 -> 8.512 | I9: =F9+H9 -> 53.312 | J9: 21900 | K9: BK26-0004
B10: 46042 | C10: N-NA 860 | D10: Versicherung | E10: Kfz-Haftpflicht Q1 | F10: 286 | G10: 0 | H10: =F10*G10 -> 0 | I10: =F10+H10 -> 286 | J10: 73400 | K10: BK26-0005
B11: 46045 | C11: F-NA 415 | D11: Reparatur | E11: Schiebetür Instandsetzung | F11: 743 | G11: 0.19 | H11: =F11*G11 -> 141.17 | I11: =F11+H11 -> 884.17 | J11: 34100 | K11: BK26-0006
B12: 46050 | C12: D-NA 640 | D12: Kraftstoff & Ladung | E12: Benzin/Hybrid | F12: 71.1 | G12: 0.19 | H12: =F12*G12 -> 13.509 | I12: =F12+H12 -> 84.609 | J12: 53200 | K12: BK26-0007
B13: 46057 | C13: S-NA 210 | D13: Leasing/Finanzierung | E13: Monatsrate | F13: 362 | G13: 0.19 | H13: =F13*G13 -> 68.78 | I13: =F13+H13 -> 430.78 | J13: 70200 | K13: BK26-0008
B14: 46059 | C14: N-NA 755 | D14: Kraftstoff & Ladung | E14: Schnellladung | F14: 52.6 | G14: 0.19 | H14: =F14*G14 -> 9.994 | I14: =F14+H14 -> 62.594 | J14: 15400 | K14: BK26-0009
B15: 46064 | C15: F-NA 360 | D15: Wartung | E15: Ölservice + Bremsen | F15: 624 | G15: 0.19 | H15: =F15*G15 -> 118.56 | I15: =F15+H15 -> 742.56 | J15: 157400 | K15: BK26-0010
B16: 46067 | C16: H-NA 985 | D16: Reifen | E16: Winterräder Satz | F16: 690 | G16: 0.19 | H16: =F16*G16 -> 131.1 | I16: =F16+H16 -> 821.1 | J16: 19900 | K16: BK26-0011
B17: 46071 | C17: S-NA 245 | D17: Kfz-Steuer | E17: Jahressteuer 2026 | F17: 174 | G17: 0 | H17: =F17*G17 -> 0 | I17: =F17+H17 -> 174 | J17: 41500 | K17: BK26-0012
... B41: 46276 | C41: N-NA 860 | D41: Sonstiges | E41: Ersatzschlüssel | F41: 95 | G41: 0.19 | H41: =F41*G41 -> 18.05 | I41: =F41+H41 -> 113.05 | J41: 75300 | K41: BK26-0036
G42: 0.19 | H42: =IF(F42="","",F42*G42) | I42: =IF(F42="","",F42+H42)
G43: 0.19 | H43: =IF(F43="","",F43*G43) | I43: =IF(F43="","",F43+H43)
G44: 0.19 | H44: =IF(F44="","",F44*G44) | I44: =IF(F44="","",F44+H44)
G45: 0.19 | H45: =IF(F45="","",F45*G45) | I45: =IF(F45="","",F45+H45)
G46: 0.19 | H46: =IF(F46="","",F46*G46) | I46: =IF(F46="","",F46+H46)
G47: 0.19 | H47: =IF(F47="","",F47*G47) | I47: =IF(F47="","",F47+H47)
G48: 0.19 | H48: =IF(F48="","",F48*G48) | I48: =IF(F48="","",F48+H48)
G49: 0.19 | H49: =IF(F49="","",F49*G49) | I49: =IF(F49="","",F49+H49)
G50: 0.19 | H50: =IF(F50="","",F50*G50) | I50: =IF(F50="","",F50+H50)
G51: 0.19 | H51: =IF(F51="","",F51*G51) | I51: =IF(F51="","",F51+H51)
G52: 0.19 | H52: =IF(F52="","",F52*G52) | I52: =IF(F52="","",F52+H52)
G53: 0.19 | H53: =IF(F53="","",F53*G53) | I53: =IF(F53="","",F53+H53)
... G55: 0.19 | H55: =IF(F55="","",F55*G55) | I55: =IF(F55="","",F55+H55)
E56: Summe | F56: =SUM(F6:F55) -> 9379.1 | H56: =SUM(H6:H55) -> 1578.349 | I56: =SUM(I6:I55) -> 10957.449

Sheet Termine
B2: TERMINE
B3: Fristen und Fälligkeiten. „Rest“ und Ampel berechnen sich automatisch aus dem heutigen Datum.
B5: Kennzeichen | C5: Terminart | D5: Fällig am | E5: Rest | F5: Ampel | G5: Zuletzt am | H5: Intervall / Hinweis
B6: S-NA 210 | C6: Vertragsende | D6: =TODAY()+(17) -> 46312 | E6: =IF(D6="","",D6-TODAY()) -> 17 | F6: =IF(D6="","",IF(E6<0,"Überfällig",IF(E6<=30,"Bald fällig","OK"))) -> Bald fällig | H6: Anschluss klären | J6: =IF(D6="",9^9,E6+(ROW()-6)/100000) -> 17
B7: S-NA 210 | C7: HU/AU (Hauptuntersuchung) | D7: =TODAY()+(-6) -> 46289 | E7: =IF(D7="","",D7-TODAY()) -> -6 | F7: =IF(D7="","",IF(E7<0,"Überfällig",IF(E7<=30,"Bald fällig","OK"))) -> Überfällig | G7: =TODAY()+(-724) -> 45571 | H7: Alle 24 Monate | J7: =IF(D7="",9^9,E7+(ROW()-6)/100000) -> -5.99999
B8: F-NA 415 | C8: Sicherheitsprüfung (UVV) | D8: =TODAY()+(-2) -> 46293 | E8: =IF(D8="","",D8-TODAY()) -> -2 | F8: =IF(D8="","",IF(E8<0,"Überfällig",IF(E8<=30,"Bald fällig","OK"))) -> Überfällig | G8: =TODAY()+(-363) -> 45932 | H8: Jährlich – überfällig! | J8: =IF(D8="",9^9,E8+(ROW()-6)/100000) -> -1.99998
B9: D-NA 530 | C9: Vertragsende | D9: =TODAY()+(25) -> 46320 | E9: =IF(D9="","",D9-TODAY()) -> 25 | F9: =IF(D9="","",IF(E9<0,"Überfällig",IF(E9<=30,"Bald fällig","OK"))) -> Bald fällig | H9: Rückgabe planen | J9: =IF(D9="",9^9,E9+(ROW()-6)/100000) -> 25.00003
B10: D-NA 530 | C10: Inspektion | D10: =TODAY()+(58) -> 46353 | E10: =IF(D10="","",D10-TODAY()) -> 58 | F10: =IF(D10="","",IF(E10<0,"Überfällig",IF(E10<=30,"Bald fällig","OK"))) -> OK | G10: =TODAY()+(-307) -> 45988 | H10: Jährlich | J10: =IF(D10="",9^9,E10+(ROW()-6)/100000) -> 58.00004
B11: N-NA 860 | C11: HU/AU (Hauptuntersuchung) | D11: =TODAY()+(8) -> 46303 | E11: =IF(D11="","",D11-TODAY()) -> 8 | F11: =IF(D11="","",IF(E11<0,"Überfällig",IF(E11<=30,"Bald fällig","OK"))) -> Bald fällig | G11: =TODAY()+(-720) -> 45575 | H11: Alle 24 Monate | J11: =IF(D11="",9^9,E11+(ROW()-6)/100000) -> 8.00005
B12: F-NA 320 | C12: Führerscheinkontrolle | D12: =TODAY()+(73) -> 46368 | E12: =IF(D12="","",D12-TODAY()) -> 73 | F12: =IF(D12="","",IF(E12<0,"Überfällig",IF(E12<=30,"Bald fällig","OK"))) -> OK | G12: =TODAY()+(-108) -> 46187 | H12: Halbjährlich | J12: =IF(D12="",9^9,E12+(ROW()-6)/100000) -> 73.00006
B13: S-NA 100E | C13: Reifenwechsel | D13: =TODAY()+(21) -> 46316 | E13: =IF(D13="","",D13-TODAY()) -> 21 | F13: =IF(D13="","",IF(E13<0,"Überfällig",IF(E13<=30,"Bald fällig","OK"))) -> Bald fällig | G13: =TODAY()+(-165) -> 46130 | H13: Saisonal | J13: =IF(D13="",9^9,E13+(ROW()-6)/100000) -> 21.00007
B14: N-NA 755 | C14: Sicherheitsprüfung (UVV) | D14: =TODAY()+(132) -> 46427 | E14: =IF(D14="","",D14-TODAY()) -> 132 | F14: =IF(D14="","",IF(E14<0,"Überfällig",IF(E14<=30,"Bald fällig","OK"))) -> OK | G14: =TODAY()+(-233) -> 46062 | H14: Jährlich | J14: =IF(D14="",9^9,E14+(ROW()-6)/100000) -> 132.00008
B15: F-NA 360 | C15: HU/AU (Hauptuntersuchung) | D15: =TODAY()+(-14) -> 46281 | E15: =IF(D15="","",D15-TODAY()) -> -14 | F15: =IF(D15="","",IF(E15<0,"Überfällig",IF(E15<=30,"Bald fällig","OK"))) -> Überfällig | G15: =TODAY()+(-744) -> 45551 | H15: Alle 24 Monate – dringend | J15: =IF(D15="",9^9,E15+(ROW()-6)/100000) -> -13.99991
B16: D-NA 640 | C16: Vertragsende | D16: =TODAY()+(29) -> 46324 | E16: =IF(D16="","",D16-TODAY()) -> 29 | F16: =IF(D16="","",IF(E16<0,"Überfällig",IF(E16<=30,"Bald fällig","OK"))) -> Bald fällig | H16: Anschluss klären | J16: =IF(D16="",9^9,E16+(ROW()-6)/100000) -> 29.0001
B17: H-NA 985 | C17: Inspektion | D17: =TODAY()+(96) -> 46391 | E17: =IF(D17="","",D17-TODAY()) -> 96 | F17: =IF(D17="","",IF(E17<0,"Überfällig",IF(E17<=30,"Bald fällig","OK"))) -> OK | G17: =TODAY()+(-269) -> 46026 | H17: Jährlich | J17: =IF(D17="",9^9,E17+(ROW()-6)/100000) -> 96.00011
B18: F-NA 320 | C18: Versicherung | D18: =TODAY()+(4) -> 46299 | E18: =IF(D18="","",D18-TODAY()) -> 4 | F18: =IF(D18="","",IF(E18<0,"Überfällig",IF(E18<=30,"Bald fällig","OK"))) -> Bald fällig | G18: =TODAY()+(-88) -> 46207 | H18: Quartalsweise | J18: =IF(D18="",9^9,E18+(ROW()-6)/100000) -> 4.00012
B19: S-NA 245 | C19: Inspektion | D19: =TODAY()+(188) -> 46483 | E19: =IF(D19="","",D19-TODAY()) -> 188 | F19: =IF(D19="","",IF(E19<0,"Überfällig",IF(E19<=30,"Bald fällig","OK"))) -> OK | G19: =TODAY()+(-177) -> 46118 | H19: Jährlich | J19: =IF(D19="",9^9,E19+(ROW()-6)/100000) -> 188.00013
B20: N-NA 755 | C20: Reifenwechsel | D20: =TODAY()+(40) -> 46335 | E20: =IF(D20="","",D20-TODAY()) -> 40 | F20: =IF(D20="","",IF(E20<0,"Überfällig",IF(E20<=30,"Bald fällig","OK"))) -> OK | G20: =TODAY()+(-145) -> 46150 | H20: Saisonal | J20: =IF(D20="",9^9,E20+(ROW()-6)/100000) -> 40.00014
B21: F-NA 415 | C21: Vertragsende | D21: =TODAY()+(210) -> 46505 | E21: =IF(D21="","",D21-TODAY()) -> 210 | F21: =IF(D21="","",IF(E21<0,"Überfällig",IF(E21<=30,"Bald fällig","OK"))) -> OK | H21: Rückgabe planen | J21: =IF(D21="",9^9,E21+(ROW()-6)/100000) -> 210.00015
E22: =IF(D22="","",D22-TODAY()) | F22: =IF(D22="","",IF(E22<0,"Überfällig",IF(E22<=30,"Bald fällig","OK"))) | J22: =IF(D22="",9^9,E22+(ROW()-6)/100000) -> 387420489
E23: =IF(D23="","",D23-TODAY()) | F23: =IF(D23="","",IF(E23<0,"Überfällig",IF(E23<=30,"Bald fällig","OK"))) | J23: =IF(D23="",9^9,E23+(ROW()-6)/100000) -> 387420489
E24: =IF(D24="","",D24-TODAY()) | F24: =IF(D24="","",IF(E24<0,"Überfällig",IF(E24<=30,"Bald fällig","OK"))) | J24: =IF(D24="",9^9,E24+(ROW()-6)/100000) -> 387420489
E25: =IF(D25="","",D25-TODAY()) | F25: =IF(D25="","",IF(E25<0,"Überfällig",IF(E25<=30,"Bald fällig","OK"))) | J25: =IF(D25="",9^9,E25+(ROW()-6)/100000) -> 387420489
E26: =IF(D26="","",D26-TODAY()) | F26: =IF(D26="","",IF(E26<0,"Überfällig",IF(E26<=30,"Bald fällig","OK"))) | J26: =IF(D26="",9^9,E26+(ROW()-6)/100000) -> 387420489
E27: =IF(D27="","",D27-TODAY()) | F27: =IF(D27="","",IF(E27<0,"Überfällig",IF(E27<=30,"Bald fällig","OK"))) | J27: =IF(D27="",9^9,E27+(ROW()-6)/100000) -> 387420489

Sheet Analyse
B2: ANALYSE
B3: Automatische Auswertungen als Datenbasis für das Cockpit. Alles rechnet sich selbst.
B5: Kosten je Fahrzeug
B6: Brutto, laufendes Jahr
B7: Kennzeichen | C7: Brutto | D7: Anteil
B8: S-NA 100E | C8: =SUMIF(Kosten!$C$6:$C$55,B8,Kosten!$I$6:$I$55) -> 317.492 | D8: =IFERROR(C8/$C$20,0) -> 0.028974992
B9: S-NA 210 | C9: =SUMIF(Kosten!$C$6:$C$55,B9,Kosten!$I$6:$I$55) -> 1347.437 | D9: =IFERROR(C9/$C$20,0) -> 0.12296995
B10: S-NA 245 | C10: =SUMIF(Kosten!$C$6:$C$55,B10,Kosten!$I$6:$I$55) -> 636.91 | D10: =IFERROR(C10/$C$20,0) -> 0.058125755
B11: F-NA 320 | C11: =SUMIF(Kosten!$C$6:$C$55,B11,Kosten!$I$6:$I$55) -> 921.06 | D11: =IFERROR(C11/$C$20,0) -> 0.084057886
B12: F-NA 415 | C12: =SUMIF(Kosten!$C$6:$C$55,B12,Kosten!$I$6:$I$55) -> 1002.456 | D12: =IFERROR(C12/$C$20,0) -> 0.091486257
B13: F-NA 360 | C13: =SUMIF(Kosten!$C$6:$C$55,B13,Kosten!$I$6:$I$55) -> 1088.374 | D13: =IFERROR(C13/$C$20,0) -> 0.099327316
B14: D-NA 530 | C14: =SUMIF(Kosten!$C$6:$C$55,B14,Kosten!$I$6:$I$55) -> 1481.074 | D14: =IFERROR(C14/$C$20,0) -> 0.13516595
B15: D-NA 640 | C15: =SUMIF(Kosten!$C$6:$C$55,B15,Kosten!$I$6:$I$55) -> 349.265 | D15: =IFERROR(C15/$C$20,0) -> 0.031874664
B16: N-NA 755 | C16: =SUMIF(Kosten!$C$6:$C$55,B16,Kosten!$I$6:$I$55) -> 747.66 | D16: =IFERROR(C16/$C$20,0) -> 0.068233035
B17: N-NA 860 | C17: =SUMIF(Kosten!$C$6:$C$55,B17,Kosten!$I$6:$I$55) -> 1945.098 | D17: =IFERROR(C17/$C$20,0) -> 0.17751376
B18: H-NA 970 | C18: =SUMIF(Kosten!$C$6:$C$55,B18,Kosten!$I$6:$I$55) -> 0 | D18: =IFERROR(C18/$C$20,0) -> 0
B19: H-NA 985 | C19: =SUMIF(Kosten!$C$6:$C$55,B19,Kosten!$I$6:$I$55) -> 1120.623 | D19: =IFERROR(C19/$C$20,0) -> 0.10227043
B20: Gesamt | C20: =SUM(C8:C19) -> 10957.449
B23: Kosten je Kategorie
B24: Brutto, laufendes Jahr
B25: Kategorie | C25: Brutto | D25: Anteil
B26: Kraftstoff & Ladung | C26: =SUMIF(Kosten!$D$6:$D$55,B26,Kosten!$I$6:$I$55) -> 1606.619 | D26: =IFERROR(C26/$C$35,0) -> 0.14662345
B27: Wartung | C27: =SUMIF(Kosten!$D$6:$D$55,B27,Kosten!$I$6:$I$55) -> 2488.29 | D27: =IFERROR(C27/$C$35,0) -> 0.22708661
B28: Reparatur | C28: =SUMIF(Kosten!$D$6:$D$55,B28,Kosten!$I$6:$I$55) -> 3452.19 | D28: =IFERROR(C28/$C$35,0) -> 0.31505417
B29: Versicherung | C29: =SUMIF(Kosten!$D$6:$D$55,B29,Kosten!$I$6:$I$55) -> 898 | D29: =IFERROR(C29/$C$35,0) -> 0.081953382
B30: Kfz-Steuer | C30: =SUMIF(Kosten!$D$6:$D$55,B30,Kosten!$I$6:$I$55) -> 174 | D30: =IFERROR(C30/$C$35,0) -> 0.015879608
B31: Leasing/Finanzierung | C31: =SUMIF(Kosten!$D$6:$D$55,B31,Kosten!$I$6:$I$55) -> 1161.44 | D31: =IFERROR(C31/$C$35,0) -> 0.10599547
B32: Reifen | C32: =SUMIF(Kosten!$D$6:$D$55,B32,Kosten!$I$6:$I$55) -> 990.08 | D32: =IFERROR(C32/$C$35,0) -> 0.090356797
B33: Maut & Parken | C33: =SUMIF(Kosten!$D$6:$D$55,B33,Kosten!$I$6:$I$55) -> 73.78 | D33: =IFERROR(C33/$C$35,0) -> 0.006733319
B34: Sonstiges | C34: =SUMIF(Kosten!$D$6:$D$55,B34,Kosten!$I$6:$I$55) -> 113.05 | D34: =IFERROR(C34/$C$35,0) -> 0.010317182
B35: Gesamt | C35: =SUM(C26:C34) -> 10957.449
B38: Monatsverlauf 2026
B39: Brutto je Monat
B40: Monat | C40: Brutto
B41: Jan | C41: =SUMIFS(Kosten!$I$6:$I$55,Kosten!$B$6:$B$55,">="&DATE(2026,1,1),Kosten!$B$6:$B$55,"<"&DATE(2026,2,1)) -> 2137.045
B42: Feb | C42: =SUMIFS(Kosten!$I$6:$I$55,Kosten!$B$6:$B$55,">="&DATE(2026,2,1),Kosten!$B$6:$B$55,"<"&DATE(2026,3,1)) -> 2391.327
B43: Mär | C43: =SUMIFS(Kosten!$I$6:$I$55,Kosten!$B$6:$B$55,">="&DATE(2026,3,1),Kosten!$B$6:$B$55,"<"&DATE(2026,4,1)) -> 1821.533
B44: Apr | C44: =SUMIFS(Kosten!$I$6:$I$55,Kosten!$B$6:$B$55,">="&DATE(2026,4,1),Kosten!$B$6:$B$55,"<"&DATE(2026,5,1)) -> 1526.634
B45: Mai | C45: =SUMIFS(Kosten!$I$6:$I$55,Kosten!$B$6:$B$55,">="&DATE(2026,5,1),Kosten!$B$6:$B$55,"<"&DATE(2026,6,1)) -> 674.73
B46: Jun | C46: =SUMIFS(Kosten!$I$6:$I$55,Kosten!$B$6:$B$55,">="&DATE(2026,6,1),Kosten!$B$6:$B$55,"<"&DATE(2026,7,1)) -> 275.009
...

Sheet Info
B2: INFORMATION & ANLEITUNG
B3: Kurzüberblick, Blattstruktur, Farblogik und Pflegehinweise zu dieser Vorlage.
B5: Worum es geht
B7: Diese Arbeitsmappe ist ein kompaktes Fuhrpark-Reporting: Fahrzeugstammdaten, laufende Kosten und Termine an einem Ort, verdichtet zu Kennzahlen und Diagrammen. Alle Auswertungen berechnen sich automatisch aus Ihren Eingaben. Die Mappe enthält keine Makros und läuft vollständig offline.
B9: Die Blätter der Reihe nach
B11: Blatt | C11: Inhalt
B12: Cockpit | C12: Management-Übersicht mit Kennzahlen, Diagrammen (Kategorie, Fahrzeug, Monatsverlauf) und kritischen Terminen. Nur ansehen – nichts eintragen.
B13: Flotte | C13: Stammdaten je Fahrzeug. Das Kennzeichen ist der eindeutige Schlüssel für alle Verknüpfungen.
B14: Kosten | C14: Laufende Ausgaben je Beleg. MwSt-Betrag und Brutto werden automatisch gerechnet.
B15: Termine | C15: Fristen wie HU/AU, UVV, Inspektion oder Vertragsende – mit automatischer Ampel.
B16: Analyse | C16: Datenbasis des Cockpits: Summen je Fahrzeug und Kategorie, Monatsverlauf und TCO-Schätzung.
B17: Info | C17: Dieses Blatt.
B19: Farb- und Bedienlogik
B21: Blaue Schrift | C21: Eingabefelder – hier tragen Sie Ihre Werte ein.
B22: Marineblaue Schrift | C22: Automatisch berechnete Werte – bitte nicht überschreiben.
B23: Grün | C23: Status „Aktiv“ bzw. Ampel „OK“ – kein Handlungsbedarf.
B24: Gelb | C24: Ampel „Bald fällig“ – innerhalb von 30 Tagen einplanen.
B25: Rot | C25: Ampel „Überfällig“ – umgehend handeln.
B26: Messing-Linie | C26: Akzent- und Trennlinien der Abschnitte.
B28: In vier Schritten startklar
B30: 1. Fahrzeuge im Blatt „Flotte“ anlegen – ein eindeutiges Kennzeichen je Zeile.
B31: 2. Laufende Kosten im Blatt „Kosten“ erfassen; Kennzeichen und Kategorie per Dropdown wählen.
B32: 3. Fristen im Blatt „Termine“ pflegen – die Ampel rechnet automatisch.
B33: 4. Ergebnisse im „Cockpit“ und in der „Analyse“ verfolgen; beide aktualisieren sich selbst.
B35: Alle Namen, Kennzeichen, Firmen- und Zahlenangaben in dieser Vorlage sind frei erfunden und dienen nur der Veranschaulichung. Für belastbare Auswertungen verwenden Sie in allen Blättern identische Kennzeichen.

Sheet Listen
A1: Hilfsdaten für Dropdowns – bitte nicht löschen.
A2: Status | B2: Antrieb | C2: Segment | D2: Vertragsart | E2: Kategorie | F2: Terminart | G2: MwSt
A3: Aktiv | B3: Elektro | C3: Firmenwagen | D3: Leasing | E3: Kraftstoff & Ladung | F3: HU/AU (Hauptuntersuchung) | G3: 0.19
A4: In Wartung | B4: Diesel | C4: Poolfahrzeug | D4: Kauf | E4: Wartung | F4: Sicherheitsprüfung (UVV) | G4: 0.07
A5: Reserviert | B5: Benzin | C5: Servicefahrzeug | D5: Finanzierung | E5: Reparatur | F5: Inspektion | G5: 0
A6: Stillgelegt | B6: Plug-in-Hybrid | C6: Transporter | D6: Langzeitmiete | E6: Versicherung | F6: Reifenwechsel
A7: Verkauft | B7: Hybrid | C7: LKW | E7: Kfz-Steuer | F7: Führerscheinkontrolle
B8: LPG | E8: Leasing/Finanzierung | F8: Vertragsende
E9: Reifen | F9: Versicherung
E10: Maut & Parken
E11: Sonstiges
