Workbook

Sheet Stundenplan
B2: 26 27 | C2: Wochenstundenplan | F2: STUNDENPLAN
C4: Klasse · Kurs · persönlicher Plan | F4: Schuljahr 2026 / 2027
B7: NAME | E7: KLASSE / KURS | F7: SCHULJAHR | H7: GÜLTIG AB
B8: Mustermann, Max | E8: Klasse 9b | F8: 2026 / 2027 | H8: 07.09.2026
B10: Unterrichtsbeginn | D10: 0.33333333 | E10: Stundenlänge (Min.) | G10: 45 | H10: ↳ ändert alle Uhrzeiten automatisch
B12: ZEIT | E12: Montag | F12: Dienstag | G12: Mittwoch | H12: Donnerstag | I12: Freitag
B13: 1. | C13: =$D$10 -> 0.33333333 | D13: =C13+$G$10/1440 -> 0.36458333 | E13: Mathematik | F13: Englisch | G13: Deutsch | H13: Physik | I13: Mathematik
B14: 2. | C14: =D13 -> 0.36458333 | D14: =C14+$G$10/1440 -> 0.39583333 | E14: Deutsch | F14: Englisch | G14: Mathematik | H14: Englisch | I14: Biologie
C15: =D14 -> 0.39583333 | D15: =C15+15/1440 -> 0.40625 | E15: Kleine Pause
B16: 3. | C16: =D15 -> 0.40625 | D16: =C16+$G$10/1440 -> 0.4375 | E16: Englisch | F16: Mathematik | G16: Chemie | H16: Mathematik | I16: Englisch
B17: 4. | C17: =D16 -> 0.4375 | D17: =C17+$G$10/1440 -> 0.46875 | E17: Biologie | F17: Physik | G17: Biologie | H17: Deutsch | I17: Deutsch
C18: =D17 -> 0.46875 | D18: =C18+20/1440 -> 0.48263889 | E18: Große Pause
B19: 5. | C19: =D18 -> 0.48263889 | D19: =C19+$G$10/1440 -> 0.51388889 | E19: Sport | F19: Deutsch | G19: Kunst | H19: Geschichte | I19: Erdkunde
B20: 6. | C20: =D19 -> 0.51388889 | D20: =C20+$G$10/1440 -> 0.54513889 | E20: Sport | F20: Erdkunde | G20: Kunst | H20: Informatik | I20: Musik
C21: =D20 -> 0.54513889 | D21: =C21+45/1440 -> 0.57638889 | E21: Mittagspause
B22: 7. | C22: =D21 -> 0.57638889 | D22: =C22+$G$10/1440 -> 0.60763889 | E22: Geschichte | G22: Musik | H22: Sport
B23: 8. | C23: =D22 -> 0.60763889 | D23: =C23+$G$10/1440 -> 0.63888889 | H23: Sport
B25: STUNDEN / TAG | E25: =COUNTA(E13:E14,E16:E17,E19:E20,E22:E23) -> 7 | F25: =COUNTA(F13:F14,F16:F17,F19:F20,F22:F23) -> 6 | G25: =COUNTA(G13:G14,G16:G17,G19:G20,G22:G23) -> 7 | H25: =COUNTA(H13:H14,H16:H17,H19:H20,H22:H23) -> 8 | I25: =COUNTA(I13:I14,I16:I17,I19:I20,I22:I23) -> 6
B27: WOCHENSTUNDEN GESAMT | E27: =SUM(E25:I25) -> 34 | G27: Unterrichtsstunden pro Woche
B29: FARBLEGENDE DER FÄCHER · volle Namen, Lehrkräfte & Räume siehe Blatt „Fächer“
B30: Ma Mathematik | D30: De Deutsch | F30: En Englisch | H30: Bio Biologie
B31: Ph Physik | D31: Ch Chemie | F31: Ge Geschichte | H31: Ek Erdkunde
B32: Sp Sport | D32: Ku Kunst | F32: Mu Musik | H32: If Informatik

Sheet Fächer
B2: 26 27 | C2: Fächer & Lehrkräfte | F2: STUNDENPLAN
C4: Stammdaten für den Stundenplan | F4: Schuljahr 2026 / 2027
B7: Diese Liste speist die Auswahl im Stundenplan. Neue Fächer einfach ergänzen – sie erscheinen dort automatisch im Dropdown.
B8: FACH | C8: KÜRZEL | D8: LEHRKRAFT | E8: RAUM | F8: FARBE | G8: STD./WOCHE
B9: Mathematik | C9: Ma | D9: Fr. Berg | E9: A12 | F9: Ma | G9: =COUNTIF(Stundenplan!$E$13:$I$23,B9) -> 5
B10: Deutsch | C10: De | D10: Hr. Lang | E10: B07 | F10: De | G10: =COUNTIF(Stundenplan!$E$13:$I$23,B10) -> 5
B11: Englisch | C11: En | D11: Fr. Sommer | E11: B09 | F11: En | G11: =COUNTIF(Stundenplan!$E$13:$I$23,B11) -> 5
B12: Biologie | C12: Bio | D12: Hr. Falk | E12: C03 | F12: Bio | G12: =COUNTIF(Stundenplan!$E$13:$I$23,B12) -> 3
B13: Physik | C13: Ph | D13: Fr. Kaiser | E13: C01 | F13: Ph | G13: =COUNTIF(Stundenplan!$E$13:$I$23,B13) -> 2
B14: Chemie | C14: Ch | D14: Hr. Richter | E14: C02 | F14: Ch | G14: =COUNTIF(Stundenplan!$E$13:$I$23,B14) -> 1
B15: Geschichte | C15: Ge | D15: Fr. Hoffmann | E15: A08 | F15: Ge | G15: =COUNTIF(Stundenplan!$E$13:$I$23,B15) -> 2
B16: Erdkunde | C16: Ek | D16: Hr. Busch | E16: A09 | F16: Ek | G16: =COUNTIF(Stundenplan!$E$13:$I$23,B16) -> 2
B17: Sport | C17: Sp | D17: Fr. Wolf | E17: Halle 1 | F17: Sp | G17: =COUNTIF(Stundenplan!$E$13:$I$23,B17) -> 4
B18: Kunst | C18: Ku | D18: Fr. Linde | E18: D04 | F18: Ku | G18: =COUNTIF(Stundenplan!$E$13:$I$23,B18) -> 2
B19: Musik | C19: Mu | D19: Hr. Peters | E19: D06 | F19: Mu | G19: =COUNTIF(Stundenplan!$E$13:$I$23,B19) -> 2
B20: Informatik | C20: If | D20: Hr. Neumann | E20: PC1 | F20: If | G20: =COUNTIF(Stundenplan!$E$13:$I$23,B20) -> 1
B21: SUMME UNTERRICHTSSTUNDEN / WOCHE | G21: =SUM(G9:G20) -> 34
B23: Tipp: Die Spalte „Std./Woche“ zählt automatisch, wie oft jedes Fach im Stundenplan vorkommt.

Sheet Anleitung
B2: 26 27 | C2: Anleitung & Hinweise | F2: STUNDENPLAN
C4: Zur Verwendung dieser Vorlage | F4: Schuljahr 2026 / 2027
B7: 1 · So verwenden Sie diese Vorlage
B8: 1 | C8: Kopfdaten eintragen | D8: Name, Klasse/Kurs, Schuljahr und Gültigkeitsdatum oben ausfüllen.
B9: 2 | C9: Fächer wählen | D9: In die Rasterzellen klicken und das Fach aus der Dropdown-Liste wählen. Jedes Fach erhält automatisch seine Farbe.
B10: 3 | C10: Zeiten anpassen | D10: Unterrichtsbeginn und Stundenlänge oben ändern – alle Uhrzeiten im Raster berechnen sich neu.
B11: 4 | C11: Fächer pflegen | D11: Im Blatt „Fächer“ Lehrkräfte, Räume und neue Fächer ergänzen; sie stehen sofort im Dropdown bereit.
B12: 5 | C12: Drucken / Speichern | D12: Der Plan ist für den Querdruck auf DIN A4 eingerichtet und lässt sich als PDF weitergeben.
B14: 2 · Felder & Farben
C15: Eingabefeld | D15: Konfiguration (Beginn, Stundenlänge) – gelb hinterlegt.
C16: Fachzelle | D16: Färbt sich automatisch nach gewähltem Fach.
C17: Pause | D17: Pausen- und Mittagszeiten, fest hinterlegt.
C18: Zeitspalte | D18: Stunden-Nr. und Uhrzeiten – automatisch berechnet.
B20: 3 · Rechenlogik
C21: Uhrzeit je Stunde | D21: Beginn bzw. Ende der Vorstunde + Stundenlänge (bzw. Pausendauer)
C22: Stunden / Tag | D22: Anzahl der belegten Unterrichtszellen je Wochentag
C23: Wochenstunden gesamt | D23: Summe aller Tageswerte
C24: Std./Woche je Fach | D24: Zählt, wie oft ein Fach im Raster vorkommt
B26: 4 · Gut zu wissen
B27: ■ | C27: Die Vorlage ist auf eine 5-Tage-Woche (Mo–Fr) mit 8 Stunden und drei Pausen ausgelegt.
B28: ■ | C28: Für eine 6-Tage-Woche kann eine weitere Tagesspalte ergänzt werden.
B29: ■ | C29: Freistunden bleiben einfach leer; sie zählen nicht als Unterrichtsstunde.
B30: ■ | C30: Einmal angelegt, lässt sich der Plan jedes Halbjahr schnell anpassen statt neu zu erstellen.
