Workbook

Sheet Übersicht
B2: VORBEREITUNGSPLAN · FUSSBALL
B4: Saisonvorbereitung – Übersicht & Kennzahlen
B6: VEREIN | C6: =Konfiguration!C5 -> SV Musterstadt 1920 | E6: SAISON | F6: =Konfiguration!C6 -> 2026/27 | H6: TRAINER | I6: =Konfiguration!C7 -> M. Mustermann
B8: TAGE BIS SAISONSTART | E8: VORBEREITUNGSWOCHEN | H8: TRAININGSEINHEITEN
B9: =MAX(0,Konfiguration!C9-TODAY()) -> 0 | E9: =MAX(Trainingsplan!D8:D49) -> 6 | H9: =COUNTIFS(Trainingsplan!F8:F49,"<>Ruhetag",Trainingsplan!F8:F49,"<>Testspiel",Trainingsplan!F8:F49,"<>Leistungstest",Trainingsplan!H8:H49,">0") -> 26
B12: TESTSPIELE | E12: TRAININGSMINUTEN | H12: GESAMTBELASTUNG
B13: =COUNT(Testspiele!H6:H15) -> 7 | E13: =SUMIFS(Trainingsplan!H8:H49,Trainingsplan!F8:F49,"<>Testspiel") -> 2290 | H13: =SUM(Trainingsplan!J8:J49) -> 9852
B16: Ø BELASTUNG / WOCHE | E16: Ø INTENSITÄT | H16: BILANZ (S–U–N)
B17: =IFERROR(ROUND(SUM(Trainingsplan!J8:J49)/MAX(Trainingsplan!D8:D49),0),0) -> 1642 | E17: =IFERROR(ROUND(AVERAGEIF(Trainingsplan!I8:I49,">0"),1),0) -> 3.3 | H17: =COUNTIF(Testspiele!K6:K15,"Sieg")&" – "&COUNTIF(Testspiele!K6:K15,"Unentschieden")&" – "&COUNTIF(Testspiele!K6:K15,"Niederlage") -> 5 – 2 – 0
B21: BELASTUNG JE WOCHE | H21: BELASTUNG JE PHASE
B22: Woche | C22: Belastung | D22: Minuten | E22: Einheiten | H22: Phase | I22: Belastung | K22: Anteil
B23: Woche 1 | C23: =SUMIF(Trainingsplan!D8:D49,1,Trainingsplan!J8:J49) -> 1635 | D23: =SUMIFS(Trainingsplan!H8:H49,Trainingsplan!D8:D49,1,Trainingsplan!F8:F49,"<>Testspiel") -> 395 | E23: =COUNTIFS(Trainingsplan!D8:D49,1,Trainingsplan!F8:F49,"<>Ruhetag",Trainingsplan!F8:F49,"<>Testspiel",Trainingsplan!F8:F49,"<>Leistungstest",Trainingsplan!H8:H49,">0") -> 4 | H23: Grundlagenphase | I23: =SUMIF(Trainingsplan!E8:E49,H23,Trainingsplan!J8:J49) -> 3230 | K23: =IFERROR(SUMIF(Trainingsplan!E8:E49,H23,Trainingsplan!J8:J49)/SUM(Trainingsplan!J8:J49),0) -> 0.32785221
B24: Woche 2 | C24: =SUMIF(Trainingsplan!D8:D49,2,Trainingsplan!J8:J49) -> 1595 | D24: =SUMIFS(Trainingsplan!H8:H49,Trainingsplan!D8:D49,2,Trainingsplan!F8:F49,"<>Testspiel") -> 365 | E24: =COUNTIFS(Trainingsplan!D8:D49,2,Trainingsplan!F8:F49,"<>Ruhetag",Trainingsplan!F8:F49,"<>Testspiel",Trainingsplan!F8:F49,"<>Leistungstest",Trainingsplan!H8:H49,">0") -> 4 | H24: Aufbauphase | I24: =SUMIF(Trainingsplan!E8:E49,H24,Trainingsplan!J8:J49) -> 3015 | K24: =IFERROR(SUMIF(Trainingsplan!E8:E49,H24,Trainingsplan!J8:J49)/SUM(Trainingsplan!J8:J49),0) -> 0.30602923
B25: Woche 3 | C25: =SUMIF(Trainingsplan!D8:D49,3,Trainingsplan!J8:J49) -> 3015 | D25: =SUMIFS(Trainingsplan!H8:H49,Trainingsplan!D8:D49,3,Trainingsplan!F8:F49,"<>Testspiel") -> 585 | E25: =COUNTIFS(Trainingsplan!D8:D49,3,Trainingsplan!F8:F49,"<>Ruhetag",Trainingsplan!F8:F49,"<>Testspiel",Trainingsplan!F8:F49,"<>Leistungstest",Trainingsplan!H8:H49,">0") -> 5 | H25: Spezifische Phase | I25: =SUMIF(Trainingsplan!E8:E49,H25,Trainingsplan!J8:J49) -> 2935 | K25: =IFERROR(SUMIF(Trainingsplan!E8:E49,H25,Trainingsplan!J8:J49)/SUM(Trainingsplan!J8:J49),0) -> 0.29790905
B26: Woche 4 | C26: =SUMIF(Trainingsplan!D8:D49,4,Trainingsplan!J8:J49) -> 1425 | D26: =SUMIFS(Trainingsplan!H8:H49,Trainingsplan!D8:D49,4,Trainingsplan!F8:F49,"<>Testspiel") -> 325 | E26: =COUNTIFS(Trainingsplan!D8:D49,4,Trainingsplan!F8:F49,"<>Ruhetag",Trainingsplan!F8:F49,"<>Testspiel",Trainingsplan!F8:F49,"<>Leistungstest",Trainingsplan!H8:H49,">0") -> 4 | H26: Feinschliff | I26: =SUMIF(Trainingsplan!E8:E49,H26,Trainingsplan!J8:J49) -> 672 | K26: =IFERROR(SUMIF(Trainingsplan!E8:E49,H26,Trainingsplan!J8:J49)/SUM(Trainingsplan!J8:J49),0) -> 0.068209501
B27: Woche 5 | C27: =SUMIF(Trainingsplan!D8:D49,5,Trainingsplan!J8:J49) -> 1510 | D27: =SUMIFS(Trainingsplan!H8:H49,Trainingsplan!D8:D49,5,Trainingsplan!F8:F49,"<>Testspiel") -> 325 | E27: =COUNTIFS(Trainingsplan!D8:D49,5,Trainingsplan!F8:F49,"<>Ruhetag",Trainingsplan!F8:F49,"<>Testspiel",Trainingsplan!F8:F49,"<>Leistungstest",Trainingsplan!H8:H49,">0") -> 4
B28: Woche 6 | C28: =SUMIF(Trainingsplan!D8:D49,6,Trainingsplan!J8:J49) -> 672 | D28: =SUMIFS(Trainingsplan!H8:H49,Trainingsplan!D8:D49,6,Trainingsplan!F8:F49,"<>Testspiel") -> 295 | E28: =COUNTIFS(Trainingsplan!D8:D49,6,Trainingsplan!F8:F49,"<>Ruhetag",Trainingsplan!F8:F49,"<>Testspiel",Trainingsplan!F8:F49,"<>Leistungstest",Trainingsplan!H8:H49,">0") -> 5
B46: Hinweis: Belastung = Dauer (Min) × Intensität (1–5). Alle Kennzahlen aktualisieren sich automatisch aus den Blättern „Trainingsplan" und „Testspiele".

Sheet Trainingsplan
A1: VORBEREITUNGSPLAN · FUSSBALL
A3: Saisonvorbereitung – Trainingssteuerung nach Wochen und Phasen
A5: Verein: | B5: =Konfiguration!C5 -> SV Musterstadt 1920 | E5: Saison: | F5: =Konfiguration!C6 -> 2026/27 | H5: Legende Intensität: | J5: 1 locker · 3 mittel · 5 sehr hoch
A6: Zeitraum: | B6: =Konfiguration!C8 -> 46209 | C6: – | D6: =Konfiguration!C9 -> 46250
A7: Datum | B7: Tag | C7: KW | D7: Vorb.-Woche | E7: Phase | F7: Trainingsart | G7: Schwerpunkt | H7: Dauer (Min) | I7: Intensität (1–5) | J7: Belastung | K7: Ort | L7: Anwesend | M7: Notizen
A8: 46209 | B8: =CHOOSE(WEEKDAY(A8,2),"Mo","Di","Mi","Do","Fr","Sa","So") -> Mo | C8: =_xlfn.ISOWEEKNUM(A8) -> 28 | D8: =INT((A8-Konfiguration!$C$8)/7)+1 -> 1 | E8: Grundlagenphase | F8: Leistungstest | G8: Leistungsdiagnostik & Laktattest | H8: 75 | I8: 3 | J8: =IF(N(H8)*N(I8)=0,"",H8*I8) -> 225 | K8: Sportplatz Platz 1 | L8: 17
A9: 46210 | B9: =CHOOSE(WEEKDAY(A9,2),"Mo","Di","Mi","Do","Fr","Sa","So") -> Di | C9: =_xlfn.ISOWEEKNUM(A9) -> 28 | D9: =INT((A9-Konfiguration!$C$8)/7)+1 -> 1 | E9: Grundlagenphase | F9: Ausdauer | G9: Grundlagenausdauer (Dauerlauf) | H9: 80 | I9: 3 | J9: =IF(N(H9)*N(I9)=0,"",H9*I9) -> 240 | K9: Waldstrecke | L9: 18
A10: 46211 | B10: =CHOOSE(WEEKDAY(A10,2),"Mo","Di","Mi","Do","Fr","Sa","So") -> Mi | C10: =_xlfn.ISOWEEKNUM(A10) -> 28 | D10: =INT((A10-Konfiguration!$C$8)/7)+1 -> 1 | E10: Grundlagenphase | F10: Ausdauer | G10: Intervallläufe | H10: 80 | I10: 3 | J10: =IF(N(H10)*N(I10)=0,"",H10*I10) -> 240 | K10: Waldstrecke | L10: 19
A11: 46212 | B11: =CHOOSE(WEEKDAY(A11,2),"Mo","Di","Mi","Do","Fr","Sa","So") -> Do | C11: =_xlfn.ISOWEEKNUM(A11) -> 28 | D11: =INT((A11-Konfiguration!$C$8)/7)+1 -> 1 | E11: Grundlagenphase | F11: Taktik | G11: Defensivverhalten im Verbund | H11: 90 | I11: 4 | J11: =IF(N(H11)*N(I11)=0,"",H11*I11) -> 360 | K11: Sportplatz Platz 1 | L11: 20
A12: 46213 | B12: =CHOOSE(WEEKDAY(A12,2),"Mo","Di","Mi","Do","Fr","Sa","So") -> Fr | C12: =_xlfn.ISOWEEKNUM(A12) -> 28 | D12: =INT((A12-Konfiguration!$C$8)/7)+1 -> 1 | E12: Grundlagenphase | F12: Kraft | G12: Stabilisation & Rumpf | H12: 70 | I12: 3 | J12: =IF(N(H12)*N(I12)=0,"",H12*I12) -> 210 | K12: Kraftraum | L12: 21
A13: 46214 | B13: =CHOOSE(WEEKDAY(A13,2),"Mo","Di","Mi","Do","Fr","Sa","So") -> Sa | C13: =_xlfn.ISOWEEKNUM(A13) -> 28 | D13: =INT((A13-Konfiguration!$C$8)/7)+1 -> 1 | E13: Grundlagenphase | F13: Testspiel | G13: Testspiel gegen TSV Musterstadt | H13: 90 | I13: 4 | J13: =IF(N(H13)*N(I13)=0,"",H13*I13) -> 360 | K13: Auswärts | L13: 18
A14: 46215 | B14: =CHOOSE(WEEKDAY(A14,2),"Mo","Di","Mi","Do","Fr","Sa","So") -> So | C14: =_xlfn.ISOWEEKNUM(A14) -> 28 | D14: =INT((A14-Konfiguration!$C$8)/7)+1 -> 1 | E14: Grundlagenphase | F14: Ruhetag | J14: =IF(N(H14)*N(I14)=0,"",H14*I14)
A15: 46216 | B15: =CHOOSE(WEEKDAY(A15,2),"Mo","Di","Mi","Do","Fr","Sa","So") -> Mo | C15: =_xlfn.ISOWEEKNUM(A15) -> 29 | D15: =INT((A15-Konfiguration!$C$8)/7)+1 -> 2 | E15: Grundlagenphase | F15: Ruhetag | J15: =IF(N(H15)*N(I15)=0,"",H15*I15)
A16: 46217 | B16: =CHOOSE(WEEKDAY(A16,2),"Mo","Di","Mi","Do","Fr","Sa","So") -> Di | C16: =_xlfn.ISOWEEKNUM(A16) -> 29 | D16: =INT((A16-Konfiguration!$C$8)/7)+1 -> 2 | E16: Grundlagenphase | F16: Ausdauer | G16: Tempoläufe mit Ball | H16: 90 | I16: 3 | J16: =IF(N(H16)*N(I16)=0,"",H16*I16) -> 270 | K16: Waldstrecke | L16: 20
A17: 46218 | B17: =CHOOSE(WEEKDAY(A17,2),"Mo","Di","Mi","Do","Fr","Sa","So") -> Mi | C17: =_xlfn.ISOWEEKNUM(A17) -> 29 | D17: =INT((A17-Konfiguration!$C$8)/7)+1 -> 2 | E17: Grundlagenphase | F17: Technik | G17: Passspiel & Ballkontrolle | H17: 95 | I17: 3 | J17: =IF(N(H17)*N(I17)=0,"",H17*I17) -> 285 | K17: Sportplatz Platz 1 | L17: 21
A18: 46219 | B18: =CHOOSE(WEEKDAY(A18,2),"Mo","Di","Mi","Do","Fr","Sa","So") -> Do | C18: =_xlfn.ISOWEEKNUM(A18) -> 29 | D18: =INT((A18-Konfiguration!$C$8)/7)+1 -> 2 | E18: Grundlagenphase | F18: Taktik | G18: Offensives Pressing | H18: 100 | I18: 4 | J18: =IF(N(H18)*N(I18)=0,"",H18*I18) -> 400 | K18: Sportplatz Platz 1 | L18: 17
A19: 46220 | B19: =CHOOSE(WEEKDAY(A19,2),"Mo","Di","Mi","Do","Fr","Sa","So") -> Fr | C19: =_xlfn.ISOWEEKNUM(A19) -> 29 | D19: =INT((A19-Konfiguration!$C$8)/7)+1 -> 2 | E19: Grundlagenphase | F19: Kraft | G19: Kraftausdauer Zirkel | H19: 80 | I19: 3 | J19: =IF(N(H19)*N(I19)=0,"",H19*I19) -> 240 | K19: Kraftraum | L19: 18
A20: 46221 | B20: =CHOOSE(WEEKDAY(A20,2),"Mo","Di","Mi","Do","Fr","Sa","So") -> Sa | C20: =_xlfn.ISOWEEKNUM(A20) -> 29 | D20: =INT((A20-Konfiguration!$C$8)/7)+1 -> 2 | E20: Grundlagenphase | F20: Testspiel | G20: Testspiel gegen SV Beispieldorf | H20: 100 | I20: 4 | J20: =IF(N(H20)*N(I20)=0,"",H20*I20) -> 400 | K20: Auswärts | L20: 18
A21: 46222 | B21: =CHOOSE(WEEKDAY(A21,2),"Mo","Di","Mi","Do","Fr","Sa","So") -> So | C21: =_xlfn.ISOWEEKNUM(A21) -> 29 | D21: =INT((A21-Konfiguration!$C$8)/7)+1 -> 2 | E21: Grundlagenphase | F21: Ruhetag | J21: =IF(N(H21)*N(I21)=0,"",H21*I21)
A22: 46223 | B22: =CHOOSE(WEEKDAY(A22,2),"Mo","Di","Mi","Do","Fr","Sa","So") -> Mo | C22: =_xlfn.ISOWEEKNUM(A22) -> 30 | D22: =INT((A22-Konfiguration!$C$8)/7)+1 -> 3 | E22: Aufbauphase | F22: Ruhetag | J22: =IF(N(H22)*N(I22)=0,"",H22*I22)
A23: 46224 | B23: =CHOOSE(WEEKDAY(A23,2),"Mo","Di","Mi","Do","Fr","Sa","So") -> Di | C23: =_xlfn.ISOWEEKNUM(A23) -> 30 | D23: =INT((A23-Konfiguration!$C$8)/7)+1 -> 3 | E23: Aufbauphase | F23: Trainingslager | G23: Trainingslager – Doppeleinheit | H23: 150 | I23: 5 | J23: =IF(N(H23)*N(I23)=0,"",H23*I23) -> 750 | K23: Trainingslager | L23: 17
A24: 46225 | B24: =CHOOSE(WEEKDAY(A24,2),"Mo","Di","Mi","Do","Fr","Sa","So") -> Mi | C24: =_xlfn.ISOWEEKNUM(A24) -> 30 | D24: =INT((A24-Konfiguration!$C$8)/7)+1 -> 3 | E24: Aufbauphase | F24: Trainingslager | G24: Trainingslager – Taktikblock | H24: 150 | I24: 5 | J24: =IF(N(H24)*N(I24)=0,"",H24*I24) -> 750 | K24: Trainingslager | L24: 18
A25: 46226 | B25: =CHOOSE(WEEKDAY(A25,2),"Mo","Di","Mi","Do","Fr","Sa","So") -> Do | C25: =_xlfn.ISOWEEKNUM(A25) -> 30 | D25: =INT((A25-Konfiguration!$C$8)/7)+1 -> 3 | E25: Aufbauphase | F25: Trainingslager | G25: Trainingslager – Doppeleinheit | H25: 150 | I25: 5 | J25: =IF(N(H25)*N(I25)=0,"",H25*I25) -> 750 | K25: Trainingslager | L25: 19
A26: 46227 | B26: =CHOOSE(WEEKDAY(A26,2),"Mo","Di","Mi","Do","Fr","Sa","So") -> Fr | C26: =_xlfn.ISOWEEKNUM(A26) -> 30 | D26: =INT((A26-Konfiguration!$C$8)/7)+1 -> 3 | E26: Aufbauphase | F26: Taktik | G26: Umschaltspiel | H26: 90 | I26: 4 | J26: =IF(N(H26)*N(I26)=0,"",H26*I26) -> 360 | K26: Sportplatz Platz 1 | L26: 20
A27: 46228 | B27: =CHOOSE(WEEKDAY(A27,2),"Mo","Di","Mi","Do","Fr","Sa","So") -> Sa | C27: =_xlfn.ISOWEEKNUM(A27) -> 30 | D27: =INT((A27-Konfiguration!$C$8)/7)+1 -> 3 | E27: Aufbauphase | F27: Testspiel | G27: Testspiel gegen SG Muster/Vorlage | H27: 90 | I27: 4 | J27: =IF(N(H27)*N(I27)=0,"",H27*I27) -> 360 | K27: Auswärts | L27: 18
A28: 46229 | B28: =CHOOSE(WEEKDAY(A28,2),"Mo","Di","Mi","Do","Fr","Sa","So") -> So | C28: =_xlfn.ISOWEEKNUM(A28) -> 30 | D28: =INT((A28-Konfiguration!$C$8)/7)+1 -> 3 | E28: Aufbauphase | F28: Regeneration | G28: Regeneration & Mobilität | H28: 45 | I28: 1 | J28: =IF(N(H28)*N(I28)=0,"",H28*I28) -> 45 | K28: Sportplatz Platz 2 | L28: 17
A29: 46230 | B29: =CHOOSE(WEEKDAY(A29,2),"Mo","Di","Mi","Do","Fr","Sa","So") -> Mo | C29: =_xlfn.ISOWEEKNUM(A29) -> 31 | D29: =INT((A29-Konfiguration!$C$8)/7)+1 -> 4 | E29: Spezifische Phase | F29: Ruhetag | J29: =IF(N(H29)*N(I29)=0,"",H29*I29)
A30: 46231 | B30: =CHOOSE(WEEKDAY(A30,2),"Mo","Di","Mi","Do","Fr","Sa","So") -> Di | C30: =_xlfn.ISOWEEKNUM(A30) -> 31 | D30: =INT((A30-Konfiguration!$C$8)/7)+1 -> 4 | E30: Spezifische Phase | F30: Ausdauer | G30: Grundlagenausdauer (Dauerlauf) | H30: 80 | I30: 3 | J30: =IF(N(H30)*N(I30)=0,"",H30*I30) -> 240 | K30: Waldstrecke | L30: 19
A31: 46232 | B31: =CHOOSE(WEEKDAY(A31,2),"Mo","Di","Mi","Do","Fr","Sa","So") -> Mi | C31: =_xlfn.ISOWEEKNUM(A31) -> 31 | D31: =INT((A31-Konfiguration!$C$8)/7)+1 -> 4 | E31: Spezifische Phase | F31: Taktik | G31: Spielaufbau von hinten | H31: 85 | I31: 3 | J31: =IF(N(H31)*N(I31)=0,"",H31*I31) -> 255 | K31: Sportplatz Platz 1 | L31: 20
A32: 46233 | B32: =CHOOSE(WEEKDAY(A32,2),"Mo","Di","Mi","Do","Fr","Sa","So") -> Do | C32: =_xlfn.ISOWEEKNUM(A32) -> 31 | D32: =INT((A32-Konfiguration!$C$8)/7)+1 -> 4 | E32: Spezifische Phase | F32: Taktik | G32: Standardsituationen | H32: 90 | I32: 4 | J32: =IF(N(H32)*N(I32)=0,"",H32*I32) -> 360 | K32: Sportplatz Platz 1 | L32: 21
A33: 46234 | B33: =CHOOSE(WEEKDAY(A33,2),"Mo","Di","Mi","Do","Fr","Sa","So") -> Fr | C33: =_xlfn.ISOWEEKNUM(A33) -> 31 | D33: =INT((A33-Konfiguration!$C$8)/7)+1 -> 4 | E33: Spezifische Phase | F33: Kraft | G33: Maximalkraft Beine | H33: 70 | I33: 3 | J33: =IF(N(H33)*N(I33)=0,"",H33*I33) -> 210 | K33: Kraftraum | L33: 17
A34: 46235 | B34: =CHOOSE(WEEKDAY(A34,2),"Mo","Di","Mi","Do","Fr","Sa","So") -> Sa | C34: =_xlfn.ISOWEEKNUM(A34) -> 31 | D34: =INT((A34-Konfiguration!$C$8)/7)+1 -> 4 | E34: Spezifische Phase | F34: Testspiel | G34: Testspiel gegen VfL Beispielheim | H34: 90 | I34: 4 | J34: =IF(N(H34)*N(I34)=0,"",H34*I34) -> 360 | K34: Auswärts | L34: 18
A35: 46236 | B35: =CHOOSE(WEEKDAY(A35,2),"Mo","Di","Mi","Do","Fr","Sa","So") -> So | C35: =_xlfn.ISOWEEKNUM(A35) -> 31 | D35: =INT((A35-Konfiguration!$C$8)/7)+1 -> 4 | E35: Spezifische Phase | F35: Ruhetag | J35: =IF(N(H35)*N(I35)=0,"",H35*I35)
A36: 46237 | B36: =CHOOSE(WEEKDAY(A36,2),"Mo","Di","Mi","Do","Fr","Sa","So") -> Mo | C36: =_xlfn.ISOWEEKNUM(A36) -> 32 | D36: =INT((A36-Konfiguration!$C$8)/7)+1 -> 5 | E36: Spezifische Phase | F36: Ruhetag | J36: =IF(N(H36)*N(I36)=0,"",H36*I36)
A37: 46238 | B37: =CHOOSE(WEEKDAY(A37,2),"Mo","Di","Mi","Do","Fr","Sa","So") -> Di | C37: =_xlfn.ISOWEEKNUM(A37) -> 32 | D37: =INT((A37-Konfiguration!$C$8)/7)+1 -> 5 | E37: Spezifische Phase | F37: Ausdauer | G37: Intervallläufe | H37: 80 | I37: 3 | J37: =IF(N(H37)*N(I37)=0,"",H37*I37) -> 240 | K37: Waldstrecke | L37: 21
A38: 46239 | B38: =CHOOSE(WEEKDAY(A38,2),"Mo","Di","Mi","Do","Fr","Sa","So") -> Mi | C38: =_xlfn.ISOWEEKNUM(A38) -> 32 | D38: =INT((A38-Konfiguration!$C$8)/7)+1 -> 5 | E38: Spezifische Phase | F38: Spielform | G38: Positionsspiel 7 gegen 7 | H38: 85 | I38: 4 | J38: =IF(N(H38)*N(I38)=0,"",H38*I38) -> 340 | K38: Kunstrasenplatz | L38: 17
A39: 46240 | B39: =CHOOSE(WEEKDAY(A39,2),"Mo","Di","Mi","Do","Fr","Sa","So") -> Do | C39: =_xlfn.ISOWEEKNUM(A39) -> 32 | D39: =INT((A39-Konfiguration!$C$8)/7)+1 -> 5 | E39: Spezifische Phase | F39: Taktik | G39: Defensivverhalten im Verbund | H39: 90 | I39: 4 | J39: =IF(N(H39)*N(I39)=0,"",H39*I39) -> 360 | K39: Sportplatz Platz 1 | L39: 18
A40: 46241 | B40: =CHOOSE(WEEKDAY(A40,2),"Mo","Di","Mi","Do","Fr","Sa","So") -> Fr | C40: =_xlfn.ISOWEEKNUM(A40) -> 32 | D40: =INT((A40-Konfiguration!$C$8)/7)+1 -> 5 | E40: Spezifische Phase | F40: Kraft | G40: Stabilisation & Rumpf | H40: 70 | I40: 3 | J40: =IF(N(H40)*N(I40)=0,"",H40*I40) -> 210 | K40: Kraftraum | L40: 19
A41: 46242 | B41: =CHOOSE(WEEKDAY(A41,2),"Mo","Di","Mi","Do","Fr","Sa","So") -> Sa | C41: =_xlfn.ISOWEEKNUM(A41) -> 32 | D41: =INT((A41-Konfiguration!$C$8)/7)+1 -> 5 | E41: Spezifische Phase | F41: Testspiel | G41: Testspiel gegen SpVgg Mustertal | H41: 90 | I41: 4 | J41: =IF(N(H41)*N(I41)=0,"",H41*I41) -> 360 | K41: Auswärts | L41: 18
A42: 46243 | B42: =CHOOSE(WEEKDAY(A42,2),"Mo","Di","Mi","Do","Fr","Sa","So") -> So | C42: =_xlfn.ISOWEEKNUM(A42) -> 32 | D42: =INT((A42-Konfiguration!$C$8)/7)+1 -> 5 | E42: Spezifische Phase | F42: Ruhetag | J42: =IF(N(H42)*N(I42)=0,"",H42*I42)
A43: 46244 | B43: =CHOOSE(WEEKDAY(A43,2),"Mo","Di","Mi","Do","Fr","Sa","So") -> Mo | C43: =_xlfn.ISOWEEKNUM(A43) -> 33 | D43: =INT((A43-Konfiguration!$C$8)/7)+1 -> 6 | E43: Feinschliff | F43: Ruhetag | J43: =IF(N(H43)*N(I43)=0,"",H43*I43)
A44: 46245 | B44: =CHOOSE(WEEKDAY(A44,2),"Mo","Di","Mi","Do","Fr","Sa","So") -> Di | C44: =_xlfn.ISOWEEKNUM(A44) -> 33 | D44: =INT((A44-Konfiguration!$C$8)/7)+1 -> 6 | E44: Feinschliff | F44: Ausdauer | G44: Tempoläufe mit Ball | H44: 60 | I44: 2 | J44: =IF(N(H44)*N(I44)=0,"",H44*I44) -> 120 | K44: Waldstrecke | L44: 18
A45: 46246 | B45: =CHOOSE(WEEKDAY(A45,2),"Mo","Di","Mi","Do","Fr","Sa","So") -> Mi | C45: =_xlfn.ISOWEEKNUM(A45) -> 33 | D45: =INT((A45-Konfiguration!$C$8)/7)+1 -> 6 | E45: Feinschliff | F45: Technik | G45: Torschusstraining | H45: 63 | I45: 2 | J45: =IF(N(H45)*N(I45)=0,"",H45*I45) -> 126 | K45: Sportplatz Platz 1 | L45: 19
A46: 46247 | B46: =CHOOSE(WEEKDAY(A46,2),"Mo","Di","Mi","Do","Fr","Sa","So") -> Do | C46: =_xlfn.ISOWEEKNUM(A46) -> 33 | D46: =INT((A46-Konfiguration!$C$8)/7)+1 -> 6 | E46: Feinschliff | F46: Taktik | G46: Offensives Pressing | H46: 67 | I46: 3 | J46: =IF(N(H46)*N(I46)=0,"",H46*I46) -> 201 | K46: Sportplatz Platz 1 | L46: 20
A47: 46248 | B47: =CHOOSE(WEEKDAY(A47,2),"Mo","Di","Mi","Do","Fr","Sa","So") -> Fr | C47: =_xlfn.ISOWEEKNUM(A47) -> 33 | D47: =INT((A47-Konfiguration!$C$8)/7)+1 -> 6 | E47: Feinschliff | F47: Regeneration | G47: Lockeres Auslaufen | H47: 45 | I47: 1 | J47: =IF(N(H47)*N(I47)=0,"",H47*I47) -> 45 | K47: Sportplatz Platz 2 | L47: 21
A48: 46249 | B48: =CHOOSE(WEEKDAY(A48,2),"Mo","Di","Mi","Do","Fr","Sa","So") -> Sa | C48: =_xlfn.ISOWEEKNUM(A48) -> 33 | D48: =INT((A48-Konfiguration!$C$8)/7)+1 -> 6 | E48: Feinschliff | F48: Taktik | G48: Umschaltspiel | H48: 60 | I48: 3 | J48: =IF(N(H48)*N(I48)=0,"",H48*I48) -> 180 | K48: Sportplatz Platz 1 | L48: 17
A49: 46250 | B49: =CHOOSE(WEEKDAY(A49,2),"Mo","Di","Mi","Do","Fr","Sa","So") -> So | C49: =_xlfn.ISOWEEKNUM(A49) -> 33 | D49: =INT((A49-Konfiguration!$C$8)/7)+1 -> 6 | E49: Feinschliff | F49: Ruhetag | J49: =IF(N(H49)*N(I49)=0,"",H49*I49)
A50: Gesamt | H50: =SUM(H8:H49) -> 2750 | I50: =IFERROR(ROUND(AVERAGE(I8:I49),1),"") -> 3.3 | J50: =SUM(J8:J49) -> 9852 | K50: Ø / Summe | L50: =IFERROR(ROUND(AVERAGE(L8:L49),0),"") -> 19

Sheet Testspiele
A1: TESTSPIELE · VORBEREITUNG
A3: Vorbereitungsspiele mit automatischer Bilanz
A5: Nr. | B5: Datum | C5: Tag | D5: Gegner | E5: Heim/Ausw. | F5: Anstoß | G5: Spielstätte | H5: Tore (eigen) | I5: Tore (Gegner) | J5: Ergebnis | K5: Resultat | L5: Tordiff. | M5: Notizen
A6: 1 | B6: 46214 | C6: =CHOOSE(WEEKDAY(B6,2),"Mo","Di","Mi","Do","Fr","Sa","So") -> Sa | D6: TSV Musterstadt | E6: Heim | F6: 0.64583333 | G6: Sportplatz Platz 1 | H6: 3 | I6: 1 | J6: =IF(OR(H6="",I6=""),"",H6&":"&I6) -> 3:1 | K6: =IF(OR(H6="",I6=""),"",IF(H6>I6,"Sieg",IF(H6=I6,"Unentschieden","Niederlage"))) -> Sieg | L6: =IF(OR(H6="",I6=""),"",H6-I6) -> 2 | M6: Erste Standortbestimmung
A7: 2 | B7: 46221 | C7: =CHOOSE(WEEKDAY(B7,2),"Mo","Di","Mi","Do","Fr","Sa","So") -> Sa | D7: SV Beispieldorf | E7: Auswärts | F7: 0.66666667 | G7: Sportgelände Beispieldorf | H7: 2 | I7: 2 | J7: =IF(OR(H7="",I7=""),"",H7&":"&I7) -> 2:2 | K7: =IF(OR(H7="",I7=""),"",IF(H7>I7,"Sieg",IF(H7=I7,"Unentschieden","Niederlage"))) -> Unentschieden | L7: =IF(OR(H7="",I7=""),"",H7-I7) -> 0 | M7: Viel rotiert
A8: 3 | B8: 46225 | C8: =CHOOSE(WEEKDAY(B8,2),"Mo","Di","Mi","Do","Fr","Sa","So") -> Mi | D8: SG Muster/Vorlage | E8: Auswärts | F8: 0.75 | G8: Trainingslager | H8: 1 | I8: 0 | J8: =IF(OR(H8="",I8=""),"",H8&":"&I8) -> 1:0 | K8: =IF(OR(H8="",I8=""),"",IF(H8>I8,"Sieg",IF(H8=I8,"Unentschieden","Niederlage"))) -> Sieg | L8: =IF(OR(H8="",I8=""),"",H8-I8) -> 1 | M8: Im Trainingslager
A9: 4 | B9: 46228 | C9: =CHOOSE(WEEKDAY(B9,2),"Mo","Di","Mi","Do","Fr","Sa","So") -> Sa | D9: VfL Beispielheim | E9: Auswärts | F9: 0.625 | G9: Trainingslager | H9: 4 | I9: 2 | J9: =IF(OR(H9="",I9=""),"",H9&":"&I9) -> 4:2 | K9: =IF(OR(H9="",I9=""),"",IF(H9>I9,"Sieg",IF(H9=I9,"Unentschieden","Niederlage"))) -> Sieg | L9: =IF(OR(H9="",I9=""),"",H9-I9) -> 2 | M9: Abschluss Trainingslager
A10: 5 | B10: 46235 | C10: =CHOOSE(WEEKDAY(B10,2),"Mo","Di","Mi","Do","Fr","Sa","So") -> Sa | D10: SpVgg Mustertal | E10: Heim | F10: 0.64583333 | G10: Sportplatz Platz 1 | H10: 1 | I10: 1 | J10: =IF(OR(H10="",I10=""),"",H10&":"&I10) -> 1:1 | K10: =IF(OR(H10="",I10=""),"",IF(H10>I10,"Sieg",IF(H10=I10,"Unentschieden","Niederlage"))) -> Unentschieden | L10: =IF(OR(H10="",I10=""),"",H10-I10) -> 0 | M10: Taktik getestet
A11: 6 | B11: 46242 | C11: =CHOOSE(WEEKDAY(B11,2),"Mo","Di","Mi","Do","Fr","Sa","So") -> Sa | D11: 1. FC Schablone | E11: Heim | F11: 0.64583333 | G11: Sportplatz Platz 1 | H11: 3 | I11: 0 | J11: =IF(OR(H11="",I11=""),"",H11&":"&I11) -> 3:0 | K11: =IF(OR(H11="",I11=""),"",IF(H11>I11,"Sieg",IF(H11=I11,"Unentschieden","Niederlage"))) -> Sieg | L11: =IF(OR(H11="",I11=""),"",H11-I11) -> 3 | M11: Generalprobe
A12: 7 | B12: 46246 | C12: =CHOOSE(WEEKDAY(B12,2),"Mo","Di","Mi","Do","Fr","Sa","So") -> Mi | D12: FC Platzhalten 07 | E12: Auswärts | F12: 0.79166667 | G12: Kunstrasen Schablone | H12: 2 | I12: 1 | J12: =IF(OR(H12="",I12=""),"",H12&":"&I12) -> 2:1 | K12: =IF(OR(H12="",I12=""),"",IF(H12>I12,"Sieg",IF(H12=I12,"Unentschieden","Niederlage"))) -> Sieg | L12: =IF(OR(H12="",I12=""),"",H12-I12) -> 1 | M12: Letzter Test
A13: =IF(B13="","",A12+1) | C13: =IF(B13="","",CHOOSE(WEEKDAY(B13,2),"Mo","Di","Mi","Do","Fr","Sa","So")) | J13: =IF(OR(H13="",I13=""),"",H13&":"&I13) | K13: =IF(OR(H13="",I13=""),"",IF(H13>I13,"Sieg",IF(H13=I13,"Unentschieden","Niederlage"))) | L13: =IF(OR(H13="",I13=""),"",H13-I13)
A14: =IF(B14="","",A13+1) | C14: =IF(B14="","",CHOOSE(WEEKDAY(B14,2),"Mo","Di","Mi","Do","Fr","Sa","So")) | J14: =IF(OR(H14="",I14=""),"",H14&":"&I14) | K14: =IF(OR(H14="",I14=""),"",IF(H14>I14,"Sieg",IF(H14=I14,"Unentschieden","Niederlage"))) | L14: =IF(OR(H14="",I14=""),"",H14-I14)
A15: =IF(B15="","",A14+1) | C15: =IF(B15="","",CHOOSE(WEEKDAY(B15,2),"Mo","Di","Mi","Do","Fr","Sa","So")) | J15: =IF(OR(H15="",I15=""),"",H15&":"&I15) | K15: =IF(OR(H15="",I15=""),"",IF(H15>I15,"Sieg",IF(H15=I15,"Unentschieden","Niederlage"))) | L15: =IF(OR(H15="",I15=""),"",H15-I15)
B17: BILANZ VORBEREITUNG
B18: Spiele | E18: =COUNT(H6:H15) -> 7
B19: Siege | E19: =COUNTIF(K6:K15,"Sieg") -> 5
B20: Unentschieden | E20: =COUNTIF(K6:K15,"Unentschieden") -> 2
B21: Niederlagen | E21: =COUNTIF(K6:K15,"Niederlage") -> 0
B22: Tore erzielt | E22: =SUM(H6:H15) -> 16
B23: Tore kassiert | E23: =SUM(I6:I15) -> 7
B24: Tordifferenz | E24: =SUM(H6:H15)-SUM(I6:I15) -> 9
B25: Punkte (3/1/0) | E25: =COUNTIF(K6:K15,"Sieg")*3+COUNTIF(K6:K15,"Unentschieden") -> 17

Sheet Konfiguration
B2: KONFIGURATION
B4: Stammdaten
B5: Verein / Mannschaft | C5: SV Musterstadt 1920
B6: Saison | C6: 2026/27
B7: Trainer / Verantwortlich | C7: M. Mustermann
B8: Vorbereitungsbeginn | C8: 46209
B9: Erstes Pflichtspiel (Saisonstart) | C9: 46250
B11: → Blau hinterlegte Zellen anpassen. Die übrigen Blätter rechnen automatisch.
B12: Auswahllisten (Grundlage der Dropdown-Menüs)
B13: Phase | C13: Trainingsart | D13: Ort | E13: Heim/Auswärts
B14: Grundlagenphase | C14: Ausdauer | D14: Sportplatz Platz 1 | E14: Heim
B15: Aufbauphase | C15: Kraft | D15: Sportplatz Platz 2 | E15: Auswärts
B16: Spezifische Phase | C16: Technik | D16: Kunstrasenplatz
B17: Feinschliff | C17: Taktik | D17: Kraftraum
C18: Spielform | D18: Waldstrecke
C19: Regeneration | D19: Trainingslager
C20: Leistungstest | D20: Auswärts
C21: Trainingslager
C22: Testspiel
C23: Ruhetag
