Workbook

Sheet Spielbogen
B2: ⚄ WÜRFELPOKER ⚄ Spielbogen 2026
B3: Spieler eintragen · Kombinationen wählen · Punkte werden automatisch berechnet
B6: Spieler: | C6: → Namen eintragen | D6: Anna M. | E6: Ben K. | F6: Clara S. | G6: David F. | H6: Punkte | I6: Punkte | J6: Punkte | K6: Punkte
B8: RUNDE | C8: BESTE KOMBINATION (Notiz) | D8: ⚄ Kombination | E8: ⚄ Kombination | F8: ⚄ Kombination | G8: ⚄ Kombination | H8: Pkt. | I8: Pkt. | J8: Pkt. | K8: Pkt.
B9: Runde 1 | C9: Aufwärmrunde | D9: Ein Paar | E9: Zwei Paare | F9: Drilling | G9: Ein Paar | H9: =IFERROR(IF(D9="Höchste Zahl",1,IF(D9="Ein Paar",2,IF(D9="Zwei Paare",4,IF(D9="Drilling",6,IF(D9="Kleine Straße (1–4 od. 2–5)",8,IF(D9="Große Straße (2–6)",10,IF(D9="Full House",12,IF(D9="Vierling",16,IF(D9="Fünfling",25,IF(D9="Gestrichen (0 Punkte)",0,0)))))))))),0) -> 2 | I9: =IFERROR(IF(E9="Höchste Zahl",1,IF(E9="Ein Paar",2,IF(E9="Zwei Paare",4,IF(E9="Drilling",6,IF(E9="Kleine Straße (1–4 od. 2–5)",8,IF(E9="Große Straße (2–6)",10,IF(E9="Full House",12,IF(E9="Vierling",16,IF(E9="Fünfling",25,IF(E9="Gestrichen (0 Punkte)",0,0)))))))))),0) -> 4 | J9: =IFERROR(IF(F9="Höchste Zahl",1,IF(F9="Ein Paar",2,IF(F9="Zwei Paare",4,IF(F9="Drilling",6,IF(F9="Kleine Straße (1–4 od. 2–5)",8,IF(F9="Große Straße (2–6)",10,IF(F9="Full House",12,IF(F9="Vierling",16,IF(F9="Fünfling",25,IF(F9="Gestrichen (0 Punkte)",0,0)))))))))),0) -> 6 | K9: =IFERROR(IF(G9="Höchste Zahl",1,IF(G9="Ein Paar",2,IF(G9="Zwei Paare",4,IF(G9="Drilling",6,IF(G9="Kleine Straße (1–4 od. 2–5)",8,IF(G9="Große Straße (2–6)",10,IF(G9="Full House",12,IF(G9="Vierling",16,IF(G9="Fünfling",25,IF(G9="Gestrichen (0 Punkte)",0,0)))))))))),0) -> 2
B10: Runde 2 | C10: — | D10: Drilling | E10: Ein Paar | F10: Große Straße (2–6) | G10: Zwei Paare | H10: =IFERROR(IF(D10="Höchste Zahl",1,IF(D10="Ein Paar",2,IF(D10="Zwei Paare",4,IF(D10="Drilling",6,IF(D10="Kleine Straße (1–4 od. 2–5)",8,IF(D10="Große Straße (2–6)",10,IF(D10="Full House",12,IF(D10="Vierling",16,IF(D10="Fünfling",25,IF(D10="Gestrichen (0 Punkte)",0,0)))))))))),0) -> 6 | I10: =IFERROR(IF(E10="Höchste Zahl",1,IF(E10="Ein Paar",2,IF(E10="Zwei Paare",4,IF(E10="Drilling",6,IF(E10="Kleine Straße (1–4 od. 2–5)",8,IF(E10="Große Straße (2–6)",10,IF(E10="Full House",12,IF(E10="Vierling",16,IF(E10="Fünfling",25,IF(E10="Gestrichen (0 Punkte)",0,0)))))))))),0) -> 2 | J10: =IFERROR(IF(F10="Höchste Zahl",1,IF(F10="Ein Paar",2,IF(F10="Zwei Paare",4,IF(F10="Drilling",6,IF(F10="Kleine Straße (1–4 od. 2–5)",8,IF(F10="Große Straße (2–6)",10,IF(F10="Full House",12,IF(F10="Vierling",16,IF(F10="Fünfling",25,IF(F10="Gestrichen (0 Punkte)",0,0)))))))))),0) -> 10 | K10: =IFERROR(IF(G10="Höchste Zahl",1,IF(G10="Ein Paar",2,IF(G10="Zwei Paare",4,IF(G10="Drilling",6,IF(G10="Kleine Straße (1–4 od. 2–5)",8,IF(G10="Große Straße (2–6)",10,IF(G10="Full House",12,IF(G10="Vierling",16,IF(G10="Fünfling",25,IF(G10="Gestrichen (0 Punkte)",0,0)))))))))),0) -> 4
B11: Runde 3 | C11: Spannung! | D11: Full House | E11: Drilling | F11: Zwei Paare | G11: Vierling | H11: =IFERROR(IF(D11="Höchste Zahl",1,IF(D11="Ein Paar",2,IF(D11="Zwei Paare",4,IF(D11="Drilling",6,IF(D11="Kleine Straße (1–4 od. 2–5)",8,IF(D11="Große Straße (2–6)",10,IF(D11="Full House",12,IF(D11="Vierling",16,IF(D11="Fünfling",25,IF(D11="Gestrichen (0 Punkte)",0,0)))))))))),0) -> 12 | I11: =IFERROR(IF(E11="Höchste Zahl",1,IF(E11="Ein Paar",2,IF(E11="Zwei Paare",4,IF(E11="Drilling",6,IF(E11="Kleine Straße (1–4 od. 2–5)",8,IF(E11="Große Straße (2–6)",10,IF(E11="Full House",12,IF(E11="Vierling",16,IF(E11="Fünfling",25,IF(E11="Gestrichen (0 Punkte)",0,0)))))))))),0) -> 6 | J11: =IFERROR(IF(F11="Höchste Zahl",1,IF(F11="Ein Paar",2,IF(F11="Zwei Paare",4,IF(F11="Drilling",6,IF(F11="Kleine Straße (1–4 od. 2–5)",8,IF(F11="Große Straße (2–6)",10,IF(F11="Full House",12,IF(F11="Vierling",16,IF(F11="Fünfling",25,IF(F11="Gestrichen (0 Punkte)",0,0)))))))))),0) -> 4 | K11: =IFERROR(IF(G11="Höchste Zahl",1,IF(G11="Ein Paar",2,IF(G11="Zwei Paare",4,IF(G11="Drilling",6,IF(G11="Kleine Straße (1–4 od. 2–5)",8,IF(G11="Große Straße (2–6)",10,IF(G11="Full House",12,IF(G11="Vierling",16,IF(G11="Fünfling",25,IF(G11="Gestrichen (0 Punkte)",0,0)))))))))),0) -> 16
B12: Runde 4 | C12: — | D12: Kleine Straße (1–4 od. 2–5) | E12: Full House | F12: Drilling | G12: Drilling | H12: =IFERROR(IF(D12="Höchste Zahl",1,IF(D12="Ein Paar",2,IF(D12="Zwei Paare",4,IF(D12="Drilling",6,IF(D12="Kleine Straße (1–4 od. 2–5)",8,IF(D12="Große Straße (2–6)",10,IF(D12="Full House",12,IF(D12="Vierling",16,IF(D12="Fünfling",25,IF(D12="Gestrichen (0 Punkte)",0,0)))))))))),0) -> 8 | I12: =IFERROR(IF(E12="Höchste Zahl",1,IF(E12="Ein Paar",2,IF(E12="Zwei Paare",4,IF(E12="Drilling",6,IF(E12="Kleine Straße (1–4 od. 2–5)",8,IF(E12="Große Straße (2–6)",10,IF(E12="Full House",12,IF(E12="Vierling",16,IF(E12="Fünfling",25,IF(E12="Gestrichen (0 Punkte)",0,0)))))))))),0) -> 12 | J12: =IFERROR(IF(F12="Höchste Zahl",1,IF(F12="Ein Paar",2,IF(F12="Zwei Paare",4,IF(F12="Drilling",6,IF(F12="Kleine Straße (1–4 od. 2–5)",8,IF(F12="Große Straße (2–6)",10,IF(F12="Full House",12,IF(F12="Vierling",16,IF(F12="Fünfling",25,IF(F12="Gestrichen (0 Punkte)",0,0)))))))))),0) -> 6 | K12: =IFERROR(IF(G12="Höchste Zahl",1,IF(G12="Ein Paar",2,IF(G12="Zwei Paare",4,IF(G12="Drilling",6,IF(G12="Kleine Straße (1–4 od. 2–5)",8,IF(G12="Große Straße (2–6)",10,IF(G12="Full House",12,IF(G12="Vierling",16,IF(G12="Fünfling",25,IF(G12="Gestrichen (0 Punkte)",0,0)))))))))),0) -> 6
B13: Runde 5 | C13: Halbzeit | D13: Zwei Paare | E13: Große Straße (2–6) | F13: Ein Paar | G13: Full House | H13: =IFERROR(IF(D13="Höchste Zahl",1,IF(D13="Ein Paar",2,IF(D13="Zwei Paare",4,IF(D13="Drilling",6,IF(D13="Kleine Straße (1–4 od. 2–5)",8,IF(D13="Große Straße (2–6)",10,IF(D13="Full House",12,IF(D13="Vierling",16,IF(D13="Fünfling",25,IF(D13="Gestrichen (0 Punkte)",0,0)))))))))),0) -> 4 | I13: =IFERROR(IF(E13="Höchste Zahl",1,IF(E13="Ein Paar",2,IF(E13="Zwei Paare",4,IF(E13="Drilling",6,IF(E13="Kleine Straße (1–4 od. 2–5)",8,IF(E13="Große Straße (2–6)",10,IF(E13="Full House",12,IF(E13="Vierling",16,IF(E13="Fünfling",25,IF(E13="Gestrichen (0 Punkte)",0,0)))))))))),0) -> 10 | J13: =IFERROR(IF(F13="Höchste Zahl",1,IF(F13="Ein Paar",2,IF(F13="Zwei Paare",4,IF(F13="Drilling",6,IF(F13="Kleine Straße (1–4 od. 2–5)",8,IF(F13="Große Straße (2–6)",10,IF(F13="Full House",12,IF(F13="Vierling",16,IF(F13="Fünfling",25,IF(F13="Gestrichen (0 Punkte)",0,0)))))))))),0) -> 2 | K13: =IFERROR(IF(G13="Höchste Zahl",1,IF(G13="Ein Paar",2,IF(G13="Zwei Paare",4,IF(G13="Drilling",6,IF(G13="Kleine Straße (1–4 od. 2–5)",8,IF(G13="Große Straße (2–6)",10,IF(G13="Full House",12,IF(G13="Vierling",16,IF(G13="Fünfling",25,IF(G13="Gestrichen (0 Punkte)",0,0)))))))))),0) -> 12
B14: Runde 6 | C14: — | D14: Gestrichen (0 Punkte) | E14: Zwei Paare | F14: Full House | G14: Drilling | H14: =IFERROR(IF(D14="Höchste Zahl",1,IF(D14="Ein Paar",2,IF(D14="Zwei Paare",4,IF(D14="Drilling",6,IF(D14="Kleine Straße (1–4 od. 2–5)",8,IF(D14="Große Straße (2–6)",10,IF(D14="Full House",12,IF(D14="Vierling",16,IF(D14="Fünfling",25,IF(D14="Gestrichen (0 Punkte)",0,0)))))))))),0) -> 0 | I14: =IFERROR(IF(E14="Höchste Zahl",1,IF(E14="Ein Paar",2,IF(E14="Zwei Paare",4,IF(E14="Drilling",6,IF(E14="Kleine Straße (1–4 od. 2–5)",8,IF(E14="Große Straße (2–6)",10,IF(E14="Full House",12,IF(E14="Vierling",16,IF(E14="Fünfling",25,IF(E14="Gestrichen (0 Punkte)",0,0)))))))))),0) -> 4 | J14: =IFERROR(IF(F14="Höchste Zahl",1,IF(F14="Ein Paar",2,IF(F14="Zwei Paare",4,IF(F14="Drilling",6,IF(F14="Kleine Straße (1–4 od. 2–5)",8,IF(F14="Große Straße (2–6)",10,IF(F14="Full House",12,IF(F14="Vierling",16,IF(F14="Fünfling",25,IF(F14="Gestrichen (0 Punkte)",0,0)))))))))),0) -> 12 | K14: =IFERROR(IF(G14="Höchste Zahl",1,IF(G14="Ein Paar",2,IF(G14="Zwei Paare",4,IF(G14="Drilling",6,IF(G14="Kleine Straße (1–4 od. 2–5)",8,IF(G14="Große Straße (2–6)",10,IF(G14="Full House",12,IF(G14="Vierling",16,IF(G14="Fünfling",25,IF(G14="Gestrichen (0 Punkte)",0,0)))))))))),0) -> 6
B15: Runde 7 | C15: Spannung steigt | D15: Drilling | E15: Vierling | F15: Große Straße (2–6) | G15: Zwei Paare | H15: =IFERROR(IF(D15="Höchste Zahl",1,IF(D15="Ein Paar",2,IF(D15="Zwei Paare",4,IF(D15="Drilling",6,IF(D15="Kleine Straße (1–4 od. 2–5)",8,IF(D15="Große Straße (2–6)",10,IF(D15="Full House",12,IF(D15="Vierling",16,IF(D15="Fünfling",25,IF(D15="Gestrichen (0 Punkte)",0,0)))))))))),0) -> 6 | I15: =IFERROR(IF(E15="Höchste Zahl",1,IF(E15="Ein Paar",2,IF(E15="Zwei Paare",4,IF(E15="Drilling",6,IF(E15="Kleine Straße (1–4 od. 2–5)",8,IF(E15="Große Straße (2–6)",10,IF(E15="Full House",12,IF(E15="Vierling",16,IF(E15="Fünfling",25,IF(E15="Gestrichen (0 Punkte)",0,0)))))))))),0) -> 16 | J15: =IFERROR(IF(F15="Höchste Zahl",1,IF(F15="Ein Paar",2,IF(F15="Zwei Paare",4,IF(F15="Drilling",6,IF(F15="Kleine Straße (1–4 od. 2–5)",8,IF(F15="Große Straße (2–6)",10,IF(F15="Full House",12,IF(F15="Vierling",16,IF(F15="Fünfling",25,IF(F15="Gestrichen (0 Punkte)",0,0)))))))))),0) -> 10 | K15: =IFERROR(IF(G15="Höchste Zahl",1,IF(G15="Ein Paar",2,IF(G15="Zwei Paare",4,IF(G15="Drilling",6,IF(G15="Kleine Straße (1–4 od. 2–5)",8,IF(G15="Große Straße (2–6)",10,IF(G15="Full House",12,IF(G15="Vierling",16,IF(G15="Fünfling",25,IF(G15="Gestrichen (0 Punkte)",0,0)))))))))),0) -> 4
B16: Runde 8 | C16: — | D16: Full House | E16: Drilling | F16: Vierling | G16: Kleine Straße (1–4 od. 2–5) | H16: =IFERROR(IF(D16="Höchste Zahl",1,IF(D16="Ein Paar",2,IF(D16="Zwei Paare",4,IF(D16="Drilling",6,IF(D16="Kleine Straße (1–4 od. 2–5)",8,IF(D16="Große Straße (2–6)",10,IF(D16="Full House",12,IF(D16="Vierling",16,IF(D16="Fünfling",25,IF(D16="Gestrichen (0 Punkte)",0,0)))))))))),0) -> 12 | I16: =IFERROR(IF(E16="Höchste Zahl",1,IF(E16="Ein Paar",2,IF(E16="Zwei Paare",4,IF(E16="Drilling",6,IF(E16="Kleine Straße (1–4 od. 2–5)",8,IF(E16="Große Straße (2–6)",10,IF(E16="Full House",12,IF(E16="Vierling",16,IF(E16="Fünfling",25,IF(E16="Gestrichen (0 Punkte)",0,0)))))))))),0) -> 6 | J16: =IFERROR(IF(F16="Höchste Zahl",1,IF(F16="Ein Paar",2,IF(F16="Zwei Paare",4,IF(F16="Drilling",6,IF(F16="Kleine Straße (1–4 od. 2–5)",8,IF(F16="Große Straße (2–6)",10,IF(F16="Full House",12,IF(F16="Vierling",16,IF(F16="Fünfling",25,IF(F16="Gestrichen (0 Punkte)",0,0)))))))))),0) -> 16 | K16: =IFERROR(IF(G16="Höchste Zahl",1,IF(G16="Ein Paar",2,IF(G16="Zwei Paare",4,IF(G16="Drilling",6,IF(G16="Kleine Straße (1–4 od. 2–5)",8,IF(G16="Große Straße (2–6)",10,IF(G16="Full House",12,IF(G16="Vierling",16,IF(G16="Fünfling",25,IF(G16="Gestrichen (0 Punkte)",0,0)))))))))),0) -> 8
B17: Runde 9 | C17: Vorletztes Spiel | D17: Große Straße (2–6) | E17: Full House | F17: Drilling | G17: Gestrichen (0 Punkte) | H17: =IFERROR(IF(D17="Höchste Zahl",1,IF(D17="Ein Paar",2,IF(D17="Zwei Paare",4,IF(D17="Drilling",6,IF(D17="Kleine Straße (1–4 od. 2–5)",8,IF(D17="Große Straße (2–6)",10,IF(D17="Full House",12,IF(D17="Vierling",16,IF(D17="Fünfling",25,IF(D17="Gestrichen (0 Punkte)",0,0)))))))))),0) -> 10 | I17: =IFERROR(IF(E17="Höchste Zahl",1,IF(E17="Ein Paar",2,IF(E17="Zwei Paare",4,IF(E17="Drilling",6,IF(E17="Kleine Straße (1–4 od. 2–5)",8,IF(E17="Große Straße (2–6)",10,IF(E17="Full House",12,IF(E17="Vierling",16,IF(E17="Fünfling",25,IF(E17="Gestrichen (0 Punkte)",0,0)))))))))),0) -> 12 | J17: =IFERROR(IF(F17="Höchste Zahl",1,IF(F17="Ein Paar",2,IF(F17="Zwei Paare",4,IF(F17="Drilling",6,IF(F17="Kleine Straße (1–4 od. 2–5)",8,IF(F17="Große Straße (2–6)",10,IF(F17="Full House",12,IF(F17="Vierling",16,IF(F17="Fünfling",25,IF(F17="Gestrichen (0 Punkte)",0,0)))))))))),0) -> 6 | K17: =IFERROR(IF(G17="Höchste Zahl",1,IF(G17="Ein Paar",2,IF(G17="Zwei Paare",4,IF(G17="Drilling",6,IF(G17="Kleine Straße (1–4 od. 2–5)",8,IF(G17="Große Straße (2–6)",10,IF(G17="Full House",12,IF(G17="Vierling",16,IF(G17="Fünfling",25,IF(G17="Gestrichen (0 Punkte)",0,0)))))))))),0) -> 0
B18: Runde 10 | C18: Endspurt! | D18: Fünfling | E18: Full House | F18: Vierling | G18: Große Straße (2–6) | H18: =IFERROR(IF(D18="Höchste Zahl",1,IF(D18="Ein Paar",2,IF(D18="Zwei Paare",4,IF(D18="Drilling",6,IF(D18="Kleine Straße (1–4 od. 2–5)",8,IF(D18="Große Straße (2–6)",10,IF(D18="Full House",12,IF(D18="Vierling",16,IF(D18="Fünfling",25,IF(D18="Gestrichen (0 Punkte)",0,0)))))))))),0) -> 25 | I18: =IFERROR(IF(E18="Höchste Zahl",1,IF(E18="Ein Paar",2,IF(E18="Zwei Paare",4,IF(E18="Drilling",6,IF(E18="Kleine Straße (1–4 od. 2–5)",8,IF(E18="Große Straße (2–6)",10,IF(E18="Full House",12,IF(E18="Vierling",16,IF(E18="Fünfling",25,IF(E18="Gestrichen (0 Punkte)",0,0)))))))))),0) -> 12 | J18: =IFERROR(IF(F18="Höchste Zahl",1,IF(F18="Ein Paar",2,IF(F18="Zwei Paare",4,IF(F18="Drilling",6,IF(F18="Kleine Straße (1–4 od. 2–5)",8,IF(F18="Große Straße (2–6)",10,IF(F18="Full House",12,IF(F18="Vierling",16,IF(F18="Fünfling",25,IF(F18="Gestrichen (0 Punkte)",0,0)))))))))),0) -> 16 | K18: =IFERROR(IF(G18="Höchste Zahl",1,IF(G18="Ein Paar",2,IF(G18="Zwei Paare",4,IF(G18="Drilling",6,IF(G18="Kleine Straße (1–4 od. 2–5)",8,IF(G18="Große Straße (2–6)",10,IF(G18="Full House",12,IF(G18="Vierling",16,IF(G18="Fünfling",25,IF(G18="Gestrichen (0 Punkte)",0,0)))))))))),0) -> 10
B20: GESAMTPUNKTE | H20: =SUM(H9:H18) -> 85 | I20: =SUM(I9:I18) -> 84 | J20: =SUM(J9:J18) -> 88 | K20: =SUM(K9:K18) -> 68
B21: RANG | H21: =RANK(H20,H20:K20,0) -> 2 | I21: =RANK(I20,H20:K20,0) -> 3 | J21: =RANK(J20,H20:K20,0) -> 1 | K21: =RANK(K20,H20:K20,0) -> 4
B22: 🏆 SIEGER | D22: =IFERROR(INDEX(D6:G6,MATCH(1,H21:K21,0)),"—") -> Clara S.
B25: KOMBINATIONEN & PUNKTE — Kurzübersicht
C26: Höchste Zahl | D26: 1 Pkt | E26: → Kein Paar – höchste Augenzahl zählt
C27: Ein Paar | D27: 2 Pkt | E27: → 2 Würfel gleiche Zahl
C28: Zwei Paare | D28: 4 Pkt | E28: → 2 × 2 Würfel gleiche Zahl
C29: Drilling | D29: 6 Pkt | E29: → 3 Würfel gleiche Zahl
C30: Kleine Straße (1–4 od. 2–5) | D30: 8 Pkt | E30: → 4 aufeinanderfol. Zahlen
C31: Große Straße (2–6) | D31: 10 Pkt | E31: → 5 aufeinanderfol. Zahlen (z.B. 2-3-4-5-6)
C32: Full House | D32: 12 Pkt | E32: → Drilling + Paar
C33: Vierling | D33: 16 Pkt | E33: → 4 Würfel gleiche Zahl
C34: Fünfling | D34: 25 Pkt | E34: → Alle 5 Würfel gleich – Höchste Kombination!
C35: Gestrichen (0 Punkte) | D35: 0 Pkt | E35: → Keine Kombination möglich → Feld streichen
B37: Vorlage · Würfelpoker Spielbogen 2026 · Spielernamen in Zeile 6 anpassen · Kombinationen per Dropdown eintragen · Punkte werden automatisch berechnet

Sheet Statistik
B2: ⚄ STATISTIK & AUSWERTUNG
B3: Automatische Auswertung · Rundenvergleich · Siegesbilanz
B6: GESAMTERGEBNIS | C6: Anna M. | D6: Ben K. | E6: Clara S. | F6: David F.
B7: Gesamtpunkte | C7: =Spielbogen!H20 -> 85 | D7: =Spielbogen!I20 -> 84 | E7: =Spielbogen!J20 -> 88 | F7: =Spielbogen!K20 -> 68
B8: Rang | C8: =RANK(C7,C7:F7,0) -> 2 | D8: =RANK(D7,C7:F7,0) -> 3 | E8: =RANK(E7,C7:F7,0) -> 1 | F8: =RANK(F7,C7:F7,0) -> 4
B10: PUNKTE PRO RUNDE
B11: Runde | C11: Anna M. | D11: Ben K. | E11: Clara S. | F11: David F.
B12: =Spielbogen!B9 -> Runde 1 | C12: =Spielbogen!H9 -> 2 | D12: =Spielbogen!I9 -> 4 | E12: =Spielbogen!J9 -> 6 | F12: =Spielbogen!K9 -> 2
B13: =Spielbogen!B10 -> Runde 2 | C13: =Spielbogen!H10 -> 6 | D13: =Spielbogen!I10 -> 2 | E13: =Spielbogen!J10 -> 10 | F13: =Spielbogen!K10 -> 4
B14: =Spielbogen!B11 -> Runde 3 | C14: =Spielbogen!H11 -> 12 | D14: =Spielbogen!I11 -> 6 | E14: =Spielbogen!J11 -> 4 | F14: =Spielbogen!K11 -> 16
B15: =Spielbogen!B12 -> Runde 4 | C15: =Spielbogen!H12 -> 8 | D15: =Spielbogen!I12 -> 12 | E15: =Spielbogen!J12 -> 6 | F15: =Spielbogen!K12 -> 6
B16: =Spielbogen!B13 -> Runde 5 | C16: =Spielbogen!H13 -> 4 | D16: =Spielbogen!I13 -> 10 | E16: =Spielbogen!J13 -> 2 | F16: =Spielbogen!K13 -> 12
B17: =Spielbogen!B14 -> Runde 6 | C17: =Spielbogen!H14 -> 0 | D17: =Spielbogen!I14 -> 4 | E17: =Spielbogen!J14 -> 12 | F17: =Spielbogen!K14 -> 6
B18: =Spielbogen!B15 -> Runde 7 | C18: =Spielbogen!H15 -> 6 | D18: =Spielbogen!I15 -> 16 | E18: =Spielbogen!J15 -> 10 | F18: =Spielbogen!K15 -> 4
B19: =Spielbogen!B16 -> Runde 8 | C19: =Spielbogen!H16 -> 12 | D19: =Spielbogen!I16 -> 6 | E19: =Spielbogen!J16 -> 16 | F19: =Spielbogen!K16 -> 8
B20: =Spielbogen!B17 -> Runde 9 | C20: =Spielbogen!H17 -> 10 | D20: =Spielbogen!I17 -> 12 | E20: =Spielbogen!J17 -> 6 | F20: =Spielbogen!K17 -> 0
B21: =Spielbogen!B18 -> Runde 10 | C21: =Spielbogen!H18 -> 25 | D21: =Spielbogen!I18 -> 12 | E21: =Spielbogen!J18 -> 16 | F21: =Spielbogen!K18 -> 10
B23: BESTE EINZELRUNDE
B24: Max. Runde | C24: =MAX(C12:C21) -> 25 | D24: =MAX(D12:D21) -> 16 | E24: =MAX(E12:E21) -> 16 | F24: =MAX(F12:F21) -> 16
B27: Spieler | C27: Anna M. | D27: Ben K. | E27: Clara S. | F27: David F.
B28: Punkte | C28: =C7 -> 85 | D28: =D7 -> 84 | E28: =E7 -> 88 | F28: =F7 -> 68

Sheet Regeln & Anleitung
B2: ⚅ WÜRFELPOKER — Regeln & Spielanleitung
B3: 5 Würfel · 3 Würfe pro Runde · Pokerkombinationen mit Würfeln
B7: 01 | C7: VORBEREITUNG
C8: Jeder Spieler erhält eine vorher festgelegte Anzahl an Chips oder Punkten als Startkapital (empfohlen: 20 Chips/Punkte). Die Spielernamen werden oben im Spielbogen eingetragen. Es wird bestimmt, wer anfängt — z.B. durch einen Probewurf (höchste Zahl beginnt).
C9: ⚄ Tipp: Einen Chip-Vorrat bereithalten, falls mit Einsätzen gespielt wird.
B11: 02 | C11: SPIELZUG
C12: Der aktive Spieler würfelt alle 5 Würfel. Er darf beliebige Würfel beiseitelegen und die anderen bis zu zweimal neu würfeln — insgesamt also maximal 3 Würfe. Beiseite gelegte Würfel können jederzeit wieder in den Wurf genommen werden.
C13: ⚄ Nach dem 3. Wurf muss das Ergebnis akzeptiert und im Spielbogen eingetragen werden.
B15: 03 | C15: KOMBINATION EINTRAGEN
C16: Nach dem letzten Wurf wählt der Spieler aus dem Dropdown-Menü im Spielbogen die erzielte Kombination aus. Die Punkte werden automatisch berechnet. Konnte keine Kombination erzielt werden, wird 'Gestrichen (0 Punkte)' gewählt.
C17: ⚄ Alle Spieler sind reihum an der Reihe — eine Runde endet, wenn alle gewürfelt haben.
B19: 04 | C19: RUNDENENDE & WERTUNG
C20: Nach jeder Runde werden die Punkte automatisch summiert. Nach der letzten Runde zeigt der Spielbogen den Sieger automatisch an. Optional kann mit Chips gespielt werden: Der Sieger jeder Runde erhält die Einsätze aller anderen.
C21: ⚄ Bei Punktgleichstand entscheidet ein weiterer Wurf mit allen 5 Würfeln.
B23: 05 | C23: VARIANTEN
C24: Bluff-Runde: Ein Spieler darf seine Kombination ansagen, ohne sie zu zeigen — andere können 'Lüge!' rufen. Wird er ertappt, zahlt er 2 Chips; liegt der Rufer falsch, zahlt er 1 Chip. Turnier: Mehrere Partien hintereinander, Gesamtpunktzahl über alle Partien entscheidet.
C25: ⚄ Anzahl der Runden frei wählbar — empfohlen: 5–15 Runden für eine Partie.
B27: KOMBINATIONEN — Rangfolge (höchste zuerst)
C28: 🎲🎲🎲🎲🎲 Fünfling | D28: 25 Pkt · 5 × ⚅⚅⚅⚅⚅ — Alle 5 Würfel identisch
C29: 🎲🎲🎲🎲 Vierling | D29: 16 Pkt · 4 × gleiche Zahl + 1 beliebiger Würfel
C30: 🎲🎲🎲+🎲🎲 Full House | D30: 12 Pkt · Drilling (3 gleich) + Paar (2 gleich)
C31: 🎲🎲🎲🎲🎲 Große Straße | D31: 10 Pkt · Alle 5 Würfel fortlaufend (z.B. 2-3-4-5-6)
C32: 🎲🎲🎲🎲 Kleine Straße | D32: 8 Pkt · 4 Würfel fortlaufend (z.B. 1-2-3-4 oder 3-4-5-6)
C33: 🎲🎲🎲 Drilling | D33: 6 Pkt · 3 × gleiche Zahl + 2 beliebige Würfel
C34: 🎲🎲+🎲🎲 Zwei Paare | D34: 4 Pkt · Zwei verschiedene Paare + 1 beliebiger Würfel
C35: 🎲🎲 Ein Paar | D35: 2 Pkt · 2 × gleiche Zahl + 3 beliebige Würfel
C36: 🎲 Höchste Zahl | D36: 1 Pkt · Keine Kombination — höchste Augenzahl notieren
