Workbook

Sheet Übersicht
A1: FINANZPLANUNG MIT VERMÖGEN
A2: Private Finanzplanung · Übersicht & Kennzahlen · Geschäftsjahr 2026
A5: EINNAHMEN 2026 | C5: AUSGABEN 2026 | F5: ÜBERSCHUSS 2026 | H5: SPARQUOTE | K5: NETTOVERMÖGEN
A6: ='Budget 2026'!O12 -> 50685 | C6: ='Budget 2026'!O33 -> 43519 | F6: ='Budget 2026'!O34 -> 7166 | H6: =IF('Budget 2026'!O12=0,0,'Budget 2026'!O34/'Budget 2026'!O12) -> 0.14138305 | K6: ='Vermögen & Schulden'!C24 -> 223250
A8: Monatlicher Verlauf 2026
A9: Monat | B9: Einnahmen | C9: Ausgaben | D9: Saldo
A10: Jan | B10: ='Budget 2026'!C12 -> 3885 | C10: ='Budget 2026'!C33 -> 3222 | D10: ='Budget 2026'!C34 -> 663
A11: Feb | B11: ='Budget 2026'!D12 -> 3845 | C11: ='Budget 2026'!D33 -> 3077 | D11: ='Budget 2026'!D34 -> 768
A12: Mär | B12: ='Budget 2026'!E12 -> 4085 | C12: ='Budget 2026'!E33 -> 3527 | D12: ='Budget 2026'!E34 -> 558
A13: Apr | B13: ='Budget 2026'!F12 -> 3925 | C13: ='Budget 2026'!F33 -> 3207 | D13: ='Budget 2026'!F34 -> 718
A14: Mai | B14: ='Budget 2026'!G12 -> 4005 | C14: ='Budget 2026'!G33 -> 3372 | D14: ='Budget 2026'!G34 -> 633
A15: Jun | B15: ='Budget 2026'!H12 -> 5310 | C15: ='Budget 2026'!H33 -> 4172 | D15: ='Budget 2026'!H34 -> 1138
A16: Jul | B16: ='Budget 2026'!I12 -> 3825 | C16: ='Budget 2026'!I33 -> 4747 | D16: ='Budget 2026'!I34 -> -922
A17: Aug | B17: ='Budget 2026'!J12 -> 3855 | C17: ='Budget 2026'!J33 -> 3667 | D17: ='Budget 2026'!J34 -> 188
A18: Sep | B18: ='Budget 2026'!K12 -> 4215 | C18: ='Budget 2026'!K33 -> 3352 | D18: ='Budget 2026'!K34 -> 863
A19: Okt | B19: ='Budget 2026'!L12 -> 3945 | C19: ='Budget 2026'!L33 -> 3267 | D19: ='Budget 2026'!L34 -> 678
A20: Nov | B20: ='Budget 2026'!M12 -> 5465 | C20: ='Budget 2026'!M33 -> 3452 | D20: ='Budget 2026'!M34 -> 2013
A21: Dez | B21: ='Budget 2026'!N12 -> 4325 | C21: ='Budget 2026'!N33 -> 4457 | D21: ='Budget 2026'!N34 -> -132
A22: Summe | B22: =SUM(B10:B21) -> 50685 | C22: =SUM(C10:C21) -> 43519 | D22: =SUM(D10:D21) -> 7166
A24: Ausgaben nach Kategorie 2026
A25: Kategorie | B25: Betrag 2026 | C25: Anteil
A26: Miete / Wohnen (Kaltmiete) | B26: ='Budget 2026'!O15 -> 13800 | C26: =IF('Budget 2026'!O33=0,0,'Budget 2026'!O15/'Budget 2026'!O33) -> 0.31710287
A27: Nebenkosten (Strom, Gas, Wasser) | B27: ='Budget 2026'!O16 -> 2340 | C27: =IF('Budget 2026'!O33=0,0,'Budget 2026'!O16/'Budget 2026'!O33) -> 0.053769618
A28: Versicherungen | B28: ='Budget 2026'!O17 -> 1980 | C28: =IF('Budget 2026'!O33=0,0,'Budget 2026'!O17/'Budget 2026'!O33) -> 0.045497369
A29: Telefon / Internet / Mobilfunk | B29: ='Budget 2026'!O18 -> 780 | C29: =IF('Budget 2026'!O33=0,0,'Budget 2026'!O18/'Budget 2026'!O33) -> 0.017923206
A30: Abonnements / Streaming | B30: ='Budget 2026'!O19 -> 504 | C30: =IF('Budget 2026'!O33=0,0,'Budget 2026'!O19/'Budget 2026'!O33) -> 0.011581148
A31: Kfz & Mobilität (Steuer, Versicherung) | B31: ='Budget 2026'!O20 -> 3720 | C31: =IF('Budget 2026'!O33=0,0,'Budget 2026'!O20/'Budget 2026'!O33) -> 0.085479905
A32: Kredite / Darlehen (Rate) | B32: ='Budget 2026'!O21 -> 5760 | C32: =IF('Budget 2026'!O33=0,0,'Budget 2026'!O21/'Budget 2026'!O33) -> 0.13235598
A33: Lebensmittel & Haushalt | B33: ='Budget 2026'!O25 -> 6720 | C33: =IF('Budget 2026'!O33=0,0,'Budget 2026'!O25/'Budget 2026'!O33) -> 0.15441531
A34: Restaurant & Freizeit | B34: ='Budget 2026'!O26 -> 2360 | C34: =IF('Budget 2026'!O33=0,0,'Budget 2026'!O26/'Budget 2026'!O33) -> 0.054229187
A35: Kleidung & Schuhe | B35: ='Budget 2026'!O27 -> 930 | C35: =IF('Budget 2026'!O33=0,0,'Budget 2026'!O27/'Budget 2026'!O33) -> 0.021369976
A36: Gesundheit & Drogerie | B36: ='Budget 2026'!O28 -> 735 | C36: =IF('Budget 2026'!O33=0,0,'Budget 2026'!O28/'Budget 2026'!O33) -> 0.016889175
A37: Reisen & Urlaub | B37: ='Budget 2026'!O29 -> 2950 | C37: =IF('Budget 2026'!O33=0,0,'Budget 2026'!O29/'Budget 2026'!O33) -> 0.067786484
A38: Geschenke & Sonstiges | B38: ='Budget 2026'!O30 -> 940 | C38: =IF('Budget 2026'!O33=0,0,'Budget 2026'!O30/'Budget 2026'!O33) -> 0.021599761
A39: Summe Ausgaben | B39: =SUM(B26:B38) -> 43519 | C39: =SUM(C26:C38) -> 1
A41: Budget-Aufteilung (Orientierung 50 / 30 / 20)
A42: Bereich | B42: Ist-Anteil | C42: Betrag | D42: Richtwert
A43: Fixkosten (Bedürfnisse) | B43: =IF('Budget 2026'!O12=0,0,'Budget 2026'!O22/'Budget 2026'!O12) -> 0.56987274 | C43: ='Budget 2026'!O22 -> 28884 | D43: 0.5
A44: Variable (Wünsche) | B44: =IF('Budget 2026'!O12=0,0,'Budget 2026'!O31/'Budget 2026'!O12) -> 0.2887442 | C44: ='Budget 2026'!O31 -> 14635 | D44: 0.3
A45: Sparen (Überschuss) | B45: =IF('Budget 2026'!O12=0,0,'Budget 2026'!O34/'Budget 2026'!O12) -> 0.14138305 | C45: ='Budget 2026'!O34 -> 7166 | D45: 0.2
...

Sheet Budget 2026
A1: FINANZPLAN PRIVAT 2026
A2: Monatsbudget · Einnahmen und Ausgaben · Geschäftsjahr 2026
A3: Blaue Zahlen = selbst eintragen | Schwarze Zahlen = automatisch berechnet
A4: Kategorie | B4: Plan/Monat | C4: Jan | D4: Feb | E4: Mär | F4: Apr | G4: Mai | H4: Jun | I4: Jul | J4: Aug | K4: Sep | L4: Okt | M4: Nov | N4: Dez | O4: Summe 2026 | P4: Ø/Monat
A5: EINNAHMEN
A6: Gehalt / Lohn (netto) | B6: 3350 | C6: 3350 | D6: 3350 | E6: 3350 | F6: 3350 | G6: 3350 | H6: 3350 | I6: 3350 | J6: 3350 | K6: 3350 | L6: 3350 | M6: 3350 | N6: 3350 | O6: =SUM(C6:N6) -> 40200 | P6: =O6/12 -> 3350
A7: Nebeneinkünfte (z. B. freiberuflich) | B7: 250 | C7: 220 | D7: 180 | E7: 300 | F7: 260 | G7: 340 | H7: 200 | I7: 160 | J7: 190 | K7: 410 | L7: 280 | M7: 320 | N7: 450 | O7: =SUM(C7:N7) -> 3310 | P7: =O7/12 -> 275.83333
A8: Kindergeld | B8: 255 | C8: 255 | D8: 255 | E8: 255 | F8: 255 | G8: 255 | H8: 255 | I8: 255 | J8: 255 | K8: 255 | L8: 255 | M8: 255 | N8: 255 | O8: =SUM(C8:N8) -> 3060 | P8: =O8/12 -> 255
A9: Kapitalerträge (Zinsen & Dividenden) | B9: 55 | C9: 0 | D9: 0 | E9: 120 | F9: 0 | G9: 0 | H9: 95 | I9: 0 | J9: 0 | K9: 140 | L9: 0 | M9: 0 | N9: 210 | O9: =SUM(C9:N9) -> 565 | P9: =O9/12 -> 47.083333
A10: Mieteinnahmen (z. B. Stellplatz) | B10: 60 | C10: 60 | D10: 60 | E10: 60 | F10: 60 | G10: 60 | H10: 60 | I10: 60 | J10: 60 | K10: 60 | L10: 60 | M10: 60 | N10: 60 | O10: =SUM(C10:N10) -> 720 | P10: =O10/12 -> 60
A11: Sonstige Einnahmen (Bonus, Urlaubsgeld) | B11: 235 | C11: 0 | D11: 0 | E11: 0 | F11: 0 | G11: 0 | H11: 1350 | I11: 0 | J11: 0 | K11: 0 | L11: 0 | M11: 1480 | N11: 0 | O11: =SUM(C11:N11) -> 2830 | P11: =O11/12 -> 235.83333
A12: Summe Einnahmen | B12: =B6+B7+B8+B9+B10+B11 -> 4205 | C12: =C6+C7+C8+C9+C10+C11 -> 3885 | D12: =D6+D7+D8+D9+D10+D11 -> 3845 | E12: =E6+E7+E8+E9+E10+E11 -> 4085 | F12: =F6+F7+F8+F9+F10+F11 -> 3925 | G12: =G6+G7+G8+G9+G10+G11 -> 4005 | H12: =H6+H7+H8+H9+H10+H11 -> 5310 | I12: =I6+I7+I8+I9+I10+I11 -> 3825 | ... N12: =N6+N7+N8+N9+N10+N11 -> 4325 | O12: =SUM(C12:N12) -> 50685 | P12: =O12/12 -> 4223.75
A14: AUSGABEN · FIXKOSTEN
A15: Miete / Wohnen (Kaltmiete) | B15: 1150 | C15: 1150 | D15: 1150 | E15: 1150 | F15: 1150 | G15: 1150 | H15: 1150 | I15: 1150 | J15: 1150 | K15: 1150 | L15: 1150 | M15: 1150 | N15: 1150 | O15: =SUM(C15:N15) -> 13800 | P15: =O15/12 -> 1150
A16: Nebenkosten (Strom, Gas, Wasser) | B16: 195 | C16: 195 | D16: 195 | E16: 195 | F16: 195 | G16: 195 | H16: 195 | I16: 195 | J16: 195 | K16: 195 | L16: 195 | M16: 195 | N16: 195 | O16: =SUM(C16:N16) -> 2340 | P16: =O16/12 -> 195
A17: Versicherungen | B17: 165 | C17: 165 | D17: 165 | E17: 165 | F17: 165 | G17: 165 | H17: 165 | I17: 165 | J17: 165 | K17: 165 | L17: 165 | M17: 165 | N17: 165 | O17: =SUM(C17:N17) -> 1980 | P17: =O17/12 -> 165
A18: Telefon / Internet / Mobilfunk | B18: 65 | C18: 65 | D18: 65 | E18: 65 | F18: 65 | G18: 65 | H18: 65 | I18: 65 | J18: 65 | K18: 65 | L18: 65 | M18: 65 | N18: 65 | O18: =SUM(C18:N18) -> 780 | P18: =O18/12 -> 65
A19: Abonnements / Streaming | B19: 42 | C19: 42 | D19: 42 | E19: 42 | F19: 42 | G19: 42 | H19: 42 | I19: 42 | J19: 42 | K19: 42 | L19: 42 | M19: 42 | N19: 42 | O19: =SUM(C19:N19) -> 504 | P19: =O19/12 -> 42
A20: Kfz & Mobilität (Steuer, Versicherung) | B20: 310 | C20: 310 | D20: 310 | E20: 310 | F20: 310 | G20: 310 | H20: 310 | I20: 310 | J20: 310 | K20: 310 | L20: 310 | M20: 310 | N20: 310 | O20: =SUM(C20:N20) -> 3720 | P20: =O20/12 -> 310
A21: Kredite / Darlehen (Rate) | B21: 480 | C21: 480 | D21: 480 | E21: 480 | F21: 480 | G21: 480 | H21: 480 | I21: 480 | J21: 480 | K21: 480 | L21: 480 | M21: 480 | N21: 480 | O21: =SUM(C21:N21) -> 5760 | P21: =O21/12 -> 480
A22: Summe Fixkosten | B22: =B15+B16+B17+B18+B19+B20+B21 -> 2407 | C22: =C15+C16+C17+C18+C19+C20+C21 -> 2407 | D22: =D15+D16+D17+D18+D19+D20+D21 -> 2407 | E22: =E15+E16+E17+E18+E19+E20+E21 -> 2407 | F22: =F15+F16+F17+F18+F19+F20+F21 -> 2407 | G22: =G15+G16+G17+G18+G19+G20+G21 -> 2407 | H22: =H15+H16+H17+H18+H19+H20+H21 -> 2407 | I22: =I15+I16+I17+I18+I19+I20+I21 -> 2407 | ... N22: =N15+N16+N17+N18+N19+N20+N21 -> 2407 | O22: =SUM(C22:N22) -> 28884 | P22: =O22/12 -> 2407
A24: AUSGABEN · VARIABLE KOSTEN
A25: Lebensmittel & Haushalt | B25: 550 | C25: 520 | D25: 480 | E25: 540 | F25: 510 | G25: 560 | H25: 590 | I25: 620 | J25: 600 | K25: 550 | L25: 530 | M25: 580 | N25: 640 | O25: =SUM(C25:N25) -> 6720 | P25: =O25/12 -> 560
A26: Restaurant & Freizeit | B26: 190 | C26: 140 | D26: 120 | E26: 180 | F26: 160 | G26: 210 | H26: 240 | I26: 260 | J26: 230 | K26: 170 | L26: 150 | M26: 190 | N26: 310 | O26: =SUM(C26:N26) -> 2360 | P26: =O26/12 -> 196.66667
A27: Kleidung & Schuhe | B27: 80 | C27: 60 | D27: 0 | E27: 120 | F27: 40 | G27: 80 | H27: 0 | I27: 150 | J27: 30 | K27: 90 | L27: 70 | M27: 110 | N27: 180 | O27: =SUM(C27:N27) -> 930 | P27: =O27/12 -> 77.5
A28: Gesundheit & Drogerie | B28: 60 | C28: 55 | D28: 40 | E28: 70 | F28: 50 | G28: 65 | H28: 45 | I28: 80 | J28: 60 | K28: 55 | L28: 50 | M28: 75 | N28: 90 | O28: =SUM(C28:N28) -> 735 | P28: =O28/12 -> 61.25
A29: Reisen & Urlaub | B29: 250 | C29: 0 | D29: 0 | E29: 150 | F29: 0 | G29: 0 | H29: 850 | I29: 1200 | J29: 300 | K29: 0 | L29: 0 | M29: 0 | N29: 450 | O29: =SUM(C29:N29) -> 2950 | P29: =O29/12 -> 245.83333
A30: Geschenke & Sonstiges | B30: 80 | C30: 40 | D30: 30 | E30: 60 | F30: 40 | G30: 50 | H30: 40 | I30: 30 | J30: 40 | K30: 80 | L30: 60 | M30: 90 | N30: 380 | O30: =SUM(C30:N30) -> 940 | P30: =O30/12 -> 78.333333
A31: Summe variable Kosten | B31: =B25+B26+B27+B28+B29+B30 -> 1210 | C31: =C25+C26+C27+C28+C29+C30 -> 815 | D31: =D25+D26+D27+D28+D29+D30 -> 670 | E31: =E25+E26+E27+E28+E29+E30 -> 1120 | F31: =F25+F26+F27+F28+F29+F30 -> 800 | G31: =G25+G26+G27+G28+G29+G30 -> 965 | H31: =H25+H26+H27+H28+H29+H30 -> 1765 | I31: =I25+I26+I27+I28+I29+I30 -> 2340 | ... N31: =N25+N26+N27+N28+N29+N30 -> 2050 | O31: =SUM(C31:N31) -> 14635 | P31: =O31/12 -> 1219.5833
A33: Summe Ausgaben gesamt | B33: =B22+B31 -> 3617 | C33: =C22+C31 -> 3222 | D33: =D22+D31 -> 3077 | E33: =E22+E31 -> 3527 | F33: =F22+F31 -> 3207 | G33: =G22+G31 -> 3372 | H33: =H22+H31 -> 4172 | I33: =I22+I31 -> 4747 | ... N33: =N22+N31 -> 4457 | O33: =SUM(C33:N33) -> 43519 | P33: =O33/12 -> 3626.5833
A34: Monatlicher Saldo (Überschuss / Defizit) | B34: =B12-B33 -> 588 | C34: =C12-C33 -> 663 | D34: =D12-D33 -> 768 | E34: =E12-E33 -> 558 | F34: =F12-F33 -> 718 | G34: =G12-G33 -> 633 | H34: =H12-H33 -> 1138 | I34: =I12-I33 -> -922 | ... O34: =O12-O33 -> 7166 | P34: =O34/12 -> 597.16667
A36: Hinweis: Plan/Monat ist Ihr monatliches Budgetziel je Kategorie. Die Monatsspalten erfassen die tatsächlichen Beträge.

Sheet Vermögen & Schulden
A1: VERMÖGEN & SCHULDEN
A2: Vermögensübersicht · Nettovermögen zum Stichtag · 2026
A3: Blaue Zahlen = selbst eintragen | Schwarze Zahlen = automatisch berechnet
A4: Position | B4: Wert 01.01.2026 | C4: Wert aktuell | D4: Veränderung | E4: Anteil
A5: VERMÖGENSWERTE
A6: Girokonto & Bargeld | B6: 2800 | C6: 3150 | D6: =C6-B6 -> 350 | E6: =IF(C14=0,0,C6/C14) -> 0.0072958888
A7: Tagesgeld / Sparkonto | B7: 12500 | C7: 14200 | D7: =C7-B7 -> 1700 | E7: =IF(C14=0,0,C7/C14) -> 0.032889404
A8: Festgeld | B8: 10000 | C8: 10000 | D8: =C8-B8 -> 0 | E8: =IF(C14=0,0,C8/C14) -> 0.023161552
A9: Wertpapiere / ETF-Depot | B9: 28400 | C9: 31900 | D9: =C9-B9 -> 3500 | E9: =IF(C14=0,0,C9/C14) -> 0.07388535
A10: Private Altersvorsorge | B10: 22000 | C10: 23600 | D10: =C10-B10 -> 1600 | E10: =IF(C14=0,0,C10/C14) -> 0.054661262
A11: Immobilie (Verkehrswert) | B11: 320000 | C11: 328000 | D11: =C11-B11 -> 8000 | E11: =IF(C14=0,0,C11/C14) -> 0.7596989
A12: Kfz (Zeitwert) | B12: 18500 | C12: 16900 | D12: =C12-B12 -> -1600 | E12: =IF(C14=0,0,C12/C14) -> 0.039143023
A13: Sonstige Werte (Hausrat, Schmuck) | B13: 4000 | C13: 4000 | D13: =C13-B13 -> 0 | E13: =IF(C14=0,0,C13/C14) -> 0.0092646207
A14: Summe Vermögenswerte | B14: =SUM(B6:B13) -> 418200 | C14: =SUM(C6:C13) -> 431750 | D14: =C14-B14 -> 13550
A16: VERBINDLICHKEITEN
A17: Immobiliendarlehen / Hypothek | B17: 198000 | C17: 191500 | D17: =C17-B17 -> -6500 | E17: =IF(C22=0,0,C17/C22) -> 0.91846523
A18: Konsum- / Ratenkredit | B18: 9800 | C18: 7400 | D18: =C18-B18 -> -2400 | E18: =IF(C22=0,0,C18/C22) -> 0.035491607
A19: Kfz-Finanzierung | B19: 12000 | C19: 9600 | D19: =C19-B19 -> -2400 | E19: =IF(C22=0,0,C19/C22) -> 0.046043165
A20: Dispokredit | B20: 0 | C20: 0 | D20: =C20-B20 -> 0 | E20: =IF(C22=0,0,C20/C22) -> 0
A21: Sonstige Verbindlichkeiten | B21: 0 | C21: 0 | D21: =C21-B21 -> 0 | E21: =IF(C22=0,0,C21/C22) -> 0
A22: Summe Verbindlichkeiten | B22: =SUM(B17:B21) -> 219800 | C22: =SUM(C17:C21) -> 208500 | D22: =C22-B22 -> -11300
A24: NETTOVERMÖGEN (Vermögen − Schulden) | B24: =B14-B22 -> 198400 | C24: =C14-C22 -> 223250 | D24: =C24-B24 -> 24850
A26: Anteil = Position im Verhältnis zur jeweiligen Summe. Veränderung = Wert aktuell minus Wert zum Jahresbeginn.

Sheet Sparziele
A1: SPARZIELE
A2: Ziele, Fortschritt und monatliche Sparraten · 2026
A3: Blaue Zahlen = selbst eintragen | Schwarze Zahlen = automatisch berechnet
A4: Sparziel | B4: Zielbetrag | C4: Bereits gespart | D4: Noch offen | E4: Fortschritt | F4: Monatl. Rate | G4: Zieldatum | H4: Status
A5: Notgroschen (3 Nettogehälter) | B5: 10500 | C5: 8200 | D5: =MAX(B5-C5,0) -> 2300 | E5: =IF(B5=0,0,C5/B5) -> 0.78095238 | F5: 300 | G5: Jun 2026 | H5: =IF(E5>=1,"Erreicht",IF(E5>=0.75,"Fast geschafft",IF(E5>=0.4,"Auf Kurs","Am Anfang"))) -> Fast geschafft
A6: Urlaub 2026 | B6: 3000 | C6: 1950 | D6: =MAX(B6-C6,0) -> 1050 | E6: =IF(B6=0,0,C6/B6) -> 0.65 | F6: 250 | G6: Jul 2026 | H6: =IF(E6>=1,"Erreicht",IF(E6>=0.75,"Fast geschafft",IF(E6>=0.4,"Auf Kurs","Am Anfang"))) -> Auf Kurs
A7: Auto-Anzahlung | B7: 8000 | C7: 2600 | D7: =MAX(B7-C7,0) -> 5400 | E7: =IF(B7=0,0,C7/B7) -> 0.325 | F7: 200 | G7: Dez 2026 | H7: =IF(E7>=1,"Erreicht",IF(E7>=0.75,"Fast geschafft",IF(E7>=0.4,"Auf Kurs","Am Anfang"))) -> Am Anfang
A8: Modernisierung Wohnung | B8: 15000 | C8: 4300 | D8: =MAX(B8-C8,0) -> 10700 | E8: =IF(B8=0,0,C8/B8) -> 0.28666667 | F8: 250 | G8: Dez 2027 | H8: =IF(E8>=1,"Erreicht",IF(E8>=0.75,"Fast geschafft",IF(E8>=0.4,"Auf Kurs","Am Anfang"))) -> Am Anfang
A9: Zusätzliche Altersvorsorge | B9: 20000 | C9: 6800 | D9: =MAX(B9-C9,0) -> 13200 | E9: =IF(B9=0,0,C9/B9) -> 0.34 | F9: 150 | G9: Dez 2028 | H9: =IF(E9>=1,"Erreicht",IF(E9>=0.75,"Fast geschafft",IF(E9>=0.4,"Auf Kurs","Am Anfang"))) -> Am Anfang
A10: Rücklage / Puffer | B10: 5000 | C10: 3100 | D10: =MAX(B10-C10,0) -> 1900 | E10: =IF(B10=0,0,C10/B10) -> 0.62 | F10: 100 | G10: Dez 2026 | H10: =IF(E10>=1,"Erreicht",IF(E10>=0.75,"Fast geschafft",IF(E10>=0.4,"Auf Kurs","Am Anfang"))) -> Auf Kurs
A11: Summe / Gesamt | B11: =SUM(B5:B10) -> 61500 | C11: =SUM(C5:C10) -> 26950 | D11: =SUM(D5:D10) -> 34550 | E11: =IF(B11=0,0,C11/B11) -> 0.43821138 | F11: =SUM(F5:F10) -> 1250
A13: Tipp: Verteilen Sie Ihren monatlichen Überschuss aus dem Budget gezielt auf diese Sparziele. Die Fortschrittsbalken aktualisieren sich automatisch.
